BEGIN:VCALENDAR
PRODID:-//gdesolutions.com//MV Framework 1.0.0.1607 Calendar//EN
VERSION:2.0
METHOD:PUBLISH
CALSCALE:GREGORIAN
BEGIN:VEVENT
UID:gnpk@games.golnetwork.com
LOCATION:Collège Brébeuf
GEO:45.5025271;-73.6239338
CREATED:20111101T132759Z
DTSTART:20111106T231500Z
DTEND:20111107T001500Z
DTSTAMP:20260425T152854Z
SUMMARY:Coup d'Blues vs. El Zaziummm
DESCRIPTION:El Zaziummm vs. Coup d'BluesMore info: #1
X-ALT-DESC;FMTTYPE=text/html:<!DOCTYPE HTML PUBLIC "-//W3C//DTD HTML 3.2//E
	N">\n<HTML>\n<HEAD>\n<TITLE></TITLE>\n</HEAD>\n<BODY>\n<h3>El Zaziummm vs. 
	Coup d'Blues</h3>More info: <a href="https://www.golnetwork.com/game/v/7732
	/">#1</a>\n\n</BODY>\n</HTML>
STATUS:CONFIRMED
CLASS:PUBLIC
URL:https://www.golnetwork.com/game/v/7732/
X-MICROSOFT-CDO-BUSYSTATUS:BUSY
X-MICROSOFT-CDO-IMPORTANCE:1
END:VEVENT
BEGIN:VEVENT
UID:gnpm@games.golnetwork.com
LOCATION:Collège Brébeuf
GEO:45.5025271;-73.6239338
CREATED:20111101T132759Z
DTSTART:20111107T001500Z
DTEND:20111107T011500Z
DTSTAMP:20260425T152854Z
SUMMARY:Reste du monde vs. New Team
DESCRIPTION:New Team vs. Reste du mondeMore info: #3
X-ALT-DESC;FMTTYPE=text/html:<!DOCTYPE HTML PUBLIC "-//W3C//DTD HTML 3.2//E
	N">\n<HTML>\n<HEAD>\n<TITLE></TITLE>\n</HEAD>\n<BODY>\n<h3>New Team vs. Res
	te du monde</h3>More info: <a href="https://www.golnetwork.com/game/v/7733/
	">#3</a>\n\n</BODY>\n</HTML>
STATUS:CONFIRMED
CLASS:PUBLIC
URL:https://www.golnetwork.com/game/v/7733/
X-MICROSOFT-CDO-BUSYSTATUS:BUSY
X-MICROSOFT-CDO-IMPORTANCE:1
END:VEVENT
BEGIN:VEVENT
UID:gnpo@games.golnetwork.com
LOCATION:Collège Brébeuf
GEO:45.5025271;-73.6239338
CREATED:20111101T132759Z
DTSTART:20111107T011500Z
DTEND:20111107T021500Z
DTSTAMP:20260425T152854Z
SUMMARY:AECOM vs. El Ocho
DESCRIPTION:El Ocho vs. AECOMMore info: #5
X-ALT-DESC;FMTTYPE=text/html:<!DOCTYPE HTML PUBLIC "-//W3C//DTD HTML 3.2//E
	N">\n<HTML>\n<HEAD>\n<TITLE></TITLE>\n</HEAD>\n<BODY>\n<h3>El Ocho vs. AECO
	M</h3>More info: <a href="https://www.golnetwork.com/game/v/7734/">#5</a>\n
	\n</BODY>\n</HTML>
STATUS:CONFIRMED
CLASS:PUBLIC
URL:https://www.golnetwork.com/game/v/7734/
X-MICROSOFT-CDO-BUSYSTATUS:BUSY
X-MICROSOFT-CDO-IMPORTANCE:1
END:VEVENT
BEGIN:VEVENT
UID:gnpq@games.golnetwork.com
LOCATION:Collège Brébeuf
GEO:45.5025271;-73.6239338
CREATED:20111101T132759Z
DTSTART:20111113T231500Z
DTEND:20111114T001500Z
DTSTAMP:20260425T152854Z
SUMMARY:New Team vs. AECOM
DESCRIPTION:AECOM vs. New TeamMore info: #7
X-ALT-DESC;FMTTYPE=text/html:<!DOCTYPE HTML PUBLIC "-//W3C//DTD HTML 3.2//E
	N">\n<HTML>\n<HEAD>\n<TITLE></TITLE>\n</HEAD>\n<BODY>\n<h3>AECOM vs. New Te
	am</h3>More info: <a href="https://www.golnetwork.com/game/v/7735/">#7</a>\
	n\n</BODY>\n</HTML>
STATUS:CONFIRMED
CLASS:PUBLIC
URL:https://www.golnetwork.com/game/v/7735/
X-MICROSOFT-CDO-BUSYSTATUS:BUSY
X-MICROSOFT-CDO-IMPORTANCE:1
END:VEVENT
BEGIN:VEVENT
UID:gnq1@games.golnetwork.com
LOCATION:Collège Brébeuf
GEO:45.5025271;-73.6239338
CREATED:20111101T132759Z
DTSTART:20111114T001500Z
DTEND:20111114T011500Z
DTSTAMP:20260425T152854Z
SUMMARY:El Ocho vs. Coup d'Blues
DESCRIPTION:Coup d'Blues vs. El OchoMore info: #9
X-ALT-DESC;FMTTYPE=text/html:<!DOCTYPE HTML PUBLIC "-//W3C//DTD HTML 3.2//E
	N">\n<HTML>\n<HEAD>\n<TITLE></TITLE>\n</HEAD>\n<BODY>\n<h3>Coup d'Blues vs.
	 El Ocho</h3>More info: <a href="https://www.golnetwork.com/game/v/7736/">#
	9</a>\n\n</BODY>\n</HTML>
STATUS:CONFIRMED
CLASS:PUBLIC
URL:https://www.golnetwork.com/game/v/7736/
X-MICROSOFT-CDO-BUSYSTATUS:BUSY
X-MICROSOFT-CDO-IMPORTANCE:1
END:VEVENT
BEGIN:VEVENT
UID:gnq3@games.golnetwork.com
LOCATION:Collège Brébeuf
GEO:45.5025271;-73.6239338
CREATED:20111101T132759Z
DTSTART:20111114T011500Z
DTEND:20111114T021500Z
DTSTAMP:20260425T152854Z
SUMMARY:El Zaziummm vs. Reste du monde
DESCRIPTION:Reste du monde vs. El ZaziummmMore info: #11
X-ALT-DESC;FMTTYPE=text/html:<!DOCTYPE HTML PUBLIC "-//W3C//DTD HTML 3.2//E
	N">\n<HTML>\n<HEAD>\n<TITLE></TITLE>\n</HEAD>\n<BODY>\n<h3>Reste du monde v
	s. El Zaziummm</h3>More info: <a href="https://www.golnetwork.com/game/v/77
	37/">#11</a>\n\n</BODY>\n</HTML>
STATUS:CONFIRMED
CLASS:PUBLIC
URL:https://www.golnetwork.com/game/v/7737/
X-MICROSOFT-CDO-BUSYSTATUS:BUSY
X-MICROSOFT-CDO-IMPORTANCE:1
END:VEVENT
BEGIN:VEVENT
UID:gnq5@games.golnetwork.com
LOCATION:Collège Brébeuf
GEO:45.5025271;-73.6239338
CREATED:20111101T132759Z
DTSTART:20111120T231500Z
DTEND:20111121T001500Z
DTSTAMP:20260425T152854Z
SUMMARY:New Team vs. El Zaziummm
DESCRIPTION:El Zaziummm vs. New TeamMore info: #13
X-ALT-DESC;FMTTYPE=text/html:<!DOCTYPE HTML PUBLIC "-//W3C//DTD HTML 3.2//E
	N">\n<HTML>\n<HEAD>\n<TITLE></TITLE>\n</HEAD>\n<BODY>\n<h3>El Zaziummm vs. 
	New Team</h3>More info: <a href="https://www.golnetwork.com/game/v/7738/">#
	13</a>\n\n</BODY>\n</HTML>
STATUS:CONFIRMED
CLASS:PUBLIC
URL:https://www.golnetwork.com/game/v/7738/
X-MICROSOFT-CDO-BUSYSTATUS:BUSY
X-MICROSOFT-CDO-IMPORTANCE:1
END:VEVENT
BEGIN:VEVENT
UID:gnq7@games.golnetwork.com
LOCATION:Collège Brébeuf
GEO:45.5025271;-73.6239338
CREATED:20111101T132759Z
DTSTART:20111121T001500Z
DTEND:20111121T011500Z
DTSTAMP:20260425T152854Z
SUMMARY:Reste du monde vs. El Ocho
DESCRIPTION:El Ocho vs. Reste du mondeMore info: #15
X-ALT-DESC;FMTTYPE=text/html:<!DOCTYPE HTML PUBLIC "-//W3C//DTD HTML 3.2//E
	N">\n<HTML>\n<HEAD>\n<TITLE></TITLE>\n</HEAD>\n<BODY>\n<h3>El Ocho vs. Rest
	e du monde</h3>More info: <a href="https://www.golnetwork.com/game/v/7739/"
	>#15</a>\n\n</BODY>\n</HTML>
STATUS:CONFIRMED
CLASS:PUBLIC
URL:https://www.golnetwork.com/game/v/7739/
X-MICROSOFT-CDO-BUSYSTATUS:BUSY
X-MICROSOFT-CDO-IMPORTANCE:1
END:VEVENT
BEGIN:VEVENT
UID:gnq9@games.golnetwork.com
LOCATION:Collège Brébeuf
GEO:45.5025271;-73.6239338
CREATED:20111101T132759Z
DTSTART:20111121T011500Z
DTEND:20111121T021500Z
DTSTAMP:20260425T152854Z
SUMMARY:AECOM vs. Coup d'Blues
DESCRIPTION:Coup d'Blues vs. AECOMMore info: #17
X-ALT-DESC;FMTTYPE=text/html:<!DOCTYPE HTML PUBLIC "-//W3C//DTD HTML 3.2//E
	N">\n<HTML>\n<HEAD>\n<TITLE></TITLE>\n</HEAD>\n<BODY>\n<h3>Coup d'Blues vs.
	 AECOM</h3>More info: <a href="https://www.golnetwork.com/game/v/7740/">#17
	</a>\n\n</BODY>\n</HTML>
STATUS:CONFIRMED
CLASS:PUBLIC
URL:https://www.golnetwork.com/game/v/7740/
X-MICROSOFT-CDO-BUSYSTATUS:BUSY
X-MICROSOFT-CDO-IMPORTANCE:1
END:VEVENT
BEGIN:VEVENT
UID:gnqb@games.golnetwork.com
LOCATION:Collège Brébeuf
GEO:45.5025271;-73.6239338
CREATED:20111101T132759Z
DTSTART:20111127T231500Z
DTEND:20111128T001500Z
DTSTAMP:20260425T152854Z
SUMMARY:Coup d'Blues vs. Reste du monde
DESCRIPTION:Reste du monde vs. Coup d'BluesMore info: #19
X-ALT-DESC;FMTTYPE=text/html:<!DOCTYPE HTML PUBLIC "-//W3C//DTD HTML 3.2//E
	N">\n<HTML>\n<HEAD>\n<TITLE></TITLE>\n</HEAD>\n<BODY>\n<h3>Reste du monde v
	s. Coup d'Blues</h3>More info: <a href="https://www.golnetwork.com/game/v/7
	741/">#19</a>\n\n</BODY>\n</HTML>
STATUS:CONFIRMED
CLASS:PUBLIC
URL:https://www.golnetwork.com/game/v/7741/
X-MICROSOFT-CDO-BUSYSTATUS:BUSY
X-MICROSOFT-CDO-IMPORTANCE:1
END:VEVENT
BEGIN:VEVENT
UID:gnqd@games.golnetwork.com
LOCATION:Collège Brébeuf
GEO:45.5025271;-73.6239338
CREATED:20111101T132759Z
DTSTART:20111128T001500Z
DTEND:20111128T011500Z
DTSTAMP:20260425T152854Z
SUMMARY:El Ocho vs. New Team
DESCRIPTION:New Team vs. El OchoMore info: #21
X-ALT-DESC;FMTTYPE=text/html:<!DOCTYPE HTML PUBLIC "-//W3C//DTD HTML 3.2//E
	N">\n<HTML>\n<HEAD>\n<TITLE></TITLE>\n</HEAD>\n<BODY>\n<h3>New Team vs. El 
	Ocho</h3>More info: <a href="https://www.golnetwork.com/game/v/7742/">#21</
	a>\n\n</BODY>\n</HTML>
STATUS:CONFIRMED
CLASS:PUBLIC
URL:https://www.golnetwork.com/game/v/7742/
X-MICROSOFT-CDO-BUSYSTATUS:BUSY
X-MICROSOFT-CDO-IMPORTANCE:1
END:VEVENT
BEGIN:VEVENT
UID:gnqf@games.golnetwork.com
LOCATION:Collège Brébeuf
GEO:45.5025271;-73.6239338
CREATED:20111101T132759Z
DTSTART:20111128T011500Z
DTEND:20111128T021500Z
DTSTAMP:20260425T152854Z
SUMMARY:El Zaziummm vs. AECOM
DESCRIPTION:AECOM vs. El ZaziummmMore info: #23
X-ALT-DESC;FMTTYPE=text/html:<!DOCTYPE HTML PUBLIC "-//W3C//DTD HTML 3.2//E
	N">\n<HTML>\n<HEAD>\n<TITLE></TITLE>\n</HEAD>\n<BODY>\n<h3>AECOM vs. El Zaz
	iummm</h3>More info: <a href="https://www.golnetwork.com/game/v/7743/">#23<
	/a>\n\n</BODY>\n</HTML>
STATUS:CONFIRMED
CLASS:PUBLIC
URL:https://www.golnetwork.com/game/v/7743/
X-MICROSOFT-CDO-BUSYSTATUS:BUSY
X-MICROSOFT-CDO-IMPORTANCE:1
END:VEVENT
BEGIN:VEVENT
UID:gnqh@games.golnetwork.com
LOCATION:Collège Brébeuf
GEO:45.5025271;-73.6239338
CREATED:20111101T132759Z
DTSTART:20111204T231500Z
DTEND:20111205T001500Z
DTSTAMP:20260425T152854Z
SUMMARY:New Team vs. Coup d'Blues
DESCRIPTION:Coup d'Blues vs. New TeamMore info: #25
X-ALT-DESC;FMTTYPE=text/html:<!DOCTYPE HTML PUBLIC "-//W3C//DTD HTML 3.2//E
	N">\n<HTML>\n<HEAD>\n<TITLE></TITLE>\n</HEAD>\n<BODY>\n<h3>Coup d'Blues vs.
	 New Team</h3>More info: <a href="https://www.golnetwork.com/game/v/7744/">
	#25</a>\n\n</BODY>\n</HTML>
STATUS:CONFIRMED
CLASS:PUBLIC
URL:https://www.golnetwork.com/game/v/7744/
X-MICROSOFT-CDO-BUSYSTATUS:BUSY
X-MICROSOFT-CDO-IMPORTANCE:1
END:VEVENT
BEGIN:VEVENT
UID:gnqj@games.golnetwork.com
LOCATION:Collège Brébeuf
GEO:45.5025271;-73.6239338
CREATED:20111101T132759Z
DTSTART:20111205T001500Z
DTEND:20111205T011500Z
DTSTAMP:20260425T152854Z
SUMMARY:El Zaziummm vs. El Ocho
DESCRIPTION:El Ocho vs. El ZaziummmMore info: #27
X-ALT-DESC;FMTTYPE=text/html:<!DOCTYPE HTML PUBLIC "-//W3C//DTD HTML 3.2//E
	N">\n<HTML>\n<HEAD>\n<TITLE></TITLE>\n</HEAD>\n<BODY>\n<h3>El Ocho vs. El Z
	aziummm</h3>More info: <a href="https://www.golnetwork.com/game/v/7745/">#2
	7</a>\n\n</BODY>\n</HTML>
STATUS:CONFIRMED
CLASS:PUBLIC
URL:https://www.golnetwork.com/game/v/7745/
X-MICROSOFT-CDO-BUSYSTATUS:BUSY
X-MICROSOFT-CDO-IMPORTANCE:1
END:VEVENT
BEGIN:VEVENT
UID:gnql@games.golnetwork.com
LOCATION:Collège Brébeuf
GEO:45.5025271;-73.6239338
CREATED:20111101T132759Z
DTSTART:20111205T011500Z
DTEND:20111205T021500Z
DTSTAMP:20260425T152854Z
SUMMARY:AECOM vs. Reste du monde
DESCRIPTION:Reste du monde vs. AECOMMore info: #29
X-ALT-DESC;FMTTYPE=text/html:<!DOCTYPE HTML PUBLIC "-//W3C//DTD HTML 3.2//E
	N">\n<HTML>\n<HEAD>\n<TITLE></TITLE>\n</HEAD>\n<BODY>\n<h3>Reste du monde v
	s. AECOM</h3>More info: <a href="https://www.golnetwork.com/game/v/7746/">#
	29</a>\n\n</BODY>\n</HTML>
STATUS:CONFIRMED
CLASS:PUBLIC
URL:https://www.golnetwork.com/game/v/7746/
X-MICROSOFT-CDO-BUSYSTATUS:BUSY
X-MICROSOFT-CDO-IMPORTANCE:1
END:VEVENT
END:VCALENDAR
