BEGIN:VCALENDAR
PRODID:-//gdesolutions.com//MV Framework 1.0.0.1607 Calendar//EN
VERSION:2.0
METHOD:PUBLISH
CALSCALE:GREGORIAN
BEGIN:VEVENT
UID:g1544@games.golnetwork.com
LOCATION:Ben Weider JCC
GEO:45.488223;-73.634105
CREATED:20111206T000333Z
DTSTART:20111105T153000Z
DTEND:20111105T162000Z
DTSTAMP:20260419T223114Z
SUMMARY:SACRAMENTO vs. MACCABI
DESCRIPTION:MACCABI vs. SACRAMENTOMore info: #2
X-ALT-DESC;FMTTYPE=text/html:<!DOCTYPE HTML PUBLIC "-//W3C//DTD HTML 3.2//E
	N">\n<HTML>\n<HEAD>\n<TITLE></TITLE>\n</HEAD>\n<BODY>\n<h3>MACCABI vs. SACR
	AMENTO</h3>More info: <a href="https://www.golnetwork.com/game/v/10721/">#2
	</a>\n\n</BODY>\n</HTML>
STATUS:CONFIRMED
CLASS:PUBLIC
URL:https://www.golnetwork.com/game/v/10721/
X-MICROSOFT-CDO-BUSYSTATUS:BUSY
X-MICROSOFT-CDO-IMPORTANCE:1
END:VEVENT
BEGIN:VEVENT
UID:g1546@games.golnetwork.com
LOCATION:Ben Weider JCC
GEO:45.488223;-73.634105
CREATED:20111206T000356Z
DTSTART:20111108T010000Z
DTEND:20111108T015000Z
DTSTAMP:20260419T223114Z
SUMMARY:DYNAMO vs. LORIMIER
DESCRIPTION:LORIMIER vs. DYNAMOMore info: #3
X-ALT-DESC;FMTTYPE=text/html:<!DOCTYPE HTML PUBLIC "-//W3C//DTD HTML 3.2//E
	N">\n<HTML>\n<HEAD>\n<TITLE></TITLE>\n</HEAD>\n<BODY>\n<h3>LORIMIER vs. DYN
	AMO</h3>More info: <a href="https://www.golnetwork.com/game/v/10722/">#3</a
	>\n\n</BODY>\n</HTML>
STATUS:CONFIRMED
CLASS:PUBLIC
URL:https://www.golnetwork.com/game/v/10722/
X-MICROSOFT-CDO-BUSYSTATUS:BUSY
X-MICROSOFT-CDO-IMPORTANCE:1
END:VEVENT
BEGIN:VEVENT
UID:g1548@games.golnetwork.com
LOCATION:Ben Weider JCC
GEO:45.488223;-73.634105
CREATED:20111206T000424Z
DTSTART:20111115T010000Z
DTEND:20111115T015000Z
DTSTAMP:20260419T223114Z
SUMMARY:MACCABI vs. DYNAMO
DESCRIPTION:DYNAMO vs. MACCABIMore info: #7
X-ALT-DESC;FMTTYPE=text/html:<!DOCTYPE HTML PUBLIC "-//W3C//DTD HTML 3.2//E
	N">\n<HTML>\n<HEAD>\n<TITLE></TITLE>\n</HEAD>\n<BODY>\n<h3>DYNAMO vs. MACCA
	BI</h3>More info: <a href="https://www.golnetwork.com/game/v/10723/">#7</a>
	\n\n</BODY>\n</HTML>
STATUS:CONFIRMED
CLASS:PUBLIC
URL:https://www.golnetwork.com/game/v/10723/
X-MICROSOFT-CDO-BUSYSTATUS:BUSY
X-MICROSOFT-CDO-IMPORTANCE:1
END:VEVENT
BEGIN:VEVENT
UID:g154a@games.golnetwork.com
LOCATION:Ben Weider JCC
GEO:45.488223;-73.634105
CREATED:20111206T000432Z
DTSTART:20111115T020000Z
DTEND:20111115T025000Z
DTSTAMP:20260419T223114Z
SUMMARY:LORIMIER vs. SACRAMENTO
DESCRIPTION:SACRAMENTO vs. LORIMIERMore info: #8
X-ALT-DESC;FMTTYPE=text/html:<!DOCTYPE HTML PUBLIC "-//W3C//DTD HTML 3.2//E
	N">\n<HTML>\n<HEAD>\n<TITLE></TITLE>\n</HEAD>\n<BODY>\n<h3>SACRAMENTO vs. L
	ORIMIER</h3>More info: <a href="https://www.golnetwork.com/game/v/10724/">#
	8</a>\n\n</BODY>\n</HTML>
STATUS:CONFIRMED
CLASS:PUBLIC
URL:https://www.golnetwork.com/game/v/10724/
X-MICROSOFT-CDO-BUSYSTATUS:BUSY
X-MICROSOFT-CDO-IMPORTANCE:1
END:VEVENT
BEGIN:VEVENT
UID:g154c@games.golnetwork.com
LOCATION:Ben Weider JCC
GEO:45.488223;-73.634105
CREATED:20111206T000441Z
DTSTART:20111119T163000Z
DTEND:20111119T172000Z
DTSTAMP:20260419T223114Z
SUMMARY:LORIMIER vs. MACCABI
DESCRIPTION:MACCABI vs. LORIMIERMore info: #10
X-ALT-DESC;FMTTYPE=text/html:<!DOCTYPE HTML PUBLIC "-//W3C//DTD HTML 3.2//E
	N">\n<HTML>\n<HEAD>\n<TITLE></TITLE>\n</HEAD>\n<BODY>\n<h3>MACCABI vs. LORI
	MIER</h3>More info: <a href="https://www.golnetwork.com/game/v/10725/">#10<
	/a>\n\n</BODY>\n</HTML>
STATUS:CONFIRMED
CLASS:PUBLIC
URL:https://www.golnetwork.com/game/v/10725/
X-MICROSOFT-CDO-BUSYSTATUS:BUSY
X-MICROSOFT-CDO-IMPORTANCE:1
END:VEVENT
BEGIN:VEVENT
UID:g154e@games.golnetwork.com
LOCATION:Ben Weider JCC
GEO:45.488223;-73.634105
CREATED:20111206T000450Z
DTSTART:20111122T010000Z
DTEND:20111122T015000Z
DTSTAMP:20260419T223114Z
SUMMARY:SACRAMENTO vs. DYNAMO
DESCRIPTION:DYNAMO vs. SACRAMENTOMore info: #11
X-ALT-DESC;FMTTYPE=text/html:<!DOCTYPE HTML PUBLIC "-//W3C//DTD HTML 3.2//E
	N">\n<HTML>\n<HEAD>\n<TITLE></TITLE>\n</HEAD>\n<BODY>\n<h3>DYNAMO vs. SACRA
	MENTO</h3>More info: <a href="https://www.golnetwork.com/game/v/10726/">#11
	</a>\n\n</BODY>\n</HTML>
STATUS:CONFIRMED
CLASS:PUBLIC
URL:https://www.golnetwork.com/game/v/10726/
X-MICROSOFT-CDO-BUSYSTATUS:BUSY
X-MICROSOFT-CDO-IMPORTANCE:1
END:VEVENT
BEGIN:VEVENT
UID:g154g@games.golnetwork.com
LOCATION:Ben Weider JCC
GEO:45.488223;-73.634105
CREATED:20111206T000458Z
DTSTART:20111126T153000Z
DTEND:20111126T162000Z
DTSTAMP:20260419T223114Z
SUMMARY:MACCABI vs. SACRAMENTO
DESCRIPTION:SACRAMENTO vs. MACCABIMore info: #13
X-ALT-DESC;FMTTYPE=text/html:<!DOCTYPE HTML PUBLIC "-//W3C//DTD HTML 3.2//E
	N">\n<HTML>\n<HEAD>\n<TITLE></TITLE>\n</HEAD>\n<BODY>\n<h3>SACRAMENTO vs. M
	ACCABI</h3>More info: <a href="https://www.golnetwork.com/game/v/10727/">#1
	3</a>\n\n</BODY>\n</HTML>
STATUS:CONFIRMED
CLASS:PUBLIC
URL:https://www.golnetwork.com/game/v/10727/
X-MICROSOFT-CDO-BUSYSTATUS:BUSY
X-MICROSOFT-CDO-IMPORTANCE:1
END:VEVENT
BEGIN:VEVENT
UID:g154i@games.golnetwork.com
LOCATION:Ben Weider JCC
GEO:45.488223;-73.634105
CREATED:20111206T000506Z
DTSTART:20111129T000000Z
DTEND:20111129T005000Z
DTSTAMP:20260419T223114Z
SUMMARY:DYNAMO vs. LORIMIER
DESCRIPTION:LORIMIER vs. DYNAMOMore info: #15
X-ALT-DESC;FMTTYPE=text/html:<!DOCTYPE HTML PUBLIC "-//W3C//DTD HTML 3.2//E
	N">\n<HTML>\n<HEAD>\n<TITLE></TITLE>\n</HEAD>\n<BODY>\n<h3>LORIMIER vs. DYN
	AMO</h3>More info: <a href="https://www.golnetwork.com/game/v/10728/">#15</
	a>\n\n</BODY>\n</HTML>
STATUS:CONFIRMED
CLASS:PUBLIC
URL:https://www.golnetwork.com/game/v/10728/
X-MICROSOFT-CDO-BUSYSTATUS:BUSY
X-MICROSOFT-CDO-IMPORTANCE:1
END:VEVENT
BEGIN:VEVENT
UID:g154k@games.golnetwork.com
LOCATION:Ben Weider JCC
GEO:45.488223;-73.634105
CREATED:20111206T000515Z
DTSTART:20111203T163000Z
DTEND:20111203T172000Z
DTSTAMP:20260419T223114Z
SUMMARY:LORIMIER vs. SACRAMENTO
DESCRIPTION:SACRAMENTO vs. LORIMIERMore info: #18
X-ALT-DESC;FMTTYPE=text/html:<!DOCTYPE HTML PUBLIC "-//W3C//DTD HTML 3.2//E
	N">\n<HTML>\n<HEAD>\n<TITLE></TITLE>\n</HEAD>\n<BODY>\n<h3>SACRAMENTO vs. L
	ORIMIER</h3>More info: <a href="https://www.golnetwork.com/game/v/10729/">#
	18</a>\n\n</BODY>\n</HTML>
STATUS:CONFIRMED
CLASS:PUBLIC
URL:https://www.golnetwork.com/game/v/10729/
X-MICROSOFT-CDO-BUSYSTATUS:BUSY
X-MICROSOFT-CDO-IMPORTANCE:1
END:VEVENT
BEGIN:VEVENT
UID:g154m@games.golnetwork.com
LOCATION:Ben Weider JCC
GEO:45.488223;-73.634105
CREATED:20111206T000524Z
DTSTART:20111206T020000Z
DTEND:20111206T025000Z
DTSTAMP:20260419T223114Z
SUMMARY:MACCABI vs. DYNAMO
DESCRIPTION:DYNAMO vs. MACCABIMore info: #20
X-ALT-DESC;FMTTYPE=text/html:<!DOCTYPE HTML PUBLIC "-//W3C//DTD HTML 3.2//E
	N">\n<HTML>\n<HEAD>\n<TITLE></TITLE>\n</HEAD>\n<BODY>\n<h3>DYNAMO vs. MACCA
	BI</h3>More info: <a href="https://www.golnetwork.com/game/v/10730/">#20</a
	>\n\n</BODY>\n</HTML>
STATUS:CONFIRMED
CLASS:PUBLIC
URL:https://www.golnetwork.com/game/v/10730/
X-MICROSOFT-CDO-BUSYSTATUS:BUSY
X-MICROSOFT-CDO-IMPORTANCE:1
END:VEVENT
BEGIN:VEVENT
UID:g154o@games.golnetwork.com
LOCATION:Ben Weider JCC
GEO:45.488223;-73.634105
CREATED:20111206T000525Z
DTSTART:20111210T153000Z
DTEND:20111210T162000Z
DTSTAMP:20260419T223114Z
SUMMARY:LORIMIER vs. MACCABI
DESCRIPTION:MACCABI vs. LORIMIERMore info: #21
X-ALT-DESC;FMTTYPE=text/html:<!DOCTYPE HTML PUBLIC "-//W3C//DTD HTML 3.2//E
	N">\n<HTML>\n<HEAD>\n<TITLE></TITLE>\n</HEAD>\n<BODY>\n<h3>MACCABI vs. LORI
	MIER</h3>More info: <a href="https://www.golnetwork.com/game/v/10731/">#21<
	/a>\n\n</BODY>\n</HTML>
STATUS:CONFIRMED
CLASS:PUBLIC
URL:https://www.golnetwork.com/game/v/10731/
X-MICROSOFT-CDO-BUSYSTATUS:BUSY
X-MICROSOFT-CDO-IMPORTANCE:1
END:VEVENT
BEGIN:VEVENT
UID:g154q@games.golnetwork.com
LOCATION:Ben Weider JCC
GEO:45.488223;-73.634105
CREATED:20111206T000526Z
DTSTART:20111213T010000Z
DTEND:20111213T015000Z
DTSTAMP:20260419T223114Z
SUMMARY:SACRAMENTO vs. DYNAMO
DESCRIPTION:DYNAMO vs. SACRAMENTOMore info: #23
X-ALT-DESC;FMTTYPE=text/html:<!DOCTYPE HTML PUBLIC "-//W3C//DTD HTML 3.2//E
	N">\n<HTML>\n<HEAD>\n<TITLE></TITLE>\n</HEAD>\n<BODY>\n<h3>DYNAMO vs. SACRA
	MENTO</h3>More info: <a href="https://www.golnetwork.com/game/v/10732/">#23
	</a>\n\n</BODY>\n</HTML>
STATUS:CONFIRMED
CLASS:PUBLIC
URL:https://www.golnetwork.com/game/v/10732/
X-MICROSOFT-CDO-BUSYSTATUS:BUSY
X-MICROSOFT-CDO-IMPORTANCE:1
END:VEVENT
BEGIN:VEVENT
UID:g18n0@games.golnetwork.com
LOCATION:Ben Weider JCC
GEO:45.488223;-73.634105
CREATED:20120205T025240Z
DTSTART:20111217T163000Z
DTEND:20111217T172000Z
DTSTAMP:20260419T223114Z
SUMMARY:MACCABI vs. SACRAMENTO
DESCRIPTION:SACRAMENTO vs. MACCABIMore info: #27
X-ALT-DESC;FMTTYPE=text/html:<!DOCTYPE HTML PUBLIC "-//W3C//DTD HTML 3.2//E
	N">\n<HTML>\n<HEAD>\n<TITLE></TITLE>\n</HEAD>\n<BODY>\n<h3>SACRAMENTO vs. M
	ACCABI</h3>More info: <a href="https://www.golnetwork.com/game/v/12069/">#2
	7</a>\n\n</BODY>\n</HTML>
STATUS:CONFIRMED
CLASS:PUBLIC
URL:https://www.golnetwork.com/game/v/12069/
X-MICROSOFT-CDO-BUSYSTATUS:BUSY
X-MICROSOFT-CDO-IMPORTANCE:1
END:VEVENT
BEGIN:VEVENT
UID:g1551@games.golnetwork.com
LOCATION:Ben Weider JCC
GEO:45.488223;-73.634105
CREATED:20111206T000527Z
DTSTART:20111220T010000Z
DTEND:20111220T015000Z
DTSTAMP:20260419T223114Z
SUMMARY:DYNAMO vs. LORIMIER
DESCRIPTION:LORIMIER vs. DYNAMOMore info: #28
X-ALT-DESC;FMTTYPE=text/html:<!DOCTYPE HTML PUBLIC "-//W3C//DTD HTML 3.2//E
	N">\n<HTML>\n<HEAD>\n<TITLE></TITLE>\n</HEAD>\n<BODY>\n<h3>LORIMIER vs. DYN
	AMO</h3>More info: <a href="https://www.golnetwork.com/game/v/10733/">#28</
	a>\n\n</BODY>\n</HTML>
STATUS:CONFIRMED
CLASS:PUBLIC
URL:https://www.golnetwork.com/game/v/10733/
X-MICROSOFT-CDO-BUSYSTATUS:BUSY
X-MICROSOFT-CDO-IMPORTANCE:1
END:VEVENT
BEGIN:VEVENT
UID:g1555@games.golnetwork.com
LOCATION:Ben Weider JCC
GEO:45.488223;-73.634105
CREATED:20111206T000528Z
DTSTART:20120114T153000Z
DTEND:20120114T162000Z
DTSTAMP:20260419T223114Z
SUMMARY:LORIMIER vs. SACRAMENTO
DESCRIPTION:SACRAMENTO vs. LORIMIERMore info: #31
X-ALT-DESC;FMTTYPE=text/html:<!DOCTYPE HTML PUBLIC "-//W3C//DTD HTML 3.2//E
	N">\n<HTML>\n<HEAD>\n<TITLE></TITLE>\n</HEAD>\n<BODY>\n<h3>SACRAMENTO vs. L
	ORIMIER</h3>More info: <a href="https://www.golnetwork.com/game/v/10735/">#
	31</a>\n\n</BODY>\n</HTML>
STATUS:CONFIRMED
CLASS:PUBLIC
URL:https://www.golnetwork.com/game/v/10735/
X-MICROSOFT-CDO-BUSYSTATUS:BUSY
X-MICROSOFT-CDO-IMPORTANCE:1
END:VEVENT
BEGIN:VEVENT
UID:g1557@games.golnetwork.com
LOCATION:Ben Weider JCC
GEO:45.488223;-73.634105
CREATED:20111206T000529Z
DTSTART:20120117T020000Z
DTEND:20120117T025000Z
DTSTAMP:20260419T223114Z
SUMMARY:MACCABI vs. DYNAMO
DESCRIPTION:DYNAMO vs. MACCABIMore info: #34
X-ALT-DESC;FMTTYPE=text/html:<!DOCTYPE HTML PUBLIC "-//W3C//DTD HTML 3.2//E
	N">\n<HTML>\n<HEAD>\n<TITLE></TITLE>\n</HEAD>\n<BODY>\n<h3>DYNAMO vs. MACCA
	BI</h3>More info: <a href="https://www.golnetwork.com/game/v/10736/">#34</a
	>\n\n</BODY>\n</HTML>
STATUS:CONFIRMED
CLASS:PUBLIC
URL:https://www.golnetwork.com/game/v/10736/
X-MICROSOFT-CDO-BUSYSTATUS:BUSY
X-MICROSOFT-CDO-IMPORTANCE:1
END:VEVENT
BEGIN:VEVENT
UID:g1559@games.golnetwork.com
LOCATION:Ben Weider JCC
GEO:45.488223;-73.634105
CREATED:20111206T000530Z
DTSTART:20120121T163000Z
DTEND:20120121T172000Z
DTSTAMP:20260419T223114Z
SUMMARY:LORIMIER vs. MACCABI
DESCRIPTION:MACCABI vs. LORIMIERMore info: #36
X-ALT-DESC;FMTTYPE=text/html:<!DOCTYPE HTML PUBLIC "-//W3C//DTD HTML 3.2//E
	N">\n<HTML>\n<HEAD>\n<TITLE></TITLE>\n</HEAD>\n<BODY>\n<h3>MACCABI vs. LORI
	MIER</h3>More info: <a href="https://www.golnetwork.com/game/v/10737/">#36<
	/a>\n\n</BODY>\n</HTML>
STATUS:CONFIRMED
CLASS:PUBLIC
URL:https://www.golnetwork.com/game/v/10737/
X-MICROSOFT-CDO-BUSYSTATUS:BUSY
X-MICROSOFT-CDO-IMPORTANCE:1
END:VEVENT
BEGIN:VEVENT
UID:g155b@games.golnetwork.com
LOCATION:Ben Weider JCC
GEO:45.488223;-73.634105
CREATED:20111206T000531Z
DTSTART:20120124T020000Z
DTEND:20120124T025000Z
DTSTAMP:20260419T223114Z
SUMMARY:SACRAMENTO vs. DYNAMO
DESCRIPTION:DYNAMO vs. SACRAMENTOMore info: #38
X-ALT-DESC;FMTTYPE=text/html:<!DOCTYPE HTML PUBLIC "-//W3C//DTD HTML 3.2//E
	N">\n<HTML>\n<HEAD>\n<TITLE></TITLE>\n</HEAD>\n<BODY>\n<h3>DYNAMO vs. SACRA
	MENTO</h3>More info: <a href="https://www.golnetwork.com/game/v/10738/">#38
	</a>\n\n</BODY>\n</HTML>
STATUS:CONFIRMED
CLASS:PUBLIC
URL:https://www.golnetwork.com/game/v/10738/
X-MICROSOFT-CDO-BUSYSTATUS:BUSY
X-MICROSOFT-CDO-IMPORTANCE:1
END:VEVENT
BEGIN:VEVENT
UID:g155d@games.golnetwork.com
LOCATION:Ben Weider JCC
GEO:45.488223;-73.634105
CREATED:20111206T000532Z
DTSTART:20120128T163000Z
DTEND:20120128T172000Z
DTSTAMP:20260419T223114Z
SUMMARY:SACRAMENTO vs. MACCABI
DESCRIPTION:MACCABI vs. SACRAMENTOMore info: #40
X-ALT-DESC;FMTTYPE=text/html:<!DOCTYPE HTML PUBLIC "-//W3C//DTD HTML 3.2//E
	N">\n<HTML>\n<HEAD>\n<TITLE></TITLE>\n</HEAD>\n<BODY>\n<h3>MACCABI vs. SACR
	AMENTO</h3>More info: <a href="https://www.golnetwork.com/game/v/10739/">#4
	0</a>\n\n</BODY>\n</HTML>
STATUS:CONFIRMED
CLASS:PUBLIC
URL:https://www.golnetwork.com/game/v/10739/
X-MICROSOFT-CDO-BUSYSTATUS:BUSY
X-MICROSOFT-CDO-IMPORTANCE:1
END:VEVENT
BEGIN:VEVENT
UID:g155f@games.golnetwork.com
LOCATION:Ben Weider JCC
GEO:45.488223;-73.634105
CREATED:20111206T000533Z
DTSTART:20120131T020000Z
DTEND:20120131T025000Z
DTSTAMP:20260419T223114Z
SUMMARY:DYNAMO vs. LORIMIER
DESCRIPTION:LORIMIER vs. DYNAMOMore info: #42
X-ALT-DESC;FMTTYPE=text/html:<!DOCTYPE HTML PUBLIC "-//W3C//DTD HTML 3.2//E
	N">\n<HTML>\n<HEAD>\n<TITLE></TITLE>\n</HEAD>\n<BODY>\n<h3>LORIMIER vs. DYN
	AMO</h3>More info: <a href="https://www.golnetwork.com/game/v/10740/">#42</
	a>\n\n</BODY>\n</HTML>
STATUS:CONFIRMED
CLASS:PUBLIC
URL:https://www.golnetwork.com/game/v/10740/
X-MICROSOFT-CDO-BUSYSTATUS:BUSY
X-MICROSOFT-CDO-IMPORTANCE:1
END:VEVENT
BEGIN:VEVENT
UID:g155h@games.golnetwork.com
LOCATION:Ben Weider JCC
GEO:45.488223;-73.634105
CREATED:20111206T000534Z
DTSTART:20120204T163000Z
DTEND:20120204T172000Z
DTSTAMP:20260419T223114Z
SUMMARY:MACCABI vs. DYNAMO
DESCRIPTION:DYNAMO vs. MACCABIMore info: #44
X-ALT-DESC;FMTTYPE=text/html:<!DOCTYPE HTML PUBLIC "-//W3C//DTD HTML 3.2//E
	N">\n<HTML>\n<HEAD>\n<TITLE></TITLE>\n</HEAD>\n<BODY>\n<h3>DYNAMO vs. MACCA
	BI</h3>More info: <a href="https://www.golnetwork.com/game/v/10741/">#44</a
	>\n\n</BODY>\n</HTML>
STATUS:CONFIRMED
CLASS:PUBLIC
URL:https://www.golnetwork.com/game/v/10741/
X-MICROSOFT-CDO-BUSYSTATUS:BUSY
X-MICROSOFT-CDO-IMPORTANCE:1
END:VEVENT
BEGIN:VEVENT
UID:g155j@games.golnetwork.com
LOCATION:Ben Weider JCC
GEO:45.488223;-73.634105
CREATED:20111206T000535Z
DTSTART:20120207T010000Z
DTEND:20120207T015000Z
DTSTAMP:20260419T223114Z
SUMMARY:LORIMIER vs. SACRAMENTO
DESCRIPTION:SACRAMENTO vs. LORIMIERMore info: #45
X-ALT-DESC;FMTTYPE=text/html:<!DOCTYPE HTML PUBLIC "-//W3C//DTD HTML 3.2//E
	N">\n<HTML>\n<HEAD>\n<TITLE></TITLE>\n</HEAD>\n<BODY>\n<h3>SACRAMENTO vs. L
	ORIMIER</h3>More info: <a href="https://www.golnetwork.com/game/v/10742/">#
	45</a>\n\n</BODY>\n</HTML>
STATUS:CONFIRMED
CLASS:PUBLIC
URL:https://www.golnetwork.com/game/v/10742/
X-MICROSOFT-CDO-BUSYSTATUS:BUSY
X-MICROSOFT-CDO-IMPORTANCE:1
END:VEVENT
BEGIN:VEVENT
UID:g155l@games.golnetwork.com
LOCATION:Ben Weider JCC
GEO:45.488223;-73.634105
CREATED:20111206T000536Z
DTSTART:20120211T153000Z
DTEND:20120211T162000Z
DTSTAMP:20260419T223114Z
SUMMARY:MACCABI vs. LORIMIER
DESCRIPTION:LORIMIER vs. MACCABIMore info: #47
X-ALT-DESC;FMTTYPE=text/html:<!DOCTYPE HTML PUBLIC "-//W3C//DTD HTML 3.2//E
	N">\n<HTML>\n<HEAD>\n<TITLE></TITLE>\n</HEAD>\n<BODY>\n<h3>LORIMIER vs. MAC
	CABI</h3>More info: <a href="https://www.golnetwork.com/game/v/10743/">#47<
	/a>\n\n</BODY>\n</HTML>
STATUS:CONFIRMED
CLASS:PUBLIC
URL:https://www.golnetwork.com/game/v/10743/
X-MICROSOFT-CDO-BUSYSTATUS:BUSY
X-MICROSOFT-CDO-IMPORTANCE:1
END:VEVENT
BEGIN:VEVENT
UID:g155n@games.golnetwork.com
LOCATION:Ben Weider JCC
GEO:45.488223;-73.634105
CREATED:20111206T000537Z
DTSTART:20120214T020000Z
DTEND:20120214T025000Z
DTSTAMP:20260419T223114Z
SUMMARY:DYNAMO vs. SACRAMENTO
DESCRIPTION:SACRAMENTO vs. DYNAMOMore info: #50
X-ALT-DESC;FMTTYPE=text/html:<!DOCTYPE HTML PUBLIC "-//W3C//DTD HTML 3.2//E
	N">\n<HTML>\n<HEAD>\n<TITLE></TITLE>\n</HEAD>\n<BODY>\n<h3>SACRAMENTO vs. D
	YNAMO</h3>More info: <a href="https://www.golnetwork.com/game/v/10744/">#50
	</a>\n\n</BODY>\n</HTML>
STATUS:CONFIRMED
CLASS:PUBLIC
URL:https://www.golnetwork.com/game/v/10744/
X-MICROSOFT-CDO-BUSYSTATUS:BUSY
X-MICROSOFT-CDO-IMPORTANCE:1
END:VEVENT
BEGIN:VEVENT
UID:g155p@games.golnetwork.com
LOCATION:Ben Weider JCC
GEO:45.488223;-73.634105
CREATED:20111206T000538Z
DTSTART:20120218T163000Z
DTEND:20120218T172000Z
DTSTAMP:20260419T223114Z
SUMMARY:SACRAMENTO vs. MACCABI
DESCRIPTION:MACCABI vs. SACRAMENTOMore info: #52
X-ALT-DESC;FMTTYPE=text/html:<!DOCTYPE HTML PUBLIC "-//W3C//DTD HTML 3.2//E
	N">\n<HTML>\n<HEAD>\n<TITLE></TITLE>\n</HEAD>\n<BODY>\n<h3>MACCABI vs. SACR
	AMENTO</h3>More info: <a href="https://www.golnetwork.com/game/v/10745/">#5
	2</a>\n\n</BODY>\n</HTML>
STATUS:CONFIRMED
CLASS:PUBLIC
URL:https://www.golnetwork.com/game/v/10745/
X-MICROSOFT-CDO-BUSYSTATUS:BUSY
X-MICROSOFT-CDO-IMPORTANCE:1
END:VEVENT
BEGIN:VEVENT
UID:g18n2@games.golnetwork.com
LOCATION:Ben Weider JCC
GEO:45.488223;-73.634105
CREATED:20120205T025342Z
DTSTART:20120221T010000Z
DTEND:20120221T015000Z
DTSTAMP:20260419T223114Z
SUMMARY:DYNAMO vs. LORIMIER
DESCRIPTION:LORIMIER vs. DYNAMOMore info: #54
X-ALT-DESC;FMTTYPE=text/html:<!DOCTYPE HTML PUBLIC "-//W3C//DTD HTML 3.2//E
	N">\n<HTML>\n<HEAD>\n<TITLE></TITLE>\n</HEAD>\n<BODY>\n<h3>LORIMIER vs. DYN
	AMO</h3>More info: <a href="https://www.golnetwork.com/game/v/12070/">#54</
	a>\n\n</BODY>\n</HTML>
STATUS:CONFIRMED
CLASS:PUBLIC
URL:https://www.golnetwork.com/game/v/12070/
X-MICROSOFT-CDO-BUSYSTATUS:BUSY
X-MICROSOFT-CDO-IMPORTANCE:1
END:VEVENT
BEGIN:VEVENT
UID:g1562@games.golnetwork.com
LOCATION:Ben Weider JCC
GEO:45.488223;-73.634105
CREATED:20111206T000540Z
DTSTART:20120225T163000Z
DTEND:20120225T172000Z
DTSTAMP:20260419T223114Z
SUMMARY:DYNAMO vs. MACCABI
DESCRIPTION:MACCABI vs. DYNAMOMore info: #58
X-ALT-DESC;FMTTYPE=text/html:<!DOCTYPE HTML PUBLIC "-//W3C//DTD HTML 3.2//E
	N">\n<HTML>\n<HEAD>\n<TITLE></TITLE>\n</HEAD>\n<BODY>\n<h3>MACCABI vs. DYNA
	MO</h3>More info: <a href="https://www.golnetwork.com/game/v/10747/">#58</a
	>\n\n</BODY>\n</HTML>
STATUS:CONFIRMED
CLASS:PUBLIC
URL:https://www.golnetwork.com/game/v/10747/
X-MICROSOFT-CDO-BUSYSTATUS:BUSY
X-MICROSOFT-CDO-IMPORTANCE:1
END:VEVENT
BEGIN:VEVENT
UID:g1564@games.golnetwork.com
LOCATION:Ben Weider JCC
GEO:45.488223;-73.634105
CREATED:20111206T000541Z
DTSTART:20120228T020000Z
DTEND:20120228T025000Z
DTSTAMP:20260419T223114Z
SUMMARY:SACRAMENTO vs. LORIMIER
DESCRIPTION:LORIMIER vs. SACRAMENTOMore info: #60
X-ALT-DESC;FMTTYPE=text/html:<!DOCTYPE HTML PUBLIC "-//W3C//DTD HTML 3.2//E
	N">\n<HTML>\n<HEAD>\n<TITLE></TITLE>\n</HEAD>\n<BODY>\n<h3>LORIMIER vs. SAC
	RAMENTO</h3>More info: <a href="https://www.golnetwork.com/game/v/10748/">#
	60</a>\n\n</BODY>\n</HTML>
STATUS:CONFIRMED
CLASS:PUBLIC
URL:https://www.golnetwork.com/game/v/10748/
X-MICROSOFT-CDO-BUSYSTATUS:BUSY
X-MICROSOFT-CDO-IMPORTANCE:1
END:VEVENT
BEGIN:VEVENT
UID:g1566@games.golnetwork.com
LOCATION:Ben Weider JCC
GEO:45.488223;-73.634105
CREATED:20111206T000542Z
DTSTART:20120303T163000Z
DTEND:20120303T172000Z
DTSTAMP:20260419T223114Z
SUMMARY:LORIMIER vs. MACCABI
DESCRIPTION:MACCABI vs. LORIMIERMore info: #62
X-ALT-DESC;FMTTYPE=text/html:<!DOCTYPE HTML PUBLIC "-//W3C//DTD HTML 3.2//E
	N">\n<HTML>\n<HEAD>\n<TITLE></TITLE>\n</HEAD>\n<BODY>\n<h3>MACCABI vs. LORI
	MIER</h3>More info: <a href="https://www.golnetwork.com/game/v/10749/">#62<
	/a>\n\n</BODY>\n</HTML>
STATUS:CONFIRMED
CLASS:PUBLIC
URL:https://www.golnetwork.com/game/v/10749/
X-MICROSOFT-CDO-BUSYSTATUS:BUSY
X-MICROSOFT-CDO-IMPORTANCE:1
END:VEVENT
BEGIN:VEVENT
UID:g1568@games.golnetwork.com
LOCATION:Ben Weider JCC
GEO:45.488223;-73.634105
CREATED:20111206T000543Z
DTSTART:20120306T020000Z
DTEND:20120306T025000Z
DTSTAMP:20260419T223114Z
SUMMARY:DYNAMO vs. SACRAMENTO
DESCRIPTION:SACRAMENTO vs. DYNAMOMore info: #64
X-ALT-DESC;FMTTYPE=text/html:<!DOCTYPE HTML PUBLIC "-//W3C//DTD HTML 3.2//E
	N">\n<HTML>\n<HEAD>\n<TITLE></TITLE>\n</HEAD>\n<BODY>\n<h3>SACRAMENTO vs. D
	YNAMO</h3>More info: <a href="https://www.golnetwork.com/game/v/10750/">#64
	</a>\n\n</BODY>\n</HTML>
STATUS:CONFIRMED
CLASS:PUBLIC
URL:https://www.golnetwork.com/game/v/10750/
X-MICROSOFT-CDO-BUSYSTATUS:BUSY
X-MICROSOFT-CDO-IMPORTANCE:1
END:VEVENT
BEGIN:VEVENT
UID:g1999@games.golnetwork.com
LOCATION:Ben Weider JCC
GEO:45.488223;-73.634105
CREATED:20120322T140939Z
DTSTART:20120310T163000Z
DTEND:20120310T172000Z
DTSTAMP:20260419T223114Z
SUMMARY:LORIMIER vs. SACRAMENTO
DESCRIPTION:SACRAMENTO vs. LORIMIERMore info: #66
X-ALT-DESC;FMTTYPE=text/html:<!DOCTYPE HTML PUBLIC "-//W3C//DTD HTML 3.2//E
	N">\n<HTML>\n<HEAD>\n<TITLE></TITLE>\n</HEAD>\n<BODY>\n<h3>SACRAMENTO vs. L
	ORIMIER</h3>More info: <a href="https://www.golnetwork.com/game/v/12249/">#
	66</a>\n\n</BODY>\n</HTML>
STATUS:CONFIRMED
CLASS:PUBLIC
URL:https://www.golnetwork.com/game/v/12249/
X-MICROSOFT-CDO-BUSYSTATUS:BUSY
X-MICROSOFT-CDO-IMPORTANCE:1
END:VEVENT
BEGIN:VEVENT
UID:g199b@games.golnetwork.com
LOCATION:Ben Weider JCC
GEO:45.488223;-73.634105
CREATED:20120322T140947Z
DTSTART:20120313T011500Z
DTEND:20120313T020500Z
DTSTAMP:20260419T223114Z
SUMMARY:DYNAMO vs. MACCABI
DESCRIPTION:MACCABI vs. DYNAMOMore info: #68
X-ALT-DESC;FMTTYPE=text/html:<!DOCTYPE HTML PUBLIC "-//W3C//DTD HTML 3.2//E
	N">\n<HTML>\n<HEAD>\n<TITLE></TITLE>\n</HEAD>\n<BODY>\n<h3>MACCABI vs. DYNA
	MO</h3>More info: <a href="https://www.golnetwork.com/game/v/12250/">#68</a
	>\n\n</BODY>\n</HTML>
STATUS:CONFIRMED
CLASS:PUBLIC
URL:https://www.golnetwork.com/game/v/12250/
X-MICROSOFT-CDO-BUSYSTATUS:BUSY
X-MICROSOFT-CDO-IMPORTANCE:1
END:VEVENT
BEGIN:VEVENT
UID:g199d@games.golnetwork.com
LOCATION:Ben Weider JCC
GEO:45.488223;-73.634105
CREATED:20120322T141232Z
DTSTART:20120317T153000Z
DTEND:20120317T162000Z
DTSTAMP:20260419T223114Z
SUMMARY:MACCABI vs. LORIMIER
DESCRIPTION:LORIMIER vs. MACCABIMore info: #70
X-ALT-DESC;FMTTYPE=text/html:<!DOCTYPE HTML PUBLIC "-//W3C//DTD HTML 3.2//E
	N">\n<HTML>\n<HEAD>\n<TITLE></TITLE>\n</HEAD>\n<BODY>\n<h3>LORIMIER vs. MAC
	CABI</h3>More info: <a href="https://www.golnetwork.com/game/v/12251/">#70<
	/a>\n\n</BODY>\n</HTML>
STATUS:CONFIRMED
CLASS:PUBLIC
URL:https://www.golnetwork.com/game/v/12251/
X-MICROSOFT-CDO-BUSYSTATUS:BUSY
X-MICROSOFT-CDO-IMPORTANCE:1
END:VEVENT
BEGIN:VEVENT
UID:g199f@games.golnetwork.com
LOCATION:Ben Weider JCC
GEO:45.488223;-73.634105
CREATED:20120322T141240Z
DTSTART:20120320T010000Z
DTEND:20120320T015000Z
DTSTAMP:20260419T223114Z
SUMMARY:DYNAMO vs. SACRAMENTO
DESCRIPTION:SACRAMENTO vs. DYNAMOMore info: #72
X-ALT-DESC;FMTTYPE=text/html:<!DOCTYPE HTML PUBLIC "-//W3C//DTD HTML 3.2//E
	N">\n<HTML>\n<HEAD>\n<TITLE></TITLE>\n</HEAD>\n<BODY>\n<h3>SACRAMENTO vs. D
	YNAMO</h3>More info: <a href="https://www.golnetwork.com/game/v/12252/">#72
	</a>\n\n</BODY>\n</HTML>
STATUS:CONFIRMED
CLASS:PUBLIC
URL:https://www.golnetwork.com/game/v/12252/
X-MICROSOFT-CDO-BUSYSTATUS:BUSY
X-MICROSOFT-CDO-IMPORTANCE:1
END:VEVENT
END:VCALENDAR
