BEGIN:VCALENDAR
PRODID:-//gdesolutions.com//MV Framework 1.0.0.1607 Calendar//EN
VERSION:2.0
METHOD:PUBLISH
CALSCALE:GREGORIAN
BEGIN:VEVENT
UID:g19dd@games.golnetwork.com
LOCATION:Field 1
GEO:45.6953045;-73.5197623
CREATED:20120327T153045Z
DTSTART:20120318T230000Z
DTEND:20120319T000000Z
DTSTAMP:20260424T015829Z
SUMMARY:FC Azzurri vs. Houston AB
DESCRIPTION:Houston AB vs. FC AzzurriMore info: #3
X-ALT-DESC;FMTTYPE=text/html:<!DOCTYPE HTML PUBLIC "-//W3C//DTD HTML 3.2//E
	N">\n<HTML>\n<HEAD>\n<TITLE></TITLE>\n</HEAD>\n<BODY>\n<h3>Houston AB vs. F
	C Azzurri</h3>More info: <a href="https://www.golnetwork.com/game/v/12305/"
	>#3</a>\n\n</BODY>\n</HTML>
STATUS:CONFIRMED
CLASS:PUBLIC
URL:https://www.golnetwork.com/game/v/12305/
X-MICROSOFT-CDO-BUSYSTATUS:BUSY
X-MICROSOFT-CDO-IMPORTANCE:1
END:VEVENT
BEGIN:VEVENT
UID:g19df@games.golnetwork.com
LOCATION:Field 2
GEO:45.6953045;-73.5197623
CREATED:20120327T153149Z
DTSTART:20120318T230000Z
DTEND:20120319T000000Z
DTSTAMP:20260424T015829Z
SUMMARY:FC Stars vs. AC Montreal
DESCRIPTION:AC Montreal vs. FC StarsMore info: #4
X-ALT-DESC;FMTTYPE=text/html:<!DOCTYPE HTML PUBLIC "-//W3C//DTD HTML 3.2//E
	N">\n<HTML>\n<HEAD>\n<TITLE></TITLE>\n</HEAD>\n<BODY>\n<h3>AC Montreal vs. 
	FC Stars</h3>More info: <a href="https://www.golnetwork.com/game/v/12306/">
	#4</a>\n\n</BODY>\n</HTML>
STATUS:CONFIRMED
CLASS:PUBLIC
URL:https://www.golnetwork.com/game/v/12306/
X-MICROSOFT-CDO-BUSYSTATUS:BUSY
X-MICROSOFT-CDO-IMPORTANCE:1
END:VEVENT
BEGIN:VEVENT
UID:g19db@games.golnetwork.com
LOCATION:Field 1
GEO:45.6953045;-73.5197623
CREATED:20120323T174247Z
DTSTART:20120325T230000Z
DTEND:20120326T000000Z
DTSTAMP:20260424T015829Z
SUMMARY:AC Montreal vs. Houston AB
DESCRIPTION:Houston AB vs. AC MontrealMore info: #5
X-ALT-DESC;FMTTYPE=text/html:<!DOCTYPE HTML PUBLIC "-//W3C//DTD HTML 3.2//E
	N">\n<HTML>\n<HEAD>\n<TITLE></TITLE>\n</HEAD>\n<BODY>\n<h3>Houston AB vs. A
	C Montreal</h3>More info: <a href="https://www.golnetwork.com/game/v/12304/
	">#5</a>\n\n</BODY>\n</HTML>
STATUS:CONFIRMED
CLASS:PUBLIC
URL:https://www.golnetwork.com/game/v/12304/
X-MICROSOFT-CDO-BUSYSTATUS:BUSY
X-MICROSOFT-CDO-IMPORTANCE:1
END:VEVENT
END:VCALENDAR
