BEGIN:VCALENDAR
PRODID:-//gdesolutions.com//MV Framework 1.0.0.1607 Calendar//EN
VERSION:2.0
METHOD:PUBLISH
CALSCALE:GREGORIAN
BEGIN:VEVENT
UID:g1k8f@games.golnetwork.com
LOCATION:Aréna Marcelin-Wilson
GEO:45.53630065918;-73.683898925781
CREATED:20120530T210752Z
DTSTART:20120512T010000Z
DTEND:20120512T020000Z
DTSTAMP:20260420T022112Z
SUMMARY:Ice Crew II vs. Rage
DESCRIPTION:Rage vs. Ice Crew IIMore info: Y-1-2
X-ALT-DESC;FMTTYPE=text/html:<!DOCTYPE HTML PUBLIC "-//W3C//DTD HTML 3.2//E
	N">\n<HTML>\n<HEAD>\n<TITLE></TITLE>\n</HEAD>\n<BODY>\n<h3>Rage vs. Ice Cre
	w II</h3>More info: <a href="https://www.golnetwork.com/game/v/16248/">Y-1-
	2</a>\n\n</BODY>\n</HTML>
STATUS:CONFIRMED
CLASS:PUBLIC
URL:https://www.golnetwork.com/game/v/16248/
X-MICROSOFT-CDO-BUSYSTATUS:BUSY
X-MICROSOFT-CDO-IMPORTANCE:1
END:VEVENT
BEGIN:VEVENT
UID:g1k8h@games.golnetwork.com
LOCATION:Aréna Marcelin-Wilson
GEO:45.53630065918;-73.683898925781
CREATED:20120530T210754Z
DTSTART:20120512T020000Z
DTEND:20120512T030000Z
DTSTAMP:20260420T022112Z
SUMMARY:Recruits Y vs. XY Factor
DESCRIPTION:XY Factor vs. Recruits YMore info: Y-1-2
X-ALT-DESC;FMTTYPE=text/html:<!DOCTYPE HTML PUBLIC "-//W3C//DTD HTML 3.2//E
	N">\n<HTML>\n<HEAD>\n<TITLE></TITLE>\n</HEAD>\n<BODY>\n<h3>XY Factor vs. Re
	cruits Y</h3>More info: <a href="https://www.golnetwork.com/game/v/16249/">
	Y-1-2</a>\n\n</BODY>\n</HTML>
STATUS:CONFIRMED
CLASS:PUBLIC
URL:https://www.golnetwork.com/game/v/16249/
X-MICROSOFT-CDO-BUSYSTATUS:BUSY
X-MICROSOFT-CDO-IMPORTANCE:1
END:VEVENT
BEGIN:VEVENT
UID:g1k8j@games.golnetwork.com
LOCATION:Le Club West Island
GEO:45.4370221;-73.8439915
CREATED:20120530T210755Z
DTSTART:20120519T003000Z
DTEND:20120519T013000Z
DTSTAMP:20260420T022112Z
SUMMARY:XY Factor vs. Ice Crew II
DESCRIPTION:Ice Crew II vs. XY FactorMore info: Y-2-3
X-ALT-DESC;FMTTYPE=text/html:<!DOCTYPE HTML PUBLIC "-//W3C//DTD HTML 3.2//E
	N">\n<HTML>\n<HEAD>\n<TITLE></TITLE>\n</HEAD>\n<BODY>\n<h3>Ice Crew II vs. 
	XY Factor</h3>More info: <a href="https://www.golnetwork.com/game/v/16250/"
	>Y-2-3</a>\n\n</BODY>\n</HTML>
STATUS:CONFIRMED
CLASS:PUBLIC
URL:https://www.golnetwork.com/game/v/16250/
X-MICROSOFT-CDO-BUSYSTATUS:BUSY
X-MICROSOFT-CDO-IMPORTANCE:1
END:VEVENT
BEGIN:VEVENT
UID:g1k8l@games.golnetwork.com
LOCATION:Le Club West Island
GEO:45.4370221;-73.8439915
CREATED:20120530T210756Z
DTSTART:20120519T013000Z
DTEND:20120519T023000Z
DTSTAMP:20260420T022112Z
SUMMARY:Rage vs. Smashing Pumpkins
DESCRIPTION:Smashing Pumpkins vs. RageMore info: Y-2-1
X-ALT-DESC;FMTTYPE=text/html:<!DOCTYPE HTML PUBLIC "-//W3C//DTD HTML 3.2//E
	N">\n<HTML>\n<HEAD>\n<TITLE></TITLE>\n</HEAD>\n<BODY>\n<h3>Smashing Pumpkin
	s vs. Rage</h3>More info: <a href="https://www.golnetwork.com/game/v/16251/
	">Y-2-1</a>\n\n</BODY>\n</HTML>
STATUS:CONFIRMED
CLASS:PUBLIC
URL:https://www.golnetwork.com/game/v/16251/
X-MICROSOFT-CDO-BUSYSTATUS:BUSY
X-MICROSOFT-CDO-IMPORTANCE:1
END:VEVENT
BEGIN:VEVENT
UID:g1k8n@games.golnetwork.com
LOCATION:Le Club West Island
GEO:45.4370221;-73.8439915
CREATED:20120530T210757Z
DTSTART:20120525T233000Z
DTEND:20120526T003000Z
DTSTAMP:20260420T022112Z
SUMMARY:Smashing Pumpkins vs. Ice Crew II
DESCRIPTION:Ice Crew II vs. Smashing PumpkinsMore info: Y-3-1
X-ALT-DESC;FMTTYPE=text/html:<!DOCTYPE HTML PUBLIC "-//W3C//DTD HTML 3.2//E
	N">\n<HTML>\n<HEAD>\n<TITLE></TITLE>\n</HEAD>\n<BODY>\n<h3>Ice Crew II vs. 
	Smashing Pumpkins</h3>More info: <a href="https://www.golnetwork.com/game/v
	/16252/">Y-3-1</a>\n\n</BODY>\n</HTML>
STATUS:CONFIRMED
CLASS:PUBLIC
URL:https://www.golnetwork.com/game/v/16252/
X-MICROSOFT-CDO-BUSYSTATUS:BUSY
X-MICROSOFT-CDO-IMPORTANCE:1
END:VEVENT
BEGIN:VEVENT
UID:g1k8p@games.golnetwork.com
LOCATION:Le Club West Island
GEO:45.4370221;-73.8439915
CREATED:20120530T210758Z
DTSTART:20120526T013000Z
DTEND:20120526T023000Z
DTSTAMP:20260420T022112Z
SUMMARY:Recruits Y vs. Rage
DESCRIPTION:Rage vs. Recruits YMore info: Y-3-2
X-ALT-DESC;FMTTYPE=text/html:<!DOCTYPE HTML PUBLIC "-//W3C//DTD HTML 3.2//E
	N">\n<HTML>\n<HEAD>\n<TITLE></TITLE>\n</HEAD>\n<BODY>\n<h3>Rage vs. Recruit
	s Y</h3>More info: <a href="https://www.golnetwork.com/game/v/16253/">Y-3-2
	</a>\n\n</BODY>\n</HTML>
STATUS:CONFIRMED
CLASS:PUBLIC
URL:https://www.golnetwork.com/game/v/16253/
X-MICROSOFT-CDO-BUSYSTATUS:BUSY
X-MICROSOFT-CDO-IMPORTANCE:1
END:VEVENT
BEGIN:VEVENT
UID:g1kal@games.golnetwork.com
LOCATION:Aréna Raymond-Bourque
GEO:45.507900238037;-73.700996398926
CREATED:20120530T212313Z
DTSTART:20120601T223000Z
DTEND:20120601T233000Z
DTSTAMP:20260420T022112Z
SUMMARY:Rage vs. XY Factor
DESCRIPTION:XY Factor vs. RageMore info: Y-4-2
X-ALT-DESC;FMTTYPE=text/html:<!DOCTYPE HTML PUBLIC "-//W3C//DTD HTML 3.2//E
	N">\n<HTML>\n<HEAD>\n<TITLE></TITLE>\n</HEAD>\n<BODY>\n<h3>XY Factor vs. Ra
	ge</h3>More info: <a href="https://www.golnetwork.com/game/v/16278/">Y-4-2<
	/a>\n\n</BODY>\n</HTML>
STATUS:CONFIRMED
CLASS:PUBLIC
URL:https://www.golnetwork.com/game/v/16278/
X-MICROSOFT-CDO-BUSYSTATUS:BUSY
X-MICROSOFT-CDO-IMPORTANCE:1
END:VEVENT
BEGIN:VEVENT
UID:g1kan@games.golnetwork.com
LOCATION:Aréna Raymond-Bourque
GEO:45.507900238037;-73.700996398926
CREATED:20120530T212314Z
DTSTART:20120602T013000Z
DTEND:20120602T023000Z
DTSTAMP:20260420T022112Z
SUMMARY:Smashing Pumpkins vs. Recruits Y
DESCRIPTION:Recruits Y vs. Smashing PumpkinsMore info: Y-4-2
X-ALT-DESC;FMTTYPE=text/html:<!DOCTYPE HTML PUBLIC "-//W3C//DTD HTML 3.2//E
	N">\n<HTML>\n<HEAD>\n<TITLE></TITLE>\n</HEAD>\n<BODY>\n<h3>Recruits Y vs. S
	mashing Pumpkins</h3>More info: <a href="https://www.golnetwork.com/game/v/
	16279/">Y-4-2</a>\n\n</BODY>\n</HTML>
STATUS:CONFIRMED
CLASS:PUBLIC
URL:https://www.golnetwork.com/game/v/16279/
X-MICROSOFT-CDO-BUSYSTATUS:BUSY
X-MICROSOFT-CDO-IMPORTANCE:1
END:VEVENT
BEGIN:VEVENT
UID:g1kap@games.golnetwork.com
LOCATION:Le Club West Island
GEO:45.4370221;-73.8439915
CREATED:20120530T212315Z
DTSTART:20120608T223000Z
DTEND:20120608T233000Z
DTSTAMP:20260420T022112Z
SUMMARY:XY Factor vs. Smashing Pumpkins
DESCRIPTION:Smashing Pumpkins vs. XY FactorMore info: Y-5-1
X-ALT-DESC;FMTTYPE=text/html:<!DOCTYPE HTML PUBLIC "-//W3C//DTD HTML 3.2//E
	N">\n<HTML>\n<HEAD>\n<TITLE></TITLE>\n</HEAD>\n<BODY>\n<h3>Smashing Pumpkin
	s vs. XY Factor</h3>More info: <a href="https://www.golnetwork.com/game/v/1
	6280/">Y-5-1</a>\n\n</BODY>\n</HTML>
STATUS:CONFIRMED
CLASS:PUBLIC
URL:https://www.golnetwork.com/game/v/16280/
X-MICROSOFT-CDO-BUSYSTATUS:BUSY
X-MICROSOFT-CDO-IMPORTANCE:1
END:VEVENT
BEGIN:VEVENT
UID:g1kb0@games.golnetwork.com
LOCATION:Le Club West Island
GEO:45.4370221;-73.8439915
CREATED:20120530T212316Z
DTSTART:20120609T013000Z
DTEND:20120609T023000Z
DTSTAMP:20260420T022112Z
SUMMARY:Ice Crew II vs. Recruits Y
DESCRIPTION:Recruits Y vs. Ice Crew IIMore info: Y-5-3
X-ALT-DESC;FMTTYPE=text/html:<!DOCTYPE HTML PUBLIC "-//W3C//DTD HTML 3.2//E
	N">\n<HTML>\n<HEAD>\n<TITLE></TITLE>\n</HEAD>\n<BODY>\n<h3>Recruits Y vs. I
	ce Crew II</h3>More info: <a href="https://www.golnetwork.com/game/v/16281/
	">Y-5-3</a>\n\n</BODY>\n</HTML>
STATUS:CONFIRMED
CLASS:PUBLIC
URL:https://www.golnetwork.com/game/v/16281/
X-MICROSOFT-CDO-BUSYSTATUS:BUSY
X-MICROSOFT-CDO-IMPORTANCE:1
END:VEVENT
BEGIN:VEVENT
UID:g1k98@games.golnetwork.com
LOCATION:Westwood Sports Centre
GEO:45.456199645996;-73.764801025391
CREATED:20120530T210802Z
DTSTART:20120615T233000Z
DTEND:20120616T003000Z
DTSTAMP:20260420T022112Z
SUMMARY:Rage vs. Ice Crew II
DESCRIPTION:Ice Crew II vs. RageMore info: Y-6-2
X-ALT-DESC;FMTTYPE=text/html:<!DOCTYPE HTML PUBLIC "-//W3C//DTD HTML 3.2//E
	N">\n<HTML>\n<HEAD>\n<TITLE></TITLE>\n</HEAD>\n<BODY>\n<h3>Ice Crew II vs. 
	Rage</h3>More info: <a href="https://www.golnetwork.com/game/v/16258/">Y-6-
	2</a>\n\n</BODY>\n</HTML>
STATUS:CONFIRMED
CLASS:PUBLIC
URL:https://www.golnetwork.com/game/v/16258/
X-MICROSOFT-CDO-BUSYSTATUS:BUSY
X-MICROSOFT-CDO-IMPORTANCE:1
END:VEVENT
BEGIN:VEVENT
UID:g1k9a@games.golnetwork.com
LOCATION:Westwood Sports Centre
GEO:45.456199645996;-73.764801025391
CREATED:20120530T210802Z
DTSTART:20120616T013000Z
DTEND:20120616T023000Z
DTSTAMP:20260420T022112Z
SUMMARY:Smashing Pumpkins vs. XY Factor
DESCRIPTION:XY Factor vs. Smashing PumpkinsMore info: Y-6-1
X-ALT-DESC;FMTTYPE=text/html:<!DOCTYPE HTML PUBLIC "-//W3C//DTD HTML 3.2//E
	N">\n<HTML>\n<HEAD>\n<TITLE></TITLE>\n</HEAD>\n<BODY>\n<h3>XY Factor vs. Sm
	ashing Pumpkins</h3>More info: <a href="https://www.golnetwork.com/game/v/1
	6259/">Y-6-1</a>\n\n</BODY>\n</HTML>
STATUS:CONFIRMED
CLASS:PUBLIC
URL:https://www.golnetwork.com/game/v/16259/
X-MICROSOFT-CDO-BUSYSTATUS:BUSY
X-MICROSOFT-CDO-IMPORTANCE:1
END:VEVENT
BEGIN:VEVENT
UID:g1k9c@games.golnetwork.com
LOCATION:Westwood Sports Centre
GEO:45.456199645996;-73.764801025391
CREATED:20120530T210803Z
DTSTART:20120623T003000Z
DTEND:20120623T013000Z
DTSTAMP:20260420T022112Z
SUMMARY:XY Factor vs. Recruits Y
DESCRIPTION:Recruits Y vs. XY FactorMore info: Y-7-2
X-ALT-DESC;FMTTYPE=text/html:<!DOCTYPE HTML PUBLIC "-//W3C//DTD HTML 3.2//E
	N">\n<HTML>\n<HEAD>\n<TITLE></TITLE>\n</HEAD>\n<BODY>\n<h3>Recruits Y vs. X
	Y Factor</h3>More info: <a href="https://www.golnetwork.com/game/v/16260/">
	Y-7-2</a>\n\n</BODY>\n</HTML>
STATUS:CONFIRMED
CLASS:PUBLIC
URL:https://www.golnetwork.com/game/v/16260/
X-MICROSOFT-CDO-BUSYSTATUS:BUSY
X-MICROSOFT-CDO-IMPORTANCE:1
END:VEVENT
BEGIN:VEVENT
UID:g1k9e@games.golnetwork.com
LOCATION:Westwood Sports Centre
GEO:45.456199645996;-73.764801025391
CREATED:20120530T210804Z
DTSTART:20120623T013000Z
DTEND:20120623T023000Z
DTSTAMP:20260420T022112Z
SUMMARY:Smashing Pumpkins vs. Rage
DESCRIPTION:Rage vs. Smashing PumpkinsMore info: Y-7-1
X-ALT-DESC;FMTTYPE=text/html:<!DOCTYPE HTML PUBLIC "-//W3C//DTD HTML 3.2//E
	N">\n<HTML>\n<HEAD>\n<TITLE></TITLE>\n</HEAD>\n<BODY>\n<h3>Rage vs. Smashin
	g Pumpkins</h3>More info: <a href="https://www.golnetwork.com/game/v/16261/
	">Y-7-1</a>\n\n</BODY>\n</HTML>
STATUS:CONFIRMED
CLASS:PUBLIC
URL:https://www.golnetwork.com/game/v/16261/
X-MICROSOFT-CDO-BUSYSTATUS:BUSY
X-MICROSOFT-CDO-IMPORTANCE:1
END:VEVENT
BEGIN:VEVENT
UID:g1k9g@games.golnetwork.com
LOCATION:Le Club West Island
GEO:45.4370221;-73.8439915
CREATED:20120530T210805Z
DTSTART:20120629T233000Z
DTEND:20120630T003000Z
DTSTAMP:20260420T022112Z
SUMMARY:Rage vs. Recruits Y
DESCRIPTION:Recruits Y vs. RageMore info: Y-8-1
X-ALT-DESC;FMTTYPE=text/html:<!DOCTYPE HTML PUBLIC "-//W3C//DTD HTML 3.2//E
	N">\n<HTML>\n<HEAD>\n<TITLE></TITLE>\n</HEAD>\n<BODY>\n<h3>Recruits Y vs. R
	age</h3>More info: <a href="https://www.golnetwork.com/game/v/16262/">Y-8-1
	</a>\n\n</BODY>\n</HTML>
STATUS:CONFIRMED
CLASS:PUBLIC
URL:https://www.golnetwork.com/game/v/16262/
X-MICROSOFT-CDO-BUSYSTATUS:BUSY
X-MICROSOFT-CDO-IMPORTANCE:1
END:VEVENT
BEGIN:VEVENT
UID:g1k9i@games.golnetwork.com
LOCATION:Le Club West Island
GEO:45.4370221;-73.8439915
CREATED:20120530T210806Z
DTSTART:20120630T003000Z
DTEND:20120630T013000Z
DTSTAMP:20260420T022112Z
SUMMARY:Ice Crew II vs. Smashing Pumpkins
DESCRIPTION:Smashing Pumpkins vs. Ice Crew IIMore info: Y-8-2
X-ALT-DESC;FMTTYPE=text/html:<!DOCTYPE HTML PUBLIC "-//W3C//DTD HTML 3.2//E
	N">\n<HTML>\n<HEAD>\n<TITLE></TITLE>\n</HEAD>\n<BODY>\n<h3>Smashing Pumpkin
	s vs. Ice Crew II</h3>More info: <a href="https://www.golnetwork.com/game/v
	/16263/">Y-8-2</a>\n\n</BODY>\n</HTML>
STATUS:CONFIRMED
CLASS:PUBLIC
URL:https://www.golnetwork.com/game/v/16263/
X-MICROSOFT-CDO-BUSYSTATUS:BUSY
X-MICROSOFT-CDO-IMPORTANCE:1
END:VEVENT
BEGIN:VEVENT
UID:g1kb2@games.golnetwork.com
LOCATION:Westwood Sports Centre
GEO:45.456199645996;-73.764801025391
CREATED:20120530T212318Z
DTSTART:20120706T233000Z
DTEND:20120707T003000Z
DTSTAMP:20260420T022112Z
SUMMARY:Ice Crew II vs. XY Factor
DESCRIPTION:XY Factor vs. Ice Crew IIMore info: Y-9-2
X-ALT-DESC;FMTTYPE=text/html:<!DOCTYPE HTML PUBLIC "-//W3C//DTD HTML 3.2//E
	N">\n<HTML>\n<HEAD>\n<TITLE></TITLE>\n</HEAD>\n<BODY>\n<h3>XY Factor vs. Ic
	e Crew II</h3>More info: <a href="https://www.golnetwork.com/game/v/16282/"
	>Y-9-2</a>\n\n</BODY>\n</HTML>
STATUS:CONFIRMED
CLASS:PUBLIC
URL:https://www.golnetwork.com/game/v/16282/
X-MICROSOFT-CDO-BUSYSTATUS:BUSY
X-MICROSOFT-CDO-IMPORTANCE:1
END:VEVENT
BEGIN:VEVENT
UID:g1kb4@games.golnetwork.com
LOCATION:Westwood Sports Centre
GEO:45.456199645996;-73.764801025391
CREATED:20120530T212319Z
DTSTART:20120707T003000Z
DTEND:20120707T013000Z
DTSTAMP:20260420T022112Z
SUMMARY:Recruits Y vs. Smashing Pumpkins
DESCRIPTION:Smashing Pumpkins vs. Recruits YMore info: Y-9-1
X-ALT-DESC;FMTTYPE=text/html:<!DOCTYPE HTML PUBLIC "-//W3C//DTD HTML 3.2//E
	N">\n<HTML>\n<HEAD>\n<TITLE></TITLE>\n</HEAD>\n<BODY>\n<h3>Smashing Pumpkin
	s vs. Recruits Y</h3>More info: <a href="https://www.golnetwork.com/game/v/
	16283/">Y-9-1</a>\n\n</BODY>\n</HTML>
STATUS:CONFIRMED
CLASS:PUBLIC
URL:https://www.golnetwork.com/game/v/16283/
X-MICROSOFT-CDO-BUSYSTATUS:BUSY
X-MICROSOFT-CDO-IMPORTANCE:1
END:VEVENT
BEGIN:VEVENT
UID:g1k9o@games.golnetwork.com
LOCATION:Westwood Sports Centre
GEO:45.456199645996;-73.764801025391
CREATED:20120530T210808Z
DTSTART:20120714T003000Z
DTEND:20120714T013000Z
DTSTAMP:20260420T022112Z
SUMMARY:XY Factor vs. Rage
DESCRIPTION:Rage vs. XY FactorMore info: Y-10-1
X-ALT-DESC;FMTTYPE=text/html:<!DOCTYPE HTML PUBLIC "-//W3C//DTD HTML 3.2//E
	N">\n<HTML>\n<HEAD>\n<TITLE></TITLE>\n</HEAD>\n<BODY>\n<h3>Rage vs. XY Fact
	or</h3>More info: <a href="https://www.golnetwork.com/game/v/16266/">Y-10-1
	</a>\n\n</BODY>\n</HTML>
STATUS:CONFIRMED
CLASS:PUBLIC
URL:https://www.golnetwork.com/game/v/16266/
X-MICROSOFT-CDO-BUSYSTATUS:BUSY
X-MICROSOFT-CDO-IMPORTANCE:1
END:VEVENT
BEGIN:VEVENT
UID:g1k9q@games.golnetwork.com
LOCATION:Westwood Sports Centre
GEO:45.456199645996;-73.764801025391
CREATED:20120530T210809Z
DTSTART:20120714T013000Z
DTEND:20120714T023000Z
DTSTAMP:20260420T022112Z
SUMMARY:Recruits Y vs. Ice Crew II
DESCRIPTION:Ice Crew II vs. Recruits YMore info: Y-10-2
X-ALT-DESC;FMTTYPE=text/html:<!DOCTYPE HTML PUBLIC "-//W3C//DTD HTML 3.2//E
	N">\n<HTML>\n<HEAD>\n<TITLE></TITLE>\n</HEAD>\n<BODY>\n<h3>Ice Crew II vs. 
	Recruits Y</h3>More info: <a href="https://www.golnetwork.com/game/v/16267/
	">Y-10-2</a>\n\n</BODY>\n</HTML>
STATUS:CONFIRMED
CLASS:PUBLIC
URL:https://www.golnetwork.com/game/v/16267/
X-MICROSOFT-CDO-BUSYSTATUS:BUSY
X-MICROSOFT-CDO-IMPORTANCE:1
END:VEVENT
BEGIN:VEVENT
UID:g1ka1@games.golnetwork.com
LOCATION:Le Club West Island
GEO:45.4370221;-73.8439915
CREATED:20120530T210810Z
DTSTART:20120715T230000Z
DTEND:20120716T000000Z
DTSTAMP:20260420T022112Z
SUMMARY:Rage vs. Smashing Pumpkins
DESCRIPTION:Smashing Pumpkins vs. RageMore info: Y-12-1
X-ALT-DESC;FMTTYPE=text/html:<!DOCTYPE HTML PUBLIC "-//W3C//DTD HTML 3.2//E
	N">\n<HTML>\n<HEAD>\n<TITLE></TITLE>\n</HEAD>\n<BODY>\n<h3>Smashing Pumpkin
	s vs. Rage</h3>More info: <a href="https://www.golnetwork.com/game/v/16268/
	">Y-12-1</a>\n\n</BODY>\n</HTML>
STATUS:CONFIRMED
CLASS:PUBLIC
URL:https://www.golnetwork.com/game/v/16268/
X-MICROSOFT-CDO-BUSYSTATUS:BUSY
X-MICROSOFT-CDO-IMPORTANCE:1
END:VEVENT
BEGIN:VEVENT
UID:g1ka3@games.golnetwork.com
LOCATION:Le Club West Island
GEO:45.4370221;-73.8439915
CREATED:20120530T210811Z
DTSTART:20120716T010000Z
DTEND:20120716T020000Z
DTSTAMP:20260420T022112Z
SUMMARY:Recruits Y vs. XY Factor
DESCRIPTION:XY Factor vs. Recruits YMore info: Y-12-2
X-ALT-DESC;FMTTYPE=text/html:<!DOCTYPE HTML PUBLIC "-//W3C//DTD HTML 3.2//E
	N">\n<HTML>\n<HEAD>\n<TITLE></TITLE>\n</HEAD>\n<BODY>\n<h3>XY Factor vs. Re
	cruits Y</h3>More info: <a href="https://www.golnetwork.com/game/v/16269/">
	Y-12-2</a>\n\n</BODY>\n</HTML>
STATUS:CONFIRMED
CLASS:PUBLIC
URL:https://www.golnetwork.com/game/v/16269/
X-MICROSOFT-CDO-BUSYSTATUS:BUSY
X-MICROSOFT-CDO-IMPORTANCE:1
END:VEVENT
BEGIN:VEVENT
UID:g1ka5@games.golnetwork.com
LOCATION:Westwood Sports Centre
GEO:45.456199645996;-73.764801025391
CREATED:20120530T210811Z
DTSTART:20120720T233000Z
DTEND:20120721T003000Z
DTSTAMP:20260420T022112Z
SUMMARY:Ice Crew II vs. Rage
DESCRIPTION:Rage vs. Ice Crew IIMore info: Y-11-2
X-ALT-DESC;FMTTYPE=text/html:<!DOCTYPE HTML PUBLIC "-//W3C//DTD HTML 3.2//E
	N">\n<HTML>\n<HEAD>\n<TITLE></TITLE>\n</HEAD>\n<BODY>\n<h3>Rage vs. Ice Cre
	w II</h3>More info: <a href="https://www.golnetwork.com/game/v/16270/">Y-11
	-2</a>\n\n</BODY>\n</HTML>
STATUS:CONFIRMED
CLASS:PUBLIC
URL:https://www.golnetwork.com/game/v/16270/
X-MICROSOFT-CDO-BUSYSTATUS:BUSY
X-MICROSOFT-CDO-IMPORTANCE:1
END:VEVENT
BEGIN:VEVENT
UID:g1ka7@games.golnetwork.com
LOCATION:Westwood Sports Centre
GEO:45.456199645996;-73.764801025391
CREATED:20120530T210812Z
DTSTART:20120721T013000Z
DTEND:20120721T023000Z
DTSTAMP:20260420T022112Z
SUMMARY:XY Factor vs. Smashing Pumpkins
DESCRIPTION:Smashing Pumpkins vs. XY FactorMore info: Y-11-1
X-ALT-DESC;FMTTYPE=text/html:<!DOCTYPE HTML PUBLIC "-//W3C//DTD HTML 3.2//E
	N">\n<HTML>\n<HEAD>\n<TITLE></TITLE>\n</HEAD>\n<BODY>\n<h3>Smashing Pumpkin
	s vs. XY Factor</h3>More info: <a href="https://www.golnetwork.com/game/v/1
	6271/">Y-11-1</a>\n\n</BODY>\n</HTML>
STATUS:CONFIRMED
CLASS:PUBLIC
URL:https://www.golnetwork.com/game/v/16271/
X-MICROSOFT-CDO-BUSYSTATUS:BUSY
X-MICROSOFT-CDO-IMPORTANCE:1
END:VEVENT
BEGIN:VEVENT
UID:g1ka9@games.golnetwork.com
LOCATION:Westwood Sports Centre
GEO:45.456199645996;-73.764801025391
CREATED:20120530T210814Z
DTSTART:20120727T233000Z
DTEND:20120728T003000Z
DTSTAMP:20260420T022112Z
SUMMARY:Recruits Y vs. Rage
DESCRIPTION:Rage vs. Recruits YMore info: Y-13-3
X-ALT-DESC;FMTTYPE=text/html:<!DOCTYPE HTML PUBLIC "-//W3C//DTD HTML 3.2//E
	N">\n<HTML>\n<HEAD>\n<TITLE></TITLE>\n</HEAD>\n<BODY>\n<h3>Rage vs. Recruit
	s Y</h3>More info: <a href="https://www.golnetwork.com/game/v/16272/">Y-13-
	3</a>\n\n</BODY>\n</HTML>
STATUS:CONFIRMED
CLASS:PUBLIC
URL:https://www.golnetwork.com/game/v/16272/
X-MICROSOFT-CDO-BUSYSTATUS:BUSY
X-MICROSOFT-CDO-IMPORTANCE:1
END:VEVENT
BEGIN:VEVENT
UID:g1kab@games.golnetwork.com
LOCATION:Westwood Sports Centre
GEO:45.456199645996;-73.764801025391
CREATED:20120530T210815Z
DTSTART:20120728T013000Z
DTEND:20120728T023000Z
DTSTAMP:20260420T022112Z
SUMMARY:Smashing Pumpkins vs. Ice Crew II
DESCRIPTION:Ice Crew II vs. Smashing PumpkinsMore info: Y-13-2
X-ALT-DESC;FMTTYPE=text/html:<!DOCTYPE HTML PUBLIC "-//W3C//DTD HTML 3.2//E
	N">\n<HTML>\n<HEAD>\n<TITLE></TITLE>\n</HEAD>\n<BODY>\n<h3>Ice Crew II vs. 
	Smashing Pumpkins</h3>More info: <a href="https://www.golnetwork.com/game/v
	/16273/">Y-13-2</a>\n\n</BODY>\n</HTML>
STATUS:CONFIRMED
CLASS:PUBLIC
URL:https://www.golnetwork.com/game/v/16273/
X-MICROSOFT-CDO-BUSYSTATUS:BUSY
X-MICROSOFT-CDO-IMPORTANCE:1
END:VEVENT
BEGIN:VEVENT
UID:g1kb6@games.golnetwork.com
LOCATION:Westwood Sports Centre
GEO:45.456199645996;-73.764801025391
CREATED:20120530T212320Z
DTSTART:20120803T233000Z
DTEND:20120804T003000Z
DTSTAMP:20260420T022112Z
SUMMARY:Smashing Pumpkins vs. Recruits Y
DESCRIPTION:Recruits Y vs. Smashing PumpkinsMore info: Y-14-1
X-ALT-DESC;FMTTYPE=text/html:<!DOCTYPE HTML PUBLIC "-//W3C//DTD HTML 3.2//E
	N">\n<HTML>\n<HEAD>\n<TITLE></TITLE>\n</HEAD>\n<BODY>\n<h3>Recruits Y vs. S
	mashing Pumpkins</h3>More info: <a href="https://www.golnetwork.com/game/v/
	16284/">Y-14-1</a>\n\n</BODY>\n</HTML>
STATUS:CONFIRMED
CLASS:PUBLIC
URL:https://www.golnetwork.com/game/v/16284/
X-MICROSOFT-CDO-BUSYSTATUS:BUSY
X-MICROSOFT-CDO-IMPORTANCE:1
END:VEVENT
BEGIN:VEVENT
UID:g1kb8@games.golnetwork.com
LOCATION:Westwood Sports Centre
GEO:45.456199645996;-73.764801025391
CREATED:20120530T212321Z
DTSTART:20120804T023000Z
DTEND:20120804T033000Z
DTSTAMP:20260420T022112Z
SUMMARY:XY Factor vs. Ice Crew II
DESCRIPTION:Ice Crew II vs. XY FactorMore info: Y-14-2
X-ALT-DESC;FMTTYPE=text/html:<!DOCTYPE HTML PUBLIC "-//W3C//DTD HTML 3.2//E
	N">\n<HTML>\n<HEAD>\n<TITLE></TITLE>\n</HEAD>\n<BODY>\n<h3>Ice Crew II vs. 
	XY Factor</h3>More info: <a href="https://www.golnetwork.com/game/v/16285/"
	>Y-14-2</a>\n\n</BODY>\n</HTML>
STATUS:CONFIRMED
CLASS:PUBLIC
URL:https://www.golnetwork.com/game/v/16285/
X-MICROSOFT-CDO-BUSYSTATUS:BUSY
X-MICROSOFT-CDO-IMPORTANCE:1
END:VEVENT
BEGIN:VEVENT
UID:g1kah@games.golnetwork.com
LOCATION:Le Club West Island
GEO:45.4370221;-73.8439915
CREATED:20120530T210817Z
DTSTART:20120810T230000Z
DTEND:20120811T000000Z
DTSTAMP:20260420T022112Z
SUMMARY:Ice Crew II vs. Recruits Y
DESCRIPTION:Recruits Y vs. Ice Crew IIMore info: Y-15-2
X-ALT-DESC;FMTTYPE=text/html:<!DOCTYPE HTML PUBLIC "-//W3C//DTD HTML 3.2//E
	N">\n<HTML>\n<HEAD>\n<TITLE></TITLE>\n</HEAD>\n<BODY>\n<h3>Recruits Y vs. I
	ce Crew II</h3>More info: <a href="https://www.golnetwork.com/game/v/16276/
	">Y-15-2</a>\n\n</BODY>\n</HTML>
STATUS:CONFIRMED
CLASS:PUBLIC
URL:https://www.golnetwork.com/game/v/16276/
X-MICROSOFT-CDO-BUSYSTATUS:BUSY
X-MICROSOFT-CDO-IMPORTANCE:1
END:VEVENT
BEGIN:VEVENT
UID:g1kaj@games.golnetwork.com
LOCATION:Le Club West Island
GEO:45.4370221;-73.8439915
CREATED:20120530T210818Z
DTSTART:20120923T000000Z
DTEND:20120923T010000Z
DTSTAMP:20260420T022112Z
SUMMARY:Rage vs. XY Factor
DESCRIPTION:XY Factor vs. RageMore info: Y-15-1
X-ALT-DESC;FMTTYPE=text/html:<!DOCTYPE HTML PUBLIC "-//W3C//DTD HTML 3.2//E
	N">\n<HTML>\n<HEAD>\n<TITLE></TITLE>\n</HEAD>\n<BODY>\n<h3>XY Factor vs. Ra
	ge</h3>More info: <a href="https://www.golnetwork.com/game/v/16277/">Y-15-1
	</a>\n\n</BODY>\n</HTML>
STATUS:CONFIRMED
CLASS:PUBLIC
URL:https://www.golnetwork.com/game/v/16277/
X-MICROSOFT-CDO-BUSYSTATUS:BUSY
X-MICROSOFT-CDO-IMPORTANCE:1
END:VEVENT
END:VCALENDAR
