BEGIN:VCALENDAR
PRODID:-//gdesolutions.com//MV Framework 1.0.0.1607 Calendar//EN
VERSION:2.0
METHOD:PUBLISH
CALSCALE:GREGORIAN
BEGIN:VEVENT
UID:g1kod@games.golnetwork.com
LOCATION:Glamorgan Park
GEO:43.772405;-79.2875322
CREATED:20120605T210546Z
DTSTART:20120818T170000Z
DTEND:20120818T190000Z
DTSTAMP:20260423T044146Z
SUMMARY:TBD* vs. TBD*
DESCRIPTION:TBD* vs. TBD*More info: #31
X-ALT-DESC;FMTTYPE=text/html:<!DOCTYPE HTML PUBLIC "-//W3C//DTD HTML 3.2//E
	N">\n<HTML>\n<HEAD>\n<TITLE></TITLE>\n</HEAD>\n<BODY>\n<h3>TBD* vs. TBD*</h
	3>More info: <a href="https://www.golnetwork.com/game/v/16463/">#31</a>\n\n
	</BODY>\n</HTML>
STATUS:CONFIRMED
CLASS:PUBLIC
URL:https://www.golnetwork.com/game/v/16463/
X-MICROSOFT-CDO-BUSYSTATUS:BUSY
X-MICROSOFT-CDO-IMPORTANCE:1
END:VEVENT
BEGIN:VEVENT
UID:g1kof@games.golnetwork.com
LOCATION:Glamorgan Park
GEO:43.772405;-79.2875322
CREATED:20120605T210604Z
DTSTART:20120818T190000Z
DTEND:20120818T210000Z
DTSTAMP:20260423T044146Z
SUMMARY:TBD* vs. TBD*
DESCRIPTION:TBD* vs. TBD*More info: #32
X-ALT-DESC;FMTTYPE=text/html:<!DOCTYPE HTML PUBLIC "-//W3C//DTD HTML 3.2//E
	N">\n<HTML>\n<HEAD>\n<TITLE></TITLE>\n</HEAD>\n<BODY>\n<h3>TBD* vs. TBD*</h
	3>More info: <a href="https://www.golnetwork.com/game/v/16464/">#32</a>\n\n
	</BODY>\n</HTML>
STATUS:CONFIRMED
CLASS:PUBLIC
URL:https://www.golnetwork.com/game/v/16464/
X-MICROSOFT-CDO-BUSYSTATUS:BUSY
X-MICROSOFT-CDO-IMPORTANCE:1
END:VEVENT
BEGIN:VEVENT
UID:g1koh@games.golnetwork.com
LOCATION:Glamorgan Park
GEO:43.772405;-79.2875322
CREATED:20120605T210615Z
DTSTART:20120818T210000Z
DTEND:20120818T230000Z
DTSTAMP:20260423T044146Z
SUMMARY:TBD* vs. TBD*
DESCRIPTION:TBD* vs. TBD*More info: #33
X-ALT-DESC;FMTTYPE=text/html:<!DOCTYPE HTML PUBLIC "-//W3C//DTD HTML 3.2//E
	N">\n<HTML>\n<HEAD>\n<TITLE></TITLE>\n</HEAD>\n<BODY>\n<h3>TBD* vs. TBD*</h
	3>More info: <a href="https://www.golnetwork.com/game/v/16465/">#33</a>\n\n
	</BODY>\n</HTML>
STATUS:CONFIRMED
CLASS:PUBLIC
URL:https://www.golnetwork.com/game/v/16465/
X-MICROSOFT-CDO-BUSYSTATUS:BUSY
X-MICROSOFT-CDO-IMPORTANCE:1
END:VEVENT
END:VCALENDAR
