BEGIN:VCALENDAR
PRODID:-//gdesolutions.com//MV Framework 1.0.0.1607 Calendar//EN
VERSION:2.0
METHOD:PUBLISH
CALSCALE:GREGORIAN
BEGIN:VEVENT
UID:g1nom@games.golnetwork.com
LOCATION:Cherry Beach East 3
CREATED:20120710T220451Z
DTSTART:20120718T010000Z
DTEND:20120718T020000Z
DTSTAMP:20260421T015312Z
SUMMARY:The Degenerates vs. Spin Master FC (Black)
DESCRIPTION:Spin Master FC (Black) vs. The DegeneratesMore info: #9
X-ALT-DESC;FMTTYPE=text/html:<!DOCTYPE HTML PUBLIC "-//W3C//DTD HTML 3.2//E
	N">\n<HTML>\n<HEAD>\n<TITLE></TITLE>\n</HEAD>\n<BODY>\n<h3>Spin Master FC (
	Black) vs. The Degenerates</h3>More info: <a href="https://www.golnetwork.c
	om/game/v/17561/">#9</a>\n\n</BODY>\n</HTML>
STATUS:CONFIRMED
CLASS:PUBLIC
URL:https://www.golnetwork.com/game/v/17561/
X-MICROSOFT-CDO-BUSYSTATUS:BUSY
X-MICROSOFT-CDO-IMPORTANCE:1
END:VEVENT
BEGIN:VEVENT
UID:g1noo@games.golnetwork.com
LOCATION:Cherry Beach East 3
CREATED:20120710T220451Z
DTSTART:20120718T020000Z
DTEND:20120718T030000Z
DTSTAMP:20260421T015312Z
SUMMARY:Tongue-in-cleat vs. K.K.B.
DESCRIPTION:K.K.B. vs. Tongue-in-cleatMore info: #12
X-ALT-DESC;FMTTYPE=text/html:<!DOCTYPE HTML PUBLIC "-//W3C//DTD HTML 3.2//E
	N">\n<HTML>\n<HEAD>\n<TITLE></TITLE>\n</HEAD>\n<BODY>\n<h3>K.K.B. vs. Tongu
	e-in-cleat</h3>More info: <a href="https://www.golnetwork.com/game/v/17562/
	">#12</a>\n\n</BODY>\n</HTML>
STATUS:CONFIRMED
CLASS:PUBLIC
URL:https://www.golnetwork.com/game/v/17562/
X-MICROSOFT-CDO-BUSYSTATUS:BUSY
X-MICROSOFT-CDO-IMPORTANCE:1
END:VEVENT
BEGIN:VEVENT
UID:g1noq@games.golnetwork.com
LOCATION:Cherry Beach East 3
CREATED:20120710T220451Z
DTSTART:20120718T030000Z
DTEND:20120718T040000Z
DTSTAMP:20260421T015312Z
SUMMARY:KICK A$$ MISFITS vs. SAS
DESCRIPTION:SAS vs. KICK A$$ MISFITSMore info: #15
X-ALT-DESC;FMTTYPE=text/html:<!DOCTYPE HTML PUBLIC "-//W3C//DTD HTML 3.2//E
	N">\n<HTML>\n<HEAD>\n<TITLE></TITLE>\n</HEAD>\n<BODY>\n<h3>SAS vs. KICK A$$
	 MISFITS</h3>More info: <a href="https://www.golnetwork.com/game/v/17563/">
	#15</a>\n\n</BODY>\n</HTML>
STATUS:CONFIRMED
CLASS:PUBLIC
URL:https://www.golnetwork.com/game/v/17563/
X-MICROSOFT-CDO-BUSYSTATUS:BUSY
X-MICROSOFT-CDO-IMPORTANCE:1
END:VEVENT
BEGIN:VEVENT
UID:g1np1@games.golnetwork.com
LOCATION:Cherry Beach East 3
CREATED:20120710T220451Z
DTSTART:20120725T010000Z
DTEND:20120725T020000Z
DTSTAMP:20260421T015312Z
SUMMARY:K.K.B. vs. SAS
DESCRIPTION:SAS vs. K.K.B.More info: #44
X-ALT-DESC;FMTTYPE=text/html:<!DOCTYPE HTML PUBLIC "-//W3C//DTD HTML 3.2//E
	N">\n<HTML>\n<HEAD>\n<TITLE></TITLE>\n</HEAD>\n<BODY>\n<h3>SAS vs. K.K.B.</
	h3>More info: <a href="https://www.golnetwork.com/game/v/17564/">#44</a>\n\
	n</BODY>\n</HTML>
STATUS:CONFIRMED
CLASS:PUBLIC
URL:https://www.golnetwork.com/game/v/17564/
X-MICROSOFT-CDO-BUSYSTATUS:BUSY
X-MICROSOFT-CDO-IMPORTANCE:1
END:VEVENT
BEGIN:VEVENT
UID:g1np3@games.golnetwork.com
LOCATION:Cherry Beach East 3
CREATED:20120710T220451Z
DTSTART:20120725T020000Z
DTEND:20120725T030000Z
DTSTAMP:20260421T015312Z
SUMMARY:KICK A$$ MISFITS vs. Spin Master FC (Black)
DESCRIPTION:Spin Master FC (Black) vs. KICK A$$ MISFITSMore info: #47
X-ALT-DESC;FMTTYPE=text/html:<!DOCTYPE HTML PUBLIC "-//W3C//DTD HTML 3.2//E
	N">\n<HTML>\n<HEAD>\n<TITLE></TITLE>\n</HEAD>\n<BODY>\n<h3>Spin Master FC (
	Black) vs. KICK A$$ MISFITS</h3>More info: <a href="https://www.golnetwork.
	com/game/v/17565/">#47</a>\n\n</BODY>\n</HTML>
STATUS:CONFIRMED
CLASS:PUBLIC
URL:https://www.golnetwork.com/game/v/17565/
X-MICROSOFT-CDO-BUSYSTATUS:BUSY
X-MICROSOFT-CDO-IMPORTANCE:1
END:VEVENT
BEGIN:VEVENT
UID:g1np5@games.golnetwork.com
LOCATION:Cherry Beach East 3
CREATED:20120710T220451Z
DTSTART:20120725T030000Z
DTEND:20120725T040000Z
DTSTAMP:20260421T015312Z
SUMMARY:Tongue-in-cleat vs. The Degenerates
DESCRIPTION:The Degenerates vs. Tongue-in-cleatMore info: #50
X-ALT-DESC;FMTTYPE=text/html:<!DOCTYPE HTML PUBLIC "-//W3C//DTD HTML 3.2//E
	N">\n<HTML>\n<HEAD>\n<TITLE></TITLE>\n</HEAD>\n<BODY>\n<h3>The Degenerates 
	vs. Tongue-in-cleat</h3>More info: <a href="https://www.golnetwork.com/game
	/v/17566/">#50</a>\n\n</BODY>\n</HTML>
STATUS:CONFIRMED
CLASS:PUBLIC
URL:https://www.golnetwork.com/game/v/17566/
X-MICROSOFT-CDO-BUSYSTATUS:BUSY
X-MICROSOFT-CDO-IMPORTANCE:1
END:VEVENT
BEGIN:VEVENT
UID:g1np7@games.golnetwork.com
LOCATION:Cherry Beach East 3
CREATED:20120710T220451Z
DTSTART:20120801T010000Z
DTEND:20120801T020000Z
DTSTAMP:20260421T015312Z
SUMMARY:The Degenerates vs. KICK A$$ MISFITS
DESCRIPTION:KICK A$$ MISFITS vs. The DegeneratesMore info: #67
X-ALT-DESC;FMTTYPE=text/html:<!DOCTYPE HTML PUBLIC "-//W3C//DTD HTML 3.2//E
	N">\n<HTML>\n<HEAD>\n<TITLE></TITLE>\n</HEAD>\n<BODY>\n<h3>KICK A$$ MISFITS
	 vs. The Degenerates</h3>More info: <a href="https://www.golnetwork.com/gam
	e/v/17567/">#67</a>\n\n</BODY>\n</HTML>
STATUS:CONFIRMED
CLASS:PUBLIC
URL:https://www.golnetwork.com/game/v/17567/
X-MICROSOFT-CDO-BUSYSTATUS:BUSY
X-MICROSOFT-CDO-IMPORTANCE:1
END:VEVENT
BEGIN:VEVENT
UID:g1np9@games.golnetwork.com
LOCATION:Cherry Beach East 3
CREATED:20120710T220451Z
DTSTART:20120801T020000Z
DTEND:20120801T030000Z
DTSTAMP:20260421T015312Z
SUMMARY:SAS vs. Tongue-in-cleat
DESCRIPTION:Tongue-in-cleat vs. SASMore info: #70
X-ALT-DESC;FMTTYPE=text/html:<!DOCTYPE HTML PUBLIC "-//W3C//DTD HTML 3.2//E
	N">\n<HTML>\n<HEAD>\n<TITLE></TITLE>\n</HEAD>\n<BODY>\n<h3>Tongue-in-cleat 
	vs. SAS</h3>More info: <a href="https://www.golnetwork.com/game/v/17568/">#
	70</a>\n\n</BODY>\n</HTML>
STATUS:CONFIRMED
CLASS:PUBLIC
URL:https://www.golnetwork.com/game/v/17568/
X-MICROSOFT-CDO-BUSYSTATUS:BUSY
X-MICROSOFT-CDO-IMPORTANCE:1
END:VEVENT
BEGIN:VEVENT
UID:g1npb@games.golnetwork.com
LOCATION:Cherry Beach East 3
CREATED:20120710T220451Z
DTSTART:20120801T030000Z
DTEND:20120801T040000Z
DTSTAMP:20260421T015312Z
SUMMARY:K.K.B. vs. Spin Master FC (Black)
DESCRIPTION:Spin Master FC (Black) vs. K.K.B.More info: #73
X-ALT-DESC;FMTTYPE=text/html:<!DOCTYPE HTML PUBLIC "-//W3C//DTD HTML 3.2//E
	N">\n<HTML>\n<HEAD>\n<TITLE></TITLE>\n</HEAD>\n<BODY>\n<h3>Spin Master FC (
	Black) vs. K.K.B.</h3>More info: <a href="https://www.golnetwork.com/game/v
	/17569/">#73</a>\n\n</BODY>\n</HTML>
STATUS:CONFIRMED
CLASS:PUBLIC
URL:https://www.golnetwork.com/game/v/17569/
X-MICROSOFT-CDO-BUSYSTATUS:BUSY
X-MICROSOFT-CDO-IMPORTANCE:1
END:VEVENT
BEGIN:VEVENT
UID:g1npd@games.golnetwork.com
LOCATION:Cherry Beach East 3
CREATED:20120710T220451Z
DTSTART:20120808T010000Z
DTEND:20120808T020000Z
DTSTAMP:20260421T015312Z
SUMMARY:Tongue-in-cleat vs. Spin Master FC (Black)
DESCRIPTION:Spin Master FC (Black) vs. Tongue-in-cleatMore info: #90
X-ALT-DESC;FMTTYPE=text/html:<!DOCTYPE HTML PUBLIC "-//W3C//DTD HTML 3.2//E
	N">\n<HTML>\n<HEAD>\n<TITLE></TITLE>\n</HEAD>\n<BODY>\n<h3>Spin Master FC (
	Black) vs. Tongue-in-cleat</h3>More info: <a href="https://www.golnetwork.c
	om/game/v/17570/">#90</a>\n\n</BODY>\n</HTML>
STATUS:CONFIRMED
CLASS:PUBLIC
URL:https://www.golnetwork.com/game/v/17570/
X-MICROSOFT-CDO-BUSYSTATUS:BUSY
X-MICROSOFT-CDO-IMPORTANCE:1
END:VEVENT
BEGIN:VEVENT
UID:g1npf@games.golnetwork.com
LOCATION:Cherry Beach East 3
CREATED:20120710T220451Z
DTSTART:20120808T020000Z
DTEND:20120808T030000Z
DTSTAMP:20260421T015312Z
SUMMARY:K.K.B. vs. KICK A$$ MISFITS
DESCRIPTION:KICK A$$ MISFITS vs. K.K.B.More info: #93
X-ALT-DESC;FMTTYPE=text/html:<!DOCTYPE HTML PUBLIC "-//W3C//DTD HTML 3.2//E
	N">\n<HTML>\n<HEAD>\n<TITLE></TITLE>\n</HEAD>\n<BODY>\n<h3>KICK A$$ MISFITS
	 vs. K.K.B.</h3>More info: <a href="https://www.golnetwork.com/game/v/17571
	/">#93</a>\n\n</BODY>\n</HTML>
STATUS:CONFIRMED
CLASS:PUBLIC
URL:https://www.golnetwork.com/game/v/17571/
X-MICROSOFT-CDO-BUSYSTATUS:BUSY
X-MICROSOFT-CDO-IMPORTANCE:1
END:VEVENT
BEGIN:VEVENT
UID:g1nph@games.golnetwork.com
LOCATION:Cherry Beach East 3
CREATED:20120710T220451Z
DTSTART:20120808T030000Z
DTEND:20120808T040000Z
DTSTAMP:20260421T015312Z
SUMMARY:SAS vs. The Degenerates
DESCRIPTION:The Degenerates vs. SASMore info: #96
X-ALT-DESC;FMTTYPE=text/html:<!DOCTYPE HTML PUBLIC "-//W3C//DTD HTML 3.2//E
	N">\n<HTML>\n<HEAD>\n<TITLE></TITLE>\n</HEAD>\n<BODY>\n<h3>The Degenerates 
	vs. SAS</h3>More info: <a href="https://www.golnetwork.com/game/v/17572/">#
	96</a>\n\n</BODY>\n</HTML>
STATUS:CONFIRMED
CLASS:PUBLIC
URL:https://www.golnetwork.com/game/v/17572/
X-MICROSOFT-CDO-BUSYSTATUS:BUSY
X-MICROSOFT-CDO-IMPORTANCE:1
END:VEVENT
BEGIN:VEVENT
UID:g1npj@games.golnetwork.com
LOCATION:Cherry Beach East 3
CREATED:20120710T220451Z
DTSTART:20120815T010000Z
DTEND:20120815T020000Z
DTSTAMP:20260421T015312Z
SUMMARY:The Degenerates vs. K.K.B.
DESCRIPTION:K.K.B. vs. The DegeneratesMore info: #125
X-ALT-DESC;FMTTYPE=text/html:<!DOCTYPE HTML PUBLIC "-//W3C//DTD HTML 3.2//E
	N">\n<HTML>\n<HEAD>\n<TITLE></TITLE>\n</HEAD>\n<BODY>\n<h3>K.K.B. vs. The D
	egenerates</h3>More info: <a href="https://www.golnetwork.com/game/v/17573/
	">#125</a>\n\n</BODY>\n</HTML>
STATUS:CONFIRMED
CLASS:PUBLIC
URL:https://www.golnetwork.com/game/v/17573/
X-MICROSOFT-CDO-BUSYSTATUS:BUSY
X-MICROSOFT-CDO-IMPORTANCE:1
END:VEVENT
BEGIN:VEVENT
UID:g1npl@games.golnetwork.com
LOCATION:Cherry Beach East 3
CREATED:20120710T220451Z
DTSTART:20120815T020000Z
DTEND:20120815T030000Z
DTSTAMP:20260421T015312Z
SUMMARY:Spin Master FC (Black) vs. SAS
DESCRIPTION:SAS vs. Spin Master FC (Black)More info: #128
X-ALT-DESC;FMTTYPE=text/html:<!DOCTYPE HTML PUBLIC "-//W3C//DTD HTML 3.2//E
	N">\n<HTML>\n<HEAD>\n<TITLE></TITLE>\n</HEAD>\n<BODY>\n<h3>SAS vs. Spin Mas
	ter FC (Black)</h3>More info: <a href="https://www.golnetwork.com/game/v/17
	574/">#128</a>\n\n</BODY>\n</HTML>
STATUS:CONFIRMED
CLASS:PUBLIC
URL:https://www.golnetwork.com/game/v/17574/
X-MICROSOFT-CDO-BUSYSTATUS:BUSY
X-MICROSOFT-CDO-IMPORTANCE:1
END:VEVENT
BEGIN:VEVENT
UID:g1npn@games.golnetwork.com
LOCATION:Cherry Beach East 3
CREATED:20120710T220451Z
DTSTART:20120815T030000Z
DTEND:20120815T040000Z
DTSTAMP:20260421T015312Z
SUMMARY:Tongue-in-cleat vs. KICK A$$ MISFITS
DESCRIPTION:KICK A$$ MISFITS vs. Tongue-in-cleatMore info: #131
X-ALT-DESC;FMTTYPE=text/html:<!DOCTYPE HTML PUBLIC "-//W3C//DTD HTML 3.2//E
	N">\n<HTML>\n<HEAD>\n<TITLE></TITLE>\n</HEAD>\n<BODY>\n<h3>KICK A$$ MISFITS
	 vs. Tongue-in-cleat</h3>More info: <a href="https://www.golnetwork.com/gam
	e/v/17575/">#131</a>\n\n</BODY>\n</HTML>
STATUS:CONFIRMED
CLASS:PUBLIC
URL:https://www.golnetwork.com/game/v/17575/
X-MICROSOFT-CDO-BUSYSTATUS:BUSY
X-MICROSOFT-CDO-IMPORTANCE:1
END:VEVENT
BEGIN:VEVENT
UID:g1plb@games.golnetwork.com
LOCATION:Cherry Beach East 3
CREATED:20120820T092754Z
DTSTART:20120822T010000Z
DTEND:20120822T020000Z
DTSTAMP:20260421T015312Z
SUMMARY:K.K.B. vs. KICK A$$ MISFITS
DESCRIPTION:KICK A$$ MISFITS vs. K.K.B.More info: #134
X-ALT-DESC;FMTTYPE=text/html:<!DOCTYPE HTML PUBLIC "-//W3C//DTD HTML 3.2//E
	N">\n<HTML>\n<HEAD>\n<TITLE></TITLE>\n</HEAD>\n<BODY>\n<h3>KICK A$$ MISFITS
	 vs. K.K.B.</h3>More info: <a href="https://www.golnetwork.com/game/v/18244
	/">#134</a>\n\n</BODY>\n</HTML>
STATUS:CONFIRMED
CLASS:PUBLIC
URL:https://www.golnetwork.com/game/v/18244/
X-MICROSOFT-CDO-BUSYSTATUS:BUSY
X-MICROSOFT-CDO-IMPORTANCE:1
END:VEVENT
BEGIN:VEVENT
UID:g1pld@games.golnetwork.com
LOCATION:Cherry Beach East 3
CREATED:20120820T092754Z
DTSTART:20120822T020000Z
DTEND:20120822T030000Z
DTSTAMP:20260421T015312Z
SUMMARY:Tongue-in-cleat vs. The Degenerates
DESCRIPTION:The Degenerates vs. Tongue-in-cleatMore info: #137
X-ALT-DESC;FMTTYPE=text/html:<!DOCTYPE HTML PUBLIC "-//W3C//DTD HTML 3.2//E
	N">\n<HTML>\n<HEAD>\n<TITLE></TITLE>\n</HEAD>\n<BODY>\n<h3>The Degenerates 
	vs. Tongue-in-cleat</h3>More info: <a href="https://www.golnetwork.com/game
	/v/18245/">#137</a>\n\n</BODY>\n</HTML>
STATUS:CONFIRMED
CLASS:PUBLIC
URL:https://www.golnetwork.com/game/v/18245/
X-MICROSOFT-CDO-BUSYSTATUS:BUSY
X-MICROSOFT-CDO-IMPORTANCE:1
END:VEVENT
BEGIN:VEVENT
UID:g1plf@games.golnetwork.com
LOCATION:Cherry Beach East 3
CREATED:20120820T092754Z
DTSTART:20120822T030000Z
DTEND:20120822T040000Z
DTSTAMP:20260421T015312Z
SUMMARY:SAS vs. Spin Master FC (Black)
DESCRIPTION:Spin Master FC (Black) vs. SASMore info: #140
X-ALT-DESC;FMTTYPE=text/html:<!DOCTYPE HTML PUBLIC "-//W3C//DTD HTML 3.2//E
	N">\n<HTML>\n<HEAD>\n<TITLE></TITLE>\n</HEAD>\n<BODY>\n<h3>Spin Master FC (
	Black) vs. SAS</h3>More info: <a href="https://www.golnetwork.com/game/v/18
	246/">#140</a>\n\n</BODY>\n</HTML>
STATUS:CONFIRMED
CLASS:PUBLIC
URL:https://www.golnetwork.com/game/v/18246/
X-MICROSOFT-CDO-BUSYSTATUS:BUSY
X-MICROSOFT-CDO-IMPORTANCE:1
END:VEVENT
BEGIN:VEVENT
UID:g1pm4@games.golnetwork.com
LOCATION:Cherry Beach East 3
CREATED:20120820T093355Z
DTSTART:20120829T010000Z
DTEND:20120829T020000Z
DTSTAMP:20260421T015312Z
SUMMARY:K.K.B. vs. Tongue-in-cleat
DESCRIPTION:Tongue-in-cleat vs. K.K.B.More info: #157
X-ALT-DESC;FMTTYPE=text/html:<!DOCTYPE HTML PUBLIC "-//W3C//DTD HTML 3.2//E
	N">\n<HTML>\n<HEAD>\n<TITLE></TITLE>\n</HEAD>\n<BODY>\n<h3>Tongue-in-cleat 
	vs. K.K.B.</h3>More info: <a href="https://www.golnetwork.com/game/v/18254/
	">#157</a>\n\n</BODY>\n</HTML>
STATUS:CONFIRMED
CLASS:PUBLIC
URL:https://www.golnetwork.com/game/v/18254/
X-MICROSOFT-CDO-BUSYSTATUS:BUSY
X-MICROSOFT-CDO-IMPORTANCE:1
END:VEVENT
BEGIN:VEVENT
UID:g1pm6@games.golnetwork.com
LOCATION:Cherry Beach East 3
CREATED:20120820T093407Z
DTSTART:20120829T020000Z
DTEND:20120829T030000Z
DTSTAMP:20260421T015312Z
SUMMARY:SAS vs. KICK A$$ MISFITS
DESCRIPTION:KICK A$$ MISFITS vs. SASMore info: #160
X-ALT-DESC;FMTTYPE=text/html:<!DOCTYPE HTML PUBLIC "-//W3C//DTD HTML 3.2//E
	N">\n<HTML>\n<HEAD>\n<TITLE></TITLE>\n</HEAD>\n<BODY>\n<h3>KICK A$$ MISFITS
	 vs. SAS</h3>More info: <a href="https://www.golnetwork.com/game/v/18255/">
	#160</a>\n\n</BODY>\n</HTML>
STATUS:CONFIRMED
CLASS:PUBLIC
URL:https://www.golnetwork.com/game/v/18255/
X-MICROSOFT-CDO-BUSYSTATUS:BUSY
X-MICROSOFT-CDO-IMPORTANCE:1
END:VEVENT
BEGIN:VEVENT
UID:g1pm8@games.golnetwork.com
LOCATION:Cherry Beach East 3
CREATED:20120820T093415Z
DTSTART:20120829T030000Z
DTEND:20120829T040000Z
DTSTAMP:20260421T015312Z
SUMMARY:Spin Master FC (Black) vs. The Degenerates
DESCRIPTION:The Degenerates vs. Spin Master FC (Black)More info: #163
X-ALT-DESC;FMTTYPE=text/html:<!DOCTYPE HTML PUBLIC "-//W3C//DTD HTML 3.2//E
	N">\n<HTML>\n<HEAD>\n<TITLE></TITLE>\n</HEAD>\n<BODY>\n<h3>The Degenerates 
	vs. Spin Master FC (Black)</h3>More info: <a href="https://www.golnetwork.c
	om/game/v/18256/">#163</a>\n\n</BODY>\n</HTML>
STATUS:CONFIRMED
CLASS:PUBLIC
URL:https://www.golnetwork.com/game/v/18256/
X-MICROSOFT-CDO-BUSYSTATUS:BUSY
X-MICROSOFT-CDO-IMPORTANCE:1
END:VEVENT
BEGIN:VEVENT
UID:g228k@games.golnetwork.com
LOCATION:Cherry Beach West 3
CREATED:20120921T200904Z
DTSTART:20120926T020000Z
DTEND:20120926T030000Z
DTSTAMP:20260421T015312Z
SUMMARY:KICK A$$ MISFITS vs. Tongue-in-cleat
DESCRIPTION:Tongue-in-cleat vs. KICK A$$ MISFITSMore info: #252
X-ALT-DESC;FMTTYPE=text/html:<!DOCTYPE HTML PUBLIC "-//W3C//DTD HTML 3.2//E
	N">\n<HTML>\n<HEAD>\n<TITLE></TITLE>\n</HEAD>\n<BODY>\n<h3>Tongue-in-cleat 
	vs. KICK A$$ MISFITS</h3>More info: <a href="https://www.golnetwork.com/gam
	e/v/19531/">#252</a>\n\n</BODY>\n</HTML>
STATUS:CONFIRMED
CLASS:PUBLIC
URL:https://www.golnetwork.com/game/v/19531/
X-MICROSOFT-CDO-BUSYSTATUS:BUSY
X-MICROSOFT-CDO-IMPORTANCE:1
END:VEVENT
BEGIN:VEVENT
UID:g228m@games.golnetwork.com
LOCATION:Cherry Beach West 3
CREATED:20120921T200919Z
DTSTART:20120926T030000Z
DTEND:20120926T040000Z
DTSTAMP:20260421T015312Z
SUMMARY:K.K.B. vs. SAS
DESCRIPTION:SAS vs. K.K.B.More info: #255
X-ALT-DESC;FMTTYPE=text/html:<!DOCTYPE HTML PUBLIC "-//W3C//DTD HTML 3.2//E
	N">\n<HTML>\n<HEAD>\n<TITLE></TITLE>\n</HEAD>\n<BODY>\n<h3>SAS vs. K.K.B.</
	h3>More info: <a href="https://www.golnetwork.com/game/v/19532/">#255</a>\n
	\n</BODY>\n</HTML>
STATUS:CONFIRMED
CLASS:PUBLIC
URL:https://www.golnetwork.com/game/v/19532/
X-MICROSOFT-CDO-BUSYSTATUS:BUSY
X-MICROSOFT-CDO-IMPORTANCE:1
END:VEVENT
END:VCALENDAR
