BEGIN:VCALENDAR
PRODID:-//gdesolutions.com//MV Framework 1.0.0.1607 Calendar//EN
VERSION:2.0
METHOD:PUBLISH
CALSCALE:GREGORIAN
BEGIN:VEVENT
UID:g1nnj@games.golnetwork.com
LOCATION:Cherry Beach East 2
CREATED:20120710T220419Z
DTSTART:20120718T010000Z
DTEND:20120718T020000Z
DTSTAMP:20260420T203633Z
SUMMARY:Dutch Rudders vs. Wontons
DESCRIPTION:Wontons vs. Dutch RuddersMore info: #8
X-ALT-DESC;FMTTYPE=text/html:<!DOCTYPE HTML PUBLIC "-//W3C//DTD HTML 3.2//E
	N">\n<HTML>\n<HEAD>\n<TITLE></TITLE>\n</HEAD>\n<BODY>\n<h3>Wontons vs. Dutc
	h Rudders</h3>More info: <a href="https://www.golnetwork.com/game/v/17546/"
	>#8</a>\n\n</BODY>\n</HTML>
STATUS:CONFIRMED
CLASS:PUBLIC
URL:https://www.golnetwork.com/game/v/17546/
X-MICROSOFT-CDO-BUSYSTATUS:BUSY
X-MICROSOFT-CDO-IMPORTANCE:1
END:VEVENT
BEGIN:VEVENT
UID:g1nnl@games.golnetwork.com
LOCATION:Cherry Beach East 2
CREATED:20120710T220419Z
DTSTART:20120718T020000Z
DTEND:20120718T030000Z
DTSTAMP:20260420T203633Z
SUMMARY:Fughedaboudit FC vs. FC ABRACADABRA
DESCRIPTION:FC ABRACADABRA vs. Fughedaboudit FCMore info: #11
X-ALT-DESC;FMTTYPE=text/html:<!DOCTYPE HTML PUBLIC "-//W3C//DTD HTML 3.2//E
	N">\n<HTML>\n<HEAD>\n<TITLE></TITLE>\n</HEAD>\n<BODY>\n<h3>FC ABRACADABRA v
	s. Fughedaboudit FC</h3>More info: <a href="https://www.golnetwork.com/game
	/v/17547/">#11</a>\n\n</BODY>\n</HTML>
STATUS:CONFIRMED
CLASS:PUBLIC
URL:https://www.golnetwork.com/game/v/17547/
X-MICROSOFT-CDO-BUSYSTATUS:BUSY
X-MICROSOFT-CDO-IMPORTANCE:1
END:VEVENT
BEGIN:VEVENT
UID:g1nnn@games.golnetwork.com
LOCATION:Cherry Beach East 2
CREATED:20120710T220419Z
DTSTART:20120718T030000Z
DTEND:20120718T040000Z
DTSTAMP:20260420T203633Z
SUMMARY:Ball Busters vs. Galacticos FC
DESCRIPTION:Galacticos FC vs. Ball BustersMore info: #14
X-ALT-DESC;FMTTYPE=text/html:<!DOCTYPE HTML PUBLIC "-//W3C//DTD HTML 3.2//E
	N">\n<HTML>\n<HEAD>\n<TITLE></TITLE>\n</HEAD>\n<BODY>\n<h3>Galacticos FC vs
	. Ball Busters</h3>More info: <a href="https://www.golnetwork.com/game/v/17
	548/">#14</a>\n\n</BODY>\n</HTML>
STATUS:CONFIRMED
CLASS:PUBLIC
URL:https://www.golnetwork.com/game/v/17548/
X-MICROSOFT-CDO-BUSYSTATUS:BUSY
X-MICROSOFT-CDO-IMPORTANCE:1
END:VEVENT
BEGIN:VEVENT
UID:g1nnp@games.golnetwork.com
LOCATION:Cherry Beach East 2
CREATED:20120710T220419Z
DTSTART:20120725T010000Z
DTEND:20120725T020000Z
DTSTAMP:20260420T203633Z
SUMMARY:FC ABRACADABRA vs. Dutch Rudders
DESCRIPTION:Dutch Rudders vs. FC ABRACADABRAMore info: #43
X-ALT-DESC;FMTTYPE=text/html:<!DOCTYPE HTML PUBLIC "-//W3C//DTD HTML 3.2//E
	N">\n<HTML>\n<HEAD>\n<TITLE></TITLE>\n</HEAD>\n<BODY>\n<h3>Dutch Rudders vs
	. FC ABRACADABRA</h3>More info: <a href="https://www.golnetwork.com/game/v/
	17549/">#43</a>\n\n</BODY>\n</HTML>
STATUS:CONFIRMED
CLASS:PUBLIC
URL:https://www.golnetwork.com/game/v/17549/
X-MICROSOFT-CDO-BUSYSTATUS:BUSY
X-MICROSOFT-CDO-IMPORTANCE:1
END:VEVENT
BEGIN:VEVENT
UID:g1no0@games.golnetwork.com
LOCATION:Cherry Beach East 2
CREATED:20120710T220419Z
DTSTART:20120725T020000Z
DTEND:20120725T030000Z
DTSTAMP:20260420T203633Z
SUMMARY:Ball Busters vs. Wontons
DESCRIPTION:Wontons vs. Ball BustersMore info: #46
X-ALT-DESC;FMTTYPE=text/html:<!DOCTYPE HTML PUBLIC "-//W3C//DTD HTML 3.2//E
	N">\n<HTML>\n<HEAD>\n<TITLE></TITLE>\n</HEAD>\n<BODY>\n<h3>Wontons vs. Ball
	 Busters</h3>More info: <a href="https://www.golnetwork.com/game/v/17550/">
	#46</a>\n\n</BODY>\n</HTML>
STATUS:CONFIRMED
CLASS:PUBLIC
URL:https://www.golnetwork.com/game/v/17550/
X-MICROSOFT-CDO-BUSYSTATUS:BUSY
X-MICROSOFT-CDO-IMPORTANCE:1
END:VEVENT
BEGIN:VEVENT
UID:g1no2@games.golnetwork.com
LOCATION:Cherry Beach East 2
CREATED:20120710T220419Z
DTSTART:20120725T030000Z
DTEND:20120725T040000Z
DTSTAMP:20260420T203633Z
SUMMARY:Galacticos FC vs. Fughedaboudit FC
DESCRIPTION:Fughedaboudit FC vs. Galacticos FCMore info: #49
X-ALT-DESC;FMTTYPE=text/html:<!DOCTYPE HTML PUBLIC "-//W3C//DTD HTML 3.2//E
	N">\n<HTML>\n<HEAD>\n<TITLE></TITLE>\n</HEAD>\n<BODY>\n<h3>Fughedaboudit FC
	 vs. Galacticos FC</h3>More info: <a href="https://www.golnetwork.com/game/
	v/17551/">#49</a>\n\n</BODY>\n</HTML>
STATUS:CONFIRMED
CLASS:PUBLIC
URL:https://www.golnetwork.com/game/v/17551/
X-MICROSOFT-CDO-BUSYSTATUS:BUSY
X-MICROSOFT-CDO-IMPORTANCE:1
END:VEVENT
BEGIN:VEVENT
UID:g1no4@games.golnetwork.com
LOCATION:Cherry Beach East 2
CREATED:20120710T220419Z
DTSTART:20120801T010000Z
DTEND:20120801T020000Z
DTSTAMP:20260420T203633Z
SUMMARY:Galacticos FC vs. FC ABRACADABRA
DESCRIPTION:FC ABRACADABRA vs. Galacticos FCMore info: #66
X-ALT-DESC;FMTTYPE=text/html:<!DOCTYPE HTML PUBLIC "-//W3C//DTD HTML 3.2//E
	N">\n<HTML>\n<HEAD>\n<TITLE></TITLE>\n</HEAD>\n<BODY>\n<h3>FC ABRACADABRA v
	s. Galacticos FC</h3>More info: <a href="https://www.golnetwork.com/game/v/
	17552/">#66</a>\n\n</BODY>\n</HTML>
STATUS:CONFIRMED
CLASS:PUBLIC
URL:https://www.golnetwork.com/game/v/17552/
X-MICROSOFT-CDO-BUSYSTATUS:BUSY
X-MICROSOFT-CDO-IMPORTANCE:1
END:VEVENT
BEGIN:VEVENT
UID:g1no6@games.golnetwork.com
LOCATION:Cherry Beach East 2
CREATED:20120710T220419Z
DTSTART:20120801T020000Z
DTEND:20120801T030000Z
DTSTAMP:20260420T203633Z
SUMMARY:Fughedaboudit FC vs. Wontons
DESCRIPTION:Wontons vs. Fughedaboudit FCMore info: #69
X-ALT-DESC;FMTTYPE=text/html:<!DOCTYPE HTML PUBLIC "-//W3C//DTD HTML 3.2//E
	N">\n<HTML>\n<HEAD>\n<TITLE></TITLE>\n</HEAD>\n<BODY>\n<h3>Wontons vs. Fugh
	edaboudit FC</h3>More info: <a href="https://www.golnetwork.com/game/v/1755
	3/">#69</a>\n\n</BODY>\n</HTML>
STATUS:CONFIRMED
CLASS:PUBLIC
URL:https://www.golnetwork.com/game/v/17553/
X-MICROSOFT-CDO-BUSYSTATUS:BUSY
X-MICROSOFT-CDO-IMPORTANCE:1
END:VEVENT
BEGIN:VEVENT
UID:g1no8@games.golnetwork.com
LOCATION:Cherry Beach East 2
CREATED:20120710T220419Z
DTSTART:20120801T030000Z
DTEND:20120801T040000Z
DTSTAMP:20260420T203633Z
SUMMARY:Dutch Rudders vs. Ball Busters
DESCRIPTION:Ball Busters vs. Dutch RuddersMore info: #72
X-ALT-DESC;FMTTYPE=text/html:<!DOCTYPE HTML PUBLIC "-//W3C//DTD HTML 3.2//E
	N">\n<HTML>\n<HEAD>\n<TITLE></TITLE>\n</HEAD>\n<BODY>\n<h3>Ball Busters vs.
	 Dutch Rudders</h3>More info: <a href="https://www.golnetwork.com/game/v/17
	554/">#72</a>\n\n</BODY>\n</HTML>
STATUS:CONFIRMED
CLASS:PUBLIC
URL:https://www.golnetwork.com/game/v/17554/
X-MICROSOFT-CDO-BUSYSTATUS:BUSY
X-MICROSOFT-CDO-IMPORTANCE:1
END:VEVENT
BEGIN:VEVENT
UID:g1noa@games.golnetwork.com
LOCATION:Cherry Beach East 2
CREATED:20120710T220419Z
DTSTART:20120808T010000Z
DTEND:20120808T020000Z
DTSTAMP:20260420T203633Z
SUMMARY:Fughedaboudit FC vs. Ball Busters
DESCRIPTION:Ball Busters vs. Fughedaboudit FCMore info: #89
X-ALT-DESC;FMTTYPE=text/html:<!DOCTYPE HTML PUBLIC "-//W3C//DTD HTML 3.2//E
	N">\n<HTML>\n<HEAD>\n<TITLE></TITLE>\n</HEAD>\n<BODY>\n<h3>Ball Busters vs.
	 Fughedaboudit FC</h3>More info: <a href="https://www.golnetwork.com/game/v
	/17555/">#89</a>\n\n</BODY>\n</HTML>
STATUS:CONFIRMED
CLASS:PUBLIC
URL:https://www.golnetwork.com/game/v/17555/
X-MICROSOFT-CDO-BUSYSTATUS:BUSY
X-MICROSOFT-CDO-IMPORTANCE:1
END:VEVENT
BEGIN:VEVENT
UID:g1noc@games.golnetwork.com
LOCATION:Cherry Beach East 2
CREATED:20120710T220419Z
DTSTART:20120808T020000Z
DTEND:20120808T030000Z
DTSTAMP:20260420T203633Z
SUMMARY:Galacticos FC vs. Dutch Rudders
DESCRIPTION:Dutch Rudders vs. Galacticos FCMore info: #92
X-ALT-DESC;FMTTYPE=text/html:<!DOCTYPE HTML PUBLIC "-//W3C//DTD HTML 3.2//E
	N">\n<HTML>\n<HEAD>\n<TITLE></TITLE>\n</HEAD>\n<BODY>\n<h3>Dutch Rudders vs
	. Galacticos FC</h3>More info: <a href="https://www.golnetwork.com/game/v/1
	7556/">#92</a>\n\n</BODY>\n</HTML>
STATUS:CONFIRMED
CLASS:PUBLIC
URL:https://www.golnetwork.com/game/v/17556/
X-MICROSOFT-CDO-BUSYSTATUS:BUSY
X-MICROSOFT-CDO-IMPORTANCE:1
END:VEVENT
BEGIN:VEVENT
UID:g1noe@games.golnetwork.com
LOCATION:Cherry Beach East 2
CREATED:20120710T220419Z
DTSTART:20120808T030000Z
DTEND:20120808T040000Z
DTSTAMP:20260420T203633Z
SUMMARY:Wontons vs. FC ABRACADABRA
DESCRIPTION:FC ABRACADABRA vs. WontonsMore info: #95
X-ALT-DESC;FMTTYPE=text/html:<!DOCTYPE HTML PUBLIC "-//W3C//DTD HTML 3.2//E
	N">\n<HTML>\n<HEAD>\n<TITLE></TITLE>\n</HEAD>\n<BODY>\n<h3>FC ABRACADABRA v
	s. Wontons</h3>More info: <a href="https://www.golnetwork.com/game/v/17557/
	">#95</a>\n\n</BODY>\n</HTML>
STATUS:CONFIRMED
CLASS:PUBLIC
URL:https://www.golnetwork.com/game/v/17557/
X-MICROSOFT-CDO-BUSYSTATUS:BUSY
X-MICROSOFT-CDO-IMPORTANCE:1
END:VEVENT
BEGIN:VEVENT
UID:g1nog@games.golnetwork.com
LOCATION:Cherry Beach East 2
CREATED:20120710T220419Z
DTSTART:20120815T010000Z
DTEND:20120815T020000Z
DTSTAMP:20260420T203633Z
SUMMARY:Wontons vs. Galacticos FC
DESCRIPTION:Galacticos FC vs. WontonsMore info: #124
X-ALT-DESC;FMTTYPE=text/html:<!DOCTYPE HTML PUBLIC "-//W3C//DTD HTML 3.2//E
	N">\n<HTML>\n<HEAD>\n<TITLE></TITLE>\n</HEAD>\n<BODY>\n<h3>Galacticos FC vs
	. Wontons</h3>More info: <a href="https://www.golnetwork.com/game/v/17558/"
	>#124</a>\n\n</BODY>\n</HTML>
STATUS:CONFIRMED
CLASS:PUBLIC
URL:https://www.golnetwork.com/game/v/17558/
X-MICROSOFT-CDO-BUSYSTATUS:BUSY
X-MICROSOFT-CDO-IMPORTANCE:1
END:VEVENT
BEGIN:VEVENT
UID:g1noi@games.golnetwork.com
LOCATION:Cherry Beach East 2
CREATED:20120710T220419Z
DTSTART:20120815T020000Z
DTEND:20120815T030000Z
DTSTAMP:20260420T203633Z
SUMMARY:FC ABRACADABRA vs. Ball Busters
DESCRIPTION:Ball Busters vs. FC ABRACADABRAMore info: #127
X-ALT-DESC;FMTTYPE=text/html:<!DOCTYPE HTML PUBLIC "-//W3C//DTD HTML 3.2//E
	N">\n<HTML>\n<HEAD>\n<TITLE></TITLE>\n</HEAD>\n<BODY>\n<h3>Ball Busters vs.
	 FC ABRACADABRA</h3>More info: <a href="https://www.golnetwork.com/game/v/1
	7559/">#127</a>\n\n</BODY>\n</HTML>
STATUS:CONFIRMED
CLASS:PUBLIC
URL:https://www.golnetwork.com/game/v/17559/
X-MICROSOFT-CDO-BUSYSTATUS:BUSY
X-MICROSOFT-CDO-IMPORTANCE:1
END:VEVENT
BEGIN:VEVENT
UID:g1nok@games.golnetwork.com
LOCATION:Cherry Beach East 2
CREATED:20120710T220419Z
DTSTART:20120815T030000Z
DTEND:20120815T040000Z
DTSTAMP:20260420T203633Z
SUMMARY:Fughedaboudit FC vs. Dutch Rudders
DESCRIPTION:Dutch Rudders vs. Fughedaboudit FCMore info: #130
X-ALT-DESC;FMTTYPE=text/html:<!DOCTYPE HTML PUBLIC "-//W3C//DTD HTML 3.2//E
	N">\n<HTML>\n<HEAD>\n<TITLE></TITLE>\n</HEAD>\n<BODY>\n<h3>Dutch Rudders vs
	. Fughedaboudit FC</h3>More info: <a href="https://www.golnetwork.com/game/
	v/17560/">#130</a>\n\n</BODY>\n</HTML>
STATUS:CONFIRMED
CLASS:PUBLIC
URL:https://www.golnetwork.com/game/v/17560/
X-MICROSOFT-CDO-BUSYSTATUS:BUSY
X-MICROSOFT-CDO-IMPORTANCE:1
END:VEVENT
BEGIN:VEVENT
UID:g1pl5@games.golnetwork.com
LOCATION:Cherry Beach East 2
CREATED:20120820T092700Z
DTSTART:20120822T010000Z
DTEND:20120822T020000Z
DTSTAMP:20260420T203633Z
SUMMARY:Ball Busters vs. Fughedaboudit FC
DESCRIPTION:Fughedaboudit FC vs. Ball BustersMore info: #133
X-ALT-DESC;FMTTYPE=text/html:<!DOCTYPE HTML PUBLIC "-//W3C//DTD HTML 3.2//E
	N">\n<HTML>\n<HEAD>\n<TITLE></TITLE>\n</HEAD>\n<BODY>\n<h3>Fughedaboudit FC
	 vs. Ball Busters</h3>More info: <a href="https://www.golnetwork.com/game/v
	/18241/">#133</a>\n\n</BODY>\n</HTML>
STATUS:CONFIRMED
CLASS:PUBLIC
URL:https://www.golnetwork.com/game/v/18241/
X-MICROSOFT-CDO-BUSYSTATUS:BUSY
X-MICROSOFT-CDO-IMPORTANCE:1
END:VEVENT
BEGIN:VEVENT
UID:g1pl7@games.golnetwork.com
LOCATION:Cherry Beach East 2
CREATED:20120820T092700Z
DTSTART:20120822T020000Z
DTEND:20120822T030000Z
DTSTAMP:20260420T203633Z
SUMMARY:Dutch Rudders vs. Galacticos FC
DESCRIPTION:Galacticos FC vs. Dutch RuddersMore info: #136
X-ALT-DESC;FMTTYPE=text/html:<!DOCTYPE HTML PUBLIC "-//W3C//DTD HTML 3.2//E
	N">\n<HTML>\n<HEAD>\n<TITLE></TITLE>\n</HEAD>\n<BODY>\n<h3>Galacticos FC vs
	. Dutch Rudders</h3>More info: <a href="https://www.golnetwork.com/game/v/1
	8242/">#136</a>\n\n</BODY>\n</HTML>
STATUS:CONFIRMED
CLASS:PUBLIC
URL:https://www.golnetwork.com/game/v/18242/
X-MICROSOFT-CDO-BUSYSTATUS:BUSY
X-MICROSOFT-CDO-IMPORTANCE:1
END:VEVENT
BEGIN:VEVENT
UID:g1pl9@games.golnetwork.com
LOCATION:Cherry Beach East 2
CREATED:20120820T092700Z
DTSTART:20120822T030000Z
DTEND:20120822T040000Z
DTSTAMP:20260420T203633Z
SUMMARY:FC ABRACADABRA vs. Wontons
DESCRIPTION:Wontons vs. FC ABRACADABRAMore info: #139
X-ALT-DESC;FMTTYPE=text/html:<!DOCTYPE HTML PUBLIC "-//W3C//DTD HTML 3.2//E
	N">\n<HTML>\n<HEAD>\n<TITLE></TITLE>\n</HEAD>\n<BODY>\n<h3>Wontons vs. FC A
	BRACADABRA</h3>More info: <a href="https://www.golnetwork.com/game/v/18243/
	">#139</a>\n\n</BODY>\n</HTML>
STATUS:CONFIRMED
CLASS:PUBLIC
URL:https://www.golnetwork.com/game/v/18243/
X-MICROSOFT-CDO-BUSYSTATUS:BUSY
X-MICROSOFT-CDO-IMPORTANCE:1
END:VEVENT
BEGIN:VEVENT
UID:g1plp@games.golnetwork.com
LOCATION:Cherry Beach East 2
CREATED:20120820T093320Z
DTSTART:20120829T010000Z
DTEND:20120829T020000Z
DTSTAMP:20260420T203633Z
SUMMARY:Galacticos FC vs. Ball Busters
DESCRIPTION:Ball Busters vs. Galacticos FCMore info: #156
X-ALT-DESC;FMTTYPE=text/html:<!DOCTYPE HTML PUBLIC "-//W3C//DTD HTML 3.2//E
	N">\n<HTML>\n<HEAD>\n<TITLE></TITLE>\n</HEAD>\n<BODY>\n<h3>Ball Busters vs.
	 Galacticos FC</h3>More info: <a href="https://www.golnetwork.com/game/v/18
	251/">#156</a>\n\n</BODY>\n</HTML>
STATUS:CONFIRMED
CLASS:PUBLIC
URL:https://www.golnetwork.com/game/v/18251/
X-MICROSOFT-CDO-BUSYSTATUS:BUSY
X-MICROSOFT-CDO-IMPORTANCE:1
END:VEVENT
BEGIN:VEVENT
UID:g1pm0@games.golnetwork.com
LOCATION:Cherry Beach East 2
CREATED:20120820T093331Z
DTSTART:20120829T020000Z
DTEND:20120829T030000Z
DTSTAMP:20260420T203633Z
SUMMARY:Dutch Rudders vs. FC ABRACADABRA
DESCRIPTION:FC ABRACADABRA vs. Dutch RuddersMore info: #159
X-ALT-DESC;FMTTYPE=text/html:<!DOCTYPE HTML PUBLIC "-//W3C//DTD HTML 3.2//E
	N">\n<HTML>\n<HEAD>\n<TITLE></TITLE>\n</HEAD>\n<BODY>\n<h3>FC ABRACADABRA v
	s. Dutch Rudders</h3>More info: <a href="https://www.golnetwork.com/game/v/
	18252/">#159</a>\n\n</BODY>\n</HTML>
STATUS:CONFIRMED
CLASS:PUBLIC
URL:https://www.golnetwork.com/game/v/18252/
X-MICROSOFT-CDO-BUSYSTATUS:BUSY
X-MICROSOFT-CDO-IMPORTANCE:1
END:VEVENT
BEGIN:VEVENT
UID:g1pm2@games.golnetwork.com
LOCATION:Cherry Beach East 2
CREATED:20120820T093340Z
DTSTART:20120829T030000Z
DTEND:20120829T040000Z
DTSTAMP:20260420T203633Z
SUMMARY:Fughedaboudit FC vs. Wontons
DESCRIPTION:Wontons vs. Fughedaboudit FCMore info: #162
X-ALT-DESC;FMTTYPE=text/html:<!DOCTYPE HTML PUBLIC "-//W3C//DTD HTML 3.2//E
	N">\n<HTML>\n<HEAD>\n<TITLE></TITLE>\n</HEAD>\n<BODY>\n<h3>Wontons vs. Fugh
	edaboudit FC</h3>More info: <a href="https://www.golnetwork.com/game/v/1825
	3/">#162</a>\n\n</BODY>\n</HTML>
STATUS:CONFIRMED
CLASS:PUBLIC
URL:https://www.golnetwork.com/game/v/18253/
X-MICROSOFT-CDO-BUSYSTATUS:BUSY
X-MICROSOFT-CDO-IMPORTANCE:1
END:VEVENT
BEGIN:VEVENT
UID:g228g@games.golnetwork.com
LOCATION:Cherry Beach West 2
CREATED:20120921T200556Z
DTSTART:20120926T020000Z
DTEND:20120926T030000Z
DTSTAMP:20260420T203633Z
SUMMARY:FC ABRACADABRA vs. Wontons
DESCRIPTION:Wontons vs. FC ABRACADABRAMore info: #251
X-ALT-DESC;FMTTYPE=text/html:<!DOCTYPE HTML PUBLIC "-//W3C//DTD HTML 3.2//E
	N">\n<HTML>\n<HEAD>\n<TITLE></TITLE>\n</HEAD>\n<BODY>\n<h3>Wontons vs. FC A
	BRACADABRA</h3>More info: <a href="https://www.golnetwork.com/game/v/19529/
	">#251</a>\n\n</BODY>\n</HTML>
STATUS:CONFIRMED
CLASS:PUBLIC
URL:https://www.golnetwork.com/game/v/19529/
X-MICROSOFT-CDO-BUSYSTATUS:BUSY
X-MICROSOFT-CDO-IMPORTANCE:1
END:VEVENT
BEGIN:VEVENT
UID:g228i@games.golnetwork.com
LOCATION:Cherry Beach West 2
CREATED:20120921T200653Z
DTSTART:20120926T030000Z
DTEND:20120926T040000Z
DTSTAMP:20260420T203633Z
SUMMARY:Dutch Rudders vs. Fughedaboudit FC
DESCRIPTION:Fughedaboudit FC vs. Dutch RuddersMore info: #254
X-ALT-DESC;FMTTYPE=text/html:<!DOCTYPE HTML PUBLIC "-//W3C//DTD HTML 3.2//E
	N">\n<HTML>\n<HEAD>\n<TITLE></TITLE>\n</HEAD>\n<BODY>\n<h3>Fughedaboudit FC
	 vs. Dutch Rudders</h3>More info: <a href="https://www.golnetwork.com/game/
	v/19530/">#254</a>\n\n</BODY>\n</HTML>
STATUS:CONFIRMED
CLASS:PUBLIC
URL:https://www.golnetwork.com/game/v/19530/
X-MICROSOFT-CDO-BUSYSTATUS:BUSY
X-MICROSOFT-CDO-IMPORTANCE:1
END:VEVENT
END:VCALENDAR
