BEGIN:VCALENDAR
PRODID:-//gdesolutions.com//MV Framework 1.0.0.1607 Calendar//EN
VERSION:2.0
METHOD:PUBLISH
CALSCALE:GREGORIAN
BEGIN:VEVENT
UID:g1oab@games.golnetwork.com
LOCATION:Cherry Beach East 1
CREATED:20120718T153545Z
DTSTART:20120720T010000Z
DTEND:20120720T020000Z
DTSTAMP:20260421T010632Z
SUMMARY:Eckler FC (Blue/White) vs. Onetouchables FC
DESCRIPTION:Onetouchables FC vs. Eckler FC (Blue/White)More info: #16
X-ALT-DESC;FMTTYPE=text/html:<!DOCTYPE HTML PUBLIC "-//W3C//DTD HTML 3.2//E
	N">\n<HTML>\n<HEAD>\n<TITLE></TITLE>\n</HEAD>\n<BODY>\n<h3>Onetouchables FC
	 vs. Eckler FC (Blue/White)</h3>More info: <a href="https://www.golnetwork.
	com/game/v/17731/">#16</a>\n\n</BODY>\n</HTML>
STATUS:CONFIRMED
CLASS:PUBLIC
URL:https://www.golnetwork.com/game/v/17731/
X-MICROSOFT-CDO-BUSYSTATUS:BUSY
X-MICROSOFT-CDO-IMPORTANCE:1
END:VEVENT
BEGIN:VEVENT
UID:g1oa9@games.golnetwork.com
LOCATION:Cherry Beach East 3
CREATED:20120718T153545Z
DTSTART:20120720T010000Z
DTEND:20120720T020000Z
DTSTAMP:20260421T010632Z
SUMMARY:XTSC Orphans? (White) vs. Why Always Me FC (Green)
DESCRIPTION:Why Always Me FC (Green) vs. XTSC Orphans? (White)More info: #1
	8
X-ALT-DESC;FMTTYPE=text/html:<!DOCTYPE HTML PUBLIC "-//W3C//DTD HTML 3.2//E
	N">\n<HTML>\n<HEAD>\n<TITLE></TITLE>\n</HEAD>\n<BODY>\n<h3>Why Always Me FC
	 (Green) vs. XTSC Orphans? (White)</h3>More info: <a href="https://www.goln
	etwork.com/game/v/17730/">#18</a>\n\n</BODY>\n</HTML>
STATUS:CONFIRMED
CLASS:PUBLIC
URL:https://www.golnetwork.com/game/v/17730/
X-MICROSOFT-CDO-BUSYSTATUS:BUSY
X-MICROSOFT-CDO-IMPORTANCE:1
END:VEVENT
BEGIN:VEVENT
UID:g1oaf@games.golnetwork.com
LOCATION:Cherry Beach East 1
CREATED:20120718T153545Z
DTSTART:20120720T020000Z
DTEND:20120720T030000Z
DTSTAMP:20260421T010632Z
SUMMARY:Glory FC (Blue) vs. Familia FC
DESCRIPTION:Familia FC vs. Glory FC (Blue)More info: #19
X-ALT-DESC;FMTTYPE=text/html:<!DOCTYPE HTML PUBLIC "-//W3C//DTD HTML 3.2//E
	N">\n<HTML>\n<HEAD>\n<TITLE></TITLE>\n</HEAD>\n<BODY>\n<h3>Familia FC vs. G
	lory FC (Blue)</h3>More info: <a href="https://www.golnetwork.com/game/v/17
	733/">#19</a>\n\n</BODY>\n</HTML>
STATUS:CONFIRMED
CLASS:PUBLIC
URL:https://www.golnetwork.com/game/v/17733/
X-MICROSOFT-CDO-BUSYSTATUS:BUSY
X-MICROSOFT-CDO-IMPORTANCE:1
END:VEVENT
BEGIN:VEVENT
UID:g1oad@games.golnetwork.com
LOCATION:Cherry Beach East 3
CREATED:20120718T153545Z
DTSTART:20120720T020000Z
DTEND:20120720T030000Z
DTSTAMP:20260421T010632Z
SUMMARY:The Hooligans vs. Fighting Hellfish
DESCRIPTION:Fighting Hellfish vs. The HooligansMore info: #21
X-ALT-DESC;FMTTYPE=text/html:<!DOCTYPE HTML PUBLIC "-//W3C//DTD HTML 3.2//E
	N">\n<HTML>\n<HEAD>\n<TITLE></TITLE>\n</HEAD>\n<BODY>\n<h3>Fighting Hellfis
	h vs. The Hooligans</h3>More info: <a href="https://www.golnetwork.com/game
	/v/17732/">#21</a>\n\n</BODY>\n</HTML>
STATUS:CONFIRMED
CLASS:PUBLIC
URL:https://www.golnetwork.com/game/v/17732/
X-MICROSOFT-CDO-BUSYSTATUS:BUSY
X-MICROSOFT-CDO-IMPORTANCE:1
END:VEVENT
BEGIN:VEVENT
UID:g1oah@games.golnetwork.com
LOCATION:Cherry Beach East 3
CREATED:20120718T153545Z
DTSTART:20120720T030000Z
DTEND:20120720T040000Z
DTSTAMP:20260421T010632Z
SUMMARY:The Hooligans vs. Glory FC (Blue)
DESCRIPTION:Glory FC (Blue) vs. The HooligansMore info: #23
X-ALT-DESC;FMTTYPE=text/html:<!DOCTYPE HTML PUBLIC "-//W3C//DTD HTML 3.2//E
	N">\n<HTML>\n<HEAD>\n<TITLE></TITLE>\n</HEAD>\n<BODY>\n<h3>Glory FC (Blue) 
	vs. The Hooligans</h3>More info: <a href="https://www.golnetwork.com/game/v
	/17734/">#23</a>\n\n</BODY>\n</HTML>
STATUS:CONFIRMED
CLASS:PUBLIC
URL:https://www.golnetwork.com/game/v/17734/
X-MICROSOFT-CDO-BUSYSTATUS:BUSY
X-MICROSOFT-CDO-IMPORTANCE:1
END:VEVENT
BEGIN:VEVENT
UID:g1oal@games.golnetwork.com
LOCATION:Cherry Beach East 1
CREATED:20120718T153545Z
DTSTART:20120727T010000Z
DTEND:20120727T020000Z
DTSTAMP:20260421T010632Z
SUMMARY:Why Always Me FC (Green) vs. Fighting Hellfish
DESCRIPTION:Fighting Hellfish vs. Why Always Me FC (Green)More info: #51
X-ALT-DESC;FMTTYPE=text/html:<!DOCTYPE HTML PUBLIC "-//W3C//DTD HTML 3.2//E
	N">\n<HTML>\n<HEAD>\n<TITLE></TITLE>\n</HEAD>\n<BODY>\n<h3>Fighting Hellfis
	h vs. Why Always Me FC (Green)</h3>More info: <a href="https://www.golnetwo
	rk.com/game/v/17736/">#51</a>\n\n</BODY>\n</HTML>
STATUS:CONFIRMED
CLASS:PUBLIC
URL:https://www.golnetwork.com/game/v/17736/
X-MICROSOFT-CDO-BUSYSTATUS:BUSY
X-MICROSOFT-CDO-IMPORTANCE:1
END:VEVENT
BEGIN:VEVENT
UID:g1oaj@games.golnetwork.com
LOCATION:Cherry Beach East 3
CREATED:20120718T153545Z
DTSTART:20120727T010000Z
DTEND:20120727T020000Z
DTSTAMP:20260421T010632Z
SUMMARY:Eckler FC (Blue/White) vs. Glory FC (Blue)
DESCRIPTION:Glory FC (Blue) vs. Eckler FC (Blue/White)More info: #53
X-ALT-DESC;FMTTYPE=text/html:<!DOCTYPE HTML PUBLIC "-//W3C//DTD HTML 3.2//E
	N">\n<HTML>\n<HEAD>\n<TITLE></TITLE>\n</HEAD>\n<BODY>\n<h3>Glory FC (Blue) 
	vs. Eckler FC (Blue/White)</h3>More info: <a href="https://www.golnetwork.c
	om/game/v/17735/">#53</a>\n\n</BODY>\n</HTML>
STATUS:CONFIRMED
CLASS:PUBLIC
URL:https://www.golnetwork.com/game/v/17735/
X-MICROSOFT-CDO-BUSYSTATUS:BUSY
X-MICROSOFT-CDO-IMPORTANCE:1
END:VEVENT
BEGIN:VEVENT
UID:g1oan@games.golnetwork.com
LOCATION:Cherry Beach East 1
CREATED:20120718T153545Z
DTSTART:20120727T020000Z
DTEND:20120727T030000Z
DTSTAMP:20260421T010632Z
SUMMARY:Familia FC vs. The Hooligans
DESCRIPTION:The Hooligans vs. Familia FCMore info: #54
X-ALT-DESC;FMTTYPE=text/html:<!DOCTYPE HTML PUBLIC "-//W3C//DTD HTML 3.2//E
	N">\n<HTML>\n<HEAD>\n<TITLE></TITLE>\n</HEAD>\n<BODY>\n<h3>The Hooligans vs
	. Familia FC</h3>More info: <a href="https://www.golnetwork.com/game/v/1773
	7/">#54</a>\n\n</BODY>\n</HTML>
STATUS:CONFIRMED
CLASS:PUBLIC
URL:https://www.golnetwork.com/game/v/17737/
X-MICROSOFT-CDO-BUSYSTATUS:BUSY
X-MICROSOFT-CDO-IMPORTANCE:1
END:VEVENT
BEGIN:VEVENT
UID:g1oap@games.golnetwork.com
LOCATION:Cherry Beach East 3
CREATED:20120718T153545Z
DTSTART:20120727T020000Z
DTEND:20120727T030000Z
DTSTAMP:20260421T010632Z
SUMMARY:Fighting Hellfish vs. Onetouchables FC
DESCRIPTION:Onetouchables FC vs. Fighting HellfishMore info: #56
X-ALT-DESC;FMTTYPE=text/html:<!DOCTYPE HTML PUBLIC "-//W3C//DTD HTML 3.2//E
	N">\n<HTML>\n<HEAD>\n<TITLE></TITLE>\n</HEAD>\n<BODY>\n<h3>Onetouchables FC
	 vs. Fighting Hellfish</h3>More info: <a href="https://www.golnetwork.com/g
	ame/v/17738/">#56</a>\n\n</BODY>\n</HTML>
STATUS:CONFIRMED
CLASS:PUBLIC
URL:https://www.golnetwork.com/game/v/17738/
X-MICROSOFT-CDO-BUSYSTATUS:BUSY
X-MICROSOFT-CDO-IMPORTANCE:1
END:VEVENT
BEGIN:VEVENT
UID:g1ob0@games.golnetwork.com
LOCATION:Cherry Beach East 3
CREATED:20120718T153545Z
DTSTART:20120727T030000Z
DTEND:20120727T040000Z
DTSTAMP:20260421T010632Z
SUMMARY:XTSC Orphans? (White) vs. Onetouchables FC
DESCRIPTION:Onetouchables FC vs. XTSC Orphans? (White)More info: #58
X-ALT-DESC;FMTTYPE=text/html:<!DOCTYPE HTML PUBLIC "-//W3C//DTD HTML 3.2//E
	N">\n<HTML>\n<HEAD>\n<TITLE></TITLE>\n</HEAD>\n<BODY>\n<h3>Onetouchables FC
	 vs. XTSC Orphans? (White)</h3>More info: <a href="https://www.golnetwork.c
	om/game/v/17739/">#58</a>\n\n</BODY>\n</HTML>
STATUS:CONFIRMED
CLASS:PUBLIC
URL:https://www.golnetwork.com/game/v/17739/
X-MICROSOFT-CDO-BUSYSTATUS:BUSY
X-MICROSOFT-CDO-IMPORTANCE:1
END:VEVENT
BEGIN:VEVENT
UID:g1ob4@games.golnetwork.com
LOCATION:Cherry Beach East 1
CREATED:20120718T153545Z
DTSTART:20120803T010000Z
DTEND:20120803T020000Z
DTSTAMP:20260421T010632Z
SUMMARY:Onetouchables FC vs. Glory FC (Blue)
DESCRIPTION:Glory FC (Blue) vs. Onetouchables FCMore info: #74
X-ALT-DESC;FMTTYPE=text/html:<!DOCTYPE HTML PUBLIC "-//W3C//DTD HTML 3.2//E
	N">\n<HTML>\n<HEAD>\n<TITLE></TITLE>\n</HEAD>\n<BODY>\n<h3>Glory FC (Blue) 
	vs. Onetouchables FC</h3>More info: <a href="https://www.golnetwork.com/gam
	e/v/17741/">#74</a>\n\n</BODY>\n</HTML>
STATUS:CONFIRMED
CLASS:PUBLIC
URL:https://www.golnetwork.com/game/v/17741/
X-MICROSOFT-CDO-BUSYSTATUS:BUSY
X-MICROSOFT-CDO-IMPORTANCE:1
END:VEVENT
BEGIN:VEVENT
UID:g1ob2@games.golnetwork.com
LOCATION:Cherry Beach East 3
CREATED:20120718T153545Z
DTSTART:20120803T010000Z
DTEND:20120803T020000Z
DTSTAMP:20260421T010632Z
SUMMARY:Familia FC vs. Why Always Me FC (Green)
DESCRIPTION:Why Always Me FC (Green) vs. Familia FCMore info: #76
X-ALT-DESC;FMTTYPE=text/html:<!DOCTYPE HTML PUBLIC "-//W3C//DTD HTML 3.2//E
	N">\n<HTML>\n<HEAD>\n<TITLE></TITLE>\n</HEAD>\n<BODY>\n<h3>Why Always Me FC
	 (Green) vs. Familia FC</h3>More info: <a href="https://www.golnetwork.com/
	game/v/17740/">#76</a>\n\n</BODY>\n</HTML>
STATUS:CONFIRMED
CLASS:PUBLIC
URL:https://www.golnetwork.com/game/v/17740/
X-MICROSOFT-CDO-BUSYSTATUS:BUSY
X-MICROSOFT-CDO-IMPORTANCE:1
END:VEVENT
BEGIN:VEVENT
UID:g1ob6@games.golnetwork.com
LOCATION:Cherry Beach East 1
CREATED:20120718T153545Z
DTSTART:20120803T020000Z
DTEND:20120803T030000Z
DTSTAMP:20260421T010632Z
SUMMARY:Fighting Hellfish vs. Eckler FC (Blue/White)
DESCRIPTION:Eckler FC (Blue/White) vs. Fighting HellfishMore info: #77
X-ALT-DESC;FMTTYPE=text/html:<!DOCTYPE HTML PUBLIC "-//W3C//DTD HTML 3.2//E
	N">\n<HTML>\n<HEAD>\n<TITLE></TITLE>\n</HEAD>\n<BODY>\n<h3>Eckler FC (Blue/
	White) vs. Fighting Hellfish</h3>More info: <a href="https://www.golnetwork
	.com/game/v/17742/">#77</a>\n\n</BODY>\n</HTML>
STATUS:CONFIRMED
CLASS:PUBLIC
URL:https://www.golnetwork.com/game/v/17742/
X-MICROSOFT-CDO-BUSYSTATUS:BUSY
X-MICROSOFT-CDO-IMPORTANCE:1
END:VEVENT
BEGIN:VEVENT
UID:g1ob8@games.golnetwork.com
LOCATION:Cherry Beach East 3
CREATED:20120718T153545Z
DTSTART:20120803T020000Z
DTEND:20120803T030000Z
DTSTAMP:20260421T010632Z
SUMMARY:XTSC Orphans? (White) vs. Familia FC
DESCRIPTION:Familia FC vs. XTSC Orphans? (White)More info: #79
X-ALT-DESC;FMTTYPE=text/html:<!DOCTYPE HTML PUBLIC "-//W3C//DTD HTML 3.2//E
	N">\n<HTML>\n<HEAD>\n<TITLE></TITLE>\n</HEAD>\n<BODY>\n<h3>Familia FC vs. X
	TSC Orphans? (White)</h3>More info: <a href="https://www.golnetwork.com/gam
	e/v/17743/">#79</a>\n\n</BODY>\n</HTML>
STATUS:CONFIRMED
CLASS:PUBLIC
URL:https://www.golnetwork.com/game/v/17743/
X-MICROSOFT-CDO-BUSYSTATUS:BUSY
X-MICROSOFT-CDO-IMPORTANCE:1
END:VEVENT
BEGIN:VEVENT
UID:g1oba@games.golnetwork.com
LOCATION:Cherry Beach East 3
CREATED:20120718T153545Z
DTSTART:20120803T030000Z
DTEND:20120803T040000Z
DTSTAMP:20260421T010632Z
SUMMARY:Fighting Hellfish vs. XTSC Orphans? (White)
DESCRIPTION:XTSC Orphans? (White) vs. Fighting HellfishMore info: #81
X-ALT-DESC;FMTTYPE=text/html:<!DOCTYPE HTML PUBLIC "-//W3C//DTD HTML 3.2//E
	N">\n<HTML>\n<HEAD>\n<TITLE></TITLE>\n</HEAD>\n<BODY>\n<h3>XTSC Orphans? (W
	hite) vs. Fighting Hellfish</h3>More info: <a href="https://www.golnetwork.
	com/game/v/17744/">#81</a>\n\n</BODY>\n</HTML>
STATUS:CONFIRMED
CLASS:PUBLIC
URL:https://www.golnetwork.com/game/v/17744/
X-MICROSOFT-CDO-BUSYSTATUS:BUSY
X-MICROSOFT-CDO-IMPORTANCE:1
END:VEVENT
BEGIN:VEVENT
UID:g1obe@games.golnetwork.com
LOCATION:Cherry Beach East 1
CREATED:20120718T153545Z
DTSTART:20120810T010000Z
DTEND:20120810T020000Z
DTSTAMP:20260421T010632Z
SUMMARY:Glory FC (Blue) vs. Fighting Hellfish
DESCRIPTION:Fighting Hellfish vs. Glory FC (Blue)More info: #97
X-ALT-DESC;FMTTYPE=text/html:<!DOCTYPE HTML PUBLIC "-//W3C//DTD HTML 3.2//E
	N">\n<HTML>\n<HEAD>\n<TITLE></TITLE>\n</HEAD>\n<BODY>\n<h3>Fighting Hellfis
	h vs. Glory FC (Blue)</h3>More info: <a href="https://www.golnetwork.com/ga
	me/v/17746/">#97</a>\n\n</BODY>\n</HTML>
STATUS:CONFIRMED
CLASS:PUBLIC
URL:https://www.golnetwork.com/game/v/17746/
X-MICROSOFT-CDO-BUSYSTATUS:BUSY
X-MICROSOFT-CDO-IMPORTANCE:1
END:VEVENT
BEGIN:VEVENT
UID:g1obc@games.golnetwork.com
LOCATION:Cherry Beach East 3
CREATED:20120718T153545Z
DTSTART:20120810T010000Z
DTEND:20120810T020000Z
DTSTAMP:20260421T010632Z
SUMMARY:Onetouchables FC vs. Familia FC
DESCRIPTION:Familia FC vs. Onetouchables FCMore info: #99
X-ALT-DESC;FMTTYPE=text/html:<!DOCTYPE HTML PUBLIC "-//W3C//DTD HTML 3.2//E
	N">\n<HTML>\n<HEAD>\n<TITLE></TITLE>\n</HEAD>\n<BODY>\n<h3>Familia FC vs. O
	netouchables FC</h3>More info: <a href="https://www.golnetwork.com/game/v/1
	7745/">#99</a>\n\n</BODY>\n</HTML>
STATUS:CONFIRMED
CLASS:PUBLIC
URL:https://www.golnetwork.com/game/v/17745/
X-MICROSOFT-CDO-BUSYSTATUS:BUSY
X-MICROSOFT-CDO-IMPORTANCE:1
END:VEVENT
BEGIN:VEVENT
UID:g1obi@games.golnetwork.com
LOCATION:Cherry Beach East 1
CREATED:20120718T153545Z
DTSTART:20120810T020000Z
DTEND:20120810T030000Z
DTSTAMP:20260421T010632Z
SUMMARY:Eckler FC (Blue/White) vs. XTSC Orphans? (White)
DESCRIPTION:XTSC Orphans? (White) vs. Eckler FC (Blue/White)More info: #100
X-ALT-DESC;FMTTYPE=text/html:<!DOCTYPE HTML PUBLIC "-//W3C//DTD HTML 3.2//E
	N">\n<HTML>\n<HEAD>\n<TITLE></TITLE>\n</HEAD>\n<BODY>\n<h3>XTSC Orphans? (W
	hite) vs. Eckler FC (Blue/White)</h3>More info: <a href="https://www.golnet
	work.com/game/v/17748/">#100</a>\n\n</BODY>\n</HTML>
STATUS:CONFIRMED
CLASS:PUBLIC
URL:https://www.golnetwork.com/game/v/17748/
X-MICROSOFT-CDO-BUSYSTATUS:BUSY
X-MICROSOFT-CDO-IMPORTANCE:1
END:VEVENT
BEGIN:VEVENT
UID:g1obg@games.golnetwork.com
LOCATION:Cherry Beach East 3
CREATED:20120718T153545Z
DTSTART:20120810T020000Z
DTEND:20120810T030000Z
DTSTAMP:20260421T010632Z
SUMMARY:Why Always Me FC (Green) vs. The Hooligans
DESCRIPTION:The Hooligans vs. Why Always Me FC (Green)More info: #102
X-ALT-DESC;FMTTYPE=text/html:<!DOCTYPE HTML PUBLIC "-//W3C//DTD HTML 3.2//E
	N">\n<HTML>\n<HEAD>\n<TITLE></TITLE>\n</HEAD>\n<BODY>\n<h3>The Hooligans vs
	. Why Always Me FC (Green)</h3>More info: <a href="https://www.golnetwork.c
	om/game/v/17747/">#102</a>\n\n</BODY>\n</HTML>
STATUS:CONFIRMED
CLASS:PUBLIC
URL:https://www.golnetwork.com/game/v/17747/
X-MICROSOFT-CDO-BUSYSTATUS:BUSY
X-MICROSOFT-CDO-IMPORTANCE:1
END:VEVENT
BEGIN:VEVENT
UID:g1obk@games.golnetwork.com
LOCATION:Cherry Beach East 3
CREATED:20120718T153545Z
DTSTART:20120810T030000Z
DTEND:20120810T040000Z
DTSTAMP:20260421T010632Z
SUMMARY:Eckler FC (Blue/White) vs. Why Always Me FC (Green)
DESCRIPTION:Why Always Me FC (Green) vs. Eckler FC (Blue/White)More info: #
	104
X-ALT-DESC;FMTTYPE=text/html:<!DOCTYPE HTML PUBLIC "-//W3C//DTD HTML 3.2//E
	N">\n<HTML>\n<HEAD>\n<TITLE></TITLE>\n</HEAD>\n<BODY>\n<h3>Why Always Me FC
	 (Green) vs. Eckler FC (Blue/White)</h3>More info: <a href="https://www.gol
	network.com/game/v/17749/">#104</a>\n\n</BODY>\n</HTML>
STATUS:CONFIRMED
CLASS:PUBLIC
URL:https://www.golnetwork.com/game/v/17749/
X-MICROSOFT-CDO-BUSYSTATUS:BUSY
X-MICROSOFT-CDO-IMPORTANCE:1
END:VEVENT
BEGIN:VEVENT
UID:g1obo@games.golnetwork.com
LOCATION:Cherry Beach East 1
CREATED:20120718T153922Z
DTSTART:20120824T010000Z
DTEND:20120824T020000Z
DTSTAMP:20260421T010632Z
SUMMARY:Fighting Hellfish vs. Familia FC
DESCRIPTION:Familia FC vs. Fighting HellfishMore info: #141
X-ALT-DESC;FMTTYPE=text/html:<!DOCTYPE HTML PUBLIC "-//W3C//DTD HTML 3.2//E
	N">\n<HTML>\n<HEAD>\n<TITLE></TITLE>\n</HEAD>\n<BODY>\n<h3>Familia FC vs. F
	ighting Hellfish</h3>More info: <a href="https://www.golnetwork.com/game/v/
	17751/">#141</a>\n\n</BODY>\n</HTML>
STATUS:CONFIRMED
CLASS:PUBLIC
URL:https://www.golnetwork.com/game/v/17751/
X-MICROSOFT-CDO-BUSYSTATUS:BUSY
X-MICROSOFT-CDO-IMPORTANCE:1
END:VEVENT
BEGIN:VEVENT
UID:g1obm@games.golnetwork.com
LOCATION:Cherry Beach East 3
CREATED:20120718T153922Z
DTSTART:20120824T010000Z
DTEND:20120824T020000Z
DTSTAMP:20260421T010632Z
SUMMARY:Onetouchables FC vs. Why Always Me FC (Green)
DESCRIPTION:Why Always Me FC (Green) vs. Onetouchables FCMore info: #143
X-ALT-DESC;FMTTYPE=text/html:<!DOCTYPE HTML PUBLIC "-//W3C//DTD HTML 3.2//E
	N">\n<HTML>\n<HEAD>\n<TITLE></TITLE>\n</HEAD>\n<BODY>\n<h3>Why Always Me FC
	 (Green) vs. Onetouchables FC</h3>More info: <a href="https://www.golnetwor
	k.com/game/v/17750/">#143</a>\n\n</BODY>\n</HTML>
STATUS:CONFIRMED
CLASS:PUBLIC
URL:https://www.golnetwork.com/game/v/17750/
X-MICROSOFT-CDO-BUSYSTATUS:BUSY
X-MICROSOFT-CDO-IMPORTANCE:1
END:VEVENT
BEGIN:VEVENT
UID:g1oc1@games.golnetwork.com
LOCATION:Cherry Beach East 1
CREATED:20120718T153922Z
DTSTART:20120824T020000Z
DTEND:20120824T030000Z
DTSTAMP:20260421T010632Z
SUMMARY:Eckler FC (Blue/White) vs. The Hooligans
DESCRIPTION:The Hooligans vs. Eckler FC (Blue/White)More info: #144
X-ALT-DESC;FMTTYPE=text/html:<!DOCTYPE HTML PUBLIC "-//W3C//DTD HTML 3.2//E
	N">\n<HTML>\n<HEAD>\n<TITLE></TITLE>\n</HEAD>\n<BODY>\n<h3>The Hooligans vs
	. Eckler FC (Blue/White)</h3>More info: <a href="https://www.golnetwork.com
	/game/v/17753/">#144</a>\n\n</BODY>\n</HTML>
STATUS:CONFIRMED
CLASS:PUBLIC
URL:https://www.golnetwork.com/game/v/17753/
X-MICROSOFT-CDO-BUSYSTATUS:BUSY
X-MICROSOFT-CDO-IMPORTANCE:1
END:VEVENT
BEGIN:VEVENT
UID:g1obq@games.golnetwork.com
LOCATION:Cherry Beach East 3
CREATED:20120718T153922Z
DTSTART:20120824T020000Z
DTEND:20120824T030000Z
DTSTAMP:20260421T010632Z
SUMMARY:XTSC Orphans? (White) vs. Glory FC (Blue)
DESCRIPTION:Glory FC (Blue) vs. XTSC Orphans? (White)More info: #146
X-ALT-DESC;FMTTYPE=text/html:<!DOCTYPE HTML PUBLIC "-//W3C//DTD HTML 3.2//E
	N">\n<HTML>\n<HEAD>\n<TITLE></TITLE>\n</HEAD>\n<BODY>\n<h3>Glory FC (Blue) 
	vs. XTSC Orphans? (White)</h3>More info: <a href="https://www.golnetwork.co
	m/game/v/17752/">#146</a>\n\n</BODY>\n</HTML>
STATUS:CONFIRMED
CLASS:PUBLIC
URL:https://www.golnetwork.com/game/v/17752/
X-MICROSOFT-CDO-BUSYSTATUS:BUSY
X-MICROSOFT-CDO-IMPORTANCE:1
END:VEVENT
BEGIN:VEVENT
UID:g1pfj@games.golnetwork.com
LOCATION:Cherry Beach East 3
CREATED:20120808T214743Z
DTSTART:20120824T030000Z
DTEND:20120824T040000Z
DTSTAMP:20260421T010632Z
SUMMARY:XTSC Orphans? (White) vs. The Hooligans
DESCRIPTION:The Hooligans vs. XTSC Orphans? (White)More info: #148
X-ALT-DESC;FMTTYPE=text/html:<!DOCTYPE HTML PUBLIC "-//W3C//DTD HTML 3.2//E
	N">\n<HTML>\n<HEAD>\n<TITLE></TITLE>\n</HEAD>\n<BODY>\n<h3>The Hooligans vs
	. XTSC Orphans? (White)</h3>More info: <a href="https://www.golnetwork.com/
	game/v/18167/">#148</a>\n\n</BODY>\n</HTML>
STATUS:CONFIRMED
CLASS:PUBLIC
URL:https://www.golnetwork.com/game/v/18167/
X-MICROSOFT-CDO-BUSYSTATUS:BUSY
X-MICROSOFT-CDO-IMPORTANCE:1
END:VEVENT
BEGIN:VEVENT
UID:g1oc7@games.golnetwork.com
LOCATION:Cherry Beach East 1
CREATED:20120718T153922Z
DTSTART:20120831T010000Z
DTEND:20120831T020000Z
DTSTAMP:20260421T010632Z
SUMMARY:Fighting Hellfish vs. Why Always Me FC (Green)
DESCRIPTION:Why Always Me FC (Green) vs. Fighting HellfishMore info: #164
X-ALT-DESC;FMTTYPE=text/html:<!DOCTYPE HTML PUBLIC "-//W3C//DTD HTML 3.2//E
	N">\n<HTML>\n<HEAD>\n<TITLE></TITLE>\n</HEAD>\n<BODY>\n<h3>Why Always Me FC
	 (Green) vs. Fighting Hellfish</h3>More info: <a href="https://www.golnetwo
	rk.com/game/v/17756/">#164</a>\n\n</BODY>\n</HTML>
STATUS:CONFIRMED
CLASS:PUBLIC
URL:https://www.golnetwork.com/game/v/17756/
X-MICROSOFT-CDO-BUSYSTATUS:BUSY
X-MICROSOFT-CDO-IMPORTANCE:1
END:VEVENT
BEGIN:VEVENT
UID:g1qmd@games.golnetwork.com
LOCATION:Cherry Beach East 1
CREATED:20120904T191206Z
DTSTART:20120831T010000Z
DTEND:20120831T020000Z
DTSTAMP:20260421T010632Z
SUMMARY:The Hooligans vs. Arse-nil
DESCRIPTION:Arse-nil vs. The HooligansMore info: #165
X-ALT-DESC;FMTTYPE=text/html:<!DOCTYPE HTML PUBLIC "-//W3C//DTD HTML 3.2//E
	N">\n<HTML>\n<HEAD>\n<TITLE></TITLE>\n</HEAD>\n<BODY>\n<h3>Arse-nil vs. The
	 Hooligans</h3>More info: <a href="https://www.golnetwork.com/game/v/18623/
	">#165</a>\n\n</BODY>\n</HTML>
STATUS:RESCHEDULED
CLASS:PUBLIC
URL:https://www.golnetwork.com/game/v/18623/
X-MICROSOFT-CDO-BUSYSTATUS:BUSY
X-MICROSOFT-CDO-IMPORTANCE:1
END:VEVENT
BEGIN:VEVENT
UID:g1oc5@games.golnetwork.com
LOCATION:Cherry Beach East 3
CREATED:20120718T153922Z
DTSTART:20120831T010000Z
DTEND:20120831T020000Z
DTSTAMP:20260421T010632Z
SUMMARY:Glory FC (Blue) vs. Onetouchables FC
DESCRIPTION:Onetouchables FC vs. Glory FC (Blue)More info: #167
X-ALT-DESC;FMTTYPE=text/html:<!DOCTYPE HTML PUBLIC "-//W3C//DTD HTML 3.2//E
	N">\n<HTML>\n<HEAD>\n<TITLE></TITLE>\n</HEAD>\n<BODY>\n<h3>Onetouchables FC
	 vs. Glory FC (Blue)</h3>More info: <a href="https://www.golnetwork.com/gam
	e/v/17755/">#167</a>\n\n</BODY>\n</HTML>
STATUS:CONFIRMED
CLASS:PUBLIC
URL:https://www.golnetwork.com/game/v/17755/
X-MICROSOFT-CDO-BUSYSTATUS:BUSY
X-MICROSOFT-CDO-IMPORTANCE:1
END:VEVENT
BEGIN:VEVENT
UID:g1oc9@games.golnetwork.com
LOCATION:Cherry Beach East 1
CREATED:20120718T153922Z
DTSTART:20120831T020000Z
DTEND:20120831T030000Z
DTSTAMP:20260421T010632Z
SUMMARY:Arse-nil vs. XTSC Orphans? (White)
DESCRIPTION:XTSC Orphans? (White) vs. Arse-nilMore info: #168
X-ALT-DESC;FMTTYPE=text/html:<!DOCTYPE HTML PUBLIC "-//W3C//DTD HTML 3.2//E
	N">\n<HTML>\n<HEAD>\n<TITLE></TITLE>\n</HEAD>\n<BODY>\n<h3>XTSC Orphans? (W
	hite) vs. Arse-nil</h3>More info: <a href="https://www.golnetwork.com/game/
	v/17757/">#168</a>\n\n</BODY>\n</HTML>
STATUS:RESCHEDULED
CLASS:PUBLIC
URL:https://www.golnetwork.com/game/v/17757/
X-MICROSOFT-CDO-BUSYSTATUS:BUSY
X-MICROSOFT-CDO-IMPORTANCE:1
END:VEVENT
BEGIN:VEVENT
UID:g1qn8@games.golnetwork.com
LOCATION:Cherry Beach East 1
CREATED:20120904T192947Z
DTSTART:20120831T020000Z
DTEND:20120831T030000Z
DTSTAMP:20260421T010632Z
SUMMARY:The Hooligans vs. 99 Problems But a Pitch Ain't One
DESCRIPTION:99 Problems But a Pitch Ain't One vs. The HooligansMore info: #
	169
X-ALT-DESC;FMTTYPE=text/html:<!DOCTYPE HTML PUBLIC "-//W3C//DTD HTML 3.2//E
	N">\n<HTML>\n<HEAD>\n<TITLE></TITLE>\n</HEAD>\n<BODY>\n<h3>99 Problems But 
	a Pitch Ain't One vs. The Hooligans</h3>More info: <a href="https://www.gol
	network.com/game/v/18634/">#169</a>\n\n</BODY>\n</HTML>
STATUS:CONFIRMED
CLASS:PUBLIC
URL:https://www.golnetwork.com/game/v/18634/
X-MICROSOFT-CDO-BUSYSTATUS:BUSY
X-MICROSOFT-CDO-IMPORTANCE:1
END:VEVENT
BEGIN:VEVENT
UID:g1ocb@games.golnetwork.com
LOCATION:Cherry Beach East 3
CREATED:20120718T153922Z
DTSTART:20120831T020000Z
DTEND:20120831T030000Z
DTSTAMP:20260421T010632Z
SUMMARY:Eckler FC (Blue/White) vs. Familia FC
DESCRIPTION:Familia FC vs. Eckler FC (Blue/White)More info: #171
X-ALT-DESC;FMTTYPE=text/html:<!DOCTYPE HTML PUBLIC "-//W3C//DTD HTML 3.2//E
	N">\n<HTML>\n<HEAD>\n<TITLE></TITLE>\n</HEAD>\n<BODY>\n<h3>Familia FC vs. E
	ckler FC (Blue/White)</h3>More info: <a href="https://www.golnetwork.com/ga
	me/v/17758/">#171</a>\n\n</BODY>\n</HTML>
STATUS:CONFIRMED
CLASS:PUBLIC
URL:https://www.golnetwork.com/game/v/17758/
X-MICROSOFT-CDO-BUSYSTATUS:BUSY
X-MICROSOFT-CDO-IMPORTANCE:1
END:VEVENT
BEGIN:VEVENT
UID:g1qmn@games.golnetwork.com
LOCATION:Cherry Beach East 1
CREATED:20120904T192112Z
DTSTART:20120907T010000Z
DTEND:20120907T020000Z
DTSTAMP:20260421T010632Z
SUMMARY:Familia FC vs. 99 Problems But a Pitch Ain't One
DESCRIPTION:99 Problems But a Pitch Ain't One vs. Familia FCMore info: #188
X-ALT-DESC;FMTTYPE=text/html:<!DOCTYPE HTML PUBLIC "-//W3C//DTD HTML 3.2//E
	N">\n<HTML>\n<HEAD>\n<TITLE></TITLE>\n</HEAD>\n<BODY>\n<h3>99 Problems But 
	a Pitch Ain't One vs. Familia FC</h3>More info: <a href="https://www.golnet
	work.com/game/v/18628/">#188</a>\n\n</BODY>\n</HTML>
STATUS:CONFIRMED
CLASS:PUBLIC
URL:https://www.golnetwork.com/game/v/18628/
X-MICROSOFT-CDO-BUSYSTATUS:BUSY
X-MICROSOFT-CDO-IMPORTANCE:1
END:VEVENT
BEGIN:VEVENT
UID:g1qmj@games.golnetwork.com
LOCATION:Cherry Beach East 2
CREATED:20120904T191629Z
DTSTART:20120907T010000Z
DTEND:20120907T020000Z
DTSTAMP:20260421T010632Z
SUMMARY:Onetouchables FC vs. Why Always Me FC (Green)
DESCRIPTION:Why Always Me FC (Green) vs. Onetouchables FCMore info: #189
X-ALT-DESC;FMTTYPE=text/html:<!DOCTYPE HTML PUBLIC "-//W3C//DTD HTML 3.2//E
	N">\n<HTML>\n<HEAD>\n<TITLE></TITLE>\n</HEAD>\n<BODY>\n<h3>Why Always Me FC
	 (Green) vs. Onetouchables FC</h3>More info: <a href="https://www.golnetwor
	k.com/game/v/18626/">#189</a>\n\n</BODY>\n</HTML>
STATUS:CONFIRMED
CLASS:PUBLIC
URL:https://www.golnetwork.com/game/v/18626/
X-MICROSOFT-CDO-BUSYSTATUS:BUSY
X-MICROSOFT-CDO-IMPORTANCE:1
END:VEVENT
BEGIN:VEVENT
UID:g1qml@games.golnetwork.com
LOCATION:Cherry Beach East 3
CREATED:20120904T191654Z
DTSTART:20120907T010000Z
DTEND:20120907T020000Z
DTSTAMP:20260421T010632Z
SUMMARY:Fighting Hellfish vs. Glory FC (Blue)
DESCRIPTION:Glory FC (Blue) vs. Fighting HellfishMore info: #190
X-ALT-DESC;FMTTYPE=text/html:<!DOCTYPE HTML PUBLIC "-//W3C//DTD HTML 3.2//E
	N">\n<HTML>\n<HEAD>\n<TITLE></TITLE>\n</HEAD>\n<BODY>\n<h3>Glory FC (Blue) 
	vs. Fighting Hellfish</h3>More info: <a href="https://www.golnetwork.com/ga
	me/v/18627/">#190</a>\n\n</BODY>\n</HTML>
STATUS:CONFIRMED
CLASS:PUBLIC
URL:https://www.golnetwork.com/game/v/18627/
X-MICROSOFT-CDO-BUSYSTATUS:BUSY
X-MICROSOFT-CDO-IMPORTANCE:1
END:VEVENT
BEGIN:VEVENT
UID:g1qmp@games.golnetwork.com
LOCATION:Cherry Beach East 1
CREATED:20120904T192142Z
DTSTART:20120907T020000Z
DTEND:20120907T030000Z
DTSTAMP:20260421T010632Z
SUMMARY:Familia FC vs. XTSC Orphans? (White)
DESCRIPTION:XTSC Orphans? (White) vs. Familia FCMore info: #191
X-ALT-DESC;FMTTYPE=text/html:<!DOCTYPE HTML PUBLIC "-//W3C//DTD HTML 3.2//E
	N">\n<HTML>\n<HEAD>\n<TITLE></TITLE>\n</HEAD>\n<BODY>\n<h3>XTSC Orphans? (W
	hite) vs. Familia FC</h3>More info: <a href="https://www.golnetwork.com/gam
	e/v/18629/">#191</a>\n\n</BODY>\n</HTML>
STATUS:CONFIRMED
CLASS:PUBLIC
URL:https://www.golnetwork.com/game/v/18629/
X-MICROSOFT-CDO-BUSYSTATUS:BUSY
X-MICROSOFT-CDO-IMPORTANCE:1
END:VEVENT
BEGIN:VEVENT
UID:g1qn0@games.golnetwork.com
LOCATION:Cherry Beach East 3
CREATED:20120904T192251Z
DTSTART:20120907T020000Z
DTEND:20120907T030000Z
DTSTAMP:20260421T010632Z
SUMMARY:Eckler FC (Blue/White) vs. The Hooligans
DESCRIPTION:The Hooligans vs. Eckler FC (Blue/White)More info: #193
X-ALT-DESC;FMTTYPE=text/html:<!DOCTYPE HTML PUBLIC "-//W3C//DTD HTML 3.2//E
	N">\n<HTML>\n<HEAD>\n<TITLE></TITLE>\n</HEAD>\n<BODY>\n<h3>The Hooligans vs
	. Eckler FC (Blue/White)</h3>More info: <a href="https://www.golnetwork.com
	/game/v/18630/">#193</a>\n\n</BODY>\n</HTML>
STATUS:CONFIRMED
CLASS:PUBLIC
URL:https://www.golnetwork.com/game/v/18630/
X-MICROSOFT-CDO-BUSYSTATUS:BUSY
X-MICROSOFT-CDO-IMPORTANCE:1
END:VEVENT
BEGIN:VEVENT
UID:g1qn2@games.golnetwork.com
LOCATION:Cherry Beach East 3
CREATED:20120904T192341Z
DTSTART:20120907T030000Z
DTEND:20120907T040000Z
DTSTAMP:20260421T010632Z
SUMMARY:The Hooligans vs. XTSC Orphans? (White)
DESCRIPTION:XTSC Orphans? (White) vs. The HooligansMore info: #195
X-ALT-DESC;FMTTYPE=text/html:<!DOCTYPE HTML PUBLIC "-//W3C//DTD HTML 3.2//E
	N">\n<HTML>\n<HEAD>\n<TITLE></TITLE>\n</HEAD>\n<BODY>\n<h3>XTSC Orphans? (W
	hite) vs. The Hooligans</h3>More info: <a href="https://www.golnetwork.com/
	game/v/18631/">#195</a>\n\n</BODY>\n</HTML>
STATUS:CONFIRMED
CLASS:PUBLIC
URL:https://www.golnetwork.com/game/v/18631/
X-MICROSOFT-CDO-BUSYSTATUS:BUSY
X-MICROSOFT-CDO-IMPORTANCE:1
END:VEVENT
END:VCALENDAR
