BEGIN:VCALENDAR
PRODID:-//gdesolutions.com//MV Framework 1.0.0.1607 Calendar//EN
VERSION:2.0
METHOD:PUBLISH
CALSCALE:GREGORIAN
BEGIN:VEVENT
UID:g203d@games.golnetwork.com
LOCATION:Jesse Ketchum 1
GEO:45.10662;-94.578209
CREATED:20120913T163157Z
DTSTART:20120916T203000Z
DTEND:20120916T213000Z
DTSTAMP:20260426T013652Z
SUMMARY:Spider Pigs vs. XTSC Power Demons
DESCRIPTION:XTSC Power Demons vs. Spider PigsMore info: #16
X-ALT-DESC;FMTTYPE=text/html:<!DOCTYPE HTML PUBLIC "-//W3C//DTD HTML 3.2//E
	N">\n<HTML>\n<HEAD>\n<TITLE></TITLE>\n</HEAD>\n<BODY>\n<h3>XTSC Power Demon
	s vs. Spider Pigs</h3>More info: <a href="https://www.golnetwork.com/game/v
	/18731/">#16</a>\n\n</BODY>\n</HTML>
STATUS:CONFIRMED
CLASS:PUBLIC
URL:https://www.golnetwork.com/game/v/18731/
X-MICROSOFT-CDO-BUSYSTATUS:BUSY
X-MICROSOFT-CDO-IMPORTANCE:1
END:VEVENT
BEGIN:VEVENT
UID:g203f@games.golnetwork.com
LOCATION:Jesse Ketchum 1
GEO:45.10662;-94.578209
CREATED:20120913T163157Z
DTSTART:20120916T213000Z
DTEND:20120916T223000Z
DTSTAMP:20260426T013652Z
SUMMARY:Grasshoppers United vs. Specter FC
DESCRIPTION:Specter FC vs. Grasshoppers UnitedMore info: #17
X-ALT-DESC;FMTTYPE=text/html:<!DOCTYPE HTML PUBLIC "-//W3C//DTD HTML 3.2//E
	N">\n<HTML>\n<HEAD>\n<TITLE></TITLE>\n</HEAD>\n<BODY>\n<h3>Specter FC vs. G
	rasshoppers United</h3>More info: <a href="https://www.golnetwork.com/game/
	v/18732/">#17</a>\n\n</BODY>\n</HTML>
STATUS:CONFIRMED
CLASS:PUBLIC
URL:https://www.golnetwork.com/game/v/18732/
X-MICROSOFT-CDO-BUSYSTATUS:BUSY
X-MICROSOFT-CDO-IMPORTANCE:1
END:VEVENT
BEGIN:VEVENT
UID:g203h@games.golnetwork.com
LOCATION:Jesse Ketchum 1
GEO:45.10662;-94.578209
CREATED:20120913T163157Z
DTSTART:20120916T223000Z
DTEND:20120916T233000Z
DTSTAMP:20260426T013652Z
SUMMARY:XTSC Mambo Kings (White) vs. Black & Drunken Goonies
DESCRIPTION:Black & Drunken Goonies vs. XTSC Mambo Kings (White)More info: 
	#18
X-ALT-DESC;FMTTYPE=text/html:<!DOCTYPE HTML PUBLIC "-//W3C//DTD HTML 3.2//E
	N">\n<HTML>\n<HEAD>\n<TITLE></TITLE>\n</HEAD>\n<BODY>\n<h3>Black & Drunken 
	Goonies vs. XTSC Mambo Kings (White)</h3>More info: <a href="https://www.go
	lnetwork.com/game/v/18733/">#18</a>\n\n</BODY>\n</HTML>
STATUS:CONFIRMED
CLASS:PUBLIC
URL:https://www.golnetwork.com/game/v/18733/
X-MICROSOFT-CDO-BUSYSTATUS:BUSY
X-MICROSOFT-CDO-IMPORTANCE:1
END:VEVENT
BEGIN:VEVENT
UID:g2044@games.golnetwork.com
LOCATION:Jesse Ketchum 1
GEO:45.10662;-94.578209
CREATED:20120913T163813Z
DTSTART:20120923T210000Z
DTEND:20120923T220000Z
DTSTAMP:20260426T013652Z
SUMMARY:XTSC Mambo Kings (White) vs. Grasshoppers United
DESCRIPTION:Grasshoppers United vs. XTSC Mambo Kings (White)More info: #26
X-ALT-DESC;FMTTYPE=text/html:<!DOCTYPE HTML PUBLIC "-//W3C//DTD HTML 3.2//E
	N">\n<HTML>\n<HEAD>\n<TITLE></TITLE>\n</HEAD>\n<BODY>\n<h3>Grasshoppers Uni
	ted vs. XTSC Mambo Kings (White)</h3>More info: <a href="https://www.golnet
	work.com/game/v/18740/">#26</a>\n\n</BODY>\n</HTML>
STATUS:CONFIRMED
CLASS:PUBLIC
URL:https://www.golnetwork.com/game/v/18740/
X-MICROSOFT-CDO-BUSYSTATUS:BUSY
X-MICROSOFT-CDO-IMPORTANCE:1
END:VEVENT
BEGIN:VEVENT
UID:g2046@games.golnetwork.com
LOCATION:Jesse Ketchum 2
GEO:45.10662;-94.578209
CREATED:20120913T163813Z
DTSTART:20120923T210000Z
DTEND:20120923T220000Z
DTSTAMP:20260426T013652Z
SUMMARY:XTSC Power Demons vs. Black & Drunken Goonies
DESCRIPTION:Black & Drunken Goonies vs. XTSC Power DemonsMore info: #27
X-ALT-DESC;FMTTYPE=text/html:<!DOCTYPE HTML PUBLIC "-//W3C//DTD HTML 3.2//E
	N">\n<HTML>\n<HEAD>\n<TITLE></TITLE>\n</HEAD>\n<BODY>\n<h3>Black & Drunken 
	Goonies vs. XTSC Power Demons</h3>More info: <a href="https://www.golnetwor
	k.com/game/v/18741/">#27</a>\n\n</BODY>\n</HTML>
STATUS:CONFIRMED
CLASS:PUBLIC
URL:https://www.golnetwork.com/game/v/18741/
X-MICROSOFT-CDO-BUSYSTATUS:BUSY
X-MICROSOFT-CDO-IMPORTANCE:1
END:VEVENT
BEGIN:VEVENT
UID:g2048@games.golnetwork.com
LOCATION:Jesse Ketchum 1
GEO:45.10662;-94.578209
CREATED:20120913T163813Z
DTSTART:20120923T220000Z
DTEND:20120923T230000Z
DTSTAMP:20260426T013652Z
SUMMARY:Specter FC vs. Spider Pigs
DESCRIPTION:Spider Pigs vs. Specter FCMore info: #28
X-ALT-DESC;FMTTYPE=text/html:<!DOCTYPE HTML PUBLIC "-//W3C//DTD HTML 3.2//E
	N">\n<HTML>\n<HEAD>\n<TITLE></TITLE>\n</HEAD>\n<BODY>\n<h3>Spider Pigs vs. 
	Specter FC</h3>More info: <a href="https://www.golnetwork.com/game/v/18742/
	">#28</a>\n\n</BODY>\n</HTML>
STATUS:CONFIRMED
CLASS:PUBLIC
URL:https://www.golnetwork.com/game/v/18742/
X-MICROSOFT-CDO-BUSYSTATUS:BUSY
X-MICROSOFT-CDO-IMPORTANCE:1
END:VEVENT
BEGIN:VEVENT
UID:g204a@games.golnetwork.com
LOCATION:Jesse Ketchum 2
GEO:45.10662;-94.578209
CREATED:20120913T163813Z
DTSTART:20120923T220000Z
DTEND:20120923T230000Z
DTSTAMP:20260426T013652Z
SUMMARY:XTSC Power Demons vs. XTSC Mambo Kings (White)
DESCRIPTION:XTSC Mambo Kings (White) vs. XTSC Power DemonsMore info: #29
X-ALT-DESC;FMTTYPE=text/html:<!DOCTYPE HTML PUBLIC "-//W3C//DTD HTML 3.2//E
	N">\n<HTML>\n<HEAD>\n<TITLE></TITLE>\n</HEAD>\n<BODY>\n<h3>XTSC Mambo Kings
	 (White) vs. XTSC Power Demons</h3>More info: <a href="https://www.golnetwo
	rk.com/game/v/18743/">#29</a>\n\n</BODY>\n</HTML>
STATUS:CONFIRMED
CLASS:PUBLIC
URL:https://www.golnetwork.com/game/v/18743/
X-MICROSOFT-CDO-BUSYSTATUS:BUSY
X-MICROSOFT-CDO-IMPORTANCE:1
END:VEVENT
BEGIN:VEVENT
UID:g260i@games.golnetwork.com
LOCATION:Jesse Ketchum 1
GEO:45.10662;-94.578209
CREATED:20120925T180533Z
DTSTART:20120930T210000Z
DTEND:20120930T220000Z
DTSTAMP:20260426T013652Z
SUMMARY:Spider Pigs vs. Grasshoppers United
DESCRIPTION:Grasshoppers United vs. Spider PigsMore info: #37
X-ALT-DESC;FMTTYPE=text/html:<!DOCTYPE HTML PUBLIC "-//W3C//DTD HTML 3.2//E
	N">\n<HTML>\n<HEAD>\n<TITLE></TITLE>\n</HEAD>\n<BODY>\n<h3>Grasshoppers Uni
	ted vs. Spider Pigs</h3>More info: <a href="https://www.golnetwork.com/game
	/v/20880/">#37</a>\n\n</BODY>\n</HTML>
STATUS:CONFIRMED
CLASS:PUBLIC
URL:https://www.golnetwork.com/game/v/20880/
X-MICROSOFT-CDO-BUSYSTATUS:BUSY
X-MICROSOFT-CDO-IMPORTANCE:1
END:VEVENT
BEGIN:VEVENT
UID:g260k@games.golnetwork.com
LOCATION:Jesse Ketchum 2
GEO:45.10662;-94.578209
CREATED:20120925T180546Z
DTSTART:20120930T210000Z
DTEND:20120930T220000Z
DTSTAMP:20260426T013652Z
SUMMARY:Specter FC vs. Black & Drunken Goonies
DESCRIPTION:Black & Drunken Goonies vs. Specter FCMore info: #38
X-ALT-DESC;FMTTYPE=text/html:<!DOCTYPE HTML PUBLIC "-//W3C//DTD HTML 3.2//E
	N">\n<HTML>\n<HEAD>\n<TITLE></TITLE>\n</HEAD>\n<BODY>\n<h3>Black & Drunken 
	Goonies vs. Specter FC</h3>More info: <a href="https://www.golnetwork.com/g
	ame/v/20881/">#38</a>\n\n</BODY>\n</HTML>
STATUS:CONFIRMED
CLASS:PUBLIC
URL:https://www.golnetwork.com/game/v/20881/
X-MICROSOFT-CDO-BUSYSTATUS:BUSY
X-MICROSOFT-CDO-IMPORTANCE:1
END:VEVENT
BEGIN:VEVENT
UID:g204g@games.golnetwork.com
LOCATION:Jesse Ketchum 1
GEO:45.10662;-94.578209
CREATED:20120913T163813Z
DTSTART:20120930T220000Z
DTEND:20120930T230000Z
DTSTAMP:20260426T013652Z
SUMMARY:XTSC Mambo Kings (White) vs. Specter FC
DESCRIPTION:Specter FC vs. XTSC Mambo Kings (White)More info: #39
X-ALT-DESC;FMTTYPE=text/html:<!DOCTYPE HTML PUBLIC "-//W3C//DTD HTML 3.2//E
	N">\n<HTML>\n<HEAD>\n<TITLE></TITLE>\n</HEAD>\n<BODY>\n<h3>Specter FC vs. X
	TSC Mambo Kings (White)</h3>More info: <a href="https://www.golnetwork.com/
	game/v/18746/">#39</a>\n\n</BODY>\n</HTML>
STATUS:CONFIRMED
CLASS:PUBLIC
URL:https://www.golnetwork.com/game/v/18746/
X-MICROSOFT-CDO-BUSYSTATUS:BUSY
X-MICROSOFT-CDO-IMPORTANCE:1
END:VEVENT
BEGIN:VEVENT
UID:g204i@games.golnetwork.com
LOCATION:Jesse Ketchum 2
GEO:45.10662;-94.578209
CREATED:20120913T163813Z
DTSTART:20120930T220000Z
DTEND:20120930T230000Z
DTSTAMP:20260426T013652Z
SUMMARY:Spider Pigs vs. XTSC Power Demons
DESCRIPTION:XTSC Power Demons vs. Spider PigsMore info: #40
X-ALT-DESC;FMTTYPE=text/html:<!DOCTYPE HTML PUBLIC "-//W3C//DTD HTML 3.2//E
	N">\n<HTML>\n<HEAD>\n<TITLE></TITLE>\n</HEAD>\n<BODY>\n<h3>XTSC Power Demon
	s vs. Spider Pigs</h3>More info: <a href="https://www.golnetwork.com/game/v
	/18747/">#40</a>\n\n</BODY>\n</HTML>
STATUS:CONFIRMED
CLASS:PUBLIC
URL:https://www.golnetwork.com/game/v/18747/
X-MICROSOFT-CDO-BUSYSTATUS:BUSY
X-MICROSOFT-CDO-IMPORTANCE:1
END:VEVENT
BEGIN:VEVENT
UID:g204k@games.golnetwork.com
LOCATION:Jesse Ketchum 1
GEO:45.10662;-94.578209
CREATED:20120913T164418Z
DTSTART:20121007T203000Z
DTEND:20121007T213000Z
DTSTAMP:20260426T013652Z
SUMMARY:Grasshoppers United vs. Specter FC
DESCRIPTION:Specter FC vs. Grasshoppers UnitedMore info: #48
X-ALT-DESC;FMTTYPE=text/html:<!DOCTYPE HTML PUBLIC "-//W3C//DTD HTML 3.2//E
	N">\n<HTML>\n<HEAD>\n<TITLE></TITLE>\n</HEAD>\n<BODY>\n<h3>Specter FC vs. G
	rasshoppers United</h3>More info: <a href="https://www.golnetwork.com/game/
	v/18748/">#48</a>\n\n</BODY>\n</HTML>
STATUS:CONFIRMED
CLASS:PUBLIC
URL:https://www.golnetwork.com/game/v/18748/
X-MICROSOFT-CDO-BUSYSTATUS:BUSY
X-MICROSOFT-CDO-IMPORTANCE:1
END:VEVENT
BEGIN:VEVENT
UID:g204q@games.golnetwork.com
LOCATION:Jesse Ketchum 1
GEO:45.10662;-94.578209
CREATED:20120913T164418Z
DTSTART:20121007T213000Z
DTEND:20121007T223000Z
DTSTAMP:20260426T013652Z
SUMMARY:Black & Drunken Goonies vs. Spider Pigs
DESCRIPTION:Spider Pigs vs. Black & Drunken GooniesMore info: #49
X-ALT-DESC;FMTTYPE=text/html:<!DOCTYPE HTML PUBLIC "-//W3C//DTD HTML 3.2//E
	N">\n<HTML>\n<HEAD>\n<TITLE></TITLE>\n</HEAD>\n<BODY>\n<h3>Spider Pigs vs. 
	Black & Drunken Goonies</h3>More info: <a href="https://www.golnetwork.com/
	game/v/18751/">#49</a>\n\n</BODY>\n</HTML>
STATUS:CONFIRMED
CLASS:PUBLIC
URL:https://www.golnetwork.com/game/v/18751/
X-MICROSOFT-CDO-BUSYSTATUS:BUSY
X-MICROSOFT-CDO-IMPORTANCE:1
END:VEVENT
BEGIN:VEVENT
UID:g260m@games.golnetwork.com
LOCATION:Jesse Ketchum 1
GEO:45.10662;-94.578209
CREATED:20120925T181143Z
DTSTART:20121014T193000Z
DTEND:20121014T203000Z
DTSTAMP:20260426T013652Z
SUMMARY:XTSC Power Demons vs. Specter FC
DESCRIPTION:Specter FC vs. XTSC Power DemonsMore info: #55
X-ALT-DESC;FMTTYPE=text/html:<!DOCTYPE HTML PUBLIC "-//W3C//DTD HTML 3.2//E
	N">\n<HTML>\n<HEAD>\n<TITLE></TITLE>\n</HEAD>\n<BODY>\n<h3>Specter FC vs. X
	TSC Power Demons</h3>More info: <a href="https://www.golnetwork.com/game/v/
	20882/">#55</a>\n\n</BODY>\n</HTML>
STATUS:CONFIRMED
CLASS:PUBLIC
URL:https://www.golnetwork.com/game/v/20882/
X-MICROSOFT-CDO-BUSYSTATUS:BUSY
X-MICROSOFT-CDO-IMPORTANCE:1
END:VEVENT
BEGIN:VEVENT
UID:g26qo@games.golnetwork.com
LOCATION:Jesse Ketchum 2
GEO:45.10662;-94.578209
CREATED:20121003T221850Z
DTSTART:20121014T193000Z
DTEND:20121014T203000Z
DTSTAMP:20260426T013652Z
SUMMARY:XTSC Mambo Kings (White) vs. Spider Pigs
DESCRIPTION:Spider Pigs vs. XTSC Mambo Kings (White)More info: #56
X-ALT-DESC;FMTTYPE=text/html:<!DOCTYPE HTML PUBLIC "-//W3C//DTD HTML 3.2//E
	N">\n<HTML>\n<HEAD>\n<TITLE></TITLE>\n</HEAD>\n<BODY>\n<h3>Spider Pigs vs. 
	XTSC Mambo Kings (White)</h3>More info: <a href="https://www.golnetwork.com
	/game/v/21234/">#56</a>\n\n</BODY>\n</HTML>
STATUS:CONFIRMED
CLASS:PUBLIC
URL:https://www.golnetwork.com/game/v/21234/
X-MICROSOFT-CDO-BUSYSTATUS:BUSY
X-MICROSOFT-CDO-IMPORTANCE:1
END:VEVENT
BEGIN:VEVENT
UID:g205b@games.golnetwork.com
LOCATION:Jesse Ketchum 1
GEO:45.10662;-94.578209
CREATED:20120913T164815Z
DTSTART:20121014T203000Z
DTEND:20121014T213000Z
DTSTAMP:20260426T013652Z
SUMMARY:Grasshoppers United vs. Black & Drunken Goonies
DESCRIPTION:Black & Drunken Goonies vs. Grasshoppers UnitedMore info: #57
X-ALT-DESC;FMTTYPE=text/html:<!DOCTYPE HTML PUBLIC "-//W3C//DTD HTML 3.2//E
	N">\n<HTML>\n<HEAD>\n<TITLE></TITLE>\n</HEAD>\n<BODY>\n<h3>Black & Drunken 
	Goonies vs. Grasshoppers United</h3>More info: <a href="https://www.golnetw
	ork.com/game/v/18757/">#57</a>\n\n</BODY>\n</HTML>
STATUS:CONFIRMED
CLASS:PUBLIC
URL:https://www.golnetwork.com/game/v/18757/
X-MICROSOFT-CDO-BUSYSTATUS:BUSY
X-MICROSOFT-CDO-IMPORTANCE:1
END:VEVENT
BEGIN:VEVENT
UID:g26qq@games.golnetwork.com
LOCATION:Jesse Ketchum 1
GEO:45.10662;-94.578209
CREATED:20121003T222025Z
DTSTART:20121014T213000Z
DTEND:20121014T223000Z
DTSTAMP:20260426T013652Z
SUMMARY:XTSC Mambo Kings (White) vs. Black & Drunken Goonies
DESCRIPTION:Black & Drunken Goonies vs. XTSC Mambo Kings (White)More info: 
	#58
X-ALT-DESC;FMTTYPE=text/html:<!DOCTYPE HTML PUBLIC "-//W3C//DTD HTML 3.2//E
	N">\n<HTML>\n<HEAD>\n<TITLE></TITLE>\n</HEAD>\n<BODY>\n<h3>Black & Drunken 
	Goonies vs. XTSC Mambo Kings (White)</h3>More info: <a href="https://www.go
	lnetwork.com/game/v/21235/">#58</a>\n\n</BODY>\n</HTML>
STATUS:RESCHEDULED
CLASS:PUBLIC
URL:https://www.golnetwork.com/game/v/21235/
X-MICROSOFT-CDO-BUSYSTATUS:BUSY
X-MICROSOFT-CDO-IMPORTANCE:1
END:VEVENT
BEGIN:VEVENT
UID:g2701@games.golnetwork.com
LOCATION:Jesse Ketchum 2
GEO:45.10662;-94.578209
CREATED:20121003T222102Z
DTSTART:20121014T213000Z
DTEND:20121014T223000Z
DTSTAMP:20260426T013652Z
SUMMARY:XTSC Power Demons vs. Grasshoppers United
DESCRIPTION:Grasshoppers United vs. XTSC Power DemonsMore info: #59
X-ALT-DESC;FMTTYPE=text/html:<!DOCTYPE HTML PUBLIC "-//W3C//DTD HTML 3.2//E
	N">\n<HTML>\n<HEAD>\n<TITLE></TITLE>\n</HEAD>\n<BODY>\n<h3>Grasshoppers Uni
	ted vs. XTSC Power Demons</h3>More info: <a href="https://www.golnetwork.co
	m/game/v/21236/">#59</a>\n\n</BODY>\n</HTML>
STATUS:RESCHEDULED
CLASS:PUBLIC
URL:https://www.golnetwork.com/game/v/21236/
X-MICROSOFT-CDO-BUSYSTATUS:BUSY
X-MICROSOFT-CDO-IMPORTANCE:1
END:VEVENT
BEGIN:VEVENT
UID:g26i2@games.golnetwork.com
LOCATION:Jesse Ketchum 1
GEO:45.10662;-94.578209
CREATED:20121001T014843Z
DTSTART:20121021T193000Z
DTEND:20121021T203000Z
DTSTAMP:20260426T013652Z
SUMMARY:Spider Pigs vs. XTSC Mambo Kings (White)
DESCRIPTION:XTSC Mambo Kings (White) vs. Spider PigsMore info: #66
X-ALT-DESC;FMTTYPE=text/html:<!DOCTYPE HTML PUBLIC "-//W3C//DTD HTML 3.2//E
	N">\n<HTML>\n<HEAD>\n<TITLE></TITLE>\n</HEAD>\n<BODY>\n<h3>XTSC Mambo Kings
	 (White) vs. Spider Pigs</h3>More info: <a href="https://www.golnetwork.com
	/game/v/21115/">#66</a>\n\n</BODY>\n</HTML>
STATUS:CONFIRMED
CLASS:PUBLIC
URL:https://www.golnetwork.com/game/v/21115/
X-MICROSOFT-CDO-BUSYSTATUS:BUSY
X-MICROSOFT-CDO-IMPORTANCE:1
END:VEVENT
BEGIN:VEVENT
UID:g26hp@games.golnetwork.com
LOCATION:Jesse Ketchum 1
GEO:45.10662;-94.578209
CREATED:20121001T014843Z
DTSTART:20121021T193000Z
DTEND:20121021T203000Z
DTSTAMP:20260426T013652Z
SUMMARY:Specter FC vs. Grasshoppers United
DESCRIPTION:Grasshoppers United vs. Specter FCMore info: #65
X-ALT-DESC;FMTTYPE=text/html:<!DOCTYPE HTML PUBLIC "-//W3C//DTD HTML 3.2//E
	N">\n<HTML>\n<HEAD>\n<TITLE></TITLE>\n</HEAD>\n<BODY>\n<h3>Grasshoppers Uni
	ted vs. Specter FC</h3>More info: <a href="https://www.golnetwork.com/game/
	v/21113/">#65</a>\n\n</BODY>\n</HTML>
STATUS:CONFIRMED
CLASS:PUBLIC
URL:https://www.golnetwork.com/game/v/21113/
X-MICROSOFT-CDO-BUSYSTATUS:BUSY
X-MICROSOFT-CDO-IMPORTANCE:1
END:VEVENT
BEGIN:VEVENT
UID:g2882@games.golnetwork.com
LOCATION:Jesse Ketchum 1
GEO:45.10662;-94.578209
CREATED:20121016T193849Z
DTSTART:20121021T203000Z
DTEND:20121021T213000Z
DTSTAMP:20260426T013652Z
SUMMARY:XTSC Power Demons vs. Grasshoppers United
DESCRIPTION:Grasshoppers United vs. XTSC Power DemonsMore info: R#59
X-ALT-DESC;FMTTYPE=text/html:<!DOCTYPE HTML PUBLIC "-//W3C//DTD HTML 3.2//E
	N">\n<HTML>\n<HEAD>\n<TITLE></TITLE>\n</HEAD>\n<BODY>\n<h3>Grasshoppers Uni
	ted vs. XTSC Power Demons</h3>More info: <a href="https://www.golnetwork.co
	m/game/v/21709/">R#59</a>\n\n</BODY>\n</HTML>
STATUS:CONFIRMED
CLASS:PUBLIC
URL:https://www.golnetwork.com/game/v/21709/
X-MICROSOFT-CDO-BUSYSTATUS:BUSY
X-MICROSOFT-CDO-IMPORTANCE:1
END:VEVENT
BEGIN:VEVENT
UID:g2884@games.golnetwork.com
LOCATION:Jesse Ketchum 1
GEO:45.10662;-94.578209
CREATED:20121016T194633Z
DTSTART:20121021T203000Z
DTEND:20121021T213000Z
DTSTAMP:20260426T013652Z
SUMMARY:Black & Drunken Goonies vs. XTSC Mambo Kings (White)
DESCRIPTION:XTSC Mambo Kings (White) vs. Black & Drunken GooniesMore info: 
	#68
X-ALT-DESC;FMTTYPE=text/html:<!DOCTYPE HTML PUBLIC "-//W3C//DTD HTML 3.2//E
	N">\n<HTML>\n<HEAD>\n<TITLE></TITLE>\n</HEAD>\n<BODY>\n<h3>XTSC Mambo Kings
	 (White) vs. Black & Drunken Goonies</h3>More info: <a href="https://www.go
	lnetwork.com/game/v/21710/">#68</a>\n\n</BODY>\n</HTML>
STATUS:CONFIRMED
CLASS:PUBLIC
URL:https://www.golnetwork.com/game/v/21710/
X-MICROSOFT-CDO-BUSYSTATUS:BUSY
X-MICROSOFT-CDO-IMPORTANCE:1
END:VEVENT
BEGIN:VEVENT
UID:g2886@games.golnetwork.com
LOCATION:Jesse Ketchum 2
GEO:45.10662;-94.578209
CREATED:20121016T194727Z
DTSTART:20121021T213000Z
DTEND:20121021T223000Z
DTSTAMP:20260426T013652Z
SUMMARY:XTSC Power Demons vs. Black & Drunken Goonies
DESCRIPTION:Black & Drunken Goonies vs. XTSC Power DemonsMore info: R#58
X-ALT-DESC;FMTTYPE=text/html:<!DOCTYPE HTML PUBLIC "-//W3C//DTD HTML 3.2//E
	N">\n<HTML>\n<HEAD>\n<TITLE></TITLE>\n</HEAD>\n<BODY>\n<h3>Black & Drunken 
	Goonies vs. XTSC Power Demons</h3>More info: <a href="https://www.golnetwor
	k.com/game/v/21711/">R#58</a>\n\n</BODY>\n</HTML>
STATUS:CONFIRMED
CLASS:PUBLIC
URL:https://www.golnetwork.com/game/v/21711/
X-MICROSOFT-CDO-BUSYSTATUS:BUSY
X-MICROSOFT-CDO-IMPORTANCE:1
END:VEVENT
BEGIN:VEVENT
UID:g26i4@games.golnetwork.com
LOCATION:Jesse Ketchum 1
GEO:45.10662;-94.578209
CREATED:20121001T014843Z
DTSTART:20121028T193000Z
DTEND:20121028T203000Z
DTSTAMP:20260426T013652Z
SUMMARY:XTSC Mambo Kings (White) vs. Spider Pigs
DESCRIPTION:Spider Pigs vs. XTSC Mambo Kings (White)More info: #75
X-ALT-DESC;FMTTYPE=text/html:<!DOCTYPE HTML PUBLIC "-//W3C//DTD HTML 3.2//E
	N">\n<HTML>\n<HEAD>\n<TITLE></TITLE>\n</HEAD>\n<BODY>\n<h3>Spider Pigs vs. 
	XTSC Mambo Kings (White)</h3>More info: <a href="https://www.golnetwork.com
	/game/v/21116/">#75</a>\n\n</BODY>\n</HTML>
STATUS:CONFIRMED
CLASS:PUBLIC
URL:https://www.golnetwork.com/game/v/21116/
X-MICROSOFT-CDO-BUSYSTATUS:BUSY
X-MICROSOFT-CDO-IMPORTANCE:1
END:VEVENT
BEGIN:VEVENT
UID:g26i6@games.golnetwork.com
LOCATION:Jesse Ketchum 1
GEO:45.10662;-94.578209
CREATED:20121001T014843Z
DTSTART:20121028T203000Z
DTEND:20121028T213000Z
DTSTAMP:20260426T013652Z
SUMMARY:Grasshoppers United vs. Black & Drunken Goonies
DESCRIPTION:Black & Drunken Goonies vs. Grasshoppers UnitedMore info: #76
X-ALT-DESC;FMTTYPE=text/html:<!DOCTYPE HTML PUBLIC "-//W3C//DTD HTML 3.2//E
	N">\n<HTML>\n<HEAD>\n<TITLE></TITLE>\n</HEAD>\n<BODY>\n<h3>Black & Drunken 
	Goonies vs. Grasshoppers United</h3>More info: <a href="https://www.golnetw
	ork.com/game/v/21117/">#76</a>\n\n</BODY>\n</HTML>
STATUS:CONFIRMED
CLASS:PUBLIC
URL:https://www.golnetwork.com/game/v/21117/
X-MICROSOFT-CDO-BUSYSTATUS:BUSY
X-MICROSOFT-CDO-IMPORTANCE:1
END:VEVENT
BEGIN:VEVENT
UID:g26i8@games.golnetwork.com
LOCATION:Jesse Ketchum 1
GEO:45.10662;-94.578209
CREATED:20121001T014843Z
DTSTART:20121028T213000Z
DTEND:20121028T223000Z
DTSTAMP:20260426T013652Z
SUMMARY:Specter FC vs. XTSC Power Demons
DESCRIPTION:XTSC Power Demons vs. Specter FCMore info: #77
X-ALT-DESC;FMTTYPE=text/html:<!DOCTYPE HTML PUBLIC "-//W3C//DTD HTML 3.2//E
	N">\n<HTML>\n<HEAD>\n<TITLE></TITLE>\n</HEAD>\n<BODY>\n<h3>XTSC Power Demon
	s vs. Specter FC</h3>More info: <a href="https://www.golnetwork.com/game/v/
	21118/">#77</a>\n\n</BODY>\n</HTML>
STATUS:CONFIRMED
CLASS:PUBLIC
URL:https://www.golnetwork.com/game/v/21118/
X-MICROSOFT-CDO-BUSYSTATUS:BUSY
X-MICROSOFT-CDO-IMPORTANCE:1
END:VEVENT
END:VCALENDAR
