BEGIN:VCALENDAR
PRODID:-//gdesolutions.com//MV Framework 1.0.0.1607 Calendar//EN
VERSION:2.0
METHOD:PUBLISH
CALSCALE:GREGORIAN
BEGIN:VEVENT
UID:g25cl@games.golnetwork.com
LOCATION:CVM - Court #1
GEO:45.5146585;-73.5658635
CREATED:20120923T003040Z
DTSTART:20130313T233000Z
DTEND:20130314T003000Z
DTSTAMP:20260423T170400Z
SUMMARY:SWIISH vs. PWC
DESCRIPTION:PWC vs. SWIISHMore info: #96
X-ALT-DESC;FMTTYPE=text/html:<!DOCTYPE HTML PUBLIC "-//W3C//DTD HTML 3.2//E
	N">\n<HTML>\n<HEAD>\n<TITLE></TITLE>\n</HEAD>\n<BODY>\n<h3>PWC vs. SWIISH</
	h3>More info: <a href="https://www.golnetwork.com/game/v/20679/">#96</a>\n\
	n</BODY>\n</HTML>
STATUS:CONFIRMED
CLASS:PUBLIC
URL:https://www.golnetwork.com/game/v/20679/
X-MICROSOFT-CDO-BUSYSTATUS:BUSY
X-MICROSOFT-CDO-IMPORTANCE:1
END:VEVENT
BEGIN:VEVENT
UID:g25cn@games.golnetwork.com
LOCATION:CVM - Court #1
GEO:45.5146585;-73.5658635
CREATED:20120923T003052Z
DTSTART:20130314T013000Z
DTEND:20130314T023000Z
DTSTAMP:20260423T170400Z
SUMMARY:GRONDIN vs. KPMG
DESCRIPTION:KPMG vs. GRONDINMore info: #97
X-ALT-DESC;FMTTYPE=text/html:<!DOCTYPE HTML PUBLIC "-//W3C//DTD HTML 3.2//E
	N">\n<HTML>\n<HEAD>\n<TITLE></TITLE>\n</HEAD>\n<BODY>\n<h3>KPMG vs. GRONDIN
	</h3>More info: <a href="https://www.golnetwork.com/game/v/20680/">#97</a>\
	n\n</BODY>\n</HTML>
STATUS:CONFIRMED
CLASS:PUBLIC
URL:https://www.golnetwork.com/game/v/20680/
X-MICROSOFT-CDO-BUSYSTATUS:BUSY
X-MICROSOFT-CDO-IMPORTANCE:1
END:VEVENT
BEGIN:VEVENT
UID:g25cp@games.golnetwork.com
LOCATION:CVM - Court #1
GEO:45.5146585;-73.5658635
CREATED:20120923T003113Z
DTSTART:20130321T001500Z
DTEND:20130321T011500Z
DTSTAMP:20260423T170400Z
SUMMARY:SWIISH vs. CEPS
DESCRIPTION:CEPS vs. SWIISHMore info: #98
X-ALT-DESC;FMTTYPE=text/html:<!DOCTYPE HTML PUBLIC "-//W3C//DTD HTML 3.2//E
	N">\n<HTML>\n<HEAD>\n<TITLE></TITLE>\n</HEAD>\n<BODY>\n<h3>CEPS vs. SWIISH<
	/h3>More info: <a href="https://www.golnetwork.com/game/v/20681/">#98</a>\n
	\n</BODY>\n</HTML>
STATUS:CONFIRMED
CLASS:PUBLIC
URL:https://www.golnetwork.com/game/v/20681/
X-MICROSOFT-CDO-BUSYSTATUS:BUSY
X-MICROSOFT-CDO-IMPORTANCE:1
END:VEVENT
BEGIN:VEVENT
UID:g25d4@games.golnetwork.com
LOCATION:CVM - Court #1
GEO:45.5146585;-73.5658635
CREATED:20120923T003155Z
DTSTART:20130321T011500Z
DTEND:20130321T021500Z
DTSTAMP:20260423T170400Z
SUMMARY:BISAILLON vs. GRONDIN
DESCRIPTION:GRONDIN vs. BISAILLONMore info: #99
X-ALT-DESC;FMTTYPE=text/html:<!DOCTYPE HTML PUBLIC "-//W3C//DTD HTML 3.2//E
	N">\n<HTML>\n<HEAD>\n<TITLE></TITLE>\n</HEAD>\n<BODY>\n<h3>GRONDIN vs. BISA
	ILLON</h3>More info: <a href="https://www.golnetwork.com/game/v/20684/">#99
	</a>\n\n</BODY>\n</HTML>
STATUS:CONFIRMED
CLASS:PUBLIC
URL:https://www.golnetwork.com/game/v/20684/
X-MICROSOFT-CDO-BUSYSTATUS:BUSY
X-MICROSOFT-CDO-IMPORTANCE:1
END:VEVENT
BEGIN:VEVENT
UID:g25d0@games.golnetwork.com
LOCATION:CVM - Court #1
GEO:45.5146585;-73.5658635
CREATED:20120923T003127Z
DTSTART:20130328T003000Z
DTEND:20130328T013000Z
DTSTAMP:20260423T170400Z
SUMMARY:EY vs. DELOITTE
DESCRIPTION:DELOITTE vs. EYMore info: #100
X-ALT-DESC;FMTTYPE=text/html:<!DOCTYPE HTML PUBLIC "-//W3C//DTD HTML 3.2//E
	N">\n<HTML>\n<HEAD>\n<TITLE></TITLE>\n</HEAD>\n<BODY>\n<h3>DELOITTE vs. EY<
	/h3>More info: <a href="https://www.golnetwork.com/game/v/20682/">#100</a>\
	n\n</BODY>\n</HTML>
STATUS:CONFIRMED
CLASS:PUBLIC
URL:https://www.golnetwork.com/game/v/20682/
X-MICROSOFT-CDO-BUSYSTATUS:BUSY
X-MICROSOFT-CDO-IMPORTANCE:1
END:VEVENT
BEGIN:VEVENT
UID:g25d2@games.golnetwork.com
LOCATION:CVM - Court #1
GEO:45.5146585;-73.5658635
CREATED:20120923T003137Z
DTSTART:20130328T013000Z
DTEND:20130328T023000Z
DTSTAMP:20260423T170400Z
SUMMARY:YOUNAN vs. ROSE
DESCRIPTION:ROSE vs. YOUNANMore info: #101
X-ALT-DESC;FMTTYPE=text/html:<!DOCTYPE HTML PUBLIC "-//W3C//DTD HTML 3.2//E
	N">\n<HTML>\n<HEAD>\n<TITLE></TITLE>\n</HEAD>\n<BODY>\n<h3>ROSE vs. YOUNAN<
	/h3>More info: <a href="https://www.golnetwork.com/game/v/20683/">#101</a>\
	n\n</BODY>\n</HTML>
STATUS:CONFIRMED
CLASS:PUBLIC
URL:https://www.golnetwork.com/game/v/20683/
X-MICROSOFT-CDO-BUSYSTATUS:BUSY
X-MICROSOFT-CDO-IMPORTANCE:1
END:VEVENT
BEGIN:VEVENT
UID:g25d8@games.golnetwork.com
LOCATION:CVM - Court #2
GEO:45.5146585;-73.5658635
CREATED:20120923T003253Z
DTSTART:20130403T000000Z
DTEND:20130403T013000Z
DTSTAMP:20260423T170400Z
SUMMARY:YOUNAN vs. CEPS
DESCRIPTION:CEPS vs. YOUNANMore info: #102
X-ALT-DESC;FMTTYPE=text/html:<!DOCTYPE HTML PUBLIC "-//W3C//DTD HTML 3.2//E
	N">\n<HTML>\n<HEAD>\n<TITLE></TITLE>\n</HEAD>\n<BODY>\n<h3>CEPS vs. YOUNAN<
	/h3>More info: <a href="https://www.golnetwork.com/game/v/20686/">#102</a>\
	n\n</BODY>\n</HTML>
STATUS:CONFIRMED
CLASS:PUBLIC
URL:https://www.golnetwork.com/game/v/20686/
X-MICROSOFT-CDO-BUSYSTATUS:BUSY
X-MICROSOFT-CDO-IMPORTANCE:1
END:VEVENT
BEGIN:VEVENT
UID:g25d6@games.golnetwork.com
LOCATION:CVM - Court #2
GEO:45.5146585;-73.5658635
CREATED:20120923T003235Z
DTSTART:20130403T011500Z
DTEND:20130403T024500Z
DTSTAMP:20260423T170400Z
SUMMARY:EY vs. BISAILLON
DESCRIPTION:BISAILLON vs. EYMore info: #103
X-ALT-DESC;FMTTYPE=text/html:<!DOCTYPE HTML PUBLIC "-//W3C//DTD HTML 3.2//E
	N">\n<HTML>\n<HEAD>\n<TITLE></TITLE>\n</HEAD>\n<BODY>\n<h3>BISAILLON vs. EY
	</h3>More info: <a href="https://www.golnetwork.com/game/v/20685/">#103</a>
	\n\n</BODY>\n</HTML>
STATUS:CONFIRMED
CLASS:PUBLIC
URL:https://www.golnetwork.com/game/v/20685/
X-MICROSOFT-CDO-BUSYSTATUS:BUSY
X-MICROSOFT-CDO-IMPORTANCE:1
END:VEVENT
BEGIN:VEVENT
UID:g25da@games.golnetwork.com
LOCATION:CVM - Court #1
GEO:45.5146585;-73.5658635
CREATED:20120923T003320Z
DTSTART:20130404T004500Z
DTEND:20130404T021500Z
DTSTAMP:20260423T170400Z
SUMMARY:CEPS vs. EY
DESCRIPTION:EY vs. CEPSMore info: #104
X-ALT-DESC;FMTTYPE=text/html:<!DOCTYPE HTML PUBLIC "-//W3C//DTD HTML 3.2//E
	N">\n<HTML>\n<HEAD>\n<TITLE></TITLE>\n</HEAD>\n<BODY>\n<h3>EY vs. CEPS</h3>
	More info: <a href="https://www.golnetwork.com/game/v/20687/">#104</a>\n\n<
	/BODY>\n</HTML>
STATUS:CONFIRMED
CLASS:PUBLIC
URL:https://www.golnetwork.com/game/v/20687/
X-MICROSOFT-CDO-BUSYSTATUS:BUSY
X-MICROSOFT-CDO-IMPORTANCE:1
END:VEVENT
END:VCALENDAR
