BEGIN:VCALENDAR
PRODID:-//gdesolutions.com//MV Framework 1.0.0.1607 Calendar//EN
VERSION:2.0
METHOD:PUBLISH
CALSCALE:GREGORIAN
BEGIN:VEVENT
UID:g2d41@games.golnetwork.com
LOCATION:Lamport Stadium Field 2
GEO:43.639337;-79.4248954
CREATED:20121112T171533Z
DTSTART:20121117T180000Z
DTEND:20121117T190000Z
DTSTAMP:20260419T223524Z
SUMMARY:Magos vs. Tomorrowland FC
DESCRIPTION:Tomorrowland FC vs. MagosMore info: #14
X-ALT-DESC;FMTTYPE=text/html:<!DOCTYPE HTML PUBLIC "-//W3C//DTD HTML 3.2//E
	N">\n<HTML>\n<HEAD>\n<TITLE></TITLE>\n</HEAD>\n<BODY>\n<h3>Tomorrowland FC 
	vs. Magos</h3>More info: <a href="https://www.golnetwork.com/game/v/23477/"
	>#14</a>\n\n</BODY>\n</HTML>
STATUS:CONFIRMED
CLASS:PUBLIC
URL:https://www.golnetwork.com/game/v/23477/
X-MICROSOFT-CDO-BUSYSTATUS:BUSY
X-MICROSOFT-CDO-IMPORTANCE:1
END:VEVENT
BEGIN:VEVENT
UID:g2d43@games.golnetwork.com
LOCATION:Lamport Stadium Field 2
GEO:43.639337;-79.4248954
CREATED:20121112T171533Z
DTSTART:20121117T190000Z
DTEND:20121117T200000Z
DTSTAMP:20260419T223524Z
SUMMARY:Onetouchables FC vs. The Worst Team Ever
DESCRIPTION:The Worst Team Ever vs. Onetouchables FCMore info: #17
X-ALT-DESC;FMTTYPE=text/html:<!DOCTYPE HTML PUBLIC "-//W3C//DTD HTML 3.2//E
	N">\n<HTML>\n<HEAD>\n<TITLE></TITLE>\n</HEAD>\n<BODY>\n<h3>The Worst Team E
	ver vs. Onetouchables FC</h3>More info: <a href="https://www.golnetwork.com
	/game/v/23478/">#17</a>\n\n</BODY>\n</HTML>
STATUS:CONFIRMED
CLASS:PUBLIC
URL:https://www.golnetwork.com/game/v/23478/
X-MICROSOFT-CDO-BUSYSTATUS:BUSY
X-MICROSOFT-CDO-IMPORTANCE:1
END:VEVENT
BEGIN:VEVENT
UID:g2d45@games.golnetwork.com
LOCATION:Lamport Stadium Field 2
GEO:43.639337;-79.4248954
CREATED:20121112T171533Z
DTSTART:20121117T200000Z
DTEND:20121117T210000Z
DTSTAMP:20260419T223524Z
SUMMARY:Onetouchables FC vs. Sporting Chance (White)
DESCRIPTION:Sporting Chance (White) vs. Onetouchables FCMore info: #20
X-ALT-DESC;FMTTYPE=text/html:<!DOCTYPE HTML PUBLIC "-//W3C//DTD HTML 3.2//E
	N">\n<HTML>\n<HEAD>\n<TITLE></TITLE>\n</HEAD>\n<BODY>\n<h3>Sporting Chance 
	(White) vs. Onetouchables FC</h3>More info: <a href="https://www.golnetwork
	.com/game/v/23479/">#20</a>\n\n</BODY>\n</HTML>
STATUS:CONFIRMED
CLASS:PUBLIC
URL:https://www.golnetwork.com/game/v/23479/
X-MICROSOFT-CDO-BUSYSTATUS:BUSY
X-MICROSOFT-CDO-IMPORTANCE:1
END:VEVENT
BEGIN:VEVENT
UID:g2dnq@games.golnetwork.com
LOCATION:Lamport Stadium Field 2
GEO:43.639337;-79.4248954
CREATED:20121119T163325Z
DTSTART:20121124T180000Z
DTEND:20121124T190000Z
DTSTAMP:20260419T223524Z
SUMMARY:The Worst Team Ever vs. Onetouchables FC
DESCRIPTION:Onetouchables FC vs. The Worst Team EverMore info: #46
X-ALT-DESC;FMTTYPE=text/html:<!DOCTYPE HTML PUBLIC "-//W3C//DTD HTML 3.2//E
	N">\n<HTML>\n<HEAD>\n<TITLE></TITLE>\n</HEAD>\n<BODY>\n<h3>Onetouchables FC
	 vs. The Worst Team Ever</h3>More info: <a href="https://www.golnetwork.com
	/game/v/23746/">#46</a>\n\n</BODY>\n</HTML>
STATUS:CONFIRMED
CLASS:PUBLIC
URL:https://www.golnetwork.com/game/v/23746/
X-MICROSOFT-CDO-BUSYSTATUS:BUSY
X-MICROSOFT-CDO-IMPORTANCE:1
END:VEVENT
BEGIN:VEVENT
UID:g2d49@games.golnetwork.com
LOCATION:Lamport Stadium Field 2
GEO:43.639337;-79.4248954
CREATED:20121112T171533Z
DTSTART:20121124T190000Z
DTEND:20121124T200000Z
DTSTAMP:20260419T223524Z
SUMMARY:The Worst Team Ever vs. Magos
DESCRIPTION:Magos vs. The Worst Team EverMore info: #49
X-ALT-DESC;FMTTYPE=text/html:<!DOCTYPE HTML PUBLIC "-//W3C//DTD HTML 3.2//E
	N">\n<HTML>\n<HEAD>\n<TITLE></TITLE>\n</HEAD>\n<BODY>\n<h3>Magos vs. The Wo
	rst Team Ever</h3>More info: <a href="https://www.golnetwork.com/game/v/234
	81/">#49</a>\n\n</BODY>\n</HTML>
STATUS:CONFIRMED
CLASS:PUBLIC
URL:https://www.golnetwork.com/game/v/23481/
X-MICROSOFT-CDO-BUSYSTATUS:BUSY
X-MICROSOFT-CDO-IMPORTANCE:1
END:VEVENT
BEGIN:VEVENT
UID:g2d4b@games.golnetwork.com
LOCATION:Lamport Stadium Field 2
GEO:43.639337;-79.4248954
CREATED:20121112T171533Z
DTSTART:20121124T200000Z
DTEND:20121124T210000Z
DTSTAMP:20260419T223524Z
SUMMARY:Tomorrowland FC vs. Sporting Chance (White)
DESCRIPTION:Sporting Chance (White) vs. Tomorrowland FCMore info: #52
X-ALT-DESC;FMTTYPE=text/html:<!DOCTYPE HTML PUBLIC "-//W3C//DTD HTML 3.2//E
	N">\n<HTML>\n<HEAD>\n<TITLE></TITLE>\n</HEAD>\n<BODY>\n<h3>Sporting Chance 
	(White) vs. Tomorrowland FC</h3>More info: <a href="https://www.golnetwork.
	com/game/v/23482/">#52</a>\n\n</BODY>\n</HTML>
STATUS:CONFIRMED
CLASS:PUBLIC
URL:https://www.golnetwork.com/game/v/23482/
X-MICROSOFT-CDO-BUSYSTATUS:BUSY
X-MICROSOFT-CDO-IMPORTANCE:1
END:VEVENT
BEGIN:VEVENT
UID:g2d4d@games.golnetwork.com
LOCATION:Lamport Stadium Field 2
GEO:43.639337;-79.4248954
CREATED:20121112T171533Z
DTSTART:20121201T180000Z
DTEND:20121201T190000Z
DTSTAMP:20260419T223524Z
SUMMARY:Tomorrowland FC vs. Onetouchables FC
DESCRIPTION:Onetouchables FC vs. Tomorrowland FCMore info: #79
X-ALT-DESC;FMTTYPE=text/html:<!DOCTYPE HTML PUBLIC "-//W3C//DTD HTML 3.2//E
	N">\n<HTML>\n<HEAD>\n<TITLE></TITLE>\n</HEAD>\n<BODY>\n<h3>Onetouchables FC
	 vs. Tomorrowland FC</h3>More info: <a href="https://www.golnetwork.com/gam
	e/v/23483/">#79</a>\n\n</BODY>\n</HTML>
STATUS:CONFIRMED
CLASS:PUBLIC
URL:https://www.golnetwork.com/game/v/23483/
X-MICROSOFT-CDO-BUSYSTATUS:BUSY
X-MICROSOFT-CDO-IMPORTANCE:1
END:VEVENT
BEGIN:VEVENT
UID:g2d4f@games.golnetwork.com
LOCATION:Lamport Stadium Field 2
GEO:43.639337;-79.4248954
CREATED:20121112T171533Z
DTSTART:20121201T190000Z
DTEND:20121201T200000Z
DTSTAMP:20260419T223524Z
SUMMARY:Sporting Chance (White) vs. Magos
DESCRIPTION:Magos vs. Sporting Chance (White)More info: #82
X-ALT-DESC;FMTTYPE=text/html:<!DOCTYPE HTML PUBLIC "-//W3C//DTD HTML 3.2//E
	N">\n<HTML>\n<HEAD>\n<TITLE></TITLE>\n</HEAD>\n<BODY>\n<h3>Magos vs. Sporti
	ng Chance (White)</h3>More info: <a href="https://www.golnetwork.com/game/v
	/23484/">#82</a>\n\n</BODY>\n</HTML>
STATUS:CONFIRMED
CLASS:PUBLIC
URL:https://www.golnetwork.com/game/v/23484/
X-MICROSOFT-CDO-BUSYSTATUS:BUSY
X-MICROSOFT-CDO-IMPORTANCE:1
END:VEVENT
BEGIN:VEVENT
UID:g2d4h@games.golnetwork.com
LOCATION:Lamport Stadium Field 2
GEO:43.639337;-79.4248954
CREATED:20121112T171533Z
DTSTART:20121201T200000Z
DTEND:20121201T210000Z
DTSTAMP:20260419T223524Z
SUMMARY:Sporting Chance (White) vs. The Worst Team Ever
DESCRIPTION:The Worst Team Ever vs. Sporting Chance (White)More info: #85
X-ALT-DESC;FMTTYPE=text/html:<!DOCTYPE HTML PUBLIC "-//W3C//DTD HTML 3.2//E
	N">\n<HTML>\n<HEAD>\n<TITLE></TITLE>\n</HEAD>\n<BODY>\n<h3>The Worst Team E
	ver vs. Sporting Chance (White)</h3>More info: <a href="https://www.golnetw
	ork.com/game/v/23485/">#85</a>\n\n</BODY>\n</HTML>
STATUS:CONFIRMED
CLASS:PUBLIC
URL:https://www.golnetwork.com/game/v/23485/
X-MICROSOFT-CDO-BUSYSTATUS:BUSY
X-MICROSOFT-CDO-IMPORTANCE:1
END:VEVENT
BEGIN:VEVENT
UID:g2d4j@games.golnetwork.com
LOCATION:Lamport Stadium Field 2
GEO:43.639337;-79.4248954
CREATED:20121112T171533Z
DTSTART:20121208T180000Z
DTEND:20121208T190000Z
DTSTAMP:20260419T223524Z
SUMMARY:Magos vs. Tomorrowland FC
DESCRIPTION:Tomorrowland FC vs. MagosMore info: #112
X-ALT-DESC;FMTTYPE=text/html:<!DOCTYPE HTML PUBLIC "-//W3C//DTD HTML 3.2//E
	N">\n<HTML>\n<HEAD>\n<TITLE></TITLE>\n</HEAD>\n<BODY>\n<h3>Tomorrowland FC 
	vs. Magos</h3>More info: <a href="https://www.golnetwork.com/game/v/23486/"
	>#112</a>\n\n</BODY>\n</HTML>
STATUS:CONFIRMED
CLASS:PUBLIC
URL:https://www.golnetwork.com/game/v/23486/
X-MICROSOFT-CDO-BUSYSTATUS:BUSY
X-MICROSOFT-CDO-IMPORTANCE:1
END:VEVENT
BEGIN:VEVENT
UID:g2d4l@games.golnetwork.com
LOCATION:Lamport Stadium Field 2
GEO:43.639337;-79.4248954
CREATED:20121112T171533Z
DTSTART:20121208T190000Z
DTEND:20121208T200000Z
DTSTAMP:20260419T223524Z
SUMMARY:Magos vs. The Worst Team Ever
DESCRIPTION:The Worst Team Ever vs. MagosMore info: #115
X-ALT-DESC;FMTTYPE=text/html:<!DOCTYPE HTML PUBLIC "-//W3C//DTD HTML 3.2//E
	N">\n<HTML>\n<HEAD>\n<TITLE></TITLE>\n</HEAD>\n<BODY>\n<h3>The Worst Team E
	ver vs. Magos</h3>More info: <a href="https://www.golnetwork.com/game/v/234
	87/">#115</a>\n\n</BODY>\n</HTML>
STATUS:CONFIRMED
CLASS:PUBLIC
URL:https://www.golnetwork.com/game/v/23487/
X-MICROSOFT-CDO-BUSYSTATUS:BUSY
X-MICROSOFT-CDO-IMPORTANCE:1
END:VEVENT
BEGIN:VEVENT
UID:g2eik@games.golnetwork.com
LOCATION:Lamport Stadium Field 2
GEO:43.639337;-79.4248954
CREATED:20121210T184317Z
DTSTART:20121208T200000Z
DTEND:20121208T210000Z
DTSTAMP:20260419T223524Z
SUMMARY:Tomorrowland FC vs. Sporting Chance (White)
DESCRIPTION:Sporting Chance (White) vs. Tomorrowland FCMore info: #118
X-ALT-DESC;FMTTYPE=text/html:<!DOCTYPE HTML PUBLIC "-//W3C//DTD HTML 3.2//E
	N">\n<HTML>\n<HEAD>\n<TITLE></TITLE>\n</HEAD>\n<BODY>\n<h3>Sporting Chance 
	(White) vs. Tomorrowland FC</h3>More info: <a href="https://www.golnetwork.
	com/game/v/24040/">#118</a>\n\n</BODY>\n</HTML>
STATUS:CONFIRMED
CLASS:PUBLIC
URL:https://www.golnetwork.com/game/v/24040/
X-MICROSOFT-CDO-BUSYSTATUS:BUSY
X-MICROSOFT-CDO-IMPORTANCE:1
END:VEVENT
BEGIN:VEVENT
UID:g2d4p@games.golnetwork.com
LOCATION:Lamport Stadium Field 2
GEO:43.639337;-79.4248954
CREATED:20121112T171533Z
DTSTART:20121215T180000Z
DTEND:20121215T190000Z
DTSTAMP:20260419T223524Z
SUMMARY:Onetouchables FC vs. Magos
DESCRIPTION:Magos vs. Onetouchables FCMore info: #145
X-ALT-DESC;FMTTYPE=text/html:<!DOCTYPE HTML PUBLIC "-//W3C//DTD HTML 3.2//E
	N">\n<HTML>\n<HEAD>\n<TITLE></TITLE>\n</HEAD>\n<BODY>\n<h3>Magos vs. Onetou
	chables FC</h3>More info: <a href="https://www.golnetwork.com/game/v/23489/
	">#145</a>\n\n</BODY>\n</HTML>
STATUS:CONFIRMED
CLASS:PUBLIC
URL:https://www.golnetwork.com/game/v/23489/
X-MICROSOFT-CDO-BUSYSTATUS:BUSY
X-MICROSOFT-CDO-IMPORTANCE:1
END:VEVENT
BEGIN:VEVENT
UID:g2d50@games.golnetwork.com
LOCATION:Lamport Stadium Field 2
GEO:43.639337;-79.4248954
CREATED:20121112T171533Z
DTSTART:20121215T190000Z
DTEND:20121215T200000Z
DTSTAMP:20260419T223524Z
SUMMARY:Tomorrowland FC vs. Sporting Chance (White)
DESCRIPTION:Sporting Chance (White) vs. Tomorrowland FCMore info: #148
X-ALT-DESC;FMTTYPE=text/html:<!DOCTYPE HTML PUBLIC "-//W3C//DTD HTML 3.2//E
	N">\n<HTML>\n<HEAD>\n<TITLE></TITLE>\n</HEAD>\n<BODY>\n<h3>Sporting Chance 
	(White) vs. Tomorrowland FC</h3>More info: <a href="https://www.golnetwork.
	com/game/v/23490/">#148</a>\n\n</BODY>\n</HTML>
STATUS:CONFIRMED
CLASS:PUBLIC
URL:https://www.golnetwork.com/game/v/23490/
X-MICROSOFT-CDO-BUSYSTATUS:BUSY
X-MICROSOFT-CDO-IMPORTANCE:1
END:VEVENT
BEGIN:VEVENT
UID:g2d52@games.golnetwork.com
LOCATION:Lamport Stadium Field 2
GEO:43.639337;-79.4248954
CREATED:20121112T171533Z
DTSTART:20121215T200000Z
DTEND:20121215T210000Z
DTSTAMP:20260419T223524Z
SUMMARY:Tomorrowland FC vs. The Worst Team Ever
DESCRIPTION:The Worst Team Ever vs. Tomorrowland FCMore info: #151
X-ALT-DESC;FMTTYPE=text/html:<!DOCTYPE HTML PUBLIC "-//W3C//DTD HTML 3.2//E
	N">\n<HTML>\n<HEAD>\n<TITLE></TITLE>\n</HEAD>\n<BODY>\n<h3>The Worst Team E
	ver vs. Tomorrowland FC</h3>More info: <a href="https://www.golnetwork.com/
	game/v/23491/">#151</a>\n\n</BODY>\n</HTML>
STATUS:CONFIRMED
CLASS:PUBLIC
URL:https://www.golnetwork.com/game/v/23491/
X-MICROSOFT-CDO-BUSYSTATUS:BUSY
X-MICROSOFT-CDO-IMPORTANCE:1
END:VEVENT
BEGIN:VEVENT
UID:g2e59@games.golnetwork.com
LOCATION:Lamport Stadium Field 2
GEO:43.639337;-79.4248954
CREATED:20121128T185314Z
DTSTART:20121222T180000Z
DTEND:20121222T190000Z
DTSTAMP:20260419T223524Z
SUMMARY:Sporting Chance (White) vs. Magos
DESCRIPTION:Magos vs. Sporting Chance (White)More info: #178
X-ALT-DESC;FMTTYPE=text/html:<!DOCTYPE HTML PUBLIC "-//W3C//DTD HTML 3.2//E
	N">\n<HTML>\n<HEAD>\n<TITLE></TITLE>\n</HEAD>\n<BODY>\n<h3>Magos vs. Sporti
	ng Chance (White)</h3>More info: <a href="https://www.golnetwork.com/game/v
	/23859/">#178</a>\n\n</BODY>\n</HTML>
STATUS:CONFIRMED
CLASS:PUBLIC
URL:https://www.golnetwork.com/game/v/23859/
X-MICROSOFT-CDO-BUSYSTATUS:BUSY
X-MICROSOFT-CDO-IMPORTANCE:1
END:VEVENT
BEGIN:VEVENT
UID:g2e5b@games.golnetwork.com
LOCATION:Lamport Stadium Field 2
GEO:43.639337;-79.4248954
CREATED:20121128T185332Z
DTSTART:20121222T190000Z
DTEND:20121222T200000Z
DTSTAMP:20260419T223524Z
SUMMARY:Tomorrowland FC vs. Onetouchables FC
DESCRIPTION:Onetouchables FC vs. Tomorrowland FCMore info: #181
X-ALT-DESC;FMTTYPE=text/html:<!DOCTYPE HTML PUBLIC "-//W3C//DTD HTML 3.2//E
	N">\n<HTML>\n<HEAD>\n<TITLE></TITLE>\n</HEAD>\n<BODY>\n<h3>Onetouchables FC
	 vs. Tomorrowland FC</h3>More info: <a href="https://www.golnetwork.com/gam
	e/v/23860/">#181</a>\n\n</BODY>\n</HTML>
STATUS:CONFIRMED
CLASS:PUBLIC
URL:https://www.golnetwork.com/game/v/23860/
X-MICROSOFT-CDO-BUSYSTATUS:BUSY
X-MICROSOFT-CDO-IMPORTANCE:1
END:VEVENT
BEGIN:VEVENT
UID:g2en7@games.golnetwork.com
LOCATION:Lamport Stadium Field 2
GEO:43.639337;-79.4248954
CREATED:20121219T161945Z
DTSTART:20121222T200000Z
DTEND:20121222T210000Z
DTSTAMP:20260419T223524Z
SUMMARY:The Worst Team Ever vs. Tomorrowland FC
DESCRIPTION:Tomorrowland FC vs. The Worst Team EverMore info: #184
X-ALT-DESC;FMTTYPE=text/html:<!DOCTYPE HTML PUBLIC "-//W3C//DTD HTML 3.2//E
	N">\n<HTML>\n<HEAD>\n<TITLE></TITLE>\n</HEAD>\n<BODY>\n<h3>Tomorrowland FC 
	vs. The Worst Team Ever</h3>More info: <a href="https://www.golnetwork.com/
	game/v/24101/">#184</a>\n\n</BODY>\n</HTML>
STATUS:CONFIRMED
CLASS:PUBLIC
URL:https://www.golnetwork.com/game/v/24101/
X-MICROSOFT-CDO-BUSYSTATUS:BUSY
X-MICROSOFT-CDO-IMPORTANCE:1
END:VEVENT
BEGIN:VEVENT
UID:g2e7l@games.golnetwork.com
LOCATION:Lamport Stadium Field 2
GEO:43.639337;-79.4248954
CREATED:20121128T201229Z
DTSTART:20130105T180000Z
DTEND:20130105T190000Z
DTSTAMP:20260419T223524Z
SUMMARY:Onetouchables FC vs. Tomorrowland FC
DESCRIPTION:Tomorrowland FC vs. Onetouchables FCMore info: #201
X-ALT-DESC;FMTTYPE=text/html:<!DOCTYPE HTML PUBLIC "-//W3C//DTD HTML 3.2//E
	N">\n<HTML>\n<HEAD>\n<TITLE></TITLE>\n</HEAD>\n<BODY>\n<h3>Tomorrowland FC 
	vs. Onetouchables FC</h3>More info: <a href="https://www.golnetwork.com/gam
	e/v/23892/">#201</a>\n\n</BODY>\n</HTML>
STATUS:CONFIRMED
CLASS:PUBLIC
URL:https://www.golnetwork.com/game/v/23892/
X-MICROSOFT-CDO-BUSYSTATUS:BUSY
X-MICROSOFT-CDO-IMPORTANCE:1
END:VEVENT
BEGIN:VEVENT
UID:g2e5h@games.golnetwork.com
LOCATION:Lamport Stadium Field 2
GEO:43.639337;-79.4248954
CREATED:20121128T185421Z
DTSTART:20130105T190000Z
DTEND:20130105T200000Z
DTSTAMP:20260419T223524Z
SUMMARY:Sporting Chance (White) vs. Onetouchables FC
DESCRIPTION:Onetouchables FC vs. Sporting Chance (White)More info: #204
X-ALT-DESC;FMTTYPE=text/html:<!DOCTYPE HTML PUBLIC "-//W3C//DTD HTML 3.2//E
	N">\n<HTML>\n<HEAD>\n<TITLE></TITLE>\n</HEAD>\n<BODY>\n<h3>Onetouchables FC
	 vs. Sporting Chance (White)</h3>More info: <a href="https://www.golnetwork
	.com/game/v/23863/">#204</a>\n\n</BODY>\n</HTML>
STATUS:CONFIRMED
CLASS:PUBLIC
URL:https://www.golnetwork.com/game/v/23863/
X-MICROSOFT-CDO-BUSYSTATUS:BUSY
X-MICROSOFT-CDO-IMPORTANCE:1
END:VEVENT
BEGIN:VEVENT
UID:g2e5j@games.golnetwork.com
LOCATION:Lamport Stadium Field 2
GEO:43.639337;-79.4248954
CREATED:20121128T185433Z
DTSTART:20130105T200000Z
DTEND:20130105T210000Z
DTSTAMP:20260419T223524Z
SUMMARY:Magos vs. The Worst Team Ever
DESCRIPTION:The Worst Team Ever vs. MagosMore info: #207
X-ALT-DESC;FMTTYPE=text/html:<!DOCTYPE HTML PUBLIC "-//W3C//DTD HTML 3.2//E
	N">\n<HTML>\n<HEAD>\n<TITLE></TITLE>\n</HEAD>\n<BODY>\n<h3>The Worst Team E
	ver vs. Magos</h3>More info: <a href="https://www.golnetwork.com/game/v/238
	64/">#207</a>\n\n</BODY>\n</HTML>
STATUS:CONFIRMED
CLASS:PUBLIC
URL:https://www.golnetwork.com/game/v/23864/
X-MICROSOFT-CDO-BUSYSTATUS:BUSY
X-MICROSOFT-CDO-IMPORTANCE:1
END:VEVENT
BEGIN:VEVENT
UID:g2e5l@games.golnetwork.com
LOCATION:Lamport Stadium Field 2
GEO:43.639337;-79.4248954
CREATED:20121128T185506Z
DTSTART:20130112T180000Z
DTEND:20130112T190000Z
DTSTAMP:20260419T223524Z
SUMMARY:The Worst Team Ever vs. Tomorrowland FC
DESCRIPTION:Tomorrowland FC vs. The Worst Team EverMore info: #234
X-ALT-DESC;FMTTYPE=text/html:<!DOCTYPE HTML PUBLIC "-//W3C//DTD HTML 3.2//E
	N">\n<HTML>\n<HEAD>\n<TITLE></TITLE>\n</HEAD>\n<BODY>\n<h3>Tomorrowland FC 
	vs. The Worst Team Ever</h3>More info: <a href="https://www.golnetwork.com/
	game/v/23865/">#234</a>\n\n</BODY>\n</HTML>
STATUS:CONFIRMED
CLASS:PUBLIC
URL:https://www.golnetwork.com/game/v/23865/
X-MICROSOFT-CDO-BUSYSTATUS:BUSY
X-MICROSOFT-CDO-IMPORTANCE:1
END:VEVENT
BEGIN:VEVENT
UID:g2en9@games.golnetwork.com
LOCATION:Lamport Stadium Field 2
GEO:43.639337;-79.4248954
CREATED:20121219T162043Z
DTSTART:20130112T190000Z
DTEND:20130112T200000Z
DTSTAMP:20260419T223524Z
SUMMARY:Sporting Chance (White) vs. Onetouchables FC
DESCRIPTION:Onetouchables FC vs. Sporting Chance (White)More info: #237
X-ALT-DESC;FMTTYPE=text/html:<!DOCTYPE HTML PUBLIC "-//W3C//DTD HTML 3.2//E
	N">\n<HTML>\n<HEAD>\n<TITLE></TITLE>\n</HEAD>\n<BODY>\n<h3>Onetouchables FC
	 vs. Sporting Chance (White)</h3>More info: <a href="https://www.golnetwork
	.com/game/v/24102/">#237</a>\n\n</BODY>\n</HTML>
STATUS:CONFIRMED
CLASS:PUBLIC
URL:https://www.golnetwork.com/game/v/24102/
X-MICROSOFT-CDO-BUSYSTATUS:BUSY
X-MICROSOFT-CDO-IMPORTANCE:1
END:VEVENT
BEGIN:VEVENT
UID:g2e5p@games.golnetwork.com
LOCATION:Lamport Stadium Field 2
GEO:43.639337;-79.4248954
CREATED:20121128T185544Z
DTSTART:20130112T200000Z
DTEND:20130112T210000Z
DTSTAMP:20260419T223524Z
SUMMARY:Magos vs. Onetouchables FC
DESCRIPTION:Onetouchables FC vs. MagosMore info: #240
X-ALT-DESC;FMTTYPE=text/html:<!DOCTYPE HTML PUBLIC "-//W3C//DTD HTML 3.2//E
	N">\n<HTML>\n<HEAD>\n<TITLE></TITLE>\n</HEAD>\n<BODY>\n<h3>Onetouchables FC
	 vs. Magos</h3>More info: <a href="https://www.golnetwork.com/game/v/23867/
	">#240</a>\n\n</BODY>\n</HTML>
STATUS:CONFIRMED
CLASS:PUBLIC
URL:https://www.golnetwork.com/game/v/23867/
X-MICROSOFT-CDO-BUSYSTATUS:BUSY
X-MICROSOFT-CDO-IMPORTANCE:1
END:VEVENT
BEGIN:VEVENT
UID:g2d61@games.golnetwork.com
LOCATION:Lamport Stadium Field 2
GEO:43.639337;-79.4248954
CREATED:20121112T175940Z
DTSTART:20130119T180000Z
DTEND:20130119T190000Z
DTSTAMP:20260419T223524Z
SUMMARY:Onetouchables FC vs. The Worst Team Ever
DESCRIPTION:The Worst Team Ever vs. Onetouchables FCMore info: #267
X-ALT-DESC;FMTTYPE=text/html:<!DOCTYPE HTML PUBLIC "-//W3C//DTD HTML 3.2//E
	N">\n<HTML>\n<HEAD>\n<TITLE></TITLE>\n</HEAD>\n<BODY>\n<h3>The Worst Team E
	ver vs. Onetouchables FC</h3>More info: <a href="https://www.golnetwork.com
	/game/v/23504/">#267</a>\n\n</BODY>\n</HTML>
STATUS:CONFIRMED
CLASS:PUBLIC
URL:https://www.golnetwork.com/game/v/23504/
X-MICROSOFT-CDO-BUSYSTATUS:BUSY
X-MICROSOFT-CDO-IMPORTANCE:1
END:VEVENT
BEGIN:VEVENT
UID:g2d63@games.golnetwork.com
LOCATION:Lamport Stadium Field 2
GEO:43.639337;-79.4248954
CREATED:20121112T175950Z
DTSTART:20130119T190000Z
DTEND:20130119T200000Z
DTSTAMP:20260419T223524Z
SUMMARY:Onetouchables FC vs. Tomorrowland FC
DESCRIPTION:Tomorrowland FC vs. Onetouchables FCMore info: #270
X-ALT-DESC;FMTTYPE=text/html:<!DOCTYPE HTML PUBLIC "-//W3C//DTD HTML 3.2//E
	N">\n<HTML>\n<HEAD>\n<TITLE></TITLE>\n</HEAD>\n<BODY>\n<h3>Tomorrowland FC 
	vs. Onetouchables FC</h3>More info: <a href="https://www.golnetwork.com/gam
	e/v/23505/">#270</a>\n\n</BODY>\n</HTML>
STATUS:CONFIRMED
CLASS:PUBLIC
URL:https://www.golnetwork.com/game/v/23505/
X-MICROSOFT-CDO-BUSYSTATUS:BUSY
X-MICROSOFT-CDO-IMPORTANCE:1
END:VEVENT
BEGIN:VEVENT
UID:g2d65@games.golnetwork.com
LOCATION:Lamport Stadium Field 2
GEO:43.639337;-79.4248954
CREATED:20121112T175955Z
DTSTART:20130119T200000Z
DTEND:20130119T210000Z
DTSTAMP:20260419T223524Z
SUMMARY:Sporting Chance (White) vs. Magos
DESCRIPTION:Magos vs. Sporting Chance (White)More info: #273
X-ALT-DESC;FMTTYPE=text/html:<!DOCTYPE HTML PUBLIC "-//W3C//DTD HTML 3.2//E
	N">\n<HTML>\n<HEAD>\n<TITLE></TITLE>\n</HEAD>\n<BODY>\n<h3>Magos vs. Sporti
	ng Chance (White)</h3>More info: <a href="https://www.golnetwork.com/game/v
	/23506/">#273</a>\n\n</BODY>\n</HTML>
STATUS:CONFIRMED
CLASS:PUBLIC
URL:https://www.golnetwork.com/game/v/23506/
X-MICROSOFT-CDO-BUSYSTATUS:BUSY
X-MICROSOFT-CDO-IMPORTANCE:1
END:VEVENT
END:VCALENDAR
