BEGIN:VCALENDAR
PRODID:-//gdesolutions.com//MV Framework 1.0.0.1607 Calendar//EN
VERSION:2.0
METHOD:PUBLISH
CALSCALE:GREGORIAN
BEGIN:VEVENT
UID:g2ebl@games.golnetwork.com
LOCATION:Louis Riel #3
GEO:45.4410208;-75.5715394
CREATED:20121204T205415Z
DTSTART:20121130T000000Z
DTEND:20121130T010000Z
DTSTAMP:20260421T221453Z
SUMMARY:What the FC vs. Pas l'temps de niaser
DESCRIPTION:Pas l'temps de niaser vs. What the FCMore info: #121
X-ALT-DESC;FMTTYPE=text/html:<!DOCTYPE HTML PUBLIC "-//W3C//DTD HTML 3.2//E
	N">\n<HTML>\n<HEAD>\n<TITLE></TITLE>\n</HEAD>\n<BODY>\n<h3>Pas l'temps de n
	iaser vs. What the FC</h3>More info: <a href="https://www.golnetwork.com/ga
	me/v/23946/">#121</a>\n\n</BODY>\n</HTML>
STATUS:CONFIRMED
CLASS:PUBLIC
URL:https://www.golnetwork.com/game/v/23946/
X-MICROSOFT-CDO-BUSYSTATUS:BUSY
X-MICROSOFT-CDO-IMPORTANCE:1
END:VEVENT
BEGIN:VEVENT
UID:g2ebn@games.golnetwork.com
LOCATION:Louis Riel #3
GEO:45.4410208;-75.5715394
CREATED:20121204T205415Z
DTSTART:20121130T010000Z
DTEND:20121130T020000Z
DTSTAMP:20260421T221453Z
SUMMARY:Ineedasub FC vs. Mean Machine
DESCRIPTION:Mean Machine vs. Ineedasub FCMore info: #122
X-ALT-DESC;FMTTYPE=text/html:<!DOCTYPE HTML PUBLIC "-//W3C//DTD HTML 3.2//E
	N">\n<HTML>\n<HEAD>\n<TITLE></TITLE>\n</HEAD>\n<BODY>\n<h3>Mean Machine vs.
	 Ineedasub FC</h3>More info: <a href="https://www.golnetwork.com/game/v/239
	47/">#122</a>\n\n</BODY>\n</HTML>
STATUS:CONFIRMED
CLASS:PUBLIC
URL:https://www.golnetwork.com/game/v/23947/
X-MICROSOFT-CDO-BUSYSTATUS:BUSY
X-MICROSOFT-CDO-IMPORTANCE:1
END:VEVENT
BEGIN:VEVENT
UID:g2ebp@games.golnetwork.com
LOCATION:Louis Riel #3
GEO:45.4410208;-75.5715394
CREATED:20121204T205415Z
DTSTART:20121130T020000Z
DTEND:20121130T030000Z
DTSTAMP:20260421T221453Z
SUMMARY:Ladies N Gents FC vs. Where's Josh
DESCRIPTION:Where's Josh vs. Ladies N Gents FCMore info: #125
X-ALT-DESC;FMTTYPE=text/html:<!DOCTYPE HTML PUBLIC "-//W3C//DTD HTML 3.2//E
	N">\n<HTML>\n<HEAD>\n<TITLE></TITLE>\n</HEAD>\n<BODY>\n<h3>Where's Josh vs.
	 Ladies N Gents FC</h3>More info: <a href="https://www.golnetwork.com/game/
	v/23948/">#125</a>\n\n</BODY>\n</HTML>
STATUS:CONFIRMED
CLASS:PUBLIC
URL:https://www.golnetwork.com/game/v/23948/
X-MICROSOFT-CDO-BUSYSTATUS:BUSY
X-MICROSOFT-CDO-IMPORTANCE:1
END:VEVENT
BEGIN:VEVENT
UID:g2ec0@games.golnetwork.com
LOCATION:Louis Riel #3
GEO:45.4410208;-75.5715394
CREATED:20121204T205415Z
DTSTART:20121130T030000Z
DTEND:20121130T040000Z
DTSTAMP:20260421T221453Z
SUMMARY:Cleat Elite vs. Bayern Neverloosen
DESCRIPTION:Bayern Neverloosen vs. Cleat EliteMore info: #130
X-ALT-DESC;FMTTYPE=text/html:<!DOCTYPE HTML PUBLIC "-//W3C//DTD HTML 3.2//E
	N">\n<HTML>\n<HEAD>\n<TITLE></TITLE>\n</HEAD>\n<BODY>\n<h3>Bayern Neverloos
	en vs. Cleat Elite</h3>More info: <a href="https://www.golnetwork.com/game/
	v/23949/">#130</a>\n\n</BODY>\n</HTML>
STATUS:CONFIRMED
CLASS:PUBLIC
URL:https://www.golnetwork.com/game/v/23949/
X-MICROSOFT-CDO-BUSYSTATUS:BUSY
X-MICROSOFT-CDO-IMPORTANCE:1
END:VEVENT
BEGIN:VEVENT
UID:g2ec2@games.golnetwork.com
LOCATION:Louis Riel #3
GEO:45.4410208;-75.5715394
CREATED:20121204T205415Z
DTSTART:20121207T000000Z
DTEND:20121207T010000Z
DTSTAMP:20260421T221453Z
SUMMARY:Bayern Neverloosen vs. Pas l'temps de niaser
DESCRIPTION:Pas l'temps de niaser vs. Bayern NeverloosenMore info: #133
X-ALT-DESC;FMTTYPE=text/html:<!DOCTYPE HTML PUBLIC "-//W3C//DTD HTML 3.2//E
	N">\n<HTML>\n<HEAD>\n<TITLE></TITLE>\n</HEAD>\n<BODY>\n<h3>Pas l'temps de n
	iaser vs. Bayern Neverloosen</h3>More info: <a href="https://www.golnetwork
	.com/game/v/23950/">#133</a>\n\n</BODY>\n</HTML>
STATUS:CONFIRMED
CLASS:PUBLIC
URL:https://www.golnetwork.com/game/v/23950/
X-MICROSOFT-CDO-BUSYSTATUS:BUSY
X-MICROSOFT-CDO-IMPORTANCE:1
END:VEVENT
BEGIN:VEVENT
UID:g2ec4@games.golnetwork.com
LOCATION:Louis Riel #3
GEO:45.4410208;-75.5715394
CREATED:20121204T205415Z
DTSTART:20121207T010000Z
DTEND:20121207T020000Z
DTSTAMP:20260421T221453Z
SUMMARY:Ladies N Gents FC vs. Mean Machine
DESCRIPTION:Mean Machine vs. Ladies N Gents FCMore info: #134
X-ALT-DESC;FMTTYPE=text/html:<!DOCTYPE HTML PUBLIC "-//W3C//DTD HTML 3.2//E
	N">\n<HTML>\n<HEAD>\n<TITLE></TITLE>\n</HEAD>\n<BODY>\n<h3>Mean Machine vs.
	 Ladies N Gents FC</h3>More info: <a href="https://www.golnetwork.com/game/
	v/23951/">#134</a>\n\n</BODY>\n</HTML>
STATUS:CONFIRMED
CLASS:PUBLIC
URL:https://www.golnetwork.com/game/v/23951/
X-MICROSOFT-CDO-BUSYSTATUS:BUSY
X-MICROSOFT-CDO-IMPORTANCE:1
END:VEVENT
BEGIN:VEVENT
UID:g2ec8@games.golnetwork.com
LOCATION:Louis Riel #2
GEO:45.4410208;-75.5715394
CREATED:20121204T210041Z
DTSTART:20121207T030000Z
DTEND:20121207T040000Z
DTSTAMP:20260421T221453Z
SUMMARY:Cleat Elite vs. What the FC
DESCRIPTION:What the FC vs. Cleat EliteMore info: #141
X-ALT-DESC;FMTTYPE=text/html:<!DOCTYPE HTML PUBLIC "-//W3C//DTD HTML 3.2//E
	N">\n<HTML>\n<HEAD>\n<TITLE></TITLE>\n</HEAD>\n<BODY>\n<h3>What the FC vs. 
	Cleat Elite</h3>More info: <a href="https://www.golnetwork.com/game/v/23953
	/">#141</a>\n\n</BODY>\n</HTML>
STATUS:CONFIRMED
CLASS:PUBLIC
URL:https://www.golnetwork.com/game/v/23953/
X-MICROSOFT-CDO-BUSYSTATUS:BUSY
X-MICROSOFT-CDO-IMPORTANCE:1
END:VEVENT
BEGIN:VEVENT
UID:g2eca@games.golnetwork.com
LOCATION:Louis Riel #1
GEO:45.4410208;-75.5715394
CREATED:20121204T210430Z
DTSTART:20121207T040000Z
DTEND:20121207T050000Z
DTSTAMP:20260421T221453Z
SUMMARY:Where's Josh vs. Ineedasub FC
DESCRIPTION:Ineedasub FC vs. Where's JoshMore info: #143
X-ALT-DESC;FMTTYPE=text/html:<!DOCTYPE HTML PUBLIC "-//W3C//DTD HTML 3.2//E
	N">\n<HTML>\n<HEAD>\n<TITLE></TITLE>\n</HEAD>\n<BODY>\n<h3>Ineedasub FC vs.
	 Where's Josh</h3>More info: <a href="https://www.golnetwork.com/game/v/239
	54/">#143</a>\n\n</BODY>\n</HTML>
STATUS:CONFIRMED
CLASS:PUBLIC
URL:https://www.golnetwork.com/game/v/23954/
X-MICROSOFT-CDO-BUSYSTATUS:BUSY
X-MICROSOFT-CDO-IMPORTANCE:1
END:VEVENT
BEGIN:VEVENT
UID:g2ehj@games.golnetwork.com
LOCATION:Louis Riel #3
GEO:45.4410208;-75.5715394
CREATED:20121207T185912Z
DTSTART:20121214T000000Z
DTEND:20121214T010000Z
DTSTAMP:20260421T221453Z
SUMMARY:Mean Machine vs. Pas l'temps de niaser
DESCRIPTION:Pas l'temps de niaser vs. Mean MachineMore info: #145
X-ALT-DESC;FMTTYPE=text/html:<!DOCTYPE HTML PUBLIC "-//W3C//DTD HTML 3.2//E
	N">\n<HTML>\n<HEAD>\n<TITLE></TITLE>\n</HEAD>\n<BODY>\n<h3>Pas l'temps de n
	iaser vs. Mean Machine</h3>More info: <a href="https://www.golnetwork.com/g
	ame/v/24026/">#145</a>\n\n</BODY>\n</HTML>
STATUS:CONFIRMED
CLASS:PUBLIC
URL:https://www.golnetwork.com/game/v/24026/
X-MICROSOFT-CDO-BUSYSTATUS:BUSY
X-MICROSOFT-CDO-IMPORTANCE:1
END:VEVENT
BEGIN:VEVENT
UID:g2ehl@games.golnetwork.com
LOCATION:Louis Riel #3
GEO:45.4410208;-75.5715394
CREATED:20121207T185956Z
DTSTART:20121214T020000Z
DTEND:20121214T030000Z
DTSTAMP:20260421T221453Z
SUMMARY:Ladies N Gents FC vs. Bayern Neverloosen
DESCRIPTION:Bayern Neverloosen vs. Ladies N Gents FCMore info: #149
X-ALT-DESC;FMTTYPE=text/html:<!DOCTYPE HTML PUBLIC "-//W3C//DTD HTML 3.2//E
	N">\n<HTML>\n<HEAD>\n<TITLE></TITLE>\n</HEAD>\n<BODY>\n<h3>Bayern Neverloos
	en vs. Ladies N Gents FC</h3>More info: <a href="https://www.golnetwork.com
	/game/v/24027/">#149</a>\n\n</BODY>\n</HTML>
STATUS:CONFIRMED
CLASS:PUBLIC
URL:https://www.golnetwork.com/game/v/24027/
X-MICROSOFT-CDO-BUSYSTATUS:BUSY
X-MICROSOFT-CDO-IMPORTANCE:1
END:VEVENT
BEGIN:VEVENT
UID:g2ehn@games.golnetwork.com
LOCATION:Louis Riel #2
GEO:45.4410208;-75.5715394
CREATED:20121207T190021Z
DTSTART:20121214T030000Z
DTEND:20121214T040000Z
DTSTAMP:20260421T221453Z
SUMMARY:Where's Josh vs. Cleat Elite
DESCRIPTION:Cleat Elite vs. Where's JoshMore info: #152
X-ALT-DESC;FMTTYPE=text/html:<!DOCTYPE HTML PUBLIC "-//W3C//DTD HTML 3.2//E
	N">\n<HTML>\n<HEAD>\n<TITLE></TITLE>\n</HEAD>\n<BODY>\n<h3>Cleat Elite vs. 
	Where's Josh</h3>More info: <a href="https://www.golnetwork.com/game/v/2402
	8/">#152</a>\n\n</BODY>\n</HTML>
STATUS:CONFIRMED
CLASS:PUBLIC
URL:https://www.golnetwork.com/game/v/24028/
X-MICROSOFT-CDO-BUSYSTATUS:BUSY
X-MICROSOFT-CDO-IMPORTANCE:1
END:VEVENT
BEGIN:VEVENT
UID:g2ehp@games.golnetwork.com
LOCATION:Louis Riel #3
GEO:45.4410208;-75.5715394
CREATED:20121207T190119Z
DTSTART:20121214T030000Z
DTEND:20121214T040000Z
DTSTAMP:20260421T221453Z
SUMMARY:Ineedasub FC vs. What the FC
DESCRIPTION:What the FC vs. Ineedasub FCMore info: #153
X-ALT-DESC;FMTTYPE=text/html:<!DOCTYPE HTML PUBLIC "-//W3C//DTD HTML 3.2//E
	N">\n<HTML>\n<HEAD>\n<TITLE></TITLE>\n</HEAD>\n<BODY>\n<h3>What the FC vs. 
	Ineedasub FC</h3>More info: <a href="https://www.golnetwork.com/game/v/2402
	9/">#153</a>\n\n</BODY>\n</HTML>
STATUS:CONFIRMED
CLASS:PUBLIC
URL:https://www.golnetwork.com/game/v/24029/
X-MICROSOFT-CDO-BUSYSTATUS:BUSY
X-MICROSOFT-CDO-IMPORTANCE:1
END:VEVENT
END:VCALENDAR
