BEGIN:VCALENDAR
PRODID:-//gdesolutions.com//MV Framework 1.0.0.1607 Calendar//EN
VERSION:2.0
METHOD:PUBLISH
CALSCALE:GREGORIAN
BEGIN:VEVENT
UID:g2ejp@games.golnetwork.com
LOCATION:CVM - Court #1
GEO:45.5146585;-73.5658635
CREATED:20121216T181849Z
DTSTART:20130120T223000Z
DTEND:20130120T232000Z
DTSTAMP:20260421T183428Z
SUMMARY:RUN N GUN vs. DIAMOND BALLERS
DESCRIPTION:DIAMOND BALLERS vs. RUN N GUNMore info: #1
X-ALT-DESC;FMTTYPE=text/html:<!DOCTYPE HTML PUBLIC "-//W3C//DTD HTML 3.2//E
	N">\n<HTML>\n<HEAD>\n<TITLE></TITLE>\n</HEAD>\n<BODY>\n<h3>DIAMOND BALLERS 
	vs. RUN N GUN</h3>More info: <a href="https://www.golnetwork.com/game/v/240
	56/">#1</a>\n\n</BODY>\n</HTML>
STATUS:CONFIRMED
CLASS:PUBLIC
URL:https://www.golnetwork.com/game/v/24056/
X-MICROSOFT-CDO-BUSYSTATUS:BUSY
X-MICROSOFT-CDO-IMPORTANCE:1
END:VEVENT
BEGIN:VEVENT
UID:g2ek0@games.golnetwork.com
LOCATION:CVM - Court #1
GEO:45.5146585;-73.5658635
CREATED:20121216T181849Z
DTSTART:20130121T000000Z
DTEND:20130121T005000Z
DTSTAMP:20260421T183428Z
SUMMARY:MONARQUES ELITE vs. SMASHERS
DESCRIPTION:SMASHERS vs. MONARQUES ELITEMore info: #2
X-ALT-DESC;FMTTYPE=text/html:<!DOCTYPE HTML PUBLIC "-//W3C//DTD HTML 3.2//E
	N">\n<HTML>\n<HEAD>\n<TITLE></TITLE>\n</HEAD>\n<BODY>\n<h3>SMASHERS vs. MON
	ARQUES ELITE</h3>More info: <a href="https://www.golnetwork.com/game/v/2405
	7/">#2</a>\n\n</BODY>\n</HTML>
STATUS:CONFIRMED
CLASS:PUBLIC
URL:https://www.golnetwork.com/game/v/24057/
X-MICROSOFT-CDO-BUSYSTATUS:BUSY
X-MICROSOFT-CDO-IMPORTANCE:1
END:VEVENT
BEGIN:VEVENT
UID:g2ejn@games.golnetwork.com
LOCATION:CVM - Court #1
GEO:45.5146585;-73.5658635
CREATED:20121216T181849Z
DTSTART:20130121T011500Z
DTEND:20130121T020500Z
DTSTAMP:20260421T183428Z
SUMMARY:UNITE vs. GATTI
DESCRIPTION:GATTI vs. UNITEMore info: #3
X-ALT-DESC;FMTTYPE=text/html:<!DOCTYPE HTML PUBLIC "-//W3C//DTD HTML 3.2//E
	N">\n<HTML>\n<HEAD>\n<TITLE></TITLE>\n</HEAD>\n<BODY>\n<h3>GATTI vs. UNITE<
	/h3>More info: <a href="https://www.golnetwork.com/game/v/24055/">#3</a>\n\
	n</BODY>\n</HTML>
STATUS:CONFIRMED
CLASS:PUBLIC
URL:https://www.golnetwork.com/game/v/24055/
X-MICROSOFT-CDO-BUSYSTATUS:BUSY
X-MICROSOFT-CDO-IMPORTANCE:1
END:VEVENT
BEGIN:VEVENT
UID:g2ek4@games.golnetwork.com
LOCATION:CVM - Court #1
GEO:45.5146585;-73.5658635
CREATED:20121216T181849Z
DTSTART:20130127T223000Z
DTEND:20130127T232000Z
DTSTAMP:20260421T183428Z
SUMMARY:MONARQUES ELITE vs. GATTI
DESCRIPTION:GATTI vs. MONARQUES ELITEMore info: #4
X-ALT-DESC;FMTTYPE=text/html:<!DOCTYPE HTML PUBLIC "-//W3C//DTD HTML 3.2//E
	N">\n<HTML>\n<HEAD>\n<TITLE></TITLE>\n</HEAD>\n<BODY>\n<h3>GATTI vs. MONARQ
	UES ELITE</h3>More info: <a href="https://www.golnetwork.com/game/v/24059/"
	>#4</a>\n\n</BODY>\n</HTML>
STATUS:CONFIRMED
CLASS:PUBLIC
URL:https://www.golnetwork.com/game/v/24059/
X-MICROSOFT-CDO-BUSYSTATUS:BUSY
X-MICROSOFT-CDO-IMPORTANCE:1
END:VEVENT
BEGIN:VEVENT
UID:g2ek2@games.golnetwork.com
LOCATION:CVM - Court #1
GEO:45.5146585;-73.5658635
CREATED:20121216T181849Z
DTSTART:20130128T000000Z
DTEND:20130128T005000Z
DTSTAMP:20260421T183428Z
SUMMARY:RUN N GUN vs. UNITE
DESCRIPTION:UNITE vs. RUN N GUNMore info: #5
X-ALT-DESC;FMTTYPE=text/html:<!DOCTYPE HTML PUBLIC "-//W3C//DTD HTML 3.2//E
	N">\n<HTML>\n<HEAD>\n<TITLE></TITLE>\n</HEAD>\n<BODY>\n<h3>UNITE vs. RUN N 
	GUN</h3>More info: <a href="https://www.golnetwork.com/game/v/24058/">#5</a
	>\n\n</BODY>\n</HTML>
STATUS:CONFIRMED
CLASS:PUBLIC
URL:https://www.golnetwork.com/game/v/24058/
X-MICROSOFT-CDO-BUSYSTATUS:BUSY
X-MICROSOFT-CDO-IMPORTANCE:1
END:VEVENT
BEGIN:VEVENT
UID:g2ek6@games.golnetwork.com
LOCATION:CVM - Court #1
GEO:45.5146585;-73.5658635
CREATED:20121216T181849Z
DTSTART:20130128T011500Z
DTEND:20130128T020500Z
DTSTAMP:20260421T183428Z
SUMMARY:SMASHERS vs. DIAMOND BALLERS
DESCRIPTION:DIAMOND BALLERS vs. SMASHERSMore info: #6
X-ALT-DESC;FMTTYPE=text/html:<!DOCTYPE HTML PUBLIC "-//W3C//DTD HTML 3.2//E
	N">\n<HTML>\n<HEAD>\n<TITLE></TITLE>\n</HEAD>\n<BODY>\n<h3>DIAMOND BALLERS 
	vs. SMASHERS</h3>More info: <a href="https://www.golnetwork.com/game/v/2406
	0/">#6</a>\n\n</BODY>\n</HTML>
STATUS:CONFIRMED
CLASS:PUBLIC
URL:https://www.golnetwork.com/game/v/24060/
X-MICROSOFT-CDO-BUSYSTATUS:BUSY
X-MICROSOFT-CDO-IMPORTANCE:1
END:VEVENT
BEGIN:VEVENT
UID:g2eke@games.golnetwork.com
LOCATION:CVM - Court #1
GEO:45.5146585;-73.5658635
CREATED:20121216T181849Z
DTSTART:20130210T223000Z
DTEND:20130210T232000Z
DTSTAMP:20260421T183428Z
SUMMARY:SMASHERS vs. UNITE
DESCRIPTION:UNITE vs. SMASHERSMore info: #7
X-ALT-DESC;FMTTYPE=text/html:<!DOCTYPE HTML PUBLIC "-//W3C//DTD HTML 3.2//E
	N">\n<HTML>\n<HEAD>\n<TITLE></TITLE>\n</HEAD>\n<BODY>\n<h3>UNITE vs. SMASHE
	RS</h3>More info: <a href="https://www.golnetwork.com/game/v/24064/">#7</a>
	\n\n</BODY>\n</HTML>
STATUS:CONFIRMED
CLASS:PUBLIC
URL:https://www.golnetwork.com/game/v/24064/
X-MICROSOFT-CDO-BUSYSTATUS:BUSY
X-MICROSOFT-CDO-IMPORTANCE:1
END:VEVENT
BEGIN:VEVENT
UID:g2eki@games.golnetwork.com
LOCATION:CVM - Court #1
GEO:45.5146585;-73.5658635
CREATED:20121216T181849Z
DTSTART:20130211T000000Z
DTEND:20130211T005000Z
DTSTAMP:20260421T183428Z
SUMMARY:GATTI vs. RUN N GUN
DESCRIPTION:RUN N GUN vs. GATTIMore info: #8
X-ALT-DESC;FMTTYPE=text/html:<!DOCTYPE HTML PUBLIC "-//W3C//DTD HTML 3.2//E
	N">\n<HTML>\n<HEAD>\n<TITLE></TITLE>\n</HEAD>\n<BODY>\n<h3>RUN N GUN vs. GA
	TTI</h3>More info: <a href="https://www.golnetwork.com/game/v/24066/">#8</a
	>\n\n</BODY>\n</HTML>
STATUS:CONFIRMED
CLASS:PUBLIC
URL:https://www.golnetwork.com/game/v/24066/
X-MICROSOFT-CDO-BUSYSTATUS:BUSY
X-MICROSOFT-CDO-IMPORTANCE:1
END:VEVENT
BEGIN:VEVENT
UID:g2ekg@games.golnetwork.com
LOCATION:CVM - Court #1
GEO:45.5146585;-73.5658635
CREATED:20121216T181849Z
DTSTART:20130211T011500Z
DTEND:20130211T020500Z
DTSTAMP:20260421T183428Z
SUMMARY:DIAMOND BALLERS vs. MONARQUES ELITE
DESCRIPTION:MONARQUES ELITE vs. DIAMOND BALLERSMore info: #9
X-ALT-DESC;FMTTYPE=text/html:<!DOCTYPE HTML PUBLIC "-//W3C//DTD HTML 3.2//E
	N">\n<HTML>\n<HEAD>\n<TITLE></TITLE>\n</HEAD>\n<BODY>\n<h3>MONARQUES ELITE 
	vs. DIAMOND BALLERS</h3>More info: <a href="https://www.golnetwork.com/game
	/v/24065/">#9</a>\n\n</BODY>\n</HTML>
STATUS:CONFIRMED
CLASS:PUBLIC
URL:https://www.golnetwork.com/game/v/24065/
X-MICROSOFT-CDO-BUSYSTATUS:BUSY
X-MICROSOFT-CDO-IMPORTANCE:1
END:VEVENT
BEGIN:VEVENT
UID:g2ekk@games.golnetwork.com
LOCATION:CVM - Court #1
GEO:45.5146585;-73.5658635
CREATED:20121216T181849Z
DTSTART:20130217T223000Z
DTEND:20130217T232000Z
DTSTAMP:20260421T183428Z
SUMMARY:UNITE vs. DIAMOND BALLERS
DESCRIPTION:DIAMOND BALLERS vs. UNITEMore info: #10
X-ALT-DESC;FMTTYPE=text/html:<!DOCTYPE HTML PUBLIC "-//W3C//DTD HTML 3.2//E
	N">\n<HTML>\n<HEAD>\n<TITLE></TITLE>\n</HEAD>\n<BODY>\n<h3>DIAMOND BALLERS 
	vs. UNITE</h3>More info: <a href="https://www.golnetwork.com/game/v/24067/"
	>#10</a>\n\n</BODY>\n</HTML>
STATUS:CONFIRMED
CLASS:PUBLIC
URL:https://www.golnetwork.com/game/v/24067/
X-MICROSOFT-CDO-BUSYSTATUS:BUSY
X-MICROSOFT-CDO-IMPORTANCE:1
END:VEVENT
BEGIN:VEVENT
UID:g2eko@games.golnetwork.com
LOCATION:CVM - Court #1
GEO:45.5146585;-73.5658635
CREATED:20121216T181849Z
DTSTART:20130218T000000Z
DTEND:20130218T005000Z
DTSTAMP:20260421T183428Z
SUMMARY:RUN N GUN vs. MONARQUES ELITE
DESCRIPTION:MONARQUES ELITE vs. RUN N GUNMore info: #11
X-ALT-DESC;FMTTYPE=text/html:<!DOCTYPE HTML PUBLIC "-//W3C//DTD HTML 3.2//E
	N">\n<HTML>\n<HEAD>\n<TITLE></TITLE>\n</HEAD>\n<BODY>\n<h3>MONARQUES ELITE 
	vs. RUN N GUN</h3>More info: <a href="https://www.golnetwork.com/game/v/240
	69/">#11</a>\n\n</BODY>\n</HTML>
STATUS:CONFIRMED
CLASS:PUBLIC
URL:https://www.golnetwork.com/game/v/24069/
X-MICROSOFT-CDO-BUSYSTATUS:BUSY
X-MICROSOFT-CDO-IMPORTANCE:1
END:VEVENT
BEGIN:VEVENT
UID:g2ekm@games.golnetwork.com
LOCATION:CVM - Court #1
GEO:45.5146585;-73.5658635
CREATED:20121216T181849Z
DTSTART:20130218T011500Z
DTEND:20130218T020500Z
DTSTAMP:20260421T183428Z
SUMMARY:GATTI vs. SMASHERS
DESCRIPTION:SMASHERS vs. GATTIMore info: #12
X-ALT-DESC;FMTTYPE=text/html:<!DOCTYPE HTML PUBLIC "-//W3C//DTD HTML 3.2//E
	N">\n<HTML>\n<HEAD>\n<TITLE></TITLE>\n</HEAD>\n<BODY>\n<h3>SMASHERS vs. GAT
	TI</h3>More info: <a href="https://www.golnetwork.com/game/v/24068/">#12</a
	>\n\n</BODY>\n</HTML>
STATUS:CONFIRMED
CLASS:PUBLIC
URL:https://www.golnetwork.com/game/v/24068/
X-MICROSOFT-CDO-BUSYSTATUS:BUSY
X-MICROSOFT-CDO-IMPORTANCE:1
END:VEVENT
BEGIN:VEVENT
UID:g2ekq@games.golnetwork.com
LOCATION:CVM - Court #1
GEO:45.5146585;-73.5658635
CREATED:20121216T181849Z
DTSTART:20130224T223000Z
DTEND:20130224T232000Z
DTSTAMP:20260421T183428Z
SUMMARY:SMASHERS vs. MONARQUES ELITE
DESCRIPTION:MONARQUES ELITE vs. SMASHERSMore info: #13
X-ALT-DESC;FMTTYPE=text/html:<!DOCTYPE HTML PUBLIC "-//W3C//DTD HTML 3.2//E
	N">\n<HTML>\n<HEAD>\n<TITLE></TITLE>\n</HEAD>\n<BODY>\n<h3>MONARQUES ELITE 
	vs. SMASHERS</h3>More info: <a href="https://www.golnetwork.com/game/v/2407
	0/">#13</a>\n\n</BODY>\n</HTML>
STATUS:CONFIRMED
CLASS:PUBLIC
URL:https://www.golnetwork.com/game/v/24070/
X-MICROSOFT-CDO-BUSYSTATUS:BUSY
X-MICROSOFT-CDO-IMPORTANCE:1
END:VEVENT
BEGIN:VEVENT
UID:g2el1@games.golnetwork.com
LOCATION:CVM - Court #1
GEO:45.5146585;-73.5658635
CREATED:20121216T181849Z
DTSTART:20130225T000000Z
DTEND:20130225T005000Z
DTSTAMP:20260421T183428Z
SUMMARY:DIAMOND BALLERS vs. RUN N GUN
DESCRIPTION:RUN N GUN vs. DIAMOND BALLERSMore info: #14
X-ALT-DESC;FMTTYPE=text/html:<!DOCTYPE HTML PUBLIC "-//W3C//DTD HTML 3.2//E
	N">\n<HTML>\n<HEAD>\n<TITLE></TITLE>\n</HEAD>\n<BODY>\n<h3>RUN N GUN vs. DI
	AMOND BALLERS</h3>More info: <a href="https://www.golnetwork.com/game/v/240
	71/">#14</a>\n\n</BODY>\n</HTML>
STATUS:CONFIRMED
CLASS:PUBLIC
URL:https://www.golnetwork.com/game/v/24071/
X-MICROSOFT-CDO-BUSYSTATUS:BUSY
X-MICROSOFT-CDO-IMPORTANCE:1
END:VEVENT
BEGIN:VEVENT
UID:g2el3@games.golnetwork.com
LOCATION:CVM - Court #1
GEO:45.5146585;-73.5658635
CREATED:20121216T181849Z
DTSTART:20130225T011500Z
DTEND:20130225T020500Z
DTSTAMP:20260421T183428Z
SUMMARY:UNITE vs. GATTI
DESCRIPTION:GATTI vs. UNITEMore info: #15
X-ALT-DESC;FMTTYPE=text/html:<!DOCTYPE HTML PUBLIC "-//W3C//DTD HTML 3.2//E
	N">\n<HTML>\n<HEAD>\n<TITLE></TITLE>\n</HEAD>\n<BODY>\n<h3>GATTI vs. UNITE<
	/h3>More info: <a href="https://www.golnetwork.com/game/v/24072/">#15</a>\n
	\n</BODY>\n</HTML>
STATUS:CONFIRMED
CLASS:PUBLIC
URL:https://www.golnetwork.com/game/v/24072/
X-MICROSOFT-CDO-BUSYSTATUS:BUSY
X-MICROSOFT-CDO-IMPORTANCE:1
END:VEVENT
BEGIN:VEVENT
UID:g2el5@games.golnetwork.com
LOCATION:CVM - Court #1
GEO:45.5146585;-73.5658635
CREATED:20121216T181849Z
DTSTART:20130303T223000Z
DTEND:20130303T232000Z
DTSTAMP:20260421T183428Z
SUMMARY:DIAMOND BALLERS vs. SMASHERS
DESCRIPTION:SMASHERS vs. DIAMOND BALLERSMore info: #16
X-ALT-DESC;FMTTYPE=text/html:<!DOCTYPE HTML PUBLIC "-//W3C//DTD HTML 3.2//E
	N">\n<HTML>\n<HEAD>\n<TITLE></TITLE>\n</HEAD>\n<BODY>\n<h3>SMASHERS vs. DIA
	MOND BALLERS</h3>More info: <a href="https://www.golnetwork.com/game/v/2407
	3/">#16</a>\n\n</BODY>\n</HTML>
STATUS:CONFIRMED
CLASS:PUBLIC
URL:https://www.golnetwork.com/game/v/24073/
X-MICROSOFT-CDO-BUSYSTATUS:BUSY
X-MICROSOFT-CDO-IMPORTANCE:1
END:VEVENT
BEGIN:VEVENT
UID:g2el9@games.golnetwork.com
LOCATION:CVM - Court #1
GEO:45.5146585;-73.5658635
CREATED:20121216T181849Z
DTSTART:20130304T000000Z
DTEND:20130304T005000Z
DTSTAMP:20260421T183428Z
SUMMARY:GATTI vs. RUN N GUN
DESCRIPTION:RUN N GUN vs. GATTIMore info: #17
X-ALT-DESC;FMTTYPE=text/html:<!DOCTYPE HTML PUBLIC "-//W3C//DTD HTML 3.2//E
	N">\n<HTML>\n<HEAD>\n<TITLE></TITLE>\n</HEAD>\n<BODY>\n<h3>RUN N GUN vs. GA
	TTI</h3>More info: <a href="https://www.golnetwork.com/game/v/24075/">#17</
	a>\n\n</BODY>\n</HTML>
STATUS:CONFIRMED
CLASS:PUBLIC
URL:https://www.golnetwork.com/game/v/24075/
X-MICROSOFT-CDO-BUSYSTATUS:BUSY
X-MICROSOFT-CDO-IMPORTANCE:1
END:VEVENT
BEGIN:VEVENT
UID:g2el7@games.golnetwork.com
LOCATION:CVM - Court #1
GEO:45.5146585;-73.5658635
CREATED:20121216T181849Z
DTSTART:20130304T011500Z
DTEND:20130304T020500Z
DTSTAMP:20260421T183428Z
SUMMARY:UNITE vs. MONARQUES ELITE
DESCRIPTION:MONARQUES ELITE vs. UNITEMore info: #18
X-ALT-DESC;FMTTYPE=text/html:<!DOCTYPE HTML PUBLIC "-//W3C//DTD HTML 3.2//E
	N">\n<HTML>\n<HEAD>\n<TITLE></TITLE>\n</HEAD>\n<BODY>\n<h3>MONARQUES ELITE 
	vs. UNITE</h3>More info: <a href="https://www.golnetwork.com/game/v/24074/"
	>#18</a>\n\n</BODY>\n</HTML>
STATUS:CONFIRMED
CLASS:PUBLIC
URL:https://www.golnetwork.com/game/v/24074/
X-MICROSOFT-CDO-BUSYSTATUS:BUSY
X-MICROSOFT-CDO-IMPORTANCE:1
END:VEVENT
BEGIN:VEVENT
UID:g2elb@games.golnetwork.com
LOCATION:CVM - Court #1
GEO:45.5146585;-73.5658635
CREATED:20121216T181849Z
DTSTART:20130310T213000Z
DTEND:20130310T222000Z
DTSTAMP:20260421T183428Z
SUMMARY:SMASHERS vs. UNITE
DESCRIPTION:UNITE vs. SMASHERSMore info: #19
X-ALT-DESC;FMTTYPE=text/html:<!DOCTYPE HTML PUBLIC "-//W3C//DTD HTML 3.2//E
	N">\n<HTML>\n<HEAD>\n<TITLE></TITLE>\n</HEAD>\n<BODY>\n<h3>UNITE vs. SMASHE
	RS</h3>More info: <a href="https://www.golnetwork.com/game/v/24076/">#19</a
	>\n\n</BODY>\n</HTML>
STATUS:CONFIRMED
CLASS:PUBLIC
URL:https://www.golnetwork.com/game/v/24076/
X-MICROSOFT-CDO-BUSYSTATUS:BUSY
X-MICROSOFT-CDO-IMPORTANCE:1
END:VEVENT
BEGIN:VEVENT
UID:g2elf@games.golnetwork.com
LOCATION:CVM - Court #1
GEO:45.5146585;-73.5658635
CREATED:20121216T181849Z
DTSTART:20130310T230000Z
DTEND:20130310T235000Z
DTSTAMP:20260421T183428Z
SUMMARY:RUN N GUN vs. MONARQUES ELITE
DESCRIPTION:MONARQUES ELITE vs. RUN N GUNMore info: #20
X-ALT-DESC;FMTTYPE=text/html:<!DOCTYPE HTML PUBLIC "-//W3C//DTD HTML 3.2//E
	N">\n<HTML>\n<HEAD>\n<TITLE></TITLE>\n</HEAD>\n<BODY>\n<h3>MONARQUES ELITE 
	vs. RUN N GUN</h3>More info: <a href="https://www.golnetwork.com/game/v/240
	78/">#20</a>\n\n</BODY>\n</HTML>
STATUS:CONFIRMED
CLASS:PUBLIC
URL:https://www.golnetwork.com/game/v/24078/
X-MICROSOFT-CDO-BUSYSTATUS:BUSY
X-MICROSOFT-CDO-IMPORTANCE:1
END:VEVENT
BEGIN:VEVENT
UID:g2eld@games.golnetwork.com
LOCATION:CVM - Court #1
GEO:45.5146585;-73.5658635
CREATED:20121216T181849Z
DTSTART:20130311T001500Z
DTEND:20130311T010500Z
DTSTAMP:20260421T183428Z
SUMMARY:GATTI vs. DIAMOND BALLERS
DESCRIPTION:DIAMOND BALLERS vs. GATTIMore info: #21
X-ALT-DESC;FMTTYPE=text/html:<!DOCTYPE HTML PUBLIC "-//W3C//DTD HTML 3.2//E
	N">\n<HTML>\n<HEAD>\n<TITLE></TITLE>\n</HEAD>\n<BODY>\n<h3>DIAMOND BALLERS 
	vs. GATTI</h3>More info: <a href="https://www.golnetwork.com/game/v/24077/"
	>#21</a>\n\n</BODY>\n</HTML>
STATUS:CONFIRMED
CLASS:PUBLIC
URL:https://www.golnetwork.com/game/v/24077/
X-MICROSOFT-CDO-BUSYSTATUS:BUSY
X-MICROSOFT-CDO-IMPORTANCE:1
END:VEVENT
BEGIN:VEVENT
UID:g2elh@games.golnetwork.com
LOCATION:CVM - Court #1
GEO:45.5146585;-73.5658635
CREATED:20121216T181849Z
DTSTART:20130317T213000Z
DTEND:20130317T222000Z
DTSTAMP:20260421T183428Z
SUMMARY:GATTI vs. SMASHERS
DESCRIPTION:SMASHERS vs. GATTIMore info: #22
X-ALT-DESC;FMTTYPE=text/html:<!DOCTYPE HTML PUBLIC "-//W3C//DTD HTML 3.2//E
	N">\n<HTML>\n<HEAD>\n<TITLE></TITLE>\n</HEAD>\n<BODY>\n<h3>SMASHERS vs. GAT
	TI</h3>More info: <a href="https://www.golnetwork.com/game/v/24079/">#22</a
	>\n\n</BODY>\n</HTML>
STATUS:CONFIRMED
CLASS:PUBLIC
URL:https://www.golnetwork.com/game/v/24079/
X-MICROSOFT-CDO-BUSYSTATUS:BUSY
X-MICROSOFT-CDO-IMPORTANCE:1
END:VEVENT
BEGIN:VEVENT
UID:g2elj@games.golnetwork.com
LOCATION:CVM - Court #1
GEO:45.5146585;-73.5658635
CREATED:20121216T181849Z
DTSTART:20130317T230000Z
DTEND:20130317T235000Z
DTSTAMP:20260421T183428Z
SUMMARY:RUN N GUN vs. UNITE
DESCRIPTION:UNITE vs. RUN N GUNMore info: #23
X-ALT-DESC;FMTTYPE=text/html:<!DOCTYPE HTML PUBLIC "-//W3C//DTD HTML 3.2//E
	N">\n<HTML>\n<HEAD>\n<TITLE></TITLE>\n</HEAD>\n<BODY>\n<h3>UNITE vs. RUN N 
	GUN</h3>More info: <a href="https://www.golnetwork.com/game/v/24080/">#23</
	a>\n\n</BODY>\n</HTML>
STATUS:CONFIRMED
CLASS:PUBLIC
URL:https://www.golnetwork.com/game/v/24080/
X-MICROSOFT-CDO-BUSYSTATUS:BUSY
X-MICROSOFT-CDO-IMPORTANCE:1
END:VEVENT
BEGIN:VEVENT
UID:g2ell@games.golnetwork.com
LOCATION:CVM - Court #1
GEO:45.5146585;-73.5658635
CREATED:20121216T181849Z
DTSTART:20130318T001500Z
DTEND:20130318T010500Z
DTSTAMP:20260421T183428Z
SUMMARY:MONARQUES ELITE vs. DIAMOND BALLERS
DESCRIPTION:DIAMOND BALLERS vs. MONARQUES ELITEMore info: #24
X-ALT-DESC;FMTTYPE=text/html:<!DOCTYPE HTML PUBLIC "-//W3C//DTD HTML 3.2//E
	N">\n<HTML>\n<HEAD>\n<TITLE></TITLE>\n</HEAD>\n<BODY>\n<h3>DIAMOND BALLERS 
	vs. MONARQUES ELITE</h3>More info: <a href="https://www.golnetwork.com/game
	/v/24081/">#24</a>\n\n</BODY>\n</HTML>
STATUS:CONFIRMED
CLASS:PUBLIC
URL:https://www.golnetwork.com/game/v/24081/
X-MICROSOFT-CDO-BUSYSTATUS:BUSY
X-MICROSOFT-CDO-IMPORTANCE:1
END:VEVENT
BEGIN:VEVENT
UID:g2elp@games.golnetwork.com
LOCATION:CVM - Court #1
GEO:45.5146585;-73.5658635
CREATED:20121216T181849Z
DTSTART:20130324T213000Z
DTEND:20130324T222000Z
DTSTAMP:20260421T183428Z
SUMMARY:MONARQUES ELITE vs. GATTI
DESCRIPTION:GATTI vs. MONARQUES ELITEMore info: #25
X-ALT-DESC;FMTTYPE=text/html:<!DOCTYPE HTML PUBLIC "-//W3C//DTD HTML 3.2//E
	N">\n<HTML>\n<HEAD>\n<TITLE></TITLE>\n</HEAD>\n<BODY>\n<h3>GATTI vs. MONARQ
	UES ELITE</h3>More info: <a href="https://www.golnetwork.com/game/v/24083/"
	>#25</a>\n\n</BODY>\n</HTML>
STATUS:CONFIRMED
CLASS:PUBLIC
URL:https://www.golnetwork.com/game/v/24083/
X-MICROSOFT-CDO-BUSYSTATUS:BUSY
X-MICROSOFT-CDO-IMPORTANCE:1
END:VEVENT
BEGIN:VEVENT
UID:g2eln@games.golnetwork.com
LOCATION:CVM - Court #1
GEO:45.5146585;-73.5658635
CREATED:20121216T181849Z
DTSTART:20130324T230000Z
DTEND:20130324T235000Z
DTSTAMP:20260421T183428Z
SUMMARY:SMASHERS vs. RUN N GUN
DESCRIPTION:RUN N GUN vs. SMASHERSMore info: #26
X-ALT-DESC;FMTTYPE=text/html:<!DOCTYPE HTML PUBLIC "-//W3C//DTD HTML 3.2//E
	N">\n<HTML>\n<HEAD>\n<TITLE></TITLE>\n</HEAD>\n<BODY>\n<h3>RUN N GUN vs. SM
	ASHERS</h3>More info: <a href="https://www.golnetwork.com/game/v/24082/">#2
	6</a>\n\n</BODY>\n</HTML>
STATUS:CONFIRMED
CLASS:PUBLIC
URL:https://www.golnetwork.com/game/v/24082/
X-MICROSOFT-CDO-BUSYSTATUS:BUSY
X-MICROSOFT-CDO-IMPORTANCE:1
END:VEVENT
BEGIN:VEVENT
UID:g2em0@games.golnetwork.com
LOCATION:CVM - Court #1
GEO:45.5146585;-73.5658635
CREATED:20121216T181849Z
DTSTART:20130325T001500Z
DTEND:20130325T010500Z
DTSTAMP:20260421T183428Z
SUMMARY:DIAMOND BALLERS vs. UNITE
DESCRIPTION:UNITE vs. DIAMOND BALLERSMore info: #27
X-ALT-DESC;FMTTYPE=text/html:<!DOCTYPE HTML PUBLIC "-//W3C//DTD HTML 3.2//E
	N">\n<HTML>\n<HEAD>\n<TITLE></TITLE>\n</HEAD>\n<BODY>\n<h3>UNITE vs. DIAMON
	D BALLERS</h3>More info: <a href="https://www.golnetwork.com/game/v/24084/"
	>#27</a>\n\n</BODY>\n</HTML>
STATUS:CONFIRMED
CLASS:PUBLIC
URL:https://www.golnetwork.com/game/v/24084/
X-MICROSOFT-CDO-BUSYSTATUS:BUSY
X-MICROSOFT-CDO-IMPORTANCE:1
END:VEVENT
BEGIN:VEVENT
UID:g2em2@games.golnetwork.com
LOCATION:CVM - Court #1
GEO:45.5146585;-73.5658635
CREATED:20121216T182031Z
DTSTART:20130331T213000Z
DTEND:20130331T222000Z
DTSTAMP:20260421T183428Z
SUMMARY:UNITE vs. MONARQUES ELITE
DESCRIPTION:MONARQUES ELITE vs. UNITEMore info: #28
X-ALT-DESC;FMTTYPE=text/html:<!DOCTYPE HTML PUBLIC "-//W3C//DTD HTML 3.2//E
	N">\n<HTML>\n<HEAD>\n<TITLE></TITLE>\n</HEAD>\n<BODY>\n<h3>MONARQUES ELITE 
	vs. UNITE</h3>More info: <a href="https://www.golnetwork.com/game/v/24085/"
	>#28</a>\n\n</BODY>\n</HTML>
STATUS:CONFIRMED
CLASS:PUBLIC
URL:https://www.golnetwork.com/game/v/24085/
X-MICROSOFT-CDO-BUSYSTATUS:BUSY
X-MICROSOFT-CDO-IMPORTANCE:1
END:VEVENT
BEGIN:VEVENT
UID:g2em4@games.golnetwork.com
LOCATION:CVM - Court #1
GEO:45.5146585;-73.5658635
CREATED:20121216T182047Z
DTSTART:20130331T230000Z
DTEND:20130331T235000Z
DTSTAMP:20260421T183428Z
SUMMARY:SMASHERS vs. RUN N GUN
DESCRIPTION:RUN N GUN vs. SMASHERSMore info: #29
X-ALT-DESC;FMTTYPE=text/html:<!DOCTYPE HTML PUBLIC "-//W3C//DTD HTML 3.2//E
	N">\n<HTML>\n<HEAD>\n<TITLE></TITLE>\n</HEAD>\n<BODY>\n<h3>RUN N GUN vs. SM
	ASHERS</h3>More info: <a href="https://www.golnetwork.com/game/v/24086/">#2
	9</a>\n\n</BODY>\n</HTML>
STATUS:CONFIRMED
CLASS:PUBLIC
URL:https://www.golnetwork.com/game/v/24086/
X-MICROSOFT-CDO-BUSYSTATUS:BUSY
X-MICROSOFT-CDO-IMPORTANCE:1
END:VEVENT
BEGIN:VEVENT
UID:g2em6@games.golnetwork.com
LOCATION:CVM - Court #1
GEO:45.5146585;-73.5658635
CREATED:20121216T182100Z
DTSTART:20130401T001500Z
DTEND:20130401T010500Z
DTSTAMP:20260421T183428Z
SUMMARY:DIAMOND BALLERS vs. GATTI
DESCRIPTION:GATTI vs. DIAMOND BALLERSMore info: #30
X-ALT-DESC;FMTTYPE=text/html:<!DOCTYPE HTML PUBLIC "-//W3C//DTD HTML 3.2//E
	N">\n<HTML>\n<HEAD>\n<TITLE></TITLE>\n</HEAD>\n<BODY>\n<h3>GATTI vs. DIAMON
	D BALLERS</h3>More info: <a href="https://www.golnetwork.com/game/v/24087/"
	>#30</a>\n\n</BODY>\n</HTML>
STATUS:CONFIRMED
CLASS:PUBLIC
URL:https://www.golnetwork.com/game/v/24087/
X-MICROSOFT-CDO-BUSYSTATUS:BUSY
X-MICROSOFT-CDO-IMPORTANCE:1
END:VEVENT
END:VCALENDAR
