BEGIN:VCALENDAR
PRODID:-//gdesolutions.com//MV Framework 1.0.0.1607 Calendar//EN
VERSION:2.0
METHOD:PUBLISH
CALSCALE:GREGORIAN
BEGIN:VEVENT
UID:g2geo@games.golnetwork.com
LOCATION:Tomlinson Fieldhouse
GEO:45.508899688721;-73.581298828125
CREATED:20130111T184607Z
DTSTART:20130119T003000Z
DTEND:20130119T011000Z
DTSTAMP:20260421T045256Z
SUMMARY:Mesh Faree2 vs. Baz Boyz
DESCRIPTION:Baz Boyz vs. Mesh Faree2More info: #26
X-ALT-DESC;FMTTYPE=text/html:<!DOCTYPE HTML PUBLIC "-//W3C//DTD HTML 3.2//E
	N">\n<HTML>\n<HEAD>\n<TITLE></TITLE>\n</HEAD>\n<BODY>\n<h3>Baz Boyz vs. Mes
	h Faree2</h3>More info: <a href="https://www.golnetwork.com/game/v/24717/">
	#26</a>\n\n</BODY>\n</HTML>
STATUS:CONFIRMED
CLASS:PUBLIC
URL:https://www.golnetwork.com/game/v/24717/
X-MICROSOFT-CDO-BUSYSTATUS:BUSY
X-MICROSOFT-CDO-IMPORTANCE:1
END:VEVENT
BEGIN:VEVENT
UID:g2geq@games.golnetwork.com
LOCATION:Tomlinson Fieldhouse
GEO:45.508899688721;-73.581298828125
CREATED:20130111T184607Z
DTSTART:20130119T013000Z
DTEND:20130119T021000Z
DTSTAMP:20260421T045256Z
SUMMARY:Galacticos FC vs. Botellón
DESCRIPTION:Botellón vs. Galacticos FCMore info: #27
X-ALT-DESC;FMTTYPE=text/html:<!DOCTYPE HTML PUBLIC "-//W3C//DTD HTML 3.2//E
	N">\n<HTML>\n<HEAD>\n<TITLE></TITLE>\n</HEAD>\n<BODY>\n<h3>Botellón vs. Ga
	lacticos FC</h3>More info: <a href="https://www.golnetwork.com/game/v/24718
	/">#27</a>\n\n</BODY>\n</HTML>
STATUS:CONFIRMED
CLASS:PUBLIC
URL:https://www.golnetwork.com/game/v/24718/
X-MICROSOFT-CDO-BUSYSTATUS:BUSY
X-MICROSOFT-CDO-IMPORTANCE:1
END:VEVENT
BEGIN:VEVENT
UID:g2gf1@games.golnetwork.com
LOCATION:Tomlinson Fieldhouse
GEO:45.508899688721;-73.581298828125
CREATED:20130111T184608Z
DTSTART:20130119T023000Z
DTEND:20130119T031000Z
DTSTAMP:20260421T045256Z
SUMMARY:Team Pelo vs. Molson United
DESCRIPTION:Molson United vs. Team PeloMore info: #28
X-ALT-DESC;FMTTYPE=text/html:<!DOCTYPE HTML PUBLIC "-//W3C//DTD HTML 3.2//E
	N">\n<HTML>\n<HEAD>\n<TITLE></TITLE>\n</HEAD>\n<BODY>\n<h3>Molson United vs
	. Team Pelo</h3>More info: <a href="https://www.golnetwork.com/game/v/24719
	/">#28</a>\n\n</BODY>\n</HTML>
STATUS:CONFIRMED
CLASS:PUBLIC
URL:https://www.golnetwork.com/game/v/24719/
X-MICROSOFT-CDO-BUSYSTATUS:BUSY
X-MICROSOFT-CDO-IMPORTANCE:1
END:VEVENT
BEGIN:VEVENT
UID:g2gf5@games.golnetwork.com
LOCATION:Tomlinson Fieldhouse
GEO:45.508899688721;-73.581298828125
CREATED:20130111T184608Z
DTSTART:20130119T153000Z
DTEND:20130119T161000Z
DTSTAMP:20260421T045256Z
SUMMARY:Real Montreal vs. Old School
DESCRIPTION:Old School vs. Real MontrealMore info: #30
X-ALT-DESC;FMTTYPE=text/html:<!DOCTYPE HTML PUBLIC "-//W3C//DTD HTML 3.2//E
	N">\n<HTML>\n<HEAD>\n<TITLE></TITLE>\n</HEAD>\n<BODY>\n<h3>Old School vs. R
	eal Montreal</h3>More info: <a href="https://www.golnetwork.com/game/v/2472
	1/">#30</a>\n\n</BODY>\n</HTML>
STATUS:CONFIRMED
CLASS:PUBLIC
URL:https://www.golnetwork.com/game/v/24721/
X-MICROSOFT-CDO-BUSYSTATUS:BUSY
X-MICROSOFT-CDO-IMPORTANCE:1
END:VEVENT
BEGIN:VEVENT
UID:g2ghp@games.golnetwork.com
LOCATION:Tomlinson Fieldhouse
GEO:45.508899688721;-73.581298828125
CREATED:20130111T184609Z
DTSTART:20130127T173000Z
DTEND:20130127T181000Z
DTSTAMP:20260421T045256Z
SUMMARY:Galacticos FC vs. Baz Boyz
DESCRIPTION:Baz Boyz vs. Galacticos FCMore info: #67
X-ALT-DESC;FMTTYPE=text/html:<!DOCTYPE HTML PUBLIC "-//W3C//DTD HTML 3.2//E
	N">\n<HTML>\n<HEAD>\n<TITLE></TITLE>\n</HEAD>\n<BODY>\n<h3>Baz Boyz vs. Gal
	acticos FC</h3>More info: <a href="https://www.golnetwork.com/game/v/24758/
	">#67</a>\n\n</BODY>\n</HTML>
STATUS:CONFIRMED
CLASS:PUBLIC
URL:https://www.golnetwork.com/game/v/24758/
X-MICROSOFT-CDO-BUSYSTATUS:BUSY
X-MICROSOFT-CDO-IMPORTANCE:1
END:VEVENT
BEGIN:VEVENT
UID:g2gi0@games.golnetwork.com
LOCATION:Tomlinson Fieldhouse
GEO:45.508899688721;-73.581298828125
CREATED:20130111T184609Z
DTSTART:20130127T183000Z
DTEND:20130127T191000Z
DTSTAMP:20260421T045256Z
SUMMARY:Mesh Faree2 vs. Botellón
DESCRIPTION:Botellón vs. Mesh Faree2More info: #68
X-ALT-DESC;FMTTYPE=text/html:<!DOCTYPE HTML PUBLIC "-//W3C//DTD HTML 3.2//E
	N">\n<HTML>\n<HEAD>\n<TITLE></TITLE>\n</HEAD>\n<BODY>\n<h3>Botellón vs. Me
	sh Faree2</h3>More info: <a href="https://www.golnetwork.com/game/v/24759/"
	>#68</a>\n\n</BODY>\n</HTML>
STATUS:CONFIRMED
CLASS:PUBLIC
URL:https://www.golnetwork.com/game/v/24759/
X-MICROSOFT-CDO-BUSYSTATUS:BUSY
X-MICROSOFT-CDO-IMPORTANCE:1
END:VEVENT
BEGIN:VEVENT
UID:g2gi2@games.golnetwork.com
LOCATION:Tomlinson Fieldhouse
GEO:45.508899688721;-73.581298828125
CREATED:20130111T184609Z
DTSTART:20130127T193000Z
DTEND:20130127T201000Z
DTSTAMP:20260421T045256Z
SUMMARY:Team Pelo vs. Old School
DESCRIPTION:Old School vs. Team PeloMore info: #69
X-ALT-DESC;FMTTYPE=text/html:<!DOCTYPE HTML PUBLIC "-//W3C//DTD HTML 3.2//E
	N">\n<HTML>\n<HEAD>\n<TITLE></TITLE>\n</HEAD>\n<BODY>\n<h3>Old School vs. T
	eam Pelo</h3>More info: <a href="https://www.golnetwork.com/game/v/24760/">
	#69</a>\n\n</BODY>\n</HTML>
STATUS:CONFIRMED
CLASS:PUBLIC
URL:https://www.golnetwork.com/game/v/24760/
X-MICROSOFT-CDO-BUSYSTATUS:BUSY
X-MICROSOFT-CDO-IMPORTANCE:1
END:VEVENT
BEGIN:VEVENT
UID:g2gi4@games.golnetwork.com
LOCATION:Tomlinson Fieldhouse
GEO:45.508899688721;-73.581298828125
CREATED:20130111T184609Z
DTSTART:20130127T203000Z
DTEND:20130127T211000Z
DTSTAMP:20260421T045256Z
SUMMARY:Real Montreal vs. Molson United
DESCRIPTION:Molson United vs. Real MontrealMore info: #70
X-ALT-DESC;FMTTYPE=text/html:<!DOCTYPE HTML PUBLIC "-//W3C//DTD HTML 3.2//E
	N">\n<HTML>\n<HEAD>\n<TITLE></TITLE>\n</HEAD>\n<BODY>\n<h3>Molson United vs
	. Real Montreal</h3>More info: <a href="https://www.golnetwork.com/game/v/2
	4761/">#70</a>\n\n</BODY>\n</HTML>
STATUS:CONFIRMED
CLASS:PUBLIC
URL:https://www.golnetwork.com/game/v/24761/
X-MICROSOFT-CDO-BUSYSTATUS:BUSY
X-MICROSOFT-CDO-IMPORTANCE:1
END:VEVENT
BEGIN:VEVENT
UID:g2gl9@games.golnetwork.com
LOCATION:Tomlinson Fieldhouse
GEO:45.508899688721;-73.581298828125
CREATED:20130111T184609Z
DTSTART:20130203T233000Z
DTEND:20130204T001000Z
DTSTAMP:20260421T045256Z
SUMMARY:Old School vs. Molson United
DESCRIPTION:Molson United vs. Old SchoolMore info: #113
X-ALT-DESC;FMTTYPE=text/html:<!DOCTYPE HTML PUBLIC "-//W3C//DTD HTML 3.2//E
	N">\n<HTML>\n<HEAD>\n<TITLE></TITLE>\n</HEAD>\n<BODY>\n<h3>Molson United vs
	. Old School</h3>More info: <a href="https://www.golnetwork.com/game/v/2480
	4/">#113</a>\n\n</BODY>\n</HTML>
STATUS:CONFIRMED
CLASS:PUBLIC
URL:https://www.golnetwork.com/game/v/24804/
X-MICROSOFT-CDO-BUSYSTATUS:BUSY
X-MICROSOFT-CDO-IMPORTANCE:1
END:VEVENT
BEGIN:VEVENT
UID:g2glb@games.golnetwork.com
LOCATION:Tomlinson Fieldhouse
GEO:45.508899688721;-73.581298828125
CREATED:20130111T184609Z
DTSTART:20130204T003000Z
DTEND:20130204T011000Z
DTSTAMP:20260421T045256Z
SUMMARY:Botellón vs. Baz Boyz
DESCRIPTION:Baz Boyz vs. BotellónMore info: #114
X-ALT-DESC;FMTTYPE=text/html:<!DOCTYPE HTML PUBLIC "-//W3C//DTD HTML 3.2//E
	N">\n<HTML>\n<HEAD>\n<TITLE></TITLE>\n</HEAD>\n<BODY>\n<h3>Baz Boyz vs. Bot
	ellón</h3>More info: <a href="https://www.golnetwork.com/game/v/24805/">#1
	14</a>\n\n</BODY>\n</HTML>
STATUS:CONFIRMED
CLASS:PUBLIC
URL:https://www.golnetwork.com/game/v/24805/
X-MICROSOFT-CDO-BUSYSTATUS:BUSY
X-MICROSOFT-CDO-IMPORTANCE:1
END:VEVENT
BEGIN:VEVENT
UID:g2glp@games.golnetwork.com
LOCATION:Tomlinson Fieldhouse
GEO:45.508899688721;-73.581298828125
CREATED:20130111T184609Z
DTSTART:20130206T013000Z
DTEND:20130206T021000Z
DTSTAMP:20260421T045256Z
SUMMARY:Team Pelo vs. Real Montreal
DESCRIPTION:Real Montreal vs. Team PeloMore info: #121
X-ALT-DESC;FMTTYPE=text/html:<!DOCTYPE HTML PUBLIC "-//W3C//DTD HTML 3.2//E
	N">\n<HTML>\n<HEAD>\n<TITLE></TITLE>\n</HEAD>\n<BODY>\n<h3>Real Montreal vs
	. Team Pelo</h3>More info: <a href="https://www.golnetwork.com/game/v/24812
	/">#121</a>\n\n</BODY>\n</HTML>
STATUS:CONFIRMED
CLASS:PUBLIC
URL:https://www.golnetwork.com/game/v/24812/
X-MICROSOFT-CDO-BUSYSTATUS:BUSY
X-MICROSOFT-CDO-IMPORTANCE:1
END:VEVENT
BEGIN:VEVENT
UID:g2gm0@games.golnetwork.com
LOCATION:Tomlinson Fieldhouse
GEO:45.508899688721;-73.581298828125
CREATED:20130111T184609Z
DTSTART:20130206T023000Z
DTEND:20130206T031000Z
DTSTAMP:20260421T045256Z
SUMMARY:Mesh Faree2 vs. Galacticos FC
DESCRIPTION:Galacticos FC vs. Mesh Faree2More info: #122
X-ALT-DESC;FMTTYPE=text/html:<!DOCTYPE HTML PUBLIC "-//W3C//DTD HTML 3.2//E
	N">\n<HTML>\n<HEAD>\n<TITLE></TITLE>\n</HEAD>\n<BODY>\n<h3>Galacticos FC vs
	. Mesh Faree2</h3>More info: <a href="https://www.golnetwork.com/game/v/248
	13/">#122</a>\n\n</BODY>\n</HTML>
STATUS:CONFIRMED
CLASS:PUBLIC
URL:https://www.golnetwork.com/game/v/24813/
X-MICROSOFT-CDO-BUSYSTATUS:BUSY
X-MICROSOFT-CDO-IMPORTANCE:1
END:VEVENT
BEGIN:VEVENT
UID:g2goa@games.golnetwork.com
LOCATION:Tomlinson Fieldhouse
GEO:45.508899688721;-73.581298828125
CREATED:20130111T184610Z
DTSTART:20130211T003000Z
DTEND:20130211T011000Z
DTSTAMP:20260421T045256Z
SUMMARY:Old School vs. Baz Boyz
DESCRIPTION:Baz Boyz vs. Old SchoolMore info: #154
X-ALT-DESC;FMTTYPE=text/html:<!DOCTYPE HTML PUBLIC "-//W3C//DTD HTML 3.2//E
	N">\n<HTML>\n<HEAD>\n<TITLE></TITLE>\n</HEAD>\n<BODY>\n<h3>Baz Boyz vs. Old
	 School</h3>More info: <a href="https://www.golnetwork.com/game/v/24845/">#
	154</a>\n\n</BODY>\n</HTML>
STATUS:CONFIRMED
CLASS:PUBLIC
URL:https://www.golnetwork.com/game/v/24845/
X-MICROSOFT-CDO-BUSYSTATUS:BUSY
X-MICROSOFT-CDO-IMPORTANCE:1
END:VEVENT
BEGIN:VEVENT
UID:g2gpj@games.golnetwork.com
LOCATION:Tomlinson Fieldhouse
GEO:45.508899688721;-73.581298828125
CREATED:20130111T184610Z
DTSTART:20130217T153000Z
DTEND:20130217T161000Z
DTSTAMP:20260421T045256Z
SUMMARY:Team Pelo vs. Mesh Faree2
DESCRIPTION:Mesh Faree2 vs. Team PeloMore info: #172
X-ALT-DESC;FMTTYPE=text/html:<!DOCTYPE HTML PUBLIC "-//W3C//DTD HTML 3.2//E
	N">\n<HTML>\n<HEAD>\n<TITLE></TITLE>\n</HEAD>\n<BODY>\n<h3>Mesh Faree2 vs. 
	Team Pelo</h3>More info: <a href="https://www.golnetwork.com/game/v/24863/"
	>#172</a>\n\n</BODY>\n</HTML>
STATUS:CONFIRMED
CLASS:PUBLIC
URL:https://www.golnetwork.com/game/v/24863/
X-MICROSOFT-CDO-BUSYSTATUS:BUSY
X-MICROSOFT-CDO-IMPORTANCE:1
END:VEVENT
BEGIN:VEVENT
UID:g2gpl@games.golnetwork.com
LOCATION:Tomlinson Fieldhouse
GEO:45.508899688721;-73.581298828125
CREATED:20130111T184610Z
DTSTART:20130217T163000Z
DTEND:20130217T171000Z
DTSTAMP:20260421T045256Z
SUMMARY:Real Montreal vs. Galacticos FC
DESCRIPTION:Galacticos FC vs. Real MontrealMore info: #173
X-ALT-DESC;FMTTYPE=text/html:<!DOCTYPE HTML PUBLIC "-//W3C//DTD HTML 3.2//E
	N">\n<HTML>\n<HEAD>\n<TITLE></TITLE>\n</HEAD>\n<BODY>\n<h3>Galacticos FC vs
	. Real Montreal</h3>More info: <a href="https://www.golnetwork.com/game/v/2
	4864/">#173</a>\n\n</BODY>\n</HTML>
STATUS:CONFIRMED
CLASS:PUBLIC
URL:https://www.golnetwork.com/game/v/24864/
X-MICROSOFT-CDO-BUSYSTATUS:BUSY
X-MICROSOFT-CDO-IMPORTANCE:1
END:VEVENT
BEGIN:VEVENT
UID:g2gpn@games.golnetwork.com
LOCATION:Tomlinson Fieldhouse
GEO:45.508899688721;-73.581298828125
CREATED:20130111T184610Z
DTSTART:20130217T173000Z
DTEND:20130217T181000Z
DTSTAMP:20260421T045256Z
SUMMARY:Molson United vs. Baz Boyz
DESCRIPTION:Baz Boyz vs. Molson UnitedMore info: #174
X-ALT-DESC;FMTTYPE=text/html:<!DOCTYPE HTML PUBLIC "-//W3C//DTD HTML 3.2//E
	N">\n<HTML>\n<HEAD>\n<TITLE></TITLE>\n</HEAD>\n<BODY>\n<h3>Baz Boyz vs. Mol
	son United</h3>More info: <a href="https://www.golnetwork.com/game/v/24865/
	">#174</a>\n\n</BODY>\n</HTML>
STATUS:CONFIRMED
CLASS:PUBLIC
URL:https://www.golnetwork.com/game/v/24865/
X-MICROSOFT-CDO-BUSYSTATUS:BUSY
X-MICROSOFT-CDO-IMPORTANCE:1
END:VEVENT
BEGIN:VEVENT
UID:g2gpp@games.golnetwork.com
LOCATION:Tomlinson Fieldhouse
GEO:45.508899688721;-73.581298828125
CREATED:20130111T184610Z
DTSTART:20130217T183000Z
DTEND:20130217T191000Z
DTSTAMP:20260421T045256Z
SUMMARY:Old School vs. Botellón
DESCRIPTION:Botellón vs. Old SchoolMore info: #175
X-ALT-DESC;FMTTYPE=text/html:<!DOCTYPE HTML PUBLIC "-//W3C//DTD HTML 3.2//E
	N">\n<HTML>\n<HEAD>\n<TITLE></TITLE>\n</HEAD>\n<BODY>\n<h3>Botellón vs. Ol
	d School</h3>More info: <a href="https://www.golnetwork.com/game/v/24866/">
	#175</a>\n\n</BODY>\n</HTML>
STATUS:CONFIRMED
CLASS:PUBLIC
URL:https://www.golnetwork.com/game/v/24866/
X-MICROSOFT-CDO-BUSYSTATUS:BUSY
X-MICROSOFT-CDO-IMPORTANCE:1
END:VEVENT
BEGIN:VEVENT
UID:g2h18@games.golnetwork.com
LOCATION:Tomlinson Fieldhouse
GEO:45.508899688721;-73.581298828125
CREATED:20130111T184610Z
DTSTART:20130227T013000Z
DTEND:20130227T021000Z
DTSTAMP:20260421T045256Z
SUMMARY:Real Montreal vs. Botellón
DESCRIPTION:Botellón vs. Real MontrealMore info: #207
X-ALT-DESC;FMTTYPE=text/html:<!DOCTYPE HTML PUBLIC "-//W3C//DTD HTML 3.2//E
	N">\n<HTML>\n<HEAD>\n<TITLE></TITLE>\n</HEAD>\n<BODY>\n<h3>Botellón vs. Re
	al Montreal</h3>More info: <a href="https://www.golnetwork.com/game/v/24898
	/">#207</a>\n\n</BODY>\n</HTML>
STATUS:CONFIRMED
CLASS:PUBLIC
URL:https://www.golnetwork.com/game/v/24898/
X-MICROSOFT-CDO-BUSYSTATUS:BUSY
X-MICROSOFT-CDO-IMPORTANCE:1
END:VEVENT
BEGIN:VEVENT
UID:g2h1a@games.golnetwork.com
LOCATION:Tomlinson Fieldhouse
GEO:45.508899688721;-73.581298828125
CREATED:20130111T184610Z
DTSTART:20130227T023000Z
DTEND:20130227T031000Z
DTSTAMP:20260421T045256Z
SUMMARY:Team Pelo vs. Galacticos FC
DESCRIPTION:Galacticos FC vs. Team PeloMore info: #208
X-ALT-DESC;FMTTYPE=text/html:<!DOCTYPE HTML PUBLIC "-//W3C//DTD HTML 3.2//E
	N">\n<HTML>\n<HEAD>\n<TITLE></TITLE>\n</HEAD>\n<BODY>\n<h3>Galacticos FC vs
	. Team Pelo</h3>More info: <a href="https://www.golnetwork.com/game/v/24899
	/">#208</a>\n\n</BODY>\n</HTML>
STATUS:CONFIRMED
CLASS:PUBLIC
URL:https://www.golnetwork.com/game/v/24899/
X-MICROSOFT-CDO-BUSYSTATUS:BUSY
X-MICROSOFT-CDO-IMPORTANCE:1
END:VEVENT
BEGIN:VEVENT
UID:g2h1m@games.golnetwork.com
LOCATION:Tomlinson Fieldhouse
GEO:45.508899688721;-73.581298828125
CREATED:20130111T184610Z
DTSTART:20130301T003000Z
DTEND:20130301T011000Z
DTSTAMP:20260421T045256Z
SUMMARY:Molson United vs. Mesh Faree2
DESCRIPTION:Mesh Faree2 vs. Molson UnitedMore info: #214
X-ALT-DESC;FMTTYPE=text/html:<!DOCTYPE HTML PUBLIC "-//W3C//DTD HTML 3.2//E
	N">\n<HTML>\n<HEAD>\n<TITLE></TITLE>\n</HEAD>\n<BODY>\n<h3>Mesh Faree2 vs. 
	Molson United</h3>More info: <a href="https://www.golnetwork.com/game/v/249
	05/">#214</a>\n\n</BODY>\n</HTML>
STATUS:CONFIRMED
CLASS:PUBLIC
URL:https://www.golnetwork.com/game/v/24905/
X-MICROSOFT-CDO-BUSYSTATUS:BUSY
X-MICROSOFT-CDO-IMPORTANCE:1
END:VEVENT
BEGIN:VEVENT
UID:g2h45@games.golnetwork.com
LOCATION:Tomlinson Fieldhouse
GEO:45.508899688721;-73.581298828125
CREATED:20130111T184611Z
DTSTART:20130317T133000Z
DTEND:20130317T141000Z
DTSTAMP:20260421T045256Z
SUMMARY:Real Montreal vs. Baz Boyz
DESCRIPTION:Baz Boyz vs. Real MontrealMore info: #246
X-ALT-DESC;FMTTYPE=text/html:<!DOCTYPE HTML PUBLIC "-//W3C//DTD HTML 3.2//E
	N">\n<HTML>\n<HEAD>\n<TITLE></TITLE>\n</HEAD>\n<BODY>\n<h3>Baz Boyz vs. Rea
	l Montreal</h3>More info: <a href="https://www.golnetwork.com/game/v/24937/
	">#246</a>\n\n</BODY>\n</HTML>
STATUS:CONFIRMED
CLASS:PUBLIC
URL:https://www.golnetwork.com/game/v/24937/
X-MICROSOFT-CDO-BUSYSTATUS:BUSY
X-MICROSOFT-CDO-IMPORTANCE:1
END:VEVENT
BEGIN:VEVENT
UID:g2h47@games.golnetwork.com
LOCATION:Tomlinson Fieldhouse
GEO:45.508899688721;-73.581298828125
CREATED:20130111T184611Z
DTSTART:20130317T143000Z
DTEND:20130317T151000Z
DTSTAMP:20260421T045256Z
SUMMARY:Team Pelo vs. Botellón
DESCRIPTION:Botellón vs. Team PeloMore info: #247
X-ALT-DESC;FMTTYPE=text/html:<!DOCTYPE HTML PUBLIC "-//W3C//DTD HTML 3.2//E
	N">\n<HTML>\n<HEAD>\n<TITLE></TITLE>\n</HEAD>\n<BODY>\n<h3>Botellón vs. Te
	am Pelo</h3>More info: <a href="https://www.golnetwork.com/game/v/24938/">#
	247</a>\n\n</BODY>\n</HTML>
STATUS:CONFIRMED
CLASS:PUBLIC
URL:https://www.golnetwork.com/game/v/24938/
X-MICROSOFT-CDO-BUSYSTATUS:BUSY
X-MICROSOFT-CDO-IMPORTANCE:1
END:VEVENT
BEGIN:VEVENT
UID:g2h49@games.golnetwork.com
LOCATION:Tomlinson Fieldhouse
GEO:45.508899688721;-73.581298828125
CREATED:20130111T184611Z
DTSTART:20130317T153000Z
DTEND:20130317T161000Z
DTSTAMP:20260421T045256Z
SUMMARY:Molson United vs. Galacticos FC
DESCRIPTION:Galacticos FC vs. Molson UnitedMore info: #248
X-ALT-DESC;FMTTYPE=text/html:<!DOCTYPE HTML PUBLIC "-//W3C//DTD HTML 3.2//E
	N">\n<HTML>\n<HEAD>\n<TITLE></TITLE>\n</HEAD>\n<BODY>\n<h3>Galacticos FC vs
	. Molson United</h3>More info: <a href="https://www.golnetwork.com/game/v/2
	4939/">#248</a>\n\n</BODY>\n</HTML>
STATUS:CONFIRMED
CLASS:PUBLIC
URL:https://www.golnetwork.com/game/v/24939/
X-MICROSOFT-CDO-BUSYSTATUS:BUSY
X-MICROSOFT-CDO-IMPORTANCE:1
END:VEVENT
BEGIN:VEVENT
UID:g2h4b@games.golnetwork.com
LOCATION:Tomlinson Fieldhouse
GEO:45.508899688721;-73.581298828125
CREATED:20130111T184611Z
DTSTART:20130317T163000Z
DTEND:20130317T171000Z
DTSTAMP:20260421T045256Z
SUMMARY:Old School vs. Mesh Faree2
DESCRIPTION:Mesh Faree2 vs. Old SchoolMore info: #249
X-ALT-DESC;FMTTYPE=text/html:<!DOCTYPE HTML PUBLIC "-//W3C//DTD HTML 3.2//E
	N">\n<HTML>\n<HEAD>\n<TITLE></TITLE>\n</HEAD>\n<BODY>\n<h3>Mesh Faree2 vs. 
	Old School</h3>More info: <a href="https://www.golnetwork.com/game/v/24940/
	">#249</a>\n\n</BODY>\n</HTML>
STATUS:CONFIRMED
CLASS:PUBLIC
URL:https://www.golnetwork.com/game/v/24940/
X-MICROSOFT-CDO-BUSYSTATUS:BUSY
X-MICROSOFT-CDO-IMPORTANCE:1
END:VEVENT
END:VCALENDAR
