BEGIN:VCALENDAR
PRODID:-//gdesolutions.com//MV Framework 1.0.0.1607 Calendar//EN
VERSION:2.0
METHOD:PUBLISH
CALSCALE:GREGORIAN
BEGIN:VEVENT
UID:g2j6j@games.golnetwork.com
LOCATION:Lamport Stadium Field 1
GEO:43.639337;-79.4248954
CREATED:20130207T163340Z
DTSTART:20130213T020000Z
DTEND:20130213T030000Z
DTSTAMP:20260420T151800Z
SUMMARY:Fuerza FC vs. All Swedish\, No Finnish
DESCRIPTION:All Swedish\, No Finnish vs. Fuerza FCMore info: #51
X-ALT-DESC;FMTTYPE=text/html:<!DOCTYPE HTML PUBLIC "-//W3C//DTD HTML 3.2//E
	N">\n<HTML>\n<HEAD>\n<TITLE></TITLE>\n</HEAD>\n<BODY>\n<h3>All Swedish\, No
	 Finnish vs. Fuerza FC</h3>More info: <a href="https://www.golnetwork.com/g
	ame/v/25700/">#51</a>\n\n</BODY>\n</HTML>
STATUS:CONFIRMED
CLASS:PUBLIC
URL:https://www.golnetwork.com/game/v/25700/
X-MICROSOFT-CDO-BUSYSTATUS:BUSY
X-MICROSOFT-CDO-IMPORTANCE:1
END:VEVENT
BEGIN:VEVENT
UID:g2j6l@games.golnetwork.com
LOCATION:Lamport Stadium Field 1
GEO:43.639337;-79.4248954
CREATED:20130207T163340Z
DTSTART:20130213T030000Z
DTEND:20130213T040000Z
DTSTAMP:20260420T151800Z
SUMMARY:Team Brazil vs. Revolution 
DESCRIPTION:Revolution  vs. Team BrazilMore info: #52
X-ALT-DESC;FMTTYPE=text/html:<!DOCTYPE HTML PUBLIC "-//W3C//DTD HTML 3.2//E
	N">\n<HTML>\n<HEAD>\n<TITLE></TITLE>\n</HEAD>\n<BODY>\n<h3>Revolution  vs. 
	Team Brazil</h3>More info: <a href="https://www.golnetwork.com/game/v/25701
	/">#52</a>\n\n</BODY>\n</HTML>
STATUS:CONFIRMED
CLASS:PUBLIC
URL:https://www.golnetwork.com/game/v/25701/
X-MICROSOFT-CDO-BUSYSTATUS:BUSY
X-MICROSOFT-CDO-IMPORTANCE:1
END:VEVENT
BEGIN:VEVENT
UID:g2j6n@games.golnetwork.com
LOCATION:Lamport Stadium Field 1
GEO:43.639337;-79.4248954
CREATED:20130207T163340Z
DTSTART:20130213T040000Z
DTEND:20130213T050000Z
DTSTAMP:20260420T151800Z
SUMMARY:Nobigdeal FC vs. Black and Blue
DESCRIPTION:Black and Blue vs. Nobigdeal FCMore info: #55
X-ALT-DESC;FMTTYPE=text/html:<!DOCTYPE HTML PUBLIC "-//W3C//DTD HTML 3.2//E
	N">\n<HTML>\n<HEAD>\n<TITLE></TITLE>\n</HEAD>\n<BODY>\n<h3>Black and Blue v
	s. Nobigdeal FC</h3>More info: <a href="https://www.golnetwork.com/game/v/2
	5702/">#55</a>\n\n</BODY>\n</HTML>
STATUS:CONFIRMED
CLASS:PUBLIC
URL:https://www.golnetwork.com/game/v/25702/
X-MICROSOFT-CDO-BUSYSTATUS:BUSY
X-MICROSOFT-CDO-IMPORTANCE:1
END:VEVENT
BEGIN:VEVENT
UID:g2j6p@games.golnetwork.com
LOCATION:Lamport Stadium Field 1
GEO:43.639337;-79.4248954
CREATED:20130207T163340Z
DTSTART:20130220T020000Z
DTEND:20130220T030000Z
DTSTAMP:20260420T151800Z
SUMMARY:Fuerza FC vs. Nobigdeal FC
DESCRIPTION:Nobigdeal FC vs. Fuerza FCMore info: #83
X-ALT-DESC;FMTTYPE=text/html:<!DOCTYPE HTML PUBLIC "-//W3C//DTD HTML 3.2//E
	N">\n<HTML>\n<HEAD>\n<TITLE></TITLE>\n</HEAD>\n<BODY>\n<h3>Nobigdeal FC vs.
	 Fuerza FC</h3>More info: <a href="https://www.golnetwork.com/game/v/25703/
	">#83</a>\n\n</BODY>\n</HTML>
STATUS:CONFIRMED
CLASS:PUBLIC
URL:https://www.golnetwork.com/game/v/25703/
X-MICROSOFT-CDO-BUSYSTATUS:BUSY
X-MICROSOFT-CDO-IMPORTANCE:1
END:VEVENT
BEGIN:VEVENT
UID:g2j70@games.golnetwork.com
LOCATION:Lamport Stadium Field 1
GEO:43.639337;-79.4248954
CREATED:20130207T163340Z
DTSTART:20130220T030000Z
DTEND:20130220T040000Z
DTSTAMP:20260420T151800Z
SUMMARY:Team Brazil vs. Black and Blue
DESCRIPTION:Black and Blue vs. Team BrazilMore info: #84
X-ALT-DESC;FMTTYPE=text/html:<!DOCTYPE HTML PUBLIC "-//W3C//DTD HTML 3.2//E
	N">\n<HTML>\n<HEAD>\n<TITLE></TITLE>\n</HEAD>\n<BODY>\n<h3>Black and Blue v
	s. Team Brazil</h3>More info: <a href="https://www.golnetwork.com/game/v/25
	704/">#84</a>\n\n</BODY>\n</HTML>
STATUS:CONFIRMED
CLASS:PUBLIC
URL:https://www.golnetwork.com/game/v/25704/
X-MICROSOFT-CDO-BUSYSTATUS:BUSY
X-MICROSOFT-CDO-IMPORTANCE:1
END:VEVENT
BEGIN:VEVENT
UID:g2j72@games.golnetwork.com
LOCATION:Lamport Stadium Field 1
GEO:43.639337;-79.4248954
CREATED:20130207T163340Z
DTSTART:20130220T040000Z
DTEND:20130220T050000Z
DTSTAMP:20260420T151800Z
SUMMARY:Revolution  vs. All Swedish\, No Finnish
DESCRIPTION:All Swedish\, No Finnish vs. Revolution More info: #87
X-ALT-DESC;FMTTYPE=text/html:<!DOCTYPE HTML PUBLIC "-//W3C//DTD HTML 3.2//E
	N">\n<HTML>\n<HEAD>\n<TITLE></TITLE>\n</HEAD>\n<BODY>\n<h3>All Swedish\, No
	 Finnish vs. Revolution </h3>More info: <a href="https://www.golnetwork.com
	/game/v/25705/">#87</a>\n\n</BODY>\n</HTML>
STATUS:CONFIRMED
CLASS:PUBLIC
URL:https://www.golnetwork.com/game/v/25705/
X-MICROSOFT-CDO-BUSYSTATUS:BUSY
X-MICROSOFT-CDO-IMPORTANCE:1
END:VEVENT
BEGIN:VEVENT
UID:g2j74@games.golnetwork.com
LOCATION:Lamport Stadium Field 1
GEO:43.639337;-79.4248954
CREATED:20130207T163340Z
DTSTART:20130227T020000Z
DTEND:20130227T030000Z
DTSTAMP:20260420T151800Z
SUMMARY:All Swedish\, No Finnish vs. Black and Blue
DESCRIPTION:Black and Blue vs. All Swedish\, No FinnishMore info: #115
X-ALT-DESC;FMTTYPE=text/html:<!DOCTYPE HTML PUBLIC "-//W3C//DTD HTML 3.2//E
	N">\n<HTML>\n<HEAD>\n<TITLE></TITLE>\n</HEAD>\n<BODY>\n<h3>Black and Blue v
	s. All Swedish\, No Finnish</h3>More info: <a href="https://www.golnetwork.
	com/game/v/25706/">#115</a>\n\n</BODY>\n</HTML>
STATUS:CONFIRMED
CLASS:PUBLIC
URL:https://www.golnetwork.com/game/v/25706/
X-MICROSOFT-CDO-BUSYSTATUS:BUSY
X-MICROSOFT-CDO-IMPORTANCE:1
END:VEVENT
BEGIN:VEVENT
UID:g2j76@games.golnetwork.com
LOCATION:Lamport Stadium Field 1
GEO:43.639337;-79.4248954
CREATED:20130207T163340Z
DTSTART:20130227T030000Z
DTEND:20130227T040000Z
DTSTAMP:20260420T151800Z
SUMMARY:Revolution  vs. Fuerza FC
DESCRIPTION:Fuerza FC vs. Revolution More info: #116
X-ALT-DESC;FMTTYPE=text/html:<!DOCTYPE HTML PUBLIC "-//W3C//DTD HTML 3.2//E
	N">\n<HTML>\n<HEAD>\n<TITLE></TITLE>\n</HEAD>\n<BODY>\n<h3>Fuerza FC vs. Re
	volution </h3>More info: <a href="https://www.golnetwork.com/game/v/25707/"
	>#116</a>\n\n</BODY>\n</HTML>
STATUS:CONFIRMED
CLASS:PUBLIC
URL:https://www.golnetwork.com/game/v/25707/
X-MICROSOFT-CDO-BUSYSTATUS:BUSY
X-MICROSOFT-CDO-IMPORTANCE:1
END:VEVENT
BEGIN:VEVENT
UID:g2j78@games.golnetwork.com
LOCATION:Lamport Stadium Field 1
GEO:43.639337;-79.4248954
CREATED:20130207T163340Z
DTSTART:20130227T040000Z
DTEND:20130227T050000Z
DTSTAMP:20260420T151800Z
SUMMARY:Team Brazil vs. Nobigdeal FC
DESCRIPTION:Nobigdeal FC vs. Team BrazilMore info: #119
X-ALT-DESC;FMTTYPE=text/html:<!DOCTYPE HTML PUBLIC "-//W3C//DTD HTML 3.2//E
	N">\n<HTML>\n<HEAD>\n<TITLE></TITLE>\n</HEAD>\n<BODY>\n<h3>Nobigdeal FC vs.
	 Team Brazil</h3>More info: <a href="https://www.golnetwork.com/game/v/2570
	8/">#119</a>\n\n</BODY>\n</HTML>
STATUS:CONFIRMED
CLASS:PUBLIC
URL:https://www.golnetwork.com/game/v/25708/
X-MICROSOFT-CDO-BUSYSTATUS:BUSY
X-MICROSOFT-CDO-IMPORTANCE:1
END:VEVENT
BEGIN:VEVENT
UID:g2j7a@games.golnetwork.com
LOCATION:Lamport Stadium Field 1
GEO:43.639337;-79.4248954
CREATED:20130207T163340Z
DTSTART:20130306T020000Z
DTEND:20130306T030000Z
DTSTAMP:20260420T151800Z
SUMMARY:Revolution  vs. Nobigdeal FC
DESCRIPTION:Nobigdeal FC vs. Revolution More info: #147
X-ALT-DESC;FMTTYPE=text/html:<!DOCTYPE HTML PUBLIC "-//W3C//DTD HTML 3.2//E
	N">\n<HTML>\n<HEAD>\n<TITLE></TITLE>\n</HEAD>\n<BODY>\n<h3>Nobigdeal FC vs.
	 Revolution </h3>More info: <a href="https://www.golnetwork.com/game/v/2570
	9/">#147</a>\n\n</BODY>\n</HTML>
STATUS:CONFIRMED
CLASS:PUBLIC
URL:https://www.golnetwork.com/game/v/25709/
X-MICROSOFT-CDO-BUSYSTATUS:BUSY
X-MICROSOFT-CDO-IMPORTANCE:1
END:VEVENT
BEGIN:VEVENT
UID:g2j7c@games.golnetwork.com
LOCATION:Lamport Stadium Field 1
GEO:43.639337;-79.4248954
CREATED:20130207T163340Z
DTSTART:20130306T030000Z
DTEND:20130306T040000Z
DTSTAMP:20260420T151800Z
SUMMARY:All Swedish\, No Finnish vs. Team Brazil
DESCRIPTION:Team Brazil vs. All Swedish\, No FinnishMore info: #148
X-ALT-DESC;FMTTYPE=text/html:<!DOCTYPE HTML PUBLIC "-//W3C//DTD HTML 3.2//E
	N">\n<HTML>\n<HEAD>\n<TITLE></TITLE>\n</HEAD>\n<BODY>\n<h3>Team Brazil vs. 
	All Swedish\, No Finnish</h3>More info: <a href="https://www.golnetwork.com
	/game/v/25710/">#148</a>\n\n</BODY>\n</HTML>
STATUS:CONFIRMED
CLASS:PUBLIC
URL:https://www.golnetwork.com/game/v/25710/
X-MICROSOFT-CDO-BUSYSTATUS:BUSY
X-MICROSOFT-CDO-IMPORTANCE:1
END:VEVENT
BEGIN:VEVENT
UID:g2j7e@games.golnetwork.com
LOCATION:Lamport Stadium Field 1
GEO:43.639337;-79.4248954
CREATED:20130207T163340Z
DTSTART:20130306T040000Z
DTEND:20130306T050000Z
DTSTAMP:20260420T151800Z
SUMMARY:Black and Blue vs. Fuerza FC
DESCRIPTION:Fuerza FC vs. Black and BlueMore info: #151
X-ALT-DESC;FMTTYPE=text/html:<!DOCTYPE HTML PUBLIC "-//W3C//DTD HTML 3.2//E
	N">\n<HTML>\n<HEAD>\n<TITLE></TITLE>\n</HEAD>\n<BODY>\n<h3>Fuerza FC vs. Bl
	ack and Blue</h3>More info: <a href="https://www.golnetwork.com/game/v/2571
	1/">#151</a>\n\n</BODY>\n</HTML>
STATUS:CONFIRMED
CLASS:PUBLIC
URL:https://www.golnetwork.com/game/v/25711/
X-MICROSOFT-CDO-BUSYSTATUS:BUSY
X-MICROSOFT-CDO-IMPORTANCE:1
END:VEVENT
BEGIN:VEVENT
UID:g2j7g@games.golnetwork.com
LOCATION:Lamport Stadium Field 1
GEO:43.639337;-79.4248954
CREATED:20130207T163340Z
DTSTART:20130313T010000Z
DTEND:20130313T020000Z
DTSTAMP:20260420T151800Z
SUMMARY:Nobigdeal FC vs. All Swedish\, No Finnish
DESCRIPTION:All Swedish\, No Finnish vs. Nobigdeal FCMore info: #179
X-ALT-DESC;FMTTYPE=text/html:<!DOCTYPE HTML PUBLIC "-//W3C//DTD HTML 3.2//E
	N">\n<HTML>\n<HEAD>\n<TITLE></TITLE>\n</HEAD>\n<BODY>\n<h3>All Swedish\, No
	 Finnish vs. Nobigdeal FC</h3>More info: <a href="https://www.golnetwork.co
	m/game/v/25712/">#179</a>\n\n</BODY>\n</HTML>
STATUS:CONFIRMED
CLASS:PUBLIC
URL:https://www.golnetwork.com/game/v/25712/
X-MICROSOFT-CDO-BUSYSTATUS:BUSY
X-MICROSOFT-CDO-IMPORTANCE:1
END:VEVENT
BEGIN:VEVENT
UID:g2j7i@games.golnetwork.com
LOCATION:Lamport Stadium Field 1
GEO:43.639337;-79.4248954
CREATED:20130207T163340Z
DTSTART:20130313T020000Z
DTEND:20130313T030000Z
DTSTAMP:20260420T151800Z
SUMMARY:Black and Blue vs. Revolution 
DESCRIPTION:Revolution  vs. Black and BlueMore info: #180
X-ALT-DESC;FMTTYPE=text/html:<!DOCTYPE HTML PUBLIC "-//W3C//DTD HTML 3.2//E
	N">\n<HTML>\n<HEAD>\n<TITLE></TITLE>\n</HEAD>\n<BODY>\n<h3>Revolution  vs. 
	Black and Blue</h3>More info: <a href="https://www.golnetwork.com/game/v/25
	713/">#180</a>\n\n</BODY>\n</HTML>
STATUS:CONFIRMED
CLASS:PUBLIC
URL:https://www.golnetwork.com/game/v/25713/
X-MICROSOFT-CDO-BUSYSTATUS:BUSY
X-MICROSOFT-CDO-IMPORTANCE:1
END:VEVENT
BEGIN:VEVENT
UID:g2j7k@games.golnetwork.com
LOCATION:Lamport Stadium Field 1
GEO:43.639337;-79.4248954
CREATED:20130207T163340Z
DTSTART:20130313T030000Z
DTEND:20130313T040000Z
DTSTAMP:20260420T151800Z
SUMMARY:Fuerza FC vs. Team Brazil
DESCRIPTION:Team Brazil vs. Fuerza FCMore info: #183
X-ALT-DESC;FMTTYPE=text/html:<!DOCTYPE HTML PUBLIC "-//W3C//DTD HTML 3.2//E
	N">\n<HTML>\n<HEAD>\n<TITLE></TITLE>\n</HEAD>\n<BODY>\n<h3>Team Brazil vs. 
	Fuerza FC</h3>More info: <a href="https://www.golnetwork.com/game/v/25714/"
	>#183</a>\n\n</BODY>\n</HTML>
STATUS:CONFIRMED
CLASS:PUBLIC
URL:https://www.golnetwork.com/game/v/25714/
X-MICROSOFT-CDO-BUSYSTATUS:BUSY
X-MICROSOFT-CDO-IMPORTANCE:1
END:VEVENT
BEGIN:VEVENT
UID:g2j7m@games.golnetwork.com
LOCATION:Lamport Stadium Field 1
GEO:43.639337;-79.4248954
CREATED:20130207T163340Z
DTSTART:20130320T010000Z
DTEND:20130320T020000Z
DTSTAMP:20260420T151800Z
SUMMARY:Revolution  vs. Team Brazil
DESCRIPTION:Team Brazil vs. Revolution More info: #212
X-ALT-DESC;FMTTYPE=text/html:<!DOCTYPE HTML PUBLIC "-//W3C//DTD HTML 3.2//E
	N">\n<HTML>\n<HEAD>\n<TITLE></TITLE>\n</HEAD>\n<BODY>\n<h3>Team Brazil vs. 
	Revolution </h3>More info: <a href="https://www.golnetwork.com/game/v/25715
	/">#212</a>\n\n</BODY>\n</HTML>
STATUS:CONFIRMED
CLASS:PUBLIC
URL:https://www.golnetwork.com/game/v/25715/
X-MICROSOFT-CDO-BUSYSTATUS:BUSY
X-MICROSOFT-CDO-IMPORTANCE:1
END:VEVENT
BEGIN:VEVENT
UID:g2j7o@games.golnetwork.com
LOCATION:Lamport Stadium Field 1
GEO:43.639337;-79.4248954
CREATED:20130207T163340Z
DTSTART:20130320T020000Z
DTEND:20130320T030000Z
DTSTAMP:20260420T151800Z
SUMMARY:Black and Blue vs. All Swedish\, No Finnish
DESCRIPTION:All Swedish\, No Finnish vs. Black and BlueMore info: #213
X-ALT-DESC;FMTTYPE=text/html:<!DOCTYPE HTML PUBLIC "-//W3C//DTD HTML 3.2//E
	N">\n<HTML>\n<HEAD>\n<TITLE></TITLE>\n</HEAD>\n<BODY>\n<h3>All Swedish\, No
	 Finnish vs. Black and Blue</h3>More info: <a href="https://www.golnetwork.
	com/game/v/25716/">#213</a>\n\n</BODY>\n</HTML>
STATUS:CONFIRMED
CLASS:PUBLIC
URL:https://www.golnetwork.com/game/v/25716/
X-MICROSOFT-CDO-BUSYSTATUS:BUSY
X-MICROSOFT-CDO-IMPORTANCE:1
END:VEVENT
BEGIN:VEVENT
UID:g2j7q@games.golnetwork.com
LOCATION:Lamport Stadium Field 1
GEO:43.639337;-79.4248954
CREATED:20130207T163340Z
DTSTART:20130320T030000Z
DTEND:20130320T040000Z
DTSTAMP:20260420T151800Z
SUMMARY:Fuerza FC vs. Nobigdeal FC
DESCRIPTION:Nobigdeal FC vs. Fuerza FCMore info: #216
X-ALT-DESC;FMTTYPE=text/html:<!DOCTYPE HTML PUBLIC "-//W3C//DTD HTML 3.2//E
	N">\n<HTML>\n<HEAD>\n<TITLE></TITLE>\n</HEAD>\n<BODY>\n<h3>Nobigdeal FC vs.
	 Fuerza FC</h3>More info: <a href="https://www.golnetwork.com/game/v/25717/
	">#216</a>\n\n</BODY>\n</HTML>
STATUS:CONFIRMED
CLASS:PUBLIC
URL:https://www.golnetwork.com/game/v/25717/
X-MICROSOFT-CDO-BUSYSTATUS:BUSY
X-MICROSOFT-CDO-IMPORTANCE:1
END:VEVENT
BEGIN:VEVENT
UID:g2j81@games.golnetwork.com
LOCATION:Lamport Stadium Field 1
GEO:43.639337;-79.4248954
CREATED:20130207T163340Z
DTSTART:20130327T010000Z
DTEND:20130327T020000Z
DTSTAMP:20260420T151800Z
SUMMARY:Nobigdeal FC vs. All Swedish\, No Finnish
DESCRIPTION:All Swedish\, No Finnish vs. Nobigdeal FCMore info: #244
X-ALT-DESC;FMTTYPE=text/html:<!DOCTYPE HTML PUBLIC "-//W3C//DTD HTML 3.2//E
	N">\n<HTML>\n<HEAD>\n<TITLE></TITLE>\n</HEAD>\n<BODY>\n<h3>All Swedish\, No
	 Finnish vs. Nobigdeal FC</h3>More info: <a href="https://www.golnetwork.co
	m/game/v/25718/">#244</a>\n\n</BODY>\n</HTML>
STATUS:CONFIRMED
CLASS:PUBLIC
URL:https://www.golnetwork.com/game/v/25718/
X-MICROSOFT-CDO-BUSYSTATUS:BUSY
X-MICROSOFT-CDO-IMPORTANCE:1
END:VEVENT
BEGIN:VEVENT
UID:g2j83@games.golnetwork.com
LOCATION:Lamport Stadium Field 1
GEO:43.639337;-79.4248954
CREATED:20130207T163340Z
DTSTART:20130327T020000Z
DTEND:20130327T030000Z
DTSTAMP:20260420T151800Z
SUMMARY:Fuerza FC vs. Team Brazil
DESCRIPTION:Team Brazil vs. Fuerza FCMore info: #245
X-ALT-DESC;FMTTYPE=text/html:<!DOCTYPE HTML PUBLIC "-//W3C//DTD HTML 3.2//E
	N">\n<HTML>\n<HEAD>\n<TITLE></TITLE>\n</HEAD>\n<BODY>\n<h3>Team Brazil vs. 
	Fuerza FC</h3>More info: <a href="https://www.golnetwork.com/game/v/25719/"
	>#245</a>\n\n</BODY>\n</HTML>
STATUS:CONFIRMED
CLASS:PUBLIC
URL:https://www.golnetwork.com/game/v/25719/
X-MICROSOFT-CDO-BUSYSTATUS:BUSY
X-MICROSOFT-CDO-IMPORTANCE:1
END:VEVENT
BEGIN:VEVENT
UID:g2j85@games.golnetwork.com
LOCATION:Lamport Stadium Field 1
GEO:43.639337;-79.4248954
CREATED:20130207T163340Z
DTSTART:20130327T030000Z
DTEND:20130327T040000Z
DTSTAMP:20260420T151800Z
SUMMARY:Black and Blue vs. Revolution 
DESCRIPTION:Revolution  vs. Black and BlueMore info: #248
X-ALT-DESC;FMTTYPE=text/html:<!DOCTYPE HTML PUBLIC "-//W3C//DTD HTML 3.2//E
	N">\n<HTML>\n<HEAD>\n<TITLE></TITLE>\n</HEAD>\n<BODY>\n<h3>Revolution  vs. 
	Black and Blue</h3>More info: <a href="https://www.golnetwork.com/game/v/25
	720/">#248</a>\n\n</BODY>\n</HTML>
STATUS:CONFIRMED
CLASS:PUBLIC
URL:https://www.golnetwork.com/game/v/25720/
X-MICROSOFT-CDO-BUSYSTATUS:BUSY
X-MICROSOFT-CDO-IMPORTANCE:1
END:VEVENT
BEGIN:VEVENT
UID:g2j87@games.golnetwork.com
LOCATION:Lamport Stadium Field 1
GEO:43.639337;-79.4248954
CREATED:20130207T163340Z
DTSTART:20130403T010000Z
DTEND:20130403T020000Z
DTSTAMP:20260420T151800Z
SUMMARY:Revolution  vs. Fuerza FC
DESCRIPTION:Fuerza FC vs. Revolution More info: #251
X-ALT-DESC;FMTTYPE=text/html:<!DOCTYPE HTML PUBLIC "-//W3C//DTD HTML 3.2//E
	N">\n<HTML>\n<HEAD>\n<TITLE></TITLE>\n</HEAD>\n<BODY>\n<h3>Fuerza FC vs. Re
	volution </h3>More info: <a href="https://www.golnetwork.com/game/v/25721/"
	>#251</a>\n\n</BODY>\n</HTML>
STATUS:CONFIRMED
CLASS:PUBLIC
URL:https://www.golnetwork.com/game/v/25721/
X-MICROSOFT-CDO-BUSYSTATUS:BUSY
X-MICROSOFT-CDO-IMPORTANCE:1
END:VEVENT
BEGIN:VEVENT
UID:g2j89@games.golnetwork.com
LOCATION:Lamport Stadium Field 1
GEO:43.639337;-79.4248954
CREATED:20130207T163340Z
DTSTART:20130403T020000Z
DTEND:20130403T030000Z
DTSTAMP:20260420T151800Z
SUMMARY:Nobigdeal FC vs. Black and Blue
DESCRIPTION:Black and Blue vs. Nobigdeal FCMore info: #252
X-ALT-DESC;FMTTYPE=text/html:<!DOCTYPE HTML PUBLIC "-//W3C//DTD HTML 3.2//E
	N">\n<HTML>\n<HEAD>\n<TITLE></TITLE>\n</HEAD>\n<BODY>\n<h3>Black and Blue v
	s. Nobigdeal FC</h3>More info: <a href="https://www.golnetwork.com/game/v/2
	5722/">#252</a>\n\n</BODY>\n</HTML>
STATUS:CONFIRMED
CLASS:PUBLIC
URL:https://www.golnetwork.com/game/v/25722/
X-MICROSOFT-CDO-BUSYSTATUS:BUSY
X-MICROSOFT-CDO-IMPORTANCE:1
END:VEVENT
BEGIN:VEVENT
UID:g2j8b@games.golnetwork.com
LOCATION:Lamport Stadium Field 1
GEO:43.639337;-79.4248954
CREATED:20130207T163340Z
DTSTART:20130403T030000Z
DTEND:20130403T040000Z
DTSTAMP:20260420T151800Z
SUMMARY:All Swedish\, No Finnish vs. Team Brazil
DESCRIPTION:Team Brazil vs. All Swedish\, No FinnishMore info: #255
X-ALT-DESC;FMTTYPE=text/html:<!DOCTYPE HTML PUBLIC "-//W3C//DTD HTML 3.2//E
	N">\n<HTML>\n<HEAD>\n<TITLE></TITLE>\n</HEAD>\n<BODY>\n<h3>Team Brazil vs. 
	All Swedish\, No Finnish</h3>More info: <a href="https://www.golnetwork.com
	/game/v/25723/">#255</a>\n\n</BODY>\n</HTML>
STATUS:CONFIRMED
CLASS:PUBLIC
URL:https://www.golnetwork.com/game/v/25723/
X-MICROSOFT-CDO-BUSYSTATUS:BUSY
X-MICROSOFT-CDO-IMPORTANCE:1
END:VEVENT
BEGIN:VEVENT
UID:g2j8d@games.golnetwork.com
LOCATION:Lamport Stadium Field 1
GEO:43.639337;-79.4248954
CREATED:20130207T163340Z
DTSTART:20130410T010000Z
DTEND:20130410T020000Z
DTSTAMP:20260420T151800Z
SUMMARY:Nobigdeal FC vs. All Swedish\, No Finnish
DESCRIPTION:All Swedish\, No Finnish vs. Nobigdeal FCMore info: #283
X-ALT-DESC;FMTTYPE=text/html:<!DOCTYPE HTML PUBLIC "-//W3C//DTD HTML 3.2//E
	N">\n<HTML>\n<HEAD>\n<TITLE></TITLE>\n</HEAD>\n<BODY>\n<h3>All Swedish\, No
	 Finnish vs. Nobigdeal FC</h3>More info: <a href="https://www.golnetwork.co
	m/game/v/25724/">#283</a>\n\n</BODY>\n</HTML>
STATUS:CONFIRMED
CLASS:PUBLIC
URL:https://www.golnetwork.com/game/v/25724/
X-MICROSOFT-CDO-BUSYSTATUS:BUSY
X-MICROSOFT-CDO-IMPORTANCE:1
END:VEVENT
BEGIN:VEVENT
UID:g2j8f@games.golnetwork.com
LOCATION:Lamport Stadium Field 1
GEO:43.639337;-79.4248954
CREATED:20130207T163340Z
DTSTART:20130410T020000Z
DTEND:20130410T030000Z
DTSTAMP:20260420T151800Z
SUMMARY:Revolution  vs. Fuerza FC
DESCRIPTION:Fuerza FC vs. Revolution More info: #284
X-ALT-DESC;FMTTYPE=text/html:<!DOCTYPE HTML PUBLIC "-//W3C//DTD HTML 3.2//E
	N">\n<HTML>\n<HEAD>\n<TITLE></TITLE>\n</HEAD>\n<BODY>\n<h3>Fuerza FC vs. Re
	volution </h3>More info: <a href="https://www.golnetwork.com/game/v/25725/"
	>#284</a>\n\n</BODY>\n</HTML>
STATUS:CONFIRMED
CLASS:PUBLIC
URL:https://www.golnetwork.com/game/v/25725/
X-MICROSOFT-CDO-BUSYSTATUS:BUSY
X-MICROSOFT-CDO-IMPORTANCE:1
END:VEVENT
BEGIN:VEVENT
UID:g2j8h@games.golnetwork.com
LOCATION:Lamport Stadium Field 1
GEO:43.639337;-79.4248954
CREATED:20130207T163340Z
DTSTART:20130410T030000Z
DTEND:20130410T040000Z
DTSTAMP:20260420T151800Z
SUMMARY:Black and Blue vs. Team Brazil
DESCRIPTION:Team Brazil vs. Black and BlueMore info: #287
X-ALT-DESC;FMTTYPE=text/html:<!DOCTYPE HTML PUBLIC "-//W3C//DTD HTML 3.2//E
	N">\n<HTML>\n<HEAD>\n<TITLE></TITLE>\n</HEAD>\n<BODY>\n<h3>Team Brazil vs. 
	Black and Blue</h3>More info: <a href="https://www.golnetwork.com/game/v/25
	726/">#287</a>\n\n</BODY>\n</HTML>
STATUS:CONFIRMED
CLASS:PUBLIC
URL:https://www.golnetwork.com/game/v/25726/
X-MICROSOFT-CDO-BUSYSTATUS:BUSY
X-MICROSOFT-CDO-IMPORTANCE:1
END:VEVENT
END:VCALENDAR
