BEGIN:VCALENDAR
PRODID:-//gdesolutions.com//MV Framework 1.0.0.1607 Calendar//EN
VERSION:2.0
METHOD:PUBLISH
CALSCALE:GREGORIAN
BEGIN:VEVENT
UID:g2pqj@games.golnetwork.com
LOCATION:Forbes Field
GEO:45.10662;-94.578209
CREATED:20130425T134642Z
DTSTART:20130427T210000Z
DTEND:20130427T214000Z
DTSTAMP:20260422T053851Z
SUMMARY:XXY vs. Suck Our Kicks
DESCRIPTION:Suck Our Kicks vs. XXYMore info: #3
X-ALT-DESC;FMTTYPE=text/html:<!DOCTYPE HTML PUBLIC "-//W3C//DTD HTML 3.2//E
	N">\n<HTML>\n<HEAD>\n<TITLE></TITLE>\n</HEAD>\n<BODY>\n<h3>Suck Our Kicks v
	s. XXY</h3>More info: <a href="https://www.golnetwork.com/game/v/28157/">#3
	</a>\n\n</BODY>\n</HTML>
STATUS:CONFIRMED
CLASS:PUBLIC
URL:https://www.golnetwork.com/game/v/28157/
X-MICROSOFT-CDO-BUSYSTATUS:BUSY
X-MICROSOFT-CDO-IMPORTANCE:1
END:VEVENT
BEGIN:VEVENT
UID:g2pql@games.golnetwork.com
LOCATION:Forbes Field
GEO:45.10662;-94.578209
CREATED:20130425T134642Z
DTSTART:20130427T220000Z
DTEND:20130427T224000Z
DTSTAMP:20260422T053851Z
SUMMARY:UnAtletico McGill (CRB) vs. Promoters
DESCRIPTION:Promoters vs. UnAtletico McGill (CRB)More info: #4
X-ALT-DESC;FMTTYPE=text/html:<!DOCTYPE HTML PUBLIC "-//W3C//DTD HTML 3.2//E
	N">\n<HTML>\n<HEAD>\n<TITLE></TITLE>\n</HEAD>\n<BODY>\n<h3>Promoters vs. Un
	Atletico McGill (CRB)</h3>More info: <a href="https://www.golnetwork.com/ga
	me/v/28158/">#4</a>\n\n</BODY>\n</HTML>
STATUS:CONFIRMED
CLASS:PUBLIC
URL:https://www.golnetwork.com/game/v/28158/
X-MICROSOFT-CDO-BUSYSTATUS:BUSY
X-MICROSOFT-CDO-IMPORTANCE:1
END:VEVENT
BEGIN:VEVENT
UID:g2q04@games.golnetwork.com
LOCATION:Forbes Field
GEO:45.10662;-94.578209
CREATED:20130425T134642Z
DTSTART:20130504T200000Z
DTEND:20130504T204000Z
DTSTAMP:20260422T053851Z
SUMMARY:Grate Chate vs. Club Papi Chulo
DESCRIPTION:Club Papi Chulo vs. Grate ChateMore info: #9
X-ALT-DESC;FMTTYPE=text/html:<!DOCTYPE HTML PUBLIC "-//W3C//DTD HTML 3.2//E
	N">\n<HTML>\n<HEAD>\n<TITLE></TITLE>\n</HEAD>\n<BODY>\n<h3>Club Papi Chulo 
	vs. Grate Chate</h3>More info: <a href="https://www.golnetwork.com/game/v/2
	8163/">#9</a>\n\n</BODY>\n</HTML>
STATUS:CONFIRMED
CLASS:PUBLIC
URL:https://www.golnetwork.com/game/v/28163/
X-MICROSOFT-CDO-BUSYSTATUS:BUSY
X-MICROSOFT-CDO-IMPORTANCE:1
END:VEVENT
BEGIN:VEVENT
UID:g2q06@games.golnetwork.com
LOCATION:Forbes Field
GEO:45.10662;-94.578209
CREATED:20130425T134642Z
DTSTART:20130504T210000Z
DTEND:20130504T214000Z
DTSTAMP:20260422T053851Z
SUMMARY:Lord Of the Teams vs. AC Pal
DESCRIPTION:AC Pal vs. Lord Of the TeamsMore info: #10
X-ALT-DESC;FMTTYPE=text/html:<!DOCTYPE HTML PUBLIC "-//W3C//DTD HTML 3.2//E
	N">\n<HTML>\n<HEAD>\n<TITLE></TITLE>\n</HEAD>\n<BODY>\n<h3>AC Pal vs. Lord 
	Of the Teams</h3>More info: <a href="https://www.golnetwork.com/game/v/2816
	4/">#10</a>\n\n</BODY>\n</HTML>
STATUS:CONFIRMED
CLASS:PUBLIC
URL:https://www.golnetwork.com/game/v/28164/
X-MICROSOFT-CDO-BUSYSTATUS:BUSY
X-MICROSOFT-CDO-IMPORTANCE:1
END:VEVENT
BEGIN:VEVENT
UID:g2q08@games.golnetwork.com
LOCATION:Forbes Field
GEO:45.10662;-94.578209
CREATED:20130425T134642Z
DTSTART:20130504T220000Z
DTEND:20130504T224000Z
DTSTAMP:20260422T053851Z
SUMMARY:UnAtletico McGill (CRB) vs. Suck Our Kicks
DESCRIPTION:Suck Our Kicks vs. UnAtletico McGill (CRB)More info: #11
X-ALT-DESC;FMTTYPE=text/html:<!DOCTYPE HTML PUBLIC "-//W3C//DTD HTML 3.2//E
	N">\n<HTML>\n<HEAD>\n<TITLE></TITLE>\n</HEAD>\n<BODY>\n<h3>Suck Our Kicks v
	s. UnAtletico McGill (CRB)</h3>More info: <a href="https://www.golnetwork.c
	om/game/v/28165/">#11</a>\n\n</BODY>\n</HTML>
STATUS:CONFIRMED
CLASS:PUBLIC
URL:https://www.golnetwork.com/game/v/28165/
X-MICROSOFT-CDO-BUSYSTATUS:BUSY
X-MICROSOFT-CDO-IMPORTANCE:1
END:VEVENT
BEGIN:VEVENT
UID:g2q0i@games.golnetwork.com
LOCATION:Forbes Field
GEO:45.10662;-94.578209
CREATED:20130425T134642Z
DTSTART:20130505T200000Z
DTEND:20130505T204000Z
DTSTAMP:20260422T053851Z
SUMMARY:XXY vs. Promoters
DESCRIPTION:Promoters vs. XXYMore info: #16
X-ALT-DESC;FMTTYPE=text/html:<!DOCTYPE HTML PUBLIC "-//W3C//DTD HTML 3.2//E
	N">\n<HTML>\n<HEAD>\n<TITLE></TITLE>\n</HEAD>\n<BODY>\n<h3>Promoters vs. XX
	Y</h3>More info: <a href="https://www.golnetwork.com/game/v/28170/">#16</a>
	\n\n</BODY>\n</HTML>
STATUS:CONFIRMED
CLASS:PUBLIC
URL:https://www.golnetwork.com/game/v/28170/
X-MICROSOFT-CDO-BUSYSTATUS:BUSY
X-MICROSOFT-CDO-IMPORTANCE:1
END:VEVENT
BEGIN:VEVENT
UID:g2q13@games.golnetwork.com
LOCATION:Forbes Field
GEO:45.10662;-94.578209
CREATED:20130425T134642Z
DTSTART:20130511T210000Z
DTEND:20130511T214000Z
DTSTAMP:20260422T053851Z
SUMMARY:Grate Chate vs. AC Pal
DESCRIPTION:AC Pal vs. Grate ChateMore info: #22
X-ALT-DESC;FMTTYPE=text/html:<!DOCTYPE HTML PUBLIC "-//W3C//DTD HTML 3.2//E
	N">\n<HTML>\n<HEAD>\n<TITLE></TITLE>\n</HEAD>\n<BODY>\n<h3>AC Pal vs. Grate
	 Chate</h3>More info: <a href="https://www.golnetwork.com/game/v/28176/">#2
	2</a>\n\n</BODY>\n</HTML>
STATUS:CONFIRMED
CLASS:PUBLIC
URL:https://www.golnetwork.com/game/v/28176/
X-MICROSOFT-CDO-BUSYSTATUS:BUSY
X-MICROSOFT-CDO-IMPORTANCE:1
END:VEVENT
BEGIN:VEVENT
UID:g2q15@games.golnetwork.com
LOCATION:Forbes Field
GEO:45.10662;-94.578209
CREATED:20130425T134642Z
DTSTART:20130511T220000Z
DTEND:20130511T224000Z
DTSTAMP:20260422T053851Z
SUMMARY:Lord Of the Teams vs. Club Papi Chulo
DESCRIPTION:Club Papi Chulo vs. Lord Of the TeamsMore info: #23
X-ALT-DESC;FMTTYPE=text/html:<!DOCTYPE HTML PUBLIC "-//W3C//DTD HTML 3.2//E
	N">\n<HTML>\n<HEAD>\n<TITLE></TITLE>\n</HEAD>\n<BODY>\n<h3>Club Papi Chulo 
	vs. Lord Of the Teams</h3>More info: <a href="https://www.golnetwork.com/ga
	me/v/28177/">#23</a>\n\n</BODY>\n</HTML>
STATUS:CONFIRMED
CLASS:PUBLIC
URL:https://www.golnetwork.com/game/v/28177/
X-MICROSOFT-CDO-BUSYSTATUS:BUSY
X-MICROSOFT-CDO-IMPORTANCE:1
END:VEVENT
BEGIN:VEVENT
UID:g2q19@games.golnetwork.com
LOCATION:Forbes Field
GEO:45.10662;-94.578209
CREATED:20130425T134642Z
DTSTART:20130512T170000Z
DTEND:20130512T174000Z
DTSTAMP:20260422T053851Z
SUMMARY:Promoters vs. Suck Our Kicks
DESCRIPTION:Suck Our Kicks vs. PromotersMore info: #25
X-ALT-DESC;FMTTYPE=text/html:<!DOCTYPE HTML PUBLIC "-//W3C//DTD HTML 3.2//E
	N">\n<HTML>\n<HEAD>\n<TITLE></TITLE>\n</HEAD>\n<BODY>\n<h3>Suck Our Kicks v
	s. Promoters</h3>More info: <a href="https://www.golnetwork.com/game/v/2817
	9/">#25</a>\n\n</BODY>\n</HTML>
STATUS:CONFIRMED
CLASS:PUBLIC
URL:https://www.golnetwork.com/game/v/28179/
X-MICROSOFT-CDO-BUSYSTATUS:BUSY
X-MICROSOFT-CDO-IMPORTANCE:1
END:VEVENT
BEGIN:VEVENT
UID:g2q1b@games.golnetwork.com
LOCATION:Forbes Field
GEO:45.10662;-94.578209
CREATED:20130425T134642Z
DTSTART:20130512T180000Z
DTEND:20130512T184000Z
DTSTAMP:20260422T053851Z
SUMMARY:XXY vs. UnAtletico McGill (CRB)
DESCRIPTION:UnAtletico McGill (CRB) vs. XXYMore info: #26
X-ALT-DESC;FMTTYPE=text/html:<!DOCTYPE HTML PUBLIC "-//W3C//DTD HTML 3.2//E
	N">\n<HTML>\n<HEAD>\n<TITLE></TITLE>\n</HEAD>\n<BODY>\n<h3>UnAtletico McGil
	l (CRB) vs. XXY</h3>More info: <a href="https://www.golnetwork.com/game/v/2
	8180/">#26</a>\n\n</BODY>\n</HTML>
STATUS:CONFIRMED
CLASS:PUBLIC
URL:https://www.golnetwork.com/game/v/28180/
X-MICROSOFT-CDO-BUSYSTATUS:BUSY
X-MICROSOFT-CDO-IMPORTANCE:1
END:VEVENT
BEGIN:VEVENT
UID:g2q1f@games.golnetwork.com
LOCATION:Forbes Field
GEO:45.10662;-94.578209
CREATED:20130425T134642Z
DTSTART:20130512T200000Z
DTEND:20130512T204000Z
DTSTAMP:20260422T053851Z
SUMMARY:Club Papi Chulo vs. AC Pal
DESCRIPTION:AC Pal vs. Club Papi ChuloMore info: #28
X-ALT-DESC;FMTTYPE=text/html:<!DOCTYPE HTML PUBLIC "-//W3C//DTD HTML 3.2//E
	N">\n<HTML>\n<HEAD>\n<TITLE></TITLE>\n</HEAD>\n<BODY>\n<h3>AC Pal vs. Club 
	Papi Chulo</h3>More info: <a href="https://www.golnetwork.com/game/v/28182/
	">#28</a>\n\n</BODY>\n</HTML>
STATUS:CONFIRMED
CLASS:PUBLIC
URL:https://www.golnetwork.com/game/v/28182/
X-MICROSOFT-CDO-BUSYSTATUS:BUSY
X-MICROSOFT-CDO-IMPORTANCE:1
END:VEVENT
BEGIN:VEVENT
UID:g2q1p@games.golnetwork.com
LOCATION:Forbes Field
GEO:45.10662;-94.578209
CREATED:20130425T134642Z
DTSTART:20130518T200000Z
DTEND:20130518T204000Z
DTSTAMP:20260422T053851Z
SUMMARY:XXY vs. Lord Of the Teams
DESCRIPTION:Lord Of the Teams vs. XXYMore info: #33
X-ALT-DESC;FMTTYPE=text/html:<!DOCTYPE HTML PUBLIC "-//W3C//DTD HTML 3.2//E
	N">\n<HTML>\n<HEAD>\n<TITLE></TITLE>\n</HEAD>\n<BODY>\n<h3>Lord Of the Team
	s vs. XXY</h3>More info: <a href="https://www.golnetwork.com/game/v/28187/"
	>#33</a>\n\n</BODY>\n</HTML>
STATUS:CONFIRMED
CLASS:PUBLIC
URL:https://www.golnetwork.com/game/v/28187/
X-MICROSOFT-CDO-BUSYSTATUS:BUSY
X-MICROSOFT-CDO-IMPORTANCE:1
END:VEVENT
BEGIN:VEVENT
UID:g2q20@games.golnetwork.com
LOCATION:Forbes Field
GEO:45.10662;-94.578209
CREATED:20130425T134642Z
DTSTART:20130518T210000Z
DTEND:20130518T214000Z
DTSTAMP:20260422T053851Z
SUMMARY:UnAtletico McGill (CRB) vs. Grate Chate
DESCRIPTION:Grate Chate vs. UnAtletico McGill (CRB)More info: #34
X-ALT-DESC;FMTTYPE=text/html:<!DOCTYPE HTML PUBLIC "-//W3C//DTD HTML 3.2//E
	N">\n<HTML>\n<HEAD>\n<TITLE></TITLE>\n</HEAD>\n<BODY>\n<h3>Grate Chate vs. 
	UnAtletico McGill (CRB)</h3>More info: <a href="https://www.golnetwork.com/
	game/v/28188/">#34</a>\n\n</BODY>\n</HTML>
STATUS:CONFIRMED
CLASS:PUBLIC
URL:https://www.golnetwork.com/game/v/28188/
X-MICROSOFT-CDO-BUSYSTATUS:BUSY
X-MICROSOFT-CDO-IMPORTANCE:1
END:VEVENT
BEGIN:VEVENT
UID:g2q22@games.golnetwork.com
LOCATION:Forbes Field
GEO:45.10662;-94.578209
CREATED:20130425T134643Z
DTSTART:20130518T220000Z
DTEND:20130518T224000Z
DTSTAMP:20260422T053851Z
SUMMARY:Promoters vs. Club Papi Chulo
DESCRIPTION:Club Papi Chulo vs. PromotersMore info: #35
X-ALT-DESC;FMTTYPE=text/html:<!DOCTYPE HTML PUBLIC "-//W3C//DTD HTML 3.2//E
	N">\n<HTML>\n<HEAD>\n<TITLE></TITLE>\n</HEAD>\n<BODY>\n<h3>Club Papi Chulo 
	vs. Promoters</h3>More info: <a href="https://www.golnetwork.com/game/v/281
	89/">#35</a>\n\n</BODY>\n</HTML>
STATUS:CONFIRMED
CLASS:PUBLIC
URL:https://www.golnetwork.com/game/v/28189/
X-MICROSOFT-CDO-BUSYSTATUS:BUSY
X-MICROSOFT-CDO-IMPORTANCE:1
END:VEVENT
BEGIN:VEVENT
UID:g2q2c@games.golnetwork.com
LOCATION:Forbes Field
GEO:45.10662;-94.578209
CREATED:20130425T134643Z
DTSTART:20130519T200000Z
DTEND:20130519T204000Z
DTSTAMP:20260422T053851Z
SUMMARY:Suck Our Kicks vs. AC Pal
DESCRIPTION:AC Pal vs. Suck Our KicksMore info: #40
X-ALT-DESC;FMTTYPE=text/html:<!DOCTYPE HTML PUBLIC "-//W3C//DTD HTML 3.2//E
	N">\n<HTML>\n<HEAD>\n<TITLE></TITLE>\n</HEAD>\n<BODY>\n<h3>AC Pal vs. Suck 
	Our Kicks</h3>More info: <a href="https://www.golnetwork.com/game/v/28194/"
	>#40</a>\n\n</BODY>\n</HTML>
STATUS:CONFIRMED
CLASS:PUBLIC
URL:https://www.golnetwork.com/game/v/28194/
X-MICROSOFT-CDO-BUSYSTATUS:BUSY
X-MICROSOFT-CDO-IMPORTANCE:1
END:VEVENT
BEGIN:VEVENT
UID:g2q2o@games.golnetwork.com
LOCATION:Forbes Field
GEO:45.10662;-94.578209
CREATED:20130425T134643Z
DTSTART:20130525T210000Z
DTEND:20130525T214000Z
DTSTAMP:20260422T053851Z
SUMMARY:Promoters vs. AC Pal
DESCRIPTION:AC Pal vs. PromotersMore info: #46
X-ALT-DESC;FMTTYPE=text/html:<!DOCTYPE HTML PUBLIC "-//W3C//DTD HTML 3.2//E
	N">\n<HTML>\n<HEAD>\n<TITLE></TITLE>\n</HEAD>\n<BODY>\n<h3>AC Pal vs. Promo
	ters</h3>More info: <a href="https://www.golnetwork.com/game/v/28200/">#46<
	/a>\n\n</BODY>\n</HTML>
STATUS:CONFIRMED
CLASS:PUBLIC
URL:https://www.golnetwork.com/game/v/28200/
X-MICROSOFT-CDO-BUSYSTATUS:BUSY
X-MICROSOFT-CDO-IMPORTANCE:1
END:VEVENT
BEGIN:VEVENT
UID:g2q2i@games.golnetwork.com
LOCATION:Forbes Field
GEO:45.10662;-94.578209
CREATED:20130425T134643Z
DTSTART:20130526T000000Z
DTEND:20130526T004000Z
DTSTAMP:20260422T053851Z
SUMMARY:Suck Our Kicks vs. Lord Of the Teams
DESCRIPTION:Lord Of the Teams vs. Suck Our KicksMore info: #43
X-ALT-DESC;FMTTYPE=text/html:<!DOCTYPE HTML PUBLIC "-//W3C//DTD HTML 3.2//E
	N">\n<HTML>\n<HEAD>\n<TITLE></TITLE>\n</HEAD>\n<BODY>\n<h3>Lord Of the Team
	s vs. Suck Our Kicks</h3>More info: <a href="https://www.golnetwork.com/gam
	e/v/28197/">#43</a>\n\n</BODY>\n</HTML>
STATUS:CONFIRMED
CLASS:PUBLIC
URL:https://www.golnetwork.com/game/v/28197/
X-MICROSOFT-CDO-BUSYSTATUS:BUSY
X-MICROSOFT-CDO-IMPORTANCE:1
END:VEVENT
BEGIN:VEVENT
UID:g2q2m@games.golnetwork.com
LOCATION:Forbes Field
GEO:45.10662;-94.578209
CREATED:20130425T134643Z
DTSTART:20130526T010000Z
DTEND:20130526T014000Z
DTSTAMP:20260422T053851Z
SUMMARY:UnAtletico McGill (CRB) vs. Club Papi Chulo
DESCRIPTION:Club Papi Chulo vs. UnAtletico McGill (CRB)More info: #45
X-ALT-DESC;FMTTYPE=text/html:<!DOCTYPE HTML PUBLIC "-//W3C//DTD HTML 3.2//E
	N">\n<HTML>\n<HEAD>\n<TITLE></TITLE>\n</HEAD>\n<BODY>\n<h3>Club Papi Chulo 
	vs. UnAtletico McGill (CRB)</h3>More info: <a href="https://www.golnetwork.
	com/game/v/28199/">#45</a>\n\n</BODY>\n</HTML>
STATUS:CONFIRMED
CLASS:PUBLIC
URL:https://www.golnetwork.com/game/v/28199/
X-MICROSOFT-CDO-BUSYSTATUS:BUSY
X-MICROSOFT-CDO-IMPORTANCE:1
END:VEVENT
BEGIN:VEVENT
UID:g32f8@games.golnetwork.com
LOCATION:Forbes Field
GEO:45.10662;-94.578209
CREATED:20130513T200658Z
DTSTART:20130526T190000Z
DTEND:20130526T194000Z
DTSTAMP:20260422T053851Z
SUMMARY:Grate Chate vs. Lord Of the Teams
DESCRIPTION:Lord Of the Teams vs. Grate ChateMore info: #49
X-ALT-DESC;FMTTYPE=text/html:<!DOCTYPE HTML PUBLIC "-//W3C//DTD HTML 3.2//E
	N">\n<HTML>\n<HEAD>\n<TITLE></TITLE>\n</HEAD>\n<BODY>\n<h3>Lord Of the Team
	s vs. Grate Chate</h3>More info: <a href="https://www.golnetwork.com/game/v
	/29461/">#49</a>\n\n</BODY>\n</HTML>
STATUS:CONFIRMED
CLASS:PUBLIC
URL:https://www.golnetwork.com/game/v/29461/
X-MICROSOFT-CDO-BUSYSTATUS:BUSY
X-MICROSOFT-CDO-IMPORTANCE:1
END:VEVENT
BEGIN:VEVENT
UID:g2q2k@games.golnetwork.com
LOCATION:Forbes Field
GEO:45.10662;-94.578209
CREATED:20130425T134643Z
DTSTART:20130526T200000Z
DTEND:20130526T204000Z
DTSTAMP:20260422T053851Z
SUMMARY:XXY vs. Grate Chate
DESCRIPTION:Grate Chate vs. XXYMore info: #44
X-ALT-DESC;FMTTYPE=text/html:<!DOCTYPE HTML PUBLIC "-//W3C//DTD HTML 3.2//E
	N">\n<HTML>\n<HEAD>\n<TITLE></TITLE>\n</HEAD>\n<BODY>\n<h3>Grate Chate vs. 
	XXY</h3>More info: <a href="https://www.golnetwork.com/game/v/28198/">#44</
	a>\n\n</BODY>\n</HTML>
STATUS:CONFIRMED
CLASS:PUBLIC
URL:https://www.golnetwork.com/game/v/28198/
X-MICROSOFT-CDO-BUSYSTATUS:BUSY
X-MICROSOFT-CDO-IMPORTANCE:1
END:VEVENT
END:VCALENDAR
