BEGIN:VCALENDAR
PRODID:-//gdesolutions.com//MV Framework 1.0.0.1607 Calendar//EN
VERSION:2.0
METHOD:PUBLISH
CALSCALE:GREGORIAN
BEGIN:VEVENT
UID:g2pno@games.golnetwork.com
LOCATION:Jesse Ketchum Field
CREATED:20130424T224245Z
DTSTART:20130427T173000Z
DTEND:20130427T184500Z
DTSTAMP:20260421T082606Z
SUMMARY:XTSC Road Runners vs. MPA (Blue)
DESCRIPTION:MPA (Blue) vs. XTSC Road RunnersMore info: #1
X-ALT-DESC;FMTTYPE=text/html:<!DOCTYPE HTML PUBLIC "-//W3C//DTD HTML 3.2//E
	N">\n<HTML>\n<HEAD>\n<TITLE></TITLE>\n</HEAD>\n<BODY>\n<h3>MPA (Blue) vs. X
	TSC Road Runners</h3>More info: <a href="https://www.golnetwork.com/game/v/
	28119/">#1</a>\n\n</BODY>\n</HTML>
STATUS:CONFIRMED
CLASS:PUBLIC
URL:https://www.golnetwork.com/game/v/28119/
X-MICROSOFT-CDO-BUSYSTATUS:BUSY
X-MICROSOFT-CDO-IMPORTANCE:1
END:VEVENT
BEGIN:VEVENT
UID:g2pnq@games.golnetwork.com
LOCATION:Jesse Ketchum Field
CREATED:20130424T224245Z
DTSTART:20130427T184500Z
DTEND:20130427T200000Z
DTSTAMP:20260421T082606Z
SUMMARY:Edgeware United vs. ABCDE FC
DESCRIPTION:ABCDE FC vs. Edgeware UnitedMore info: #2
X-ALT-DESC;FMTTYPE=text/html:<!DOCTYPE HTML PUBLIC "-//W3C//DTD HTML 3.2//E
	N">\n<HTML>\n<HEAD>\n<TITLE></TITLE>\n</HEAD>\n<BODY>\n<h3>ABCDE FC vs. Edg
	eware United</h3>More info: <a href="https://www.golnetwork.com/game/v/2812
	0/">#2</a>\n\n</BODY>\n</HTML>
STATUS:CONFIRMED
CLASS:PUBLIC
URL:https://www.golnetwork.com/game/v/28120/
X-MICROSOFT-CDO-BUSYSTATUS:BUSY
X-MICROSOFT-CDO-IMPORTANCE:1
END:VEVENT
BEGIN:VEVENT
UID:g2po1@games.golnetwork.com
LOCATION:Jesse Ketchum Field
CREATED:20130424T224245Z
DTSTART:20130427T200000Z
DTEND:20130427T211500Z
DTSTAMP:20260421T082606Z
SUMMARY:Edgeware United vs. Team Gorgeous
DESCRIPTION:Team Gorgeous vs. Edgeware UnitedMore info: #3
X-ALT-DESC;FMTTYPE=text/html:<!DOCTYPE HTML PUBLIC "-//W3C//DTD HTML 3.2//E
	N">\n<HTML>\n<HEAD>\n<TITLE></TITLE>\n</HEAD>\n<BODY>\n<h3>Team Gorgeous vs
	. Edgeware United</h3>More info: <a href="https://www.golnetwork.com/game/v
	/28121/">#3</a>\n\n</BODY>\n</HTML>
STATUS:CONFIRMED
CLASS:PUBLIC
URL:https://www.golnetwork.com/game/v/28121/
X-MICROSOFT-CDO-BUSYSTATUS:BUSY
X-MICROSOFT-CDO-IMPORTANCE:1
END:VEVENT
BEGIN:VEVENT
UID:g2po3@games.golnetwork.com
LOCATION:Jesse Ketchum Field
CREATED:20130424T224245Z
DTSTART:20130504T173000Z
DTEND:20130504T184500Z
DTSTAMP:20260421T082606Z
SUMMARY:XTSC Road Runners vs. Edgeware United
DESCRIPTION:Edgeware United vs. XTSC Road RunnersMore info: #7
X-ALT-DESC;FMTTYPE=text/html:<!DOCTYPE HTML PUBLIC "-//W3C//DTD HTML 3.2//E
	N">\n<HTML>\n<HEAD>\n<TITLE></TITLE>\n</HEAD>\n<BODY>\n<h3>Edgeware United 
	vs. XTSC Road Runners</h3>More info: <a href="https://www.golnetwork.com/ga
	me/v/28122/">#7</a>\n\n</BODY>\n</HTML>
STATUS:CONFIRMED
CLASS:PUBLIC
URL:https://www.golnetwork.com/game/v/28122/
X-MICROSOFT-CDO-BUSYSTATUS:BUSY
X-MICROSOFT-CDO-IMPORTANCE:1
END:VEVENT
BEGIN:VEVENT
UID:g2po5@games.golnetwork.com
LOCATION:Jesse Ketchum Field
CREATED:20130424T224245Z
DTSTART:20130504T184500Z
DTEND:20130504T200000Z
DTSTAMP:20260421T082606Z
SUMMARY:XTSC Road Runners vs. ABCDE FC
DESCRIPTION:ABCDE FC vs. XTSC Road RunnersMore info: #8
X-ALT-DESC;FMTTYPE=text/html:<!DOCTYPE HTML PUBLIC "-//W3C//DTD HTML 3.2//E
	N">\n<HTML>\n<HEAD>\n<TITLE></TITLE>\n</HEAD>\n<BODY>\n<h3>ABCDE FC vs. XTS
	C Road Runners</h3>More info: <a href="https://www.golnetwork.com/game/v/28
	123/">#8</a>\n\n</BODY>\n</HTML>
STATUS:CONFIRMED
CLASS:PUBLIC
URL:https://www.golnetwork.com/game/v/28123/
X-MICROSOFT-CDO-BUSYSTATUS:BUSY
X-MICROSOFT-CDO-IMPORTANCE:1
END:VEVENT
BEGIN:VEVENT
UID:g2po7@games.golnetwork.com
LOCATION:Jesse Ketchum Field
CREATED:20130424T224245Z
DTSTART:20130504T200000Z
DTEND:20130504T211500Z
DTSTAMP:20260421T082606Z
SUMMARY:MPA (Blue) vs. Team Gorgeous
DESCRIPTION:Team Gorgeous vs. MPA (Blue)More info: #9
X-ALT-DESC;FMTTYPE=text/html:<!DOCTYPE HTML PUBLIC "-//W3C//DTD HTML 3.2//E
	N">\n<HTML>\n<HEAD>\n<TITLE></TITLE>\n</HEAD>\n<BODY>\n<h3>Team Gorgeous vs
	. MPA (Blue)</h3>More info: <a href="https://www.golnetwork.com/game/v/2812
	4/">#9</a>\n\n</BODY>\n</HTML>
STATUS:CONFIRMED
CLASS:PUBLIC
URL:https://www.golnetwork.com/game/v/28124/
X-MICROSOFT-CDO-BUSYSTATUS:BUSY
X-MICROSOFT-CDO-IMPORTANCE:1
END:VEVENT
BEGIN:VEVENT
UID:g2po9@games.golnetwork.com
LOCATION:Jesse Ketchum Field
CREATED:20130424T224245Z
DTSTART:20130511T173000Z
DTEND:20130511T184500Z
DTSTAMP:20260421T082606Z
SUMMARY:Edgeware United vs. MPA (Blue)
DESCRIPTION:MPA (Blue) vs. Edgeware UnitedMore info: #14
X-ALT-DESC;FMTTYPE=text/html:<!DOCTYPE HTML PUBLIC "-//W3C//DTD HTML 3.2//E
	N">\n<HTML>\n<HEAD>\n<TITLE></TITLE>\n</HEAD>\n<BODY>\n<h3>MPA (Blue) vs. E
	dgeware United</h3>More info: <a href="https://www.golnetwork.com/game/v/28
	125/">#14</a>\n\n</BODY>\n</HTML>
STATUS:CONFIRMED
CLASS:PUBLIC
URL:https://www.golnetwork.com/game/v/28125/
X-MICROSOFT-CDO-BUSYSTATUS:BUSY
X-MICROSOFT-CDO-IMPORTANCE:1
END:VEVENT
BEGIN:VEVENT
UID:g2pob@games.golnetwork.com
LOCATION:Jesse Ketchum Field
CREATED:20130424T224245Z
DTSTART:20130511T184500Z
DTEND:20130511T200000Z
DTSTAMP:20260421T082606Z
SUMMARY:Team Gorgeous vs. XTSC Road Runners
DESCRIPTION:XTSC Road Runners vs. Team GorgeousMore info: #15
X-ALT-DESC;FMTTYPE=text/html:<!DOCTYPE HTML PUBLIC "-//W3C//DTD HTML 3.2//E
	N">\n<HTML>\n<HEAD>\n<TITLE></TITLE>\n</HEAD>\n<BODY>\n<h3>XTSC Road Runner
	s vs. Team Gorgeous</h3>More info: <a href="https://www.golnetwork.com/game
	/v/28126/">#15</a>\n\n</BODY>\n</HTML>
STATUS:CONFIRMED
CLASS:PUBLIC
URL:https://www.golnetwork.com/game/v/28126/
X-MICROSOFT-CDO-BUSYSTATUS:BUSY
X-MICROSOFT-CDO-IMPORTANCE:1
END:VEVENT
BEGIN:VEVENT
UID:g2pod@games.golnetwork.com
LOCATION:Jesse Ketchum Field
CREATED:20130424T224245Z
DTSTART:20130511T200000Z
DTEND:20130511T211500Z
DTSTAMP:20260421T082606Z
SUMMARY:Team Gorgeous vs. Banbury Athletic
DESCRIPTION:Banbury Athletic vs. Team GorgeousMore info: #16
X-ALT-DESC;FMTTYPE=text/html:<!DOCTYPE HTML PUBLIC "-//W3C//DTD HTML 3.2//E
	N">\n<HTML>\n<HEAD>\n<TITLE></TITLE>\n</HEAD>\n<BODY>\n<h3>Banbury Athletic
	 vs. Team Gorgeous</h3>More info: <a href="https://www.golnetwork.com/game/
	v/28127/">#16</a>\n\n</BODY>\n</HTML>
STATUS:CONFIRMED
CLASS:PUBLIC
URL:https://www.golnetwork.com/game/v/28127/
X-MICROSOFT-CDO-BUSYSTATUS:BUSY
X-MICROSOFT-CDO-IMPORTANCE:1
END:VEVENT
BEGIN:VEVENT
UID:g3124@games.golnetwork.com
LOCATION:Jesse Ketchum Field
CREATED:20130507T192453Z
DTSTART:20130511T211500Z
DTEND:20130511T223000Z
DTSTAMP:20260421T082606Z
SUMMARY:ABCDE FC vs. Banbury Athletic
DESCRIPTION:Banbury Athletic vs. ABCDE FCMore info: #17
X-ALT-DESC;FMTTYPE=text/html:<!DOCTYPE HTML PUBLIC "-//W3C//DTD HTML 3.2//E
	N">\n<HTML>\n<HEAD>\n<TITLE></TITLE>\n</HEAD>\n<BODY>\n<h3>Banbury Athletic
	 vs. ABCDE FC</h3>More info: <a href="https://www.golnetwork.com/game/v/289
	19/">#17</a>\n\n</BODY>\n</HTML>
STATUS:CONFIRMED
CLASS:PUBLIC
URL:https://www.golnetwork.com/game/v/28919/
X-MICROSOFT-CDO-BUSYSTATUS:BUSY
X-MICROSOFT-CDO-IMPORTANCE:1
END:VEVENT
BEGIN:VEVENT
UID:g2pol@games.golnetwork.com
LOCATION:Jesse Ketchum Field
CREATED:20130424T224245Z
DTSTART:20130525T173000Z
DTEND:20130525T184500Z
DTSTAMP:20260421T082606Z
SUMMARY:ABCDE FC vs. Team Gorgeous
DESCRIPTION:Team Gorgeous vs. ABCDE FCMore info: #21
X-ALT-DESC;FMTTYPE=text/html:<!DOCTYPE HTML PUBLIC "-//W3C//DTD HTML 3.2//E
	N">\n<HTML>\n<HEAD>\n<TITLE></TITLE>\n</HEAD>\n<BODY>\n<h3>Team Gorgeous vs
	. ABCDE FC</h3>More info: <a href="https://www.golnetwork.com/game/v/28131/
	">#21</a>\n\n</BODY>\n</HTML>
STATUS:CONFIRMED
CLASS:PUBLIC
URL:https://www.golnetwork.com/game/v/28131/
X-MICROSOFT-CDO-BUSYSTATUS:BUSY
X-MICROSOFT-CDO-IMPORTANCE:1
END:VEVENT
BEGIN:VEVENT
UID:g2pon@games.golnetwork.com
LOCATION:Jesse Ketchum Field
CREATED:20130424T224245Z
DTSTART:20130525T184500Z
DTEND:20130525T200000Z
DTSTAMP:20260421T082606Z
SUMMARY:ABCDE FC vs. MPA (Blue)
DESCRIPTION:MPA (Blue) vs. ABCDE FCMore info: #22
X-ALT-DESC;FMTTYPE=text/html:<!DOCTYPE HTML PUBLIC "-//W3C//DTD HTML 3.2//E
	N">\n<HTML>\n<HEAD>\n<TITLE></TITLE>\n</HEAD>\n<BODY>\n<h3>MPA (Blue) vs. A
	BCDE FC</h3>More info: <a href="https://www.golnetwork.com/game/v/28132/">#
	22</a>\n\n</BODY>\n</HTML>
STATUS:CONFIRMED
CLASS:PUBLIC
URL:https://www.golnetwork.com/game/v/28132/
X-MICROSOFT-CDO-BUSYSTATUS:BUSY
X-MICROSOFT-CDO-IMPORTANCE:1
END:VEVENT
BEGIN:VEVENT
UID:g2pop@games.golnetwork.com
LOCATION:Jesse Ketchum Field
CREATED:20130424T224245Z
DTSTART:20130525T200000Z
DTEND:20130525T211500Z
DTSTAMP:20260421T082606Z
SUMMARY:Banbury Athletic vs. Edgeware United
DESCRIPTION:Edgeware United vs. Banbury AthleticMore info: #23
X-ALT-DESC;FMTTYPE=text/html:<!DOCTYPE HTML PUBLIC "-//W3C//DTD HTML 3.2//E
	N">\n<HTML>\n<HEAD>\n<TITLE></TITLE>\n</HEAD>\n<BODY>\n<h3>Edgeware United 
	vs. Banbury Athletic</h3>More info: <a href="https://www.golnetwork.com/gam
	e/v/28133/">#23</a>\n\n</BODY>\n</HTML>
STATUS:CONFIRMED
CLASS:PUBLIC
URL:https://www.golnetwork.com/game/v/28133/
X-MICROSOFT-CDO-BUSYSTATUS:BUSY
X-MICROSOFT-CDO-IMPORTANCE:1
END:VEVENT
BEGIN:VEVENT
UID:g3128@games.golnetwork.com
LOCATION:Jesse Ketchum Field
CREATED:20130507T193225Z
DTSTART:20130525T211500Z
DTEND:20130525T223000Z
DTSTAMP:20260421T082606Z
SUMMARY:Banbury Athletic vs. XTSC Road Runners
DESCRIPTION:XTSC Road Runners vs. Banbury AthleticMore info: #24
X-ALT-DESC;FMTTYPE=text/html:<!DOCTYPE HTML PUBLIC "-//W3C//DTD HTML 3.2//E
	N">\n<HTML>\n<HEAD>\n<TITLE></TITLE>\n</HEAD>\n<BODY>\n<h3>XTSC Road Runner
	s vs. Banbury Athletic</h3>More info: <a href="https://www.golnetwork.com/g
	ame/v/28921/">#24</a>\n\n</BODY>\n</HTML>
STATUS:CONFIRMED
CLASS:PUBLIC
URL:https://www.golnetwork.com/game/v/28921/
X-MICROSOFT-CDO-BUSYSTATUS:BUSY
X-MICROSOFT-CDO-IMPORTANCE:1
END:VEVENT
BEGIN:VEVENT
UID:g2pp0@games.golnetwork.com
LOCATION:Jesse Ketchum Field
CREATED:20130424T224245Z
DTSTART:20130601T173000Z
DTEND:20130601T184500Z
DTSTAMP:20260421T082606Z
SUMMARY:Edgeware United vs. Team Gorgeous
DESCRIPTION:Team Gorgeous vs. Edgeware UnitedMore info: #29
X-ALT-DESC;FMTTYPE=text/html:<!DOCTYPE HTML PUBLIC "-//W3C//DTD HTML 3.2//E
	N">\n<HTML>\n<HEAD>\n<TITLE></TITLE>\n</HEAD>\n<BODY>\n<h3>Team Gorgeous vs
	. Edgeware United</h3>More info: <a href="https://www.golnetwork.com/game/v
	/28134/">#29</a>\n\n</BODY>\n</HTML>
STATUS:CONFIRMED
CLASS:PUBLIC
URL:https://www.golnetwork.com/game/v/28134/
X-MICROSOFT-CDO-BUSYSTATUS:BUSY
X-MICROSOFT-CDO-IMPORTANCE:1
END:VEVENT
BEGIN:VEVENT
UID:g2pp2@games.golnetwork.com
LOCATION:Jesse Ketchum Field
CREATED:20130424T224245Z
DTSTART:20130601T184500Z
DTEND:20130601T200000Z
DTSTAMP:20260421T082606Z
SUMMARY:XTSC Road Runners vs. ABCDE FC
DESCRIPTION:ABCDE FC vs. XTSC Road RunnersMore info: #30
X-ALT-DESC;FMTTYPE=text/html:<!DOCTYPE HTML PUBLIC "-//W3C//DTD HTML 3.2//E
	N">\n<HTML>\n<HEAD>\n<TITLE></TITLE>\n</HEAD>\n<BODY>\n<h3>ABCDE FC vs. XTS
	C Road Runners</h3>More info: <a href="https://www.golnetwork.com/game/v/28
	135/">#30</a>\n\n</BODY>\n</HTML>
STATUS:CONFIRMED
CLASS:PUBLIC
URL:https://www.golnetwork.com/game/v/28135/
X-MICROSOFT-CDO-BUSYSTATUS:BUSY
X-MICROSOFT-CDO-IMPORTANCE:1
END:VEVENT
BEGIN:VEVENT
UID:g2pp4@games.golnetwork.com
LOCATION:Jesse Ketchum Field
CREATED:20130424T224245Z
DTSTART:20130601T200000Z
DTEND:20130601T211500Z
DTSTAMP:20260421T082606Z
SUMMARY:Banbury Athletic vs. MPA (Blue)
DESCRIPTION:MPA (Blue) vs. Banbury AthleticMore info: #31
X-ALT-DESC;FMTTYPE=text/html:<!DOCTYPE HTML PUBLIC "-//W3C//DTD HTML 3.2//E
	N">\n<HTML>\n<HEAD>\n<TITLE></TITLE>\n</HEAD>\n<BODY>\n<h3>MPA (Blue) vs. B
	anbury Athletic</h3>More info: <a href="https://www.golnetwork.com/game/v/2
	8136/">#31</a>\n\n</BODY>\n</HTML>
STATUS:CONFIRMED
CLASS:PUBLIC
URL:https://www.golnetwork.com/game/v/28136/
X-MICROSOFT-CDO-BUSYSTATUS:BUSY
X-MICROSOFT-CDO-IMPORTANCE:1
END:VEVENT
BEGIN:VEVENT
UID:g2qfj@games.golnetwork.com
LOCATION:Jesse Ketchum Field
CREATED:20130426T214435Z
DTSTART:20130608T173000Z
DTEND:20130608T184500Z
DTSTAMP:20260421T082606Z
SUMMARY:Team Gorgeous vs. MPA (Blue)
DESCRIPTION:MPA (Blue) vs. Team GorgeousMore info: #36
X-ALT-DESC;FMTTYPE=text/html:<!DOCTYPE HTML PUBLIC "-//W3C//DTD HTML 3.2//E
	N">\n<HTML>\n<HEAD>\n<TITLE></TITLE>\n</HEAD>\n<BODY>\n<h3>MPA (Blue) vs. T
	eam Gorgeous</h3>More info: <a href="https://www.golnetwork.com/game/v/2837
	3/">#36</a>\n\n</BODY>\n</HTML>
STATUS:CONFIRMED
CLASS:PUBLIC
URL:https://www.golnetwork.com/game/v/28373/
X-MICROSOFT-CDO-BUSYSTATUS:BUSY
X-MICROSOFT-CDO-IMPORTANCE:1
END:VEVENT
BEGIN:VEVENT
UID:g2qfl@games.golnetwork.com
LOCATION:Jesse Ketchum Field
CREATED:20130426T214435Z
DTSTART:20130608T184500Z
DTEND:20130608T200000Z
DTSTAMP:20260421T082606Z
SUMMARY:XTSC Road Runners vs. MPA (Blue)
DESCRIPTION:MPA (Blue) vs. XTSC Road RunnersMore info: #37
X-ALT-DESC;FMTTYPE=text/html:<!DOCTYPE HTML PUBLIC "-//W3C//DTD HTML 3.2//E
	N">\n<HTML>\n<HEAD>\n<TITLE></TITLE>\n</HEAD>\n<BODY>\n<h3>MPA (Blue) vs. X
	TSC Road Runners</h3>More info: <a href="https://www.golnetwork.com/game/v/
	28374/">#37</a>\n\n</BODY>\n</HTML>
STATUS:CONFIRMED
CLASS:PUBLIC
URL:https://www.golnetwork.com/game/v/28374/
X-MICROSOFT-CDO-BUSYSTATUS:BUSY
X-MICROSOFT-CDO-IMPORTANCE:1
END:VEVENT
BEGIN:VEVENT
UID:g2qfn@games.golnetwork.com
LOCATION:Jesse Ketchum Field
CREATED:20130426T214435Z
DTSTART:20130608T200000Z
DTEND:20130608T211500Z
DTSTAMP:20260421T082606Z
SUMMARY:ABCDE FC vs. Banbury Athletic
DESCRIPTION:Banbury Athletic vs. ABCDE FCMore info: #38
X-ALT-DESC;FMTTYPE=text/html:<!DOCTYPE HTML PUBLIC "-//W3C//DTD HTML 3.2//E
	N">\n<HTML>\n<HEAD>\n<TITLE></TITLE>\n</HEAD>\n<BODY>\n<h3>Banbury Athletic
	 vs. ABCDE FC</h3>More info: <a href="https://www.golnetwork.com/game/v/283
	75/">#38</a>\n\n</BODY>\n</HTML>
STATUS:CONFIRMED
CLASS:PUBLIC
URL:https://www.golnetwork.com/game/v/28375/
X-MICROSOFT-CDO-BUSYSTATUS:BUSY
X-MICROSOFT-CDO-IMPORTANCE:1
END:VEVENT
BEGIN:VEVENT
UID:g312k@games.golnetwork.com
LOCATION:Jesse Ketchum Field
CREATED:20130507T193749Z
DTSTART:20130608T211500Z
DTEND:20130608T223000Z
DTSTAMP:20260421T082606Z
SUMMARY:Edgeware United vs. Banbury Athletic
DESCRIPTION:Banbury Athletic vs. Edgeware UnitedMore info: #39
X-ALT-DESC;FMTTYPE=text/html:<!DOCTYPE HTML PUBLIC "-//W3C//DTD HTML 3.2//E
	N">\n<HTML>\n<HEAD>\n<TITLE></TITLE>\n</HEAD>\n<BODY>\n<h3>Banbury Athletic
	 vs. Edgeware United</h3>More info: <a href="https://www.golnetwork.com/gam
	e/v/28927/">#39</a>\n\n</BODY>\n</HTML>
STATUS:CONFIRMED
CLASS:PUBLIC
URL:https://www.golnetwork.com/game/v/28927/
X-MICROSOFT-CDO-BUSYSTATUS:BUSY
X-MICROSOFT-CDO-IMPORTANCE:1
END:VEVENT
BEGIN:VEVENT
UID:g2qfp@games.golnetwork.com
LOCATION:Jesse Ketchum Field
CREATED:20130426T214435Z
DTSTART:20130615T173000Z
DTEND:20130615T184500Z
DTSTAMP:20260421T082606Z
SUMMARY:ABCDE FC vs. MPA (Blue)
DESCRIPTION:MPA (Blue) vs. ABCDE FCMore info: #43
X-ALT-DESC;FMTTYPE=text/html:<!DOCTYPE HTML PUBLIC "-//W3C//DTD HTML 3.2//E
	N">\n<HTML>\n<HEAD>\n<TITLE></TITLE>\n</HEAD>\n<BODY>\n<h3>MPA (Blue) vs. A
	BCDE FC</h3>More info: <a href="https://www.golnetwork.com/game/v/28376/">#
	43</a>\n\n</BODY>\n</HTML>
STATUS:CONFIRMED
CLASS:PUBLIC
URL:https://www.golnetwork.com/game/v/28376/
X-MICROSOFT-CDO-BUSYSTATUS:BUSY
X-MICROSOFT-CDO-IMPORTANCE:1
END:VEVENT
BEGIN:VEVENT
UID:g2qg0@games.golnetwork.com
LOCATION:Jesse Ketchum Field
CREATED:20130426T214435Z
DTSTART:20130615T184500Z
DTEND:20130615T200000Z
DTSTAMP:20260421T082606Z
SUMMARY:Edgeware United vs. XTSC Road Runners
DESCRIPTION:XTSC Road Runners vs. Edgeware UnitedMore info: #44
X-ALT-DESC;FMTTYPE=text/html:<!DOCTYPE HTML PUBLIC "-//W3C//DTD HTML 3.2//E
	N">\n<HTML>\n<HEAD>\n<TITLE></TITLE>\n</HEAD>\n<BODY>\n<h3>XTSC Road Runner
	s vs. Edgeware United</h3>More info: <a href="https://www.golnetwork.com/ga
	me/v/28377/">#44</a>\n\n</BODY>\n</HTML>
STATUS:CONFIRMED
CLASS:PUBLIC
URL:https://www.golnetwork.com/game/v/28377/
X-MICROSOFT-CDO-BUSYSTATUS:BUSY
X-MICROSOFT-CDO-IMPORTANCE:1
END:VEVENT
BEGIN:VEVENT
UID:g2qg2@games.golnetwork.com
LOCATION:Jesse Ketchum Field
CREATED:20130426T214435Z
DTSTART:20130615T200000Z
DTEND:20130615T211500Z
DTSTAMP:20260421T082606Z
SUMMARY:Team Gorgeous vs. Banbury Athletic
DESCRIPTION:Banbury Athletic vs. Team GorgeousMore info: #45
X-ALT-DESC;FMTTYPE=text/html:<!DOCTYPE HTML PUBLIC "-//W3C//DTD HTML 3.2//E
	N">\n<HTML>\n<HEAD>\n<TITLE></TITLE>\n</HEAD>\n<BODY>\n<h3>Banbury Athletic
	 vs. Team Gorgeous</h3>More info: <a href="https://www.golnetwork.com/game/
	v/28378/">#45</a>\n\n</BODY>\n</HTML>
STATUS:CONFIRMED
CLASS:PUBLIC
URL:https://www.golnetwork.com/game/v/28378/
X-MICROSOFT-CDO-BUSYSTATUS:BUSY
X-MICROSOFT-CDO-IMPORTANCE:1
END:VEVENT
BEGIN:VEVENT
UID:g312a@games.golnetwork.com
LOCATION:Jesse Ketchum Field
CREATED:20130507T193619Z
DTSTART:20130622T173000Z
DTEND:20130622T184500Z
DTSTAMP:20260421T082606Z
SUMMARY:XTSC Road Runners vs. MPA (Blue)
DESCRIPTION:MPA (Blue) vs. XTSC Road RunnersMore info: #49
X-ALT-DESC;FMTTYPE=text/html:<!DOCTYPE HTML PUBLIC "-//W3C//DTD HTML 3.2//E
	N">\n<HTML>\n<HEAD>\n<TITLE></TITLE>\n</HEAD>\n<BODY>\n<h3>MPA (Blue) vs. X
	TSC Road Runners</h3>More info: <a href="https://www.golnetwork.com/game/v/
	28922/">#49</a>\n\n</BODY>\n</HTML>
STATUS:CONFIRMED
CLASS:PUBLIC
URL:https://www.golnetwork.com/game/v/28922/
X-MICROSOFT-CDO-BUSYSTATUS:BUSY
X-MICROSOFT-CDO-IMPORTANCE:1
END:VEVENT
BEGIN:VEVENT
UID:g312c@games.golnetwork.com
LOCATION:Jesse Ketchum Field
CREATED:20130507T193619Z
DTSTART:20130622T184500Z
DTEND:20130622T200000Z
DTSTAMP:20260421T082606Z
SUMMARY:Edgeware United vs. Banbury Athletic
DESCRIPTION:Banbury Athletic vs. Edgeware UnitedMore info: #50
X-ALT-DESC;FMTTYPE=text/html:<!DOCTYPE HTML PUBLIC "-//W3C//DTD HTML 3.2//E
	N">\n<HTML>\n<HEAD>\n<TITLE></TITLE>\n</HEAD>\n<BODY>\n<h3>Banbury Athletic
	 vs. Edgeware United</h3>More info: <a href="https://www.golnetwork.com/gam
	e/v/28923/">#50</a>\n\n</BODY>\n</HTML>
STATUS:CONFIRMED
CLASS:PUBLIC
URL:https://www.golnetwork.com/game/v/28923/
X-MICROSOFT-CDO-BUSYSTATUS:BUSY
X-MICROSOFT-CDO-IMPORTANCE:1
END:VEVENT
BEGIN:VEVENT
UID:g312e@games.golnetwork.com
LOCATION:Jesse Ketchum Field
CREATED:20130507T193619Z
DTSTART:20130622T200000Z
DTEND:20130622T211500Z
DTSTAMP:20260421T082606Z
SUMMARY:Team Gorgeous vs. ABCDE FC
DESCRIPTION:ABCDE FC vs. Team GorgeousMore info: #51
X-ALT-DESC;FMTTYPE=text/html:<!DOCTYPE HTML PUBLIC "-//W3C//DTD HTML 3.2//E
	N">\n<HTML>\n<HEAD>\n<TITLE></TITLE>\n</HEAD>\n<BODY>\n<h3>ABCDE FC vs. Tea
	m Gorgeous</h3>More info: <a href="https://www.golnetwork.com/game/v/28924/
	">#51</a>\n\n</BODY>\n</HTML>
STATUS:CONFIRMED
CLASS:PUBLIC
URL:https://www.golnetwork.com/game/v/28924/
X-MICROSOFT-CDO-BUSYSTATUS:BUSY
X-MICROSOFT-CDO-IMPORTANCE:1
END:VEVENT
END:VCALENDAR
