BEGIN:VCALENDAR
PRODID:-//gdesolutions.com//MV Framework 1.0.0.1607 Calendar//EN
VERSION:2.0
METHOD:PUBLISH
CALSCALE:GREGORIAN
BEGIN:VEVENT
UID:g38k5@games.golnetwork.com
LOCATION:Cherry Beach East 2
CREATED:20130715T180439Z
DTSTART:20130719T010000Z
DTEND:20130719T020000Z
DTSTAMP:20260425T193116Z
SUMMARY:Awesomesauce FC vs. The Outperformers
DESCRIPTION:The Outperformers vs. Awesomesauce FCMore info: #29
X-ALT-DESC;FMTTYPE=text/html:<!DOCTYPE HTML PUBLIC "-//W3C//DTD HTML 3.2//E
	N">\n<HTML>\n<HEAD>\n<TITLE></TITLE>\n</HEAD>\n<BODY>\n<h3>The Outperformer
	s vs. Awesomesauce FC</h3>More info: <a href="https://www.golnetwork.com/ga
	me/v/31714/">#29</a>\n\n</BODY>\n</HTML>
STATUS:CONFIRMED
CLASS:PUBLIC
URL:https://www.golnetwork.com/game/v/31714/
X-MICROSOFT-CDO-BUSYSTATUS:BUSY
X-MICROSOFT-CDO-IMPORTANCE:1
END:VEVENT
BEGIN:VEVENT
UID:g38k7@games.golnetwork.com
LOCATION:Cherry Beach East 2
CREATED:20130715T180439Z
DTSTART:20130719T020000Z
DTEND:20130719T030000Z
DTSTAMP:20260425T193116Z
SUMMARY:Onetouchables FC vs. Hangover FC
DESCRIPTION:Hangover FC vs. Onetouchables FCMore info: #32
X-ALT-DESC;FMTTYPE=text/html:<!DOCTYPE HTML PUBLIC "-//W3C//DTD HTML 3.2//E
	N">\n<HTML>\n<HEAD>\n<TITLE></TITLE>\n</HEAD>\n<BODY>\n<h3>Hangover FC vs. 
	Onetouchables FC</h3>More info: <a href="https://www.golnetwork.com/game/v/
	31715/">#32</a>\n\n</BODY>\n</HTML>
STATUS:CONFIRMED
CLASS:PUBLIC
URL:https://www.golnetwork.com/game/v/31715/
X-MICROSOFT-CDO-BUSYSTATUS:BUSY
X-MICROSOFT-CDO-IMPORTANCE:1
END:VEVENT
BEGIN:VEVENT
UID:g38k9@games.golnetwork.com
LOCATION:Cherry Beach East 3
CREATED:20130715T180439Z
DTSTART:20130719T020000Z
DTEND:20130719T030000Z
DTSTAMP:20260425T193116Z
SUMMARY:Midnight Marauders vs. Itchy Red Sambas
DESCRIPTION:Itchy Red Sambas vs. Midnight MaraudersMore info: #33
X-ALT-DESC;FMTTYPE=text/html:<!DOCTYPE HTML PUBLIC "-//W3C//DTD HTML 3.2//E
	N">\n<HTML>\n<HEAD>\n<TITLE></TITLE>\n</HEAD>\n<BODY>\n<h3>Itchy Red Sambas
	 vs. Midnight Marauders</h3>More info: <a href="https://www.golnetwork.com/
	game/v/31716/">#33</a>\n\n</BODY>\n</HTML>
STATUS:CONFIRMED
CLASS:PUBLIC
URL:https://www.golnetwork.com/game/v/31716/
X-MICROSOFT-CDO-BUSYSTATUS:BUSY
X-MICROSOFT-CDO-IMPORTANCE:1
END:VEVENT
BEGIN:VEVENT
UID:g38kb@games.golnetwork.com
LOCATION:Cherry Beach East 2
CREATED:20130715T180439Z
DTSTART:20130719T030000Z
DTEND:20130719T040000Z
DTSTAMP:20260425T193116Z
SUMMARY:XTSC Cheatin Referees vs. Toronto Force Soccer (TFC)
DESCRIPTION:Toronto Force Soccer (TFC) vs. XTSC Cheatin RefereesMore info: 
	#35
X-ALT-DESC;FMTTYPE=text/html:<!DOCTYPE HTML PUBLIC "-//W3C//DTD HTML 3.2//E
	N">\n<HTML>\n<HEAD>\n<TITLE></TITLE>\n</HEAD>\n<BODY>\n<h3>Toronto Force So
	ccer (TFC) vs. XTSC Cheatin Referees</h3>More info: <a href="https://www.go
	lnetwork.com/game/v/31717/">#35</a>\n\n</BODY>\n</HTML>
STATUS:CONFIRMED
CLASS:PUBLIC
URL:https://www.golnetwork.com/game/v/31717/
X-MICROSOFT-CDO-BUSYSTATUS:BUSY
X-MICROSOFT-CDO-IMPORTANCE:1
END:VEVENT
BEGIN:VEVENT
UID:g38kf@games.golnetwork.com
LOCATION:Cherry Beach East 2
CREATED:20130715T180439Z
DTSTART:20130726T010000Z
DTEND:20130726T020000Z
DTSTAMP:20260425T193116Z
SUMMARY:Toronto Force Soccer (TFC) vs. Itchy Red Sambas
DESCRIPTION:Itchy Red Sambas vs. Toronto Force Soccer (TFC)More info: #76
X-ALT-DESC;FMTTYPE=text/html:<!DOCTYPE HTML PUBLIC "-//W3C//DTD HTML 3.2//E
	N">\n<HTML>\n<HEAD>\n<TITLE></TITLE>\n</HEAD>\n<BODY>\n<h3>Itchy Red Sambas
	 vs. Toronto Force Soccer (TFC)</h3>More info: <a href="https://www.golnetw
	ork.com/game/v/31719/">#76</a>\n\n</BODY>\n</HTML>
STATUS:CONFIRMED
CLASS:PUBLIC
URL:https://www.golnetwork.com/game/v/31719/
X-MICROSOFT-CDO-BUSYSTATUS:BUSY
X-MICROSOFT-CDO-IMPORTANCE:1
END:VEVENT
BEGIN:VEVENT
UID:g38kd@games.golnetwork.com
LOCATION:Cherry Beach East 2
CREATED:20130715T180439Z
DTSTART:20130726T020000Z
DTEND:20130726T030000Z
DTSTAMP:20260425T193116Z
SUMMARY:Onetouchables FC vs. Awesomesauce FC
DESCRIPTION:Awesomesauce FC vs. Onetouchables FCMore info: #79
X-ALT-DESC;FMTTYPE=text/html:<!DOCTYPE HTML PUBLIC "-//W3C//DTD HTML 3.2//E
	N">\n<HTML>\n<HEAD>\n<TITLE></TITLE>\n</HEAD>\n<BODY>\n<h3>Awesomesauce FC 
	vs. Onetouchables FC</h3>More info: <a href="https://www.golnetwork.com/gam
	e/v/31718/">#79</a>\n\n</BODY>\n</HTML>
STATUS:CONFIRMED
CLASS:PUBLIC
URL:https://www.golnetwork.com/game/v/31718/
X-MICROSOFT-CDO-BUSYSTATUS:BUSY
X-MICROSOFT-CDO-IMPORTANCE:1
END:VEVENT
BEGIN:VEVENT
UID:g38kh@games.golnetwork.com
LOCATION:Cherry Beach East 3
CREATED:20130715T180439Z
DTSTART:20130726T020000Z
DTEND:20130726T030000Z
DTSTAMP:20260425T193116Z
SUMMARY:Midnight Marauders vs. The Outperformers
DESCRIPTION:The Outperformers vs. Midnight MaraudersMore info: #80
X-ALT-DESC;FMTTYPE=text/html:<!DOCTYPE HTML PUBLIC "-//W3C//DTD HTML 3.2//E
	N">\n<HTML>\n<HEAD>\n<TITLE></TITLE>\n</HEAD>\n<BODY>\n<h3>The Outperformer
	s vs. Midnight Marauders</h3>More info: <a href="https://www.golnetwork.com
	/game/v/31720/">#80</a>\n\n</BODY>\n</HTML>
STATUS:CONFIRMED
CLASS:PUBLIC
URL:https://www.golnetwork.com/game/v/31720/
X-MICROSOFT-CDO-BUSYSTATUS:BUSY
X-MICROSOFT-CDO-IMPORTANCE:1
END:VEVENT
BEGIN:VEVENT
UID:g38kj@games.golnetwork.com
LOCATION:Cherry Beach East 2
CREATED:20130715T180439Z
DTSTART:20130726T030000Z
DTEND:20130726T040000Z
DTSTAMP:20260425T193116Z
SUMMARY:Hangover FC vs. XTSC Cheatin Referees
DESCRIPTION:XTSC Cheatin Referees vs. Hangover FCMore info: #82
X-ALT-DESC;FMTTYPE=text/html:<!DOCTYPE HTML PUBLIC "-//W3C//DTD HTML 3.2//E
	N">\n<HTML>\n<HEAD>\n<TITLE></TITLE>\n</HEAD>\n<BODY>\n<h3>XTSC Cheatin Ref
	erees vs. Hangover FC</h3>More info: <a href="https://www.golnetwork.com/ga
	me/v/31721/">#82</a>\n\n</BODY>\n</HTML>
STATUS:CONFIRMED
CLASS:PUBLIC
URL:https://www.golnetwork.com/game/v/31721/
X-MICROSOFT-CDO-BUSYSTATUS:BUSY
X-MICROSOFT-CDO-IMPORTANCE:1
END:VEVENT
BEGIN:VEVENT
UID:g38l0@games.golnetwork.com
LOCATION:Cherry Beach East 2
CREATED:20130715T180439Z
DTSTART:20130802T010000Z
DTEND:20130802T020000Z
DTSTAMP:20260425T193116Z
SUMMARY:Itchy Red Sambas vs. Hangover FC
DESCRIPTION:Hangover FC vs. Itchy Red SambasMore info: #114
X-ALT-DESC;FMTTYPE=text/html:<!DOCTYPE HTML PUBLIC "-//W3C//DTD HTML 3.2//E
	N">\n<HTML>\n<HEAD>\n<TITLE></TITLE>\n</HEAD>\n<BODY>\n<h3>Hangover FC vs. 
	Itchy Red Sambas</h3>More info: <a href="https://www.golnetwork.com/game/v/
	31725/">#114</a>\n\n</BODY>\n</HTML>
STATUS:CONFIRMED
CLASS:PUBLIC
URL:https://www.golnetwork.com/game/v/31725/
X-MICROSOFT-CDO-BUSYSTATUS:BUSY
X-MICROSOFT-CDO-IMPORTANCE:1
END:VEVENT
BEGIN:VEVENT
UID:g38kl@games.golnetwork.com
LOCATION:Cherry Beach East 2
CREATED:20130715T180439Z
DTSTART:20130802T020000Z
DTEND:20130802T030000Z
DTSTAMP:20260425T193116Z
SUMMARY:Awesomesauce FC vs. Midnight Marauders
DESCRIPTION:Midnight Marauders vs. Awesomesauce FCMore info: #117
X-ALT-DESC;FMTTYPE=text/html:<!DOCTYPE HTML PUBLIC "-//W3C//DTD HTML 3.2//E
	N">\n<HTML>\n<HEAD>\n<TITLE></TITLE>\n</HEAD>\n<BODY>\n<h3>Midnight Maraude
	rs vs. Awesomesauce FC</h3>More info: <a href="https://www.golnetwork.com/g
	ame/v/31722/">#117</a>\n\n</BODY>\n</HTML>
STATUS:CONFIRMED
CLASS:PUBLIC
URL:https://www.golnetwork.com/game/v/31722/
X-MICROSOFT-CDO-BUSYSTATUS:BUSY
X-MICROSOFT-CDO-IMPORTANCE:1
END:VEVENT
BEGIN:VEVENT
UID:g38kp@games.golnetwork.com
LOCATION:Cherry Beach East 3
CREATED:20130715T180439Z
DTSTART:20130802T020000Z
DTEND:20130802T030000Z
DTSTAMP:20260425T193116Z
SUMMARY:Toronto Force Soccer (TFC) vs. The Outperformers
DESCRIPTION:The Outperformers vs. Toronto Force Soccer (TFC)More info: #118
X-ALT-DESC;FMTTYPE=text/html:<!DOCTYPE HTML PUBLIC "-//W3C//DTD HTML 3.2//E
	N">\n<HTML>\n<HEAD>\n<TITLE></TITLE>\n</HEAD>\n<BODY>\n<h3>The Outperformer
	s vs. Toronto Force Soccer (TFC)</h3>More info: <a href="https://www.golnet
	work.com/game/v/31724/">#118</a>\n\n</BODY>\n</HTML>
STATUS:CONFIRMED
CLASS:PUBLIC
URL:https://www.golnetwork.com/game/v/31724/
X-MICROSOFT-CDO-BUSYSTATUS:BUSY
X-MICROSOFT-CDO-IMPORTANCE:1
END:VEVENT
BEGIN:VEVENT
UID:g38kn@games.golnetwork.com
LOCATION:Cherry Beach East 2
CREATED:20130715T180439Z
DTSTART:20130802T030000Z
DTEND:20130802T040000Z
DTSTAMP:20260425T193116Z
SUMMARY:XTSC Cheatin Referees vs. Onetouchables FC
DESCRIPTION:Onetouchables FC vs. XTSC Cheatin RefereesMore info: #120
X-ALT-DESC;FMTTYPE=text/html:<!DOCTYPE HTML PUBLIC "-//W3C//DTD HTML 3.2//E
	N">\n<HTML>\n<HEAD>\n<TITLE></TITLE>\n</HEAD>\n<BODY>\n<h3>Onetouchables FC
	 vs. XTSC Cheatin Referees</h3>More info: <a href="https://www.golnetwork.c
	om/game/v/31723/">#120</a>\n\n</BODY>\n</HTML>
STATUS:CONFIRMED
CLASS:PUBLIC
URL:https://www.golnetwork.com/game/v/31723/
X-MICROSOFT-CDO-BUSYSTATUS:BUSY
X-MICROSOFT-CDO-IMPORTANCE:1
END:VEVENT
BEGIN:VEVENT
UID:g38l8@games.golnetwork.com
LOCATION:Cherry Beach East 2
CREATED:20130715T180440Z
DTSTART:20130809T010000Z
DTEND:20130809T020000Z
DTSTAMP:20260425T193116Z
SUMMARY:Hangover FC vs. The Outperformers
DESCRIPTION:The Outperformers vs. Hangover FCMore info: #149
X-ALT-DESC;FMTTYPE=text/html:<!DOCTYPE HTML PUBLIC "-//W3C//DTD HTML 3.2//E
	N">\n<HTML>\n<HEAD>\n<TITLE></TITLE>\n</HEAD>\n<BODY>\n<h3>The Outperformer
	s vs. Hangover FC</h3>More info: <a href="https://www.golnetwork.com/game/v
	/31729/">#149</a>\n\n</BODY>\n</HTML>
STATUS:CONFIRMED
CLASS:PUBLIC
URL:https://www.golnetwork.com/game/v/31729/
X-MICROSOFT-CDO-BUSYSTATUS:BUSY
X-MICROSOFT-CDO-IMPORTANCE:1
END:VEVENT
BEGIN:VEVENT
UID:g38l4@games.golnetwork.com
LOCATION:Cherry Beach East 2
CREATED:20130715T180439Z
DTSTART:20130809T020000Z
DTEND:20130809T030000Z
DTSTAMP:20260425T193116Z
SUMMARY:Toronto Force Soccer (TFC) vs. Midnight Marauders
DESCRIPTION:Midnight Marauders vs. Toronto Force Soccer (TFC)More info: #15
	2
X-ALT-DESC;FMTTYPE=text/html:<!DOCTYPE HTML PUBLIC "-//W3C//DTD HTML 3.2//E
	N">\n<HTML>\n<HEAD>\n<TITLE></TITLE>\n</HEAD>\n<BODY>\n<h3>Midnight Maraude
	rs vs. Toronto Force Soccer (TFC)</h3>More info: <a href="https://www.golne
	twork.com/game/v/31727/">#152</a>\n\n</BODY>\n</HTML>
STATUS:CONFIRMED
CLASS:PUBLIC
URL:https://www.golnetwork.com/game/v/31727/
X-MICROSOFT-CDO-BUSYSTATUS:BUSY
X-MICROSOFT-CDO-IMPORTANCE:1
END:VEVENT
BEGIN:VEVENT
UID:g38l6@games.golnetwork.com
LOCATION:Cherry Beach East 3
CREATED:20130715T180440Z
DTSTART:20130809T020000Z
DTEND:20130809T030000Z
DTSTAMP:20260425T193116Z
SUMMARY:Itchy Red Sambas vs. Onetouchables FC
DESCRIPTION:Onetouchables FC vs. Itchy Red SambasMore info: #153
X-ALT-DESC;FMTTYPE=text/html:<!DOCTYPE HTML PUBLIC "-//W3C//DTD HTML 3.2//E
	N">\n<HTML>\n<HEAD>\n<TITLE></TITLE>\n</HEAD>\n<BODY>\n<h3>Onetouchables FC
	 vs. Itchy Red Sambas</h3>More info: <a href="https://www.golnetwork.com/ga
	me/v/31728/">#153</a>\n\n</BODY>\n</HTML>
STATUS:CONFIRMED
CLASS:PUBLIC
URL:https://www.golnetwork.com/game/v/31728/
X-MICROSOFT-CDO-BUSYSTATUS:BUSY
X-MICROSOFT-CDO-IMPORTANCE:1
END:VEVENT
BEGIN:VEVENT
UID:g38l2@games.golnetwork.com
LOCATION:Cherry Beach East 2
CREATED:20130715T180439Z
DTSTART:20130809T030000Z
DTEND:20130809T040000Z
DTSTAMP:20260425T193116Z
SUMMARY:XTSC Cheatin Referees vs. Awesomesauce FC
DESCRIPTION:Awesomesauce FC vs. XTSC Cheatin RefereesMore info: #155
X-ALT-DESC;FMTTYPE=text/html:<!DOCTYPE HTML PUBLIC "-//W3C//DTD HTML 3.2//E
	N">\n<HTML>\n<HEAD>\n<TITLE></TITLE>\n</HEAD>\n<BODY>\n<h3>Awesomesauce FC 
	vs. XTSC Cheatin Referees</h3>More info: <a href="https://www.golnetwork.co
	m/game/v/31726/">#155</a>\n\n</BODY>\n</HTML>
STATUS:CONFIRMED
CLASS:PUBLIC
URL:https://www.golnetwork.com/game/v/31726/
X-MICROSOFT-CDO-BUSYSTATUS:BUSY
X-MICROSOFT-CDO-IMPORTANCE:1
END:VEVENT
BEGIN:VEVENT
UID:g38la@games.golnetwork.com
LOCATION:Cherry Beach East 2
CREATED:20130715T180440Z
DTSTART:20130816T010000Z
DTEND:20130816T020000Z
DTSTAMP:20260425T193116Z
SUMMARY:Awesomesauce FC vs. Toronto Force Soccer (TFC)
DESCRIPTION:Toronto Force Soccer (TFC) vs. Awesomesauce FCMore info: #195
X-ALT-DESC;FMTTYPE=text/html:<!DOCTYPE HTML PUBLIC "-//W3C//DTD HTML 3.2//E
	N">\n<HTML>\n<HEAD>\n<TITLE></TITLE>\n</HEAD>\n<BODY>\n<h3>Toronto Force So
	ccer (TFC) vs. Awesomesauce FC</h3>More info: <a href="https://www.golnetwo
	rk.com/game/v/31730/">#195</a>\n\n</BODY>\n</HTML>
STATUS:CONFIRMED
CLASS:PUBLIC
URL:https://www.golnetwork.com/game/v/31730/
X-MICROSOFT-CDO-BUSYSTATUS:BUSY
X-MICROSOFT-CDO-IMPORTANCE:1
END:VEVENT
BEGIN:VEVENT
UID:g38lg@games.golnetwork.com
LOCATION:Cherry Beach East 2
CREATED:20130715T180440Z
DTSTART:20130816T020000Z
DTEND:20130816T030000Z
DTSTAMP:20260425T193116Z
SUMMARY:The Outperformers vs. Onetouchables FC
DESCRIPTION:Onetouchables FC vs. The OutperformersMore info: #198
X-ALT-DESC;FMTTYPE=text/html:<!DOCTYPE HTML PUBLIC "-//W3C//DTD HTML 3.2//E
	N">\n<HTML>\n<HEAD>\n<TITLE></TITLE>\n</HEAD>\n<BODY>\n<h3>Onetouchables FC
	 vs. The Outperformers</h3>More info: <a href="https://www.golnetwork.com/g
	ame/v/31733/">#198</a>\n\n</BODY>\n</HTML>
STATUS:CONFIRMED
CLASS:PUBLIC
URL:https://www.golnetwork.com/game/v/31733/
X-MICROSOFT-CDO-BUSYSTATUS:BUSY
X-MICROSOFT-CDO-IMPORTANCE:1
END:VEVENT
BEGIN:VEVENT
UID:g38le@games.golnetwork.com
LOCATION:Cherry Beach East 3
CREATED:20130715T180440Z
DTSTART:20130816T020000Z
DTEND:20130816T030000Z
DTSTAMP:20260425T193116Z
SUMMARY:Hangover FC vs. Midnight Marauders
DESCRIPTION:Midnight Marauders vs. Hangover FCMore info: #199
X-ALT-DESC;FMTTYPE=text/html:<!DOCTYPE HTML PUBLIC "-//W3C//DTD HTML 3.2//E
	N">\n<HTML>\n<HEAD>\n<TITLE></TITLE>\n</HEAD>\n<BODY>\n<h3>Midnight Maraude
	rs vs. Hangover FC</h3>More info: <a href="https://www.golnetwork.com/game/
	v/31732/">#199</a>\n\n</BODY>\n</HTML>
STATUS:CONFIRMED
CLASS:PUBLIC
URL:https://www.golnetwork.com/game/v/31732/
X-MICROSOFT-CDO-BUSYSTATUS:BUSY
X-MICROSOFT-CDO-IMPORTANCE:1
END:VEVENT
BEGIN:VEVENT
UID:g38lc@games.golnetwork.com
LOCATION:Cherry Beach East 2
CREATED:20130715T180440Z
DTSTART:20130816T030000Z
DTEND:20130816T040000Z
DTSTAMP:20260425T193116Z
SUMMARY:Itchy Red Sambas vs. XTSC Cheatin Referees
DESCRIPTION:XTSC Cheatin Referees vs. Itchy Red SambasMore info: #201
X-ALT-DESC;FMTTYPE=text/html:<!DOCTYPE HTML PUBLIC "-//W3C//DTD HTML 3.2//E
	N">\n<HTML>\n<HEAD>\n<TITLE></TITLE>\n</HEAD>\n<BODY>\n<h3>XTSC Cheatin Ref
	erees vs. Itchy Red Sambas</h3>More info: <a href="https://www.golnetwork.c
	om/game/v/31731/">#201</a>\n\n</BODY>\n</HTML>
STATUS:CONFIRMED
CLASS:PUBLIC
URL:https://www.golnetwork.com/game/v/31731/
X-MICROSOFT-CDO-BUSYSTATUS:BUSY
X-MICROSOFT-CDO-IMPORTANCE:1
END:VEVENT
BEGIN:VEVENT
UID:g38lk@games.golnetwork.com
LOCATION:Cherry Beach East 2
CREATED:20130715T180440Z
DTSTART:20130823T010000Z
DTEND:20130823T020000Z
DTSTAMP:20260425T193116Z
SUMMARY:Onetouchables FC vs. Midnight Marauders
DESCRIPTION:Midnight Marauders vs. Onetouchables FCMore info: #238
X-ALT-DESC;FMTTYPE=text/html:<!DOCTYPE HTML PUBLIC "-//W3C//DTD HTML 3.2//E
	N">\n<HTML>\n<HEAD>\n<TITLE></TITLE>\n</HEAD>\n<BODY>\n<h3>Midnight Maraude
	rs vs. Onetouchables FC</h3>More info: <a href="https://www.golnetwork.com/
	game/v/31735/">#238</a>\n\n</BODY>\n</HTML>
STATUS:CONFIRMED
CLASS:PUBLIC
URL:https://www.golnetwork.com/game/v/31735/
X-MICROSOFT-CDO-BUSYSTATUS:BUSY
X-MICROSOFT-CDO-IMPORTANCE:1
END:VEVENT
BEGIN:VEVENT
UID:g38li@games.golnetwork.com
LOCATION:Cherry Beach East 2
CREATED:20130715T180440Z
DTSTART:20130823T020000Z
DTEND:20130823T030000Z
DTSTAMP:20260425T193116Z
SUMMARY:Itchy Red Sambas vs. Awesomesauce FC
DESCRIPTION:Awesomesauce FC vs. Itchy Red SambasMore info: #241
X-ALT-DESC;FMTTYPE=text/html:<!DOCTYPE HTML PUBLIC "-//W3C//DTD HTML 3.2//E
	N">\n<HTML>\n<HEAD>\n<TITLE></TITLE>\n</HEAD>\n<BODY>\n<h3>Awesomesauce FC 
	vs. Itchy Red Sambas</h3>More info: <a href="https://www.golnetwork.com/gam
	e/v/31734/">#241</a>\n\n</BODY>\n</HTML>
STATUS:CONFIRMED
CLASS:PUBLIC
URL:https://www.golnetwork.com/game/v/31734/
X-MICROSOFT-CDO-BUSYSTATUS:BUSY
X-MICROSOFT-CDO-IMPORTANCE:1
END:VEVENT
BEGIN:VEVENT
UID:g38lm@games.golnetwork.com
LOCATION:Cherry Beach East 3
CREATED:20130715T180440Z
DTSTART:20130823T020000Z
DTEND:20130823T030000Z
DTSTAMP:20260425T193116Z
SUMMARY:Hangover FC vs. Toronto Force Soccer (TFC)
DESCRIPTION:Toronto Force Soccer (TFC) vs. Hangover FCMore info: #242
X-ALT-DESC;FMTTYPE=text/html:<!DOCTYPE HTML PUBLIC "-//W3C//DTD HTML 3.2//E
	N">\n<HTML>\n<HEAD>\n<TITLE></TITLE>\n</HEAD>\n<BODY>\n<h3>Toronto Force So
	ccer (TFC) vs. Hangover FC</h3>More info: <a href="https://www.golnetwork.c
	om/game/v/31736/">#242</a>\n\n</BODY>\n</HTML>
STATUS:CONFIRMED
CLASS:PUBLIC
URL:https://www.golnetwork.com/game/v/31736/
X-MICROSOFT-CDO-BUSYSTATUS:BUSY
X-MICROSOFT-CDO-IMPORTANCE:1
END:VEVENT
BEGIN:VEVENT
UID:g38lo@games.golnetwork.com
LOCATION:Cherry Beach East 2
CREATED:20130715T180440Z
DTSTART:20130823T030000Z
DTEND:20130823T040000Z
DTSTAMP:20260425T193116Z
SUMMARY:The Outperformers vs. XTSC Cheatin Referees
DESCRIPTION:XTSC Cheatin Referees vs. The OutperformersMore info: #244
X-ALT-DESC;FMTTYPE=text/html:<!DOCTYPE HTML PUBLIC "-//W3C//DTD HTML 3.2//E
	N">\n<HTML>\n<HEAD>\n<TITLE></TITLE>\n</HEAD>\n<BODY>\n<h3>XTSC Cheatin Ref
	erees vs. The Outperformers</h3>More info: <a href="https://www.golnetwork.
	com/game/v/31737/">#244</a>\n\n</BODY>\n</HTML>
STATUS:CONFIRMED
CLASS:PUBLIC
URL:https://www.golnetwork.com/game/v/31737/
X-MICROSOFT-CDO-BUSYSTATUS:BUSY
X-MICROSOFT-CDO-IMPORTANCE:1
END:VEVENT
BEGIN:VEVENT
UID:g38lq@games.golnetwork.com
LOCATION:Cherry Beach East 2
CREATED:20130715T180440Z
DTSTART:20130830T010000Z
DTEND:20130830T020000Z
DTSTAMP:20260425T193116Z
SUMMARY:Onetouchables FC vs. Toronto Force Soccer (TFC)
DESCRIPTION:Toronto Force Soccer (TFC) vs. Onetouchables FCMore info: #281
X-ALT-DESC;FMTTYPE=text/html:<!DOCTYPE HTML PUBLIC "-//W3C//DTD HTML 3.2//E
	N">\n<HTML>\n<HEAD>\n<TITLE></TITLE>\n</HEAD>\n<BODY>\n<h3>Toronto Force So
	ccer (TFC) vs. Onetouchables FC</h3>More info: <a href="https://www.golnetw
	ork.com/game/v/31738/">#281</a>\n\n</BODY>\n</HTML>
STATUS:CONFIRMED
CLASS:PUBLIC
URL:https://www.golnetwork.com/game/v/31738/
X-MICROSOFT-CDO-BUSYSTATUS:BUSY
X-MICROSOFT-CDO-IMPORTANCE:1
END:VEVENT
BEGIN:VEVENT
UID:g38m1@games.golnetwork.com
LOCATION:Cherry Beach East 2
CREATED:20130715T180440Z
DTSTART:20130830T020000Z
DTEND:20130830T030000Z
DTSTAMP:20260425T193116Z
SUMMARY:The Outperformers vs. Itchy Red Sambas
DESCRIPTION:Itchy Red Sambas vs. The OutperformersMore info: #284
X-ALT-DESC;FMTTYPE=text/html:<!DOCTYPE HTML PUBLIC "-//W3C//DTD HTML 3.2//E
	N">\n<HTML>\n<HEAD>\n<TITLE></TITLE>\n</HEAD>\n<BODY>\n<h3>Itchy Red Sambas
	 vs. The Outperformers</h3>More info: <a href="https://www.golnetwork.com/g
	ame/v/31739/">#284</a>\n\n</BODY>\n</HTML>
STATUS:CONFIRMED
CLASS:PUBLIC
URL:https://www.golnetwork.com/game/v/31739/
X-MICROSOFT-CDO-BUSYSTATUS:BUSY
X-MICROSOFT-CDO-IMPORTANCE:1
END:VEVENT
BEGIN:VEVENT
UID:g38m3@games.golnetwork.com
LOCATION:Cherry Beach East 3
CREATED:20130715T180440Z
DTSTART:20130830T020000Z
DTEND:20130830T030000Z
DTSTAMP:20260425T193116Z
SUMMARY:Awesomesauce FC vs. Hangover FC
DESCRIPTION:Hangover FC vs. Awesomesauce FCMore info: #285
X-ALT-DESC;FMTTYPE=text/html:<!DOCTYPE HTML PUBLIC "-//W3C//DTD HTML 3.2//E
	N">\n<HTML>\n<HEAD>\n<TITLE></TITLE>\n</HEAD>\n<BODY>\n<h3>Hangover FC vs. 
	Awesomesauce FC</h3>More info: <a href="https://www.golnetwork.com/game/v/3
	1740/">#285</a>\n\n</BODY>\n</HTML>
STATUS:CONFIRMED
CLASS:PUBLIC
URL:https://www.golnetwork.com/game/v/31740/
X-MICROSOFT-CDO-BUSYSTATUS:BUSY
X-MICROSOFT-CDO-IMPORTANCE:1
END:VEVENT
BEGIN:VEVENT
UID:g38m5@games.golnetwork.com
LOCATION:Cherry Beach East 2
CREATED:20130715T180440Z
DTSTART:20130830T030000Z
DTEND:20130830T040000Z
DTSTAMP:20260425T193116Z
SUMMARY:Midnight Marauders vs. XTSC Cheatin Referees
DESCRIPTION:XTSC Cheatin Referees vs. Midnight MaraudersMore info: #287
X-ALT-DESC;FMTTYPE=text/html:<!DOCTYPE HTML PUBLIC "-//W3C//DTD HTML 3.2//E
	N">\n<HTML>\n<HEAD>\n<TITLE></TITLE>\n</HEAD>\n<BODY>\n<h3>XTSC Cheatin Ref
	erees vs. Midnight Marauders</h3>More info: <a href="https://www.golnetwork
	.com/game/v/31741/">#287</a>\n\n</BODY>\n</HTML>
STATUS:CONFIRMED
CLASS:PUBLIC
URL:https://www.golnetwork.com/game/v/31741/
X-MICROSOFT-CDO-BUSYSTATUS:BUSY
X-MICROSOFT-CDO-IMPORTANCE:1
END:VEVENT
BEGIN:VEVENT
UID:g38m7@games.golnetwork.com
LOCATION:Cherry Beach East 2
CREATED:20130715T180440Z
DTSTART:20130906T010000Z
DTEND:20130906T020000Z
DTSTAMP:20260425T193116Z
SUMMARY:Toronto Force Soccer (TFC) vs. The Outperformers
DESCRIPTION:The Outperformers vs. Toronto Force Soccer (TFC)More info: #306
X-ALT-DESC;FMTTYPE=text/html:<!DOCTYPE HTML PUBLIC "-//W3C//DTD HTML 3.2//E
	N">\n<HTML>\n<HEAD>\n<TITLE></TITLE>\n</HEAD>\n<BODY>\n<h3>The Outperformer
	s vs. Toronto Force Soccer (TFC)</h3>More info: <a href="https://www.golnet
	work.com/game/v/31742/">#306</a>\n\n</BODY>\n</HTML>
STATUS:CONFIRMED
CLASS:PUBLIC
URL:https://www.golnetwork.com/game/v/31742/
X-MICROSOFT-CDO-BUSYSTATUS:BUSY
X-MICROSOFT-CDO-IMPORTANCE:1
END:VEVENT
BEGIN:VEVENT
UID:g38m9@games.golnetwork.com
LOCATION:Cherry Beach East 2
CREATED:20130715T180440Z
DTSTART:20130906T020000Z
DTEND:20130906T030000Z
DTSTAMP:20260425T193116Z
SUMMARY:Itchy Red Sambas vs. Midnight Marauders
DESCRIPTION:Midnight Marauders vs. Itchy Red SambasMore info: #309
X-ALT-DESC;FMTTYPE=text/html:<!DOCTYPE HTML PUBLIC "-//W3C//DTD HTML 3.2//E
	N">\n<HTML>\n<HEAD>\n<TITLE></TITLE>\n</HEAD>\n<BODY>\n<h3>Midnight Maraude
	rs vs. Itchy Red Sambas</h3>More info: <a href="https://www.golnetwork.com/
	game/v/31743/">#309</a>\n\n</BODY>\n</HTML>
STATUS:CONFIRMED
CLASS:PUBLIC
URL:https://www.golnetwork.com/game/v/31743/
X-MICROSOFT-CDO-BUSYSTATUS:BUSY
X-MICROSOFT-CDO-IMPORTANCE:1
END:VEVENT
BEGIN:VEVENT
UID:g38mb@games.golnetwork.com
LOCATION:Cherry Beach East 3
CREATED:20130715T180440Z
DTSTART:20130906T020000Z
DTEND:20130906T030000Z
DTSTAMP:20260425T193116Z
SUMMARY:Onetouchables FC vs. Awesomesauce FC
DESCRIPTION:Awesomesauce FC vs. Onetouchables FCMore info: #310
X-ALT-DESC;FMTTYPE=text/html:<!DOCTYPE HTML PUBLIC "-//W3C//DTD HTML 3.2//E
	N">\n<HTML>\n<HEAD>\n<TITLE></TITLE>\n</HEAD>\n<BODY>\n<h3>Awesomesauce FC 
	vs. Onetouchables FC</h3>More info: <a href="https://www.golnetwork.com/gam
	e/v/31744/">#310</a>\n\n</BODY>\n</HTML>
STATUS:CONFIRMED
CLASS:PUBLIC
URL:https://www.golnetwork.com/game/v/31744/
X-MICROSOFT-CDO-BUSYSTATUS:BUSY
X-MICROSOFT-CDO-IMPORTANCE:1
END:VEVENT
BEGIN:VEVENT
UID:g38md@games.golnetwork.com
LOCATION:Cherry Beach East 2
CREATED:20130715T180440Z
DTSTART:20130906T030000Z
DTEND:20130906T040000Z
DTSTAMP:20260425T193116Z
SUMMARY:XTSC Cheatin Referees vs. Hangover FC
DESCRIPTION:Hangover FC vs. XTSC Cheatin RefereesMore info: #312
X-ALT-DESC;FMTTYPE=text/html:<!DOCTYPE HTML PUBLIC "-//W3C//DTD HTML 3.2//E
	N">\n<HTML>\n<HEAD>\n<TITLE></TITLE>\n</HEAD>\n<BODY>\n<h3>Hangover FC vs. 
	XTSC Cheatin Referees</h3>More info: <a href="https://www.golnetwork.com/ga
	me/v/31745/">#312</a>\n\n</BODY>\n</HTML>
STATUS:CONFIRMED
CLASS:PUBLIC
URL:https://www.golnetwork.com/game/v/31745/
X-MICROSOFT-CDO-BUSYSTATUS:BUSY
X-MICROSOFT-CDO-IMPORTANCE:1
END:VEVENT
BEGIN:VEVENT
UID:g38mf@games.golnetwork.com
LOCATION:Cherry Beach East 2
CREATED:20130715T180440Z
DTSTART:20130913T010000Z
DTEND:20130913T020000Z
DTSTAMP:20260425T193116Z
SUMMARY:Itchy Red Sambas vs. XTSC Cheatin Referees
DESCRIPTION:XTSC Cheatin Referees vs. Itchy Red SambasMore info: #344
X-ALT-DESC;FMTTYPE=text/html:<!DOCTYPE HTML PUBLIC "-//W3C//DTD HTML 3.2//E
	N">\n<HTML>\n<HEAD>\n<TITLE></TITLE>\n</HEAD>\n<BODY>\n<h3>XTSC Cheatin Ref
	erees vs. Itchy Red Sambas</h3>More info: <a href="https://www.golnetwork.c
	om/game/v/31746/">#344</a>\n\n</BODY>\n</HTML>
STATUS:CONFIRMED
CLASS:PUBLIC
URL:https://www.golnetwork.com/game/v/31746/
X-MICROSOFT-CDO-BUSYSTATUS:BUSY
X-MICROSOFT-CDO-IMPORTANCE:1
END:VEVENT
BEGIN:VEVENT
UID:g38mj@games.golnetwork.com
LOCATION:Cherry Beach East 3
CREATED:20130715T180440Z
DTSTART:20130913T020000Z
DTEND:20130913T030000Z
DTSTAMP:20260425T193116Z
SUMMARY:Awesomesauce FC vs. Toronto Force Soccer (TFC)
DESCRIPTION:Toronto Force Soccer (TFC) vs. Awesomesauce FCMore info: #347
X-ALT-DESC;FMTTYPE=text/html:<!DOCTYPE HTML PUBLIC "-//W3C//DTD HTML 3.2//E
	N">\n<HTML>\n<HEAD>\n<TITLE></TITLE>\n</HEAD>\n<BODY>\n<h3>Toronto Force So
	ccer (TFC) vs. Awesomesauce FC</h3>More info: <a href="https://www.golnetwo
	rk.com/game/v/31748/">#347</a>\n\n</BODY>\n</HTML>
STATUS:CONFIRMED
CLASS:PUBLIC
URL:https://www.golnetwork.com/game/v/31748/
X-MICROSOFT-CDO-BUSYSTATUS:BUSY
X-MICROSOFT-CDO-IMPORTANCE:1
END:VEVENT
BEGIN:VEVENT
UID:g38ml@games.golnetwork.com
LOCATION:Cherry Beach East 2
CREATED:20130715T180440Z
DTSTART:20130913T030000Z
DTEND:20130913T040000Z
DTSTAMP:20260425T193116Z
SUMMARY:The Outperformers vs. Onetouchables FC
DESCRIPTION:Onetouchables FC vs. The OutperformersMore info: #349
X-ALT-DESC;FMTTYPE=text/html:<!DOCTYPE HTML PUBLIC "-//W3C//DTD HTML 3.2//E
	N">\n<HTML>\n<HEAD>\n<TITLE></TITLE>\n</HEAD>\n<BODY>\n<h3>Onetouchables FC
	 vs. The Outperformers</h3>More info: <a href="https://www.golnetwork.com/g
	ame/v/31749/">#349</a>\n\n</BODY>\n</HTML>
STATUS:CONFIRMED
CLASS:PUBLIC
URL:https://www.golnetwork.com/game/v/31749/
X-MICROSOFT-CDO-BUSYSTATUS:BUSY
X-MICROSOFT-CDO-IMPORTANCE:1
END:VEVENT
END:VCALENDAR
