BEGIN:VCALENDAR
PRODID:-//gdesolutions.com//MV Framework 1.0.0.1607 Calendar//EN
VERSION:2.0
METHOD:PUBLISH
CALSCALE:GREGORIAN
BEGIN:VEVENT
UID:g3717@games.golnetwork.com
LOCATION:North Toronto CI - Feild 1
GEO:43.7098942;-79.3965038
CREATED:20130702T152609Z
DTSTART:20130707T210000Z
DTEND:20130707T220000Z
DTSTAMP:20260420T151559Z
SUMMARY:The Truncated Icosahedrons vs. XTSC's Yonge & Eligible
DESCRIPTION:XTSC's Yonge & Eligible vs. The Truncated IcosahedronsMore info
	: #1
X-ALT-DESC;FMTTYPE=text/html:<!DOCTYPE HTML PUBLIC "-//W3C//DTD HTML 3.2//E
	N">\n<HTML>\n<HEAD>\n<TITLE></TITLE>\n</HEAD>\n<BODY>\n<h3>XTSC's Yonge & E
	ligible vs. The Truncated Icosahedrons</h3>More info: <a href="https://www.
	golnetwork.com/game/v/31094/">#1</a>\n\n</BODY>\n</HTML>
STATUS:CONFIRMED
CLASS:PUBLIC
URL:https://www.golnetwork.com/game/v/31094/
X-MICROSOFT-CDO-BUSYSTATUS:BUSY
X-MICROSOFT-CDO-IMPORTANCE:1
END:VEVENT
BEGIN:VEVENT
UID:g3719@games.golnetwork.com
LOCATION:North Toronto CI - Feild 1
GEO:43.7098942;-79.3965038
CREATED:20130702T152609Z
DTSTART:20130707T220000Z
DTEND:20130707T230000Z
DTSTAMP:20260420T151559Z
SUMMARY:Sharp Shooters vs. Revolution
DESCRIPTION:Revolution vs. Sharp ShootersMore info: #2
X-ALT-DESC;FMTTYPE=text/html:<!DOCTYPE HTML PUBLIC "-//W3C//DTD HTML 3.2//E
	N">\n<HTML>\n<HEAD>\n<TITLE></TITLE>\n</HEAD>\n<BODY>\n<h3>Revolution vs. S
	harp Shooters</h3>More info: <a href="https://www.golnetwork.com/game/v/310
	95/">#2</a>\n\n</BODY>\n</HTML>
STATUS:CONFIRMED
CLASS:PUBLIC
URL:https://www.golnetwork.com/game/v/31095/
X-MICROSOFT-CDO-BUSYSTATUS:BUSY
X-MICROSOFT-CDO-IMPORTANCE:1
END:VEVENT
BEGIN:VEVENT
UID:g371d@games.golnetwork.com
LOCATION:North Toronto CI - Feild 1
GEO:43.7098942;-79.3965038
CREATED:20130702T152609Z
DTSTART:20130707T230000Z
DTEND:20130708T000000Z
DTSTAMP:20260420T151559Z
SUMMARY:1860 DEGEN vs. Sunday School Samba!
DESCRIPTION:Sunday School Samba! vs. 1860 DEGENMore info: #3
X-ALT-DESC;FMTTYPE=text/html:<!DOCTYPE HTML PUBLIC "-//W3C//DTD HTML 3.2//E
	N">\n<HTML>\n<HEAD>\n<TITLE></TITLE>\n</HEAD>\n<BODY>\n<h3>Sunday School Sa
	mba! vs. 1860 DEGEN</h3>More info: <a href="https://www.golnetwork.com/game
	/v/31097/">#3</a>\n\n</BODY>\n</HTML>
STATUS:CONFIRMED
CLASS:PUBLIC
URL:https://www.golnetwork.com/game/v/31097/
X-MICROSOFT-CDO-BUSYSTATUS:BUSY
X-MICROSOFT-CDO-IMPORTANCE:1
END:VEVENT
BEGIN:VEVENT
UID:g371b@games.golnetwork.com
LOCATION:North Toronto CI - Feild 1
GEO:43.7098942;-79.3965038
CREATED:20130702T152609Z
DTSTART:20130708T000000Z
DTEND:20130708T010000Z
DTSTAMP:20260420T151559Z
SUMMARY:1860 DEGEN vs. Team Black
DESCRIPTION:Team Black vs. 1860 DEGENMore info: #4
X-ALT-DESC;FMTTYPE=text/html:<!DOCTYPE HTML PUBLIC "-//W3C//DTD HTML 3.2//E
	N">\n<HTML>\n<HEAD>\n<TITLE></TITLE>\n</HEAD>\n<BODY>\n<h3>Team Black vs. 1
	860 DEGEN</h3>More info: <a href="https://www.golnetwork.com/game/v/31096/"
	>#4</a>\n\n</BODY>\n</HTML>
STATUS:CONFIRMED
CLASS:PUBLIC
URL:https://www.golnetwork.com/game/v/31096/
X-MICROSOFT-CDO-BUSYSTATUS:BUSY
X-MICROSOFT-CDO-IMPORTANCE:1
END:VEVENT
BEGIN:VEVENT
UID:g371l@games.golnetwork.com
LOCATION:North Toronto CI - Feild 1
GEO:43.7098942;-79.3965038
CREATED:20130702T152609Z
DTSTART:20130714T210000Z
DTEND:20130714T220000Z
DTSTAMP:20260420T151559Z
SUMMARY:Team Black vs. Sunday School Samba!
DESCRIPTION:Sunday School Samba! vs. Team BlackMore info: #5
X-ALT-DESC;FMTTYPE=text/html:<!DOCTYPE HTML PUBLIC "-//W3C//DTD HTML 3.2//E
	N">\n<HTML>\n<HEAD>\n<TITLE></TITLE>\n</HEAD>\n<BODY>\n<h3>Sunday School Sa
	mba! vs. Team Black</h3>More info: <a href="https://www.golnetwork.com/game
	/v/31101/">#5</a>\n\n</BODY>\n</HTML>
STATUS:CONFIRMED
CLASS:PUBLIC
URL:https://www.golnetwork.com/game/v/31101/
X-MICROSOFT-CDO-BUSYSTATUS:BUSY
X-MICROSOFT-CDO-IMPORTANCE:1
END:VEVENT
BEGIN:VEVENT
UID:g371h@games.golnetwork.com
LOCATION:North Toronto CI - Feild 1
GEO:43.7098942;-79.3965038
CREATED:20130702T152609Z
DTSTART:20130714T220000Z
DTEND:20130714T230000Z
DTSTAMP:20260420T151559Z
SUMMARY:Team Black vs. Revolution
DESCRIPTION:Revolution vs. Team BlackMore info: #8
X-ALT-DESC;FMTTYPE=text/html:<!DOCTYPE HTML PUBLIC "-//W3C//DTD HTML 3.2//E
	N">\n<HTML>\n<HEAD>\n<TITLE></TITLE>\n</HEAD>\n<BODY>\n<h3>Revolution vs. T
	eam Black</h3>More info: <a href="https://www.golnetwork.com/game/v/31099/"
	>#8</a>\n\n</BODY>\n</HTML>
STATUS:CONFIRMED
CLASS:PUBLIC
URL:https://www.golnetwork.com/game/v/31099/
X-MICROSOFT-CDO-BUSYSTATUS:BUSY
X-MICROSOFT-CDO-IMPORTANCE:1
END:VEVENT
BEGIN:VEVENT
UID:g371j@games.golnetwork.com
LOCATION:North Toronto CI - Feild 1
GEO:43.7098942;-79.3965038
CREATED:20130702T152609Z
DTSTART:20130714T230000Z
DTEND:20130715T000000Z
DTSTAMP:20260420T151559Z
SUMMARY:1860 DEGEN vs. The Truncated Icosahedrons
DESCRIPTION:The Truncated Icosahedrons vs. 1860 DEGENMore info: #11
X-ALT-DESC;FMTTYPE=text/html:<!DOCTYPE HTML PUBLIC "-//W3C//DTD HTML 3.2//E
	N">\n<HTML>\n<HEAD>\n<TITLE></TITLE>\n</HEAD>\n<BODY>\n<h3>The Truncated Ic
	osahedrons vs. 1860 DEGEN</h3>More info: <a href="https://www.golnetwork.co
	m/game/v/31100/">#11</a>\n\n</BODY>\n</HTML>
STATUS:CONFIRMED
CLASS:PUBLIC
URL:https://www.golnetwork.com/game/v/31100/
X-MICROSOFT-CDO-BUSYSTATUS:BUSY
X-MICROSOFT-CDO-IMPORTANCE:1
END:VEVENT
BEGIN:VEVENT
UID:g371f@games.golnetwork.com
LOCATION:North Toronto CI - Feild 1
GEO:43.7098942;-79.3965038
CREATED:20130702T152609Z
DTSTART:20130715T000000Z
DTEND:20130715T010000Z
DTSTAMP:20260420T151559Z
SUMMARY:Sharp Shooters vs. XTSC's Yonge & Eligible
DESCRIPTION:XTSC's Yonge & Eligible vs. Sharp ShootersMore info: #14
X-ALT-DESC;FMTTYPE=text/html:<!DOCTYPE HTML PUBLIC "-//W3C//DTD HTML 3.2//E
	N">\n<HTML>\n<HEAD>\n<TITLE></TITLE>\n</HEAD>\n<BODY>\n<h3>XTSC's Yonge & E
	ligible vs. Sharp Shooters</h3>More info: <a href="https://www.golnetwork.c
	om/game/v/31098/">#14</a>\n\n</BODY>\n</HTML>
STATUS:CONFIRMED
CLASS:PUBLIC
URL:https://www.golnetwork.com/game/v/31098/
X-MICROSOFT-CDO-BUSYSTATUS:BUSY
X-MICROSOFT-CDO-IMPORTANCE:1
END:VEVENT
BEGIN:VEVENT
UID:g371n@games.golnetwork.com
LOCATION:North Toronto CI - Feild 1
GEO:43.7098942;-79.3965038
CREATED:20130702T152609Z
DTSTART:20130721T210000Z
DTEND:20130721T220000Z
DTSTAMP:20260420T151559Z
SUMMARY:1860 DEGEN vs. XTSC's Yonge & Eligible
DESCRIPTION:XTSC's Yonge & Eligible vs. 1860 DEGENMore info: #37
X-ALT-DESC;FMTTYPE=text/html:<!DOCTYPE HTML PUBLIC "-//W3C//DTD HTML 3.2//E
	N">\n<HTML>\n<HEAD>\n<TITLE></TITLE>\n</HEAD>\n<BODY>\n<h3>XTSC's Yonge & E
	ligible vs. 1860 DEGEN</h3>More info: <a href="https://www.golnetwork.com/g
	ame/v/31102/">#37</a>\n\n</BODY>\n</HTML>
STATUS:CONFIRMED
CLASS:PUBLIC
URL:https://www.golnetwork.com/game/v/31102/
X-MICROSOFT-CDO-BUSYSTATUS:BUSY
X-MICROSOFT-CDO-IMPORTANCE:1
END:VEVENT
BEGIN:VEVENT
UID:g3722@games.golnetwork.com
LOCATION:North Toronto CI - Feild 1
GEO:43.7098942;-79.3965038
CREATED:20130702T152609Z
DTSTART:20130721T220000Z
DTEND:20130721T230000Z
DTSTAMP:20260420T151559Z
SUMMARY:Sunday School Samba! vs. XTSC's Yonge & Eligible
DESCRIPTION:XTSC's Yonge & Eligible vs. Sunday School Samba!More info: #40
X-ALT-DESC;FMTTYPE=text/html:<!DOCTYPE HTML PUBLIC "-//W3C//DTD HTML 3.2//E
	N">\n<HTML>\n<HEAD>\n<TITLE></TITLE>\n</HEAD>\n<BODY>\n<h3>XTSC's Yonge & E
	ligible vs. Sunday School Samba!</h3>More info: <a href="https://www.golnet
	work.com/game/v/31105/">#40</a>\n\n</BODY>\n</HTML>
STATUS:CONFIRMED
CLASS:PUBLIC
URL:https://www.golnetwork.com/game/v/31105/
X-MICROSOFT-CDO-BUSYSTATUS:BUSY
X-MICROSOFT-CDO-IMPORTANCE:1
END:VEVENT
BEGIN:VEVENT
UID:g3720@games.golnetwork.com
LOCATION:North Toronto CI - Feild 1
GEO:43.7098942;-79.3965038
CREATED:20130702T152609Z
DTSTART:20130721T230000Z
DTEND:20130722T000000Z
DTSTAMP:20260420T151559Z
SUMMARY:Revolution vs. The Truncated Icosahedrons
DESCRIPTION:The Truncated Icosahedrons vs. RevolutionMore info: #46
X-ALT-DESC;FMTTYPE=text/html:<!DOCTYPE HTML PUBLIC "-//W3C//DTD HTML 3.2//E
	N">\n<HTML>\n<HEAD>\n<TITLE></TITLE>\n</HEAD>\n<BODY>\n<h3>The Truncated Ic
	osahedrons vs. Revolution</h3>More info: <a href="https://www.golnetwork.co
	m/game/v/31104/">#46</a>\n\n</BODY>\n</HTML>
STATUS:CONFIRMED
CLASS:PUBLIC
URL:https://www.golnetwork.com/game/v/31104/
X-MICROSOFT-CDO-BUSYSTATUS:BUSY
X-MICROSOFT-CDO-IMPORTANCE:1
END:VEVENT
BEGIN:VEVENT
UID:g371p@games.golnetwork.com
LOCATION:North Toronto CI - Feild 1
GEO:43.7098942;-79.3965038
CREATED:20130702T152609Z
DTSTART:20130722T000000Z
DTEND:20130722T010000Z
DTSTAMP:20260420T151559Z
SUMMARY:Team Black vs. Sharp Shooters
DESCRIPTION:Sharp Shooters vs. Team BlackMore info: #52
X-ALT-DESC;FMTTYPE=text/html:<!DOCTYPE HTML PUBLIC "-//W3C//DTD HTML 3.2//E
	N">\n<HTML>\n<HEAD>\n<TITLE></TITLE>\n</HEAD>\n<BODY>\n<h3>Sharp Shooters v
	s. Team Black</h3>More info: <a href="https://www.golnetwork.com/game/v/311
	03/">#52</a>\n\n</BODY>\n</HTML>
STATUS:CONFIRMED
CLASS:PUBLIC
URL:https://www.golnetwork.com/game/v/31103/
X-MICROSOFT-CDO-BUSYSTATUS:BUSY
X-MICROSOFT-CDO-IMPORTANCE:1
END:VEVENT
BEGIN:VEVENT
UID:g3726@games.golnetwork.com
LOCATION:North Toronto CI - Feild 1
GEO:43.7098942;-79.3965038
CREATED:20130702T152609Z
DTSTART:20130728T210000Z
DTEND:20130728T220000Z
DTSTAMP:20260420T151559Z
SUMMARY:XTSC's Yonge & Eligible vs. Team Black
DESCRIPTION:Team Black vs. XTSC's Yonge & EligibleMore info: #84
X-ALT-DESC;FMTTYPE=text/html:<!DOCTYPE HTML PUBLIC "-//W3C//DTD HTML 3.2//E
	N">\n<HTML>\n<HEAD>\n<TITLE></TITLE>\n</HEAD>\n<BODY>\n<h3>Team Black vs. X
	TSC's Yonge & Eligible</h3>More info: <a href="https://www.golnetwork.com/g
	ame/v/31107/">#84</a>\n\n</BODY>\n</HTML>
STATUS:CONFIRMED
CLASS:PUBLIC
URL:https://www.golnetwork.com/game/v/31107/
X-MICROSOFT-CDO-BUSYSTATUS:BUSY
X-MICROSOFT-CDO-IMPORTANCE:1
END:VEVENT
BEGIN:VEVENT
UID:g3724@games.golnetwork.com
LOCATION:North Toronto CI - Feild 1
GEO:43.7098942;-79.3965038
CREATED:20130702T152609Z
DTSTART:20130728T220000Z
DTEND:20130728T230000Z
DTSTAMP:20260420T151559Z
SUMMARY:Revolution vs. 1860 DEGEN
DESCRIPTION:1860 DEGEN vs. RevolutionMore info: #85
X-ALT-DESC;FMTTYPE=text/html:<!DOCTYPE HTML PUBLIC "-//W3C//DTD HTML 3.2//E
	N">\n<HTML>\n<HEAD>\n<TITLE></TITLE>\n</HEAD>\n<BODY>\n<h3>1860 DEGEN vs. R
	evolution</h3>More info: <a href="https://www.golnetwork.com/game/v/31106/"
	>#85</a>\n\n</BODY>\n</HTML>
STATUS:CONFIRMED
CLASS:PUBLIC
URL:https://www.golnetwork.com/game/v/31106/
X-MICROSOFT-CDO-BUSYSTATUS:BUSY
X-MICROSOFT-CDO-IMPORTANCE:1
END:VEVENT
BEGIN:VEVENT
UID:g3728@games.golnetwork.com
LOCATION:North Toronto CI - Feild 1
GEO:43.7098942;-79.3965038
CREATED:20130702T152609Z
DTSTART:20130728T230000Z
DTEND:20130729T000000Z
DTSTAMP:20260420T151559Z
SUMMARY:Sunday School Samba! vs. The Truncated Icosahedrons
DESCRIPTION:The Truncated Icosahedrons vs. Sunday School Samba!More info: #
	89
X-ALT-DESC;FMTTYPE=text/html:<!DOCTYPE HTML PUBLIC "-//W3C//DTD HTML 3.2//E
	N">\n<HTML>\n<HEAD>\n<TITLE></TITLE>\n</HEAD>\n<BODY>\n<h3>The Truncated Ic
	osahedrons vs. Sunday School Samba!</h3>More info: <a href="https://www.gol
	network.com/game/v/31108/">#89</a>\n\n</BODY>\n</HTML>
STATUS:CONFIRMED
CLASS:PUBLIC
URL:https://www.golnetwork.com/game/v/31108/
X-MICROSOFT-CDO-BUSYSTATUS:BUSY
X-MICROSOFT-CDO-IMPORTANCE:1
END:VEVENT
BEGIN:VEVENT
UID:g372a@games.golnetwork.com
LOCATION:North Toronto CI - Feild 1
GEO:43.7098942;-79.3965038
CREATED:20130702T152609Z
DTSTART:20130729T000000Z
DTEND:20130729T010000Z
DTSTAMP:20260420T151559Z
SUMMARY:Sunday School Samba! vs. Sharp Shooters
DESCRIPTION:Sharp Shooters vs. Sunday School Samba!More info: #93
X-ALT-DESC;FMTTYPE=text/html:<!DOCTYPE HTML PUBLIC "-//W3C//DTD HTML 3.2//E
	N">\n<HTML>\n<HEAD>\n<TITLE></TITLE>\n</HEAD>\n<BODY>\n<h3>Sharp Shooters v
	s. Sunday School Samba!</h3>More info: <a href="https://www.golnetwork.com/
	game/v/31109/">#93</a>\n\n</BODY>\n</HTML>
STATUS:CONFIRMED
CLASS:PUBLIC
URL:https://www.golnetwork.com/game/v/31109/
X-MICROSOFT-CDO-BUSYSTATUS:BUSY
X-MICROSOFT-CDO-IMPORTANCE:1
END:VEVENT
BEGIN:VEVENT
UID:g3am1@games.golnetwork.com
LOCATION:North Toronto CI - Feild 1
GEO:43.7098942;-79.3965038
CREATED:20130802T134218Z
DTSTART:20130801T230000Z
DTEND:20130802T000000Z
DTSTAMP:20260420T151559Z
SUMMARY:The Truncated Icosahedrons vs. Team Black
DESCRIPTION:Team Black vs. The Truncated IcosahedronsMore info: #112
X-ALT-DESC;FMTTYPE=text/html:<!DOCTYPE HTML PUBLIC "-//W3C//DTD HTML 3.2//E
	N">\n<HTML>\n<HEAD>\n<TITLE></TITLE>\n</HEAD>\n<BODY>\n<h3>Team Black vs. T
	he Truncated Icosahedrons</h3>More info: <a href="https://www.golnetwork.co
	m/game/v/32468/">#112</a>\n\n</BODY>\n</HTML>
STATUS:CONFIRMED
CLASS:PUBLIC
URL:https://www.golnetwork.com/game/v/32468/
X-MICROSOFT-CDO-BUSYSTATUS:BUSY
X-MICROSOFT-CDO-IMPORTANCE:1
END:VEVENT
BEGIN:VEVENT
UID:g372c@games.golnetwork.com
LOCATION:North Toronto CI - Feild 1
GEO:43.7098942;-79.3965038
CREATED:20130702T152609Z
DTSTART:20130804T213000Z
DTEND:20130804T223000Z
DTSTAMP:20260420T151559Z
SUMMARY:Sunday School Samba! vs. 1860 DEGEN
DESCRIPTION:1860 DEGEN vs. Sunday School Samba!More info: #122
X-ALT-DESC;FMTTYPE=text/html:<!DOCTYPE HTML PUBLIC "-//W3C//DTD HTML 3.2//E
	N">\n<HTML>\n<HEAD>\n<TITLE></TITLE>\n</HEAD>\n<BODY>\n<h3>1860 DEGEN vs. S
	unday School Samba!</h3>More info: <a href="https://www.golnetwork.com/game
	/v/31110/">#122</a>\n\n</BODY>\n</HTML>
STATUS:CONFIRMED
CLASS:PUBLIC
URL:https://www.golnetwork.com/game/v/31110/
X-MICROSOFT-CDO-BUSYSTATUS:BUSY
X-MICROSOFT-CDO-IMPORTANCE:1
END:VEVENT
BEGIN:VEVENT
UID:g372g@games.golnetwork.com
LOCATION:North Toronto CI - Feild 1
GEO:43.7098942;-79.3965038
CREATED:20130702T152609Z
DTSTART:20130804T223000Z
DTEND:20130804T233000Z
DTSTAMP:20260420T151559Z
SUMMARY:XTSC's Yonge & Eligible vs. Revolution
DESCRIPTION:Revolution vs. XTSC's Yonge & EligibleMore info: #126
X-ALT-DESC;FMTTYPE=text/html:<!DOCTYPE HTML PUBLIC "-//W3C//DTD HTML 3.2//E
	N">\n<HTML>\n<HEAD>\n<TITLE></TITLE>\n</HEAD>\n<BODY>\n<h3>Revolution vs. X
	TSC's Yonge & Eligible</h3>More info: <a href="https://www.golnetwork.com/g
	ame/v/31112/">#126</a>\n\n</BODY>\n</HTML>
STATUS:CONFIRMED
CLASS:PUBLIC
URL:https://www.golnetwork.com/game/v/31112/
X-MICROSOFT-CDO-BUSYSTATUS:BUSY
X-MICROSOFT-CDO-IMPORTANCE:1
END:VEVENT
BEGIN:VEVENT
UID:g372e@games.golnetwork.com
LOCATION:North Toronto CI - Feild 1
GEO:43.7098942;-79.3965038
CREATED:20130702T152609Z
DTSTART:20130804T233000Z
DTEND:20130805T003000Z
DTSTAMP:20260420T151559Z
SUMMARY:The Truncated Icosahedrons vs. Sharp Shooters
DESCRIPTION:Sharp Shooters vs. The Truncated IcosahedronsMore info: #130
X-ALT-DESC;FMTTYPE=text/html:<!DOCTYPE HTML PUBLIC "-//W3C//DTD HTML 3.2//E
	N">\n<HTML>\n<HEAD>\n<TITLE></TITLE>\n</HEAD>\n<BODY>\n<h3>Sharp Shooters v
	s. The Truncated Icosahedrons</h3>More info: <a href="https://www.golnetwor
	k.com/game/v/31111/">#130</a>\n\n</BODY>\n</HTML>
STATUS:CONFIRMED
CLASS:PUBLIC
URL:https://www.golnetwork.com/game/v/31111/
X-MICROSOFT-CDO-BUSYSTATUS:BUSY
X-MICROSOFT-CDO-IMPORTANCE:1
END:VEVENT
BEGIN:VEVENT
UID:g372q@games.golnetwork.com
LOCATION:North Toronto CI - Feild 1
GEO:43.7098942;-79.3965038
CREATED:20130702T152609Z
DTSTART:20130811T210000Z
DTEND:20130811T220000Z
DTSTAMP:20260420T151559Z
SUMMARY:Team Black vs. XTSC's Yonge & Eligible
DESCRIPTION:XTSC's Yonge & Eligible vs. Team BlackMore info: #157
X-ALT-DESC;FMTTYPE=text/html:<!DOCTYPE HTML PUBLIC "-//W3C//DTD HTML 3.2//E
	N">\n<HTML>\n<HEAD>\n<TITLE></TITLE>\n</HEAD>\n<BODY>\n<h3>XTSC's Yonge & E
	ligible vs. Team Black</h3>More info: <a href="https://www.golnetwork.com/g
	ame/v/31117/">#157</a>\n\n</BODY>\n</HTML>
STATUS:CONFIRMED
CLASS:PUBLIC
URL:https://www.golnetwork.com/game/v/31117/
X-MICROSOFT-CDO-BUSYSTATUS:BUSY
X-MICROSOFT-CDO-IMPORTANCE:1
END:VEVENT
BEGIN:VEVENT
UID:g372o@games.golnetwork.com
LOCATION:North Toronto CI - Feild 1
GEO:43.7098942;-79.3965038
CREATED:20130702T152609Z
DTSTART:20130811T220000Z
DTEND:20130811T230000Z
DTSTAMP:20260420T151559Z
SUMMARY:Sharp Shooters vs. 1860 DEGEN
DESCRIPTION:1860 DEGEN vs. Sharp ShootersMore info: #160
X-ALT-DESC;FMTTYPE=text/html:<!DOCTYPE HTML PUBLIC "-//W3C//DTD HTML 3.2//E
	N">\n<HTML>\n<HEAD>\n<TITLE></TITLE>\n</HEAD>\n<BODY>\n<h3>1860 DEGEN vs. S
	harp Shooters</h3>More info: <a href="https://www.golnetwork.com/game/v/311
	16/">#160</a>\n\n</BODY>\n</HTML>
STATUS:CONFIRMED
CLASS:PUBLIC
URL:https://www.golnetwork.com/game/v/31116/
X-MICROSOFT-CDO-BUSYSTATUS:BUSY
X-MICROSOFT-CDO-IMPORTANCE:1
END:VEVENT
BEGIN:VEVENT
UID:g372m@games.golnetwork.com
LOCATION:North Toronto CI - Feild 1
GEO:43.7098942;-79.3965038
CREATED:20130702T152609Z
DTSTART:20130811T230000Z
DTEND:20130812T000000Z
DTSTAMP:20260420T151559Z
SUMMARY:The Truncated Icosahedrons vs. Revolution
DESCRIPTION:Revolution vs. The Truncated IcosahedronsMore info: #166
X-ALT-DESC;FMTTYPE=text/html:<!DOCTYPE HTML PUBLIC "-//W3C//DTD HTML 3.2//E
	N">\n<HTML>\n<HEAD>\n<TITLE></TITLE>\n</HEAD>\n<BODY>\n<h3>Revolution vs. T
	he Truncated Icosahedrons</h3>More info: <a href="https://www.golnetwork.co
	m/game/v/31115/">#166</a>\n\n</BODY>\n</HTML>
STATUS:CONFIRMED
CLASS:PUBLIC
URL:https://www.golnetwork.com/game/v/31115/
X-MICROSOFT-CDO-BUSYSTATUS:BUSY
X-MICROSOFT-CDO-IMPORTANCE:1
END:VEVENT
BEGIN:VEVENT
UID:g3737@games.golnetwork.com
LOCATION:North Toronto CI - Feild 1
GEO:43.7098942;-79.3965038
CREATED:20130702T152609Z
DTSTART:20130818T210000Z
DTEND:20130818T220000Z
DTSTAMP:20260420T151559Z
SUMMARY:Sharp Shooters vs. Team Black
DESCRIPTION:Team Black vs. Sharp ShootersMore info: #203
X-ALT-DESC;FMTTYPE=text/html:<!DOCTYPE HTML PUBLIC "-//W3C//DTD HTML 3.2//E
	N">\n<HTML>\n<HEAD>\n<TITLE></TITLE>\n</HEAD>\n<BODY>\n<h3>Team Black vs. S
	harp Shooters</h3>More info: <a href="https://www.golnetwork.com/game/v/311
	21/">#203</a>\n\n</BODY>\n</HTML>
STATUS:CONFIRMED
CLASS:PUBLIC
URL:https://www.golnetwork.com/game/v/31121/
X-MICROSOFT-CDO-BUSYSTATUS:BUSY
X-MICROSOFT-CDO-IMPORTANCE:1
END:VEVENT
BEGIN:VEVENT
UID:g3733@games.golnetwork.com
LOCATION:North Toronto CI - Feild 1
GEO:43.7098942;-79.3965038
CREATED:20130702T152609Z
DTSTART:20130818T220000Z
DTEND:20130818T230000Z
DTSTAMP:20260420T151559Z
SUMMARY:XTSC's Yonge & Eligible vs. 1860 DEGEN
DESCRIPTION:1860 DEGEN vs. XTSC's Yonge & EligibleMore info: #206
X-ALT-DESC;FMTTYPE=text/html:<!DOCTYPE HTML PUBLIC "-//W3C//DTD HTML 3.2//E
	N">\n<HTML>\n<HEAD>\n<TITLE></TITLE>\n</HEAD>\n<BODY>\n<h3>1860 DEGEN vs. X
	TSC's Yonge & Eligible</h3>More info: <a href="https://www.golnetwork.com/g
	ame/v/31119/">#206</a>\n\n</BODY>\n</HTML>
STATUS:CONFIRMED
CLASS:PUBLIC
URL:https://www.golnetwork.com/game/v/31119/
X-MICROSOFT-CDO-BUSYSTATUS:BUSY
X-MICROSOFT-CDO-IMPORTANCE:1
END:VEVENT
BEGIN:VEVENT
UID:g3731@games.golnetwork.com
LOCATION:North Toronto CI - Feild 1
GEO:43.7098942;-79.3965038
CREATED:20130702T152609Z
DTSTART:20130818T230000Z
DTEND:20130819T000000Z
DTSTAMP:20260420T151559Z
SUMMARY:Sunday School Samba! vs. Revolution
DESCRIPTION:Revolution vs. Sunday School Samba!More info: #212
X-ALT-DESC;FMTTYPE=text/html:<!DOCTYPE HTML PUBLIC "-//W3C//DTD HTML 3.2//E
	N">\n<HTML>\n<HEAD>\n<TITLE></TITLE>\n</HEAD>\n<BODY>\n<h3>Revolution vs. S
	unday School Samba!</h3>More info: <a href="https://www.golnetwork.com/game
	/v/31118/">#212</a>\n\n</BODY>\n</HTML>
STATUS:CONFIRMED
CLASS:PUBLIC
URL:https://www.golnetwork.com/game/v/31118/
X-MICROSOFT-CDO-BUSYSTATUS:BUSY
X-MICROSOFT-CDO-IMPORTANCE:1
END:VEVENT
BEGIN:VEVENT
UID:g3739@games.golnetwork.com
LOCATION:North Toronto CI - Feild 1
GEO:43.7098942;-79.3965038
CREATED:20130702T152609Z
DTSTART:20130825T210000Z
DTEND:20130825T220000Z
DTSTAMP:20260420T151559Z
SUMMARY:XTSC's Yonge & Eligible vs. Sharp Shooters
DESCRIPTION:Sharp Shooters vs. XTSC's Yonge & EligibleMore info: #246
X-ALT-DESC;FMTTYPE=text/html:<!DOCTYPE HTML PUBLIC "-//W3C//DTD HTML 3.2//E
	N">\n<HTML>\n<HEAD>\n<TITLE></TITLE>\n</HEAD>\n<BODY>\n<h3>Sharp Shooters v
	s. XTSC's Yonge & Eligible</h3>More info: <a href="https://www.golnetwork.c
	om/game/v/31122/">#246</a>\n\n</BODY>\n</HTML>
STATUS:CONFIRMED
CLASS:PUBLIC
URL:https://www.golnetwork.com/game/v/31122/
X-MICROSOFT-CDO-BUSYSTATUS:BUSY
X-MICROSOFT-CDO-IMPORTANCE:1
END:VEVENT
BEGIN:VEVENT
UID:g373b@games.golnetwork.com
LOCATION:North Toronto CI - Feild 1
GEO:43.7098942;-79.3965038
CREATED:20130702T152609Z
DTSTART:20130825T220000Z
DTEND:20130825T230000Z
DTSTAMP:20260420T151559Z
SUMMARY:Revolution vs. The Truncated Icosahedrons
DESCRIPTION:The Truncated Icosahedrons vs. RevolutionMore info: #249
X-ALT-DESC;FMTTYPE=text/html:<!DOCTYPE HTML PUBLIC "-//W3C//DTD HTML 3.2//E
	N">\n<HTML>\n<HEAD>\n<TITLE></TITLE>\n</HEAD>\n<BODY>\n<h3>The Truncated Ic
	osahedrons vs. Revolution</h3>More info: <a href="https://www.golnetwork.co
	m/game/v/31123/">#249</a>\n\n</BODY>\n</HTML>
STATUS:CONFIRMED
CLASS:PUBLIC
URL:https://www.golnetwork.com/game/v/31123/
X-MICROSOFT-CDO-BUSYSTATUS:BUSY
X-MICROSOFT-CDO-IMPORTANCE:1
END:VEVENT
BEGIN:VEVENT
UID:g373d@games.golnetwork.com
LOCATION:North Toronto CI - Feild 1
GEO:43.7098942;-79.3965038
CREATED:20130702T152609Z
DTSTART:20130825T230000Z
DTEND:20130826T000000Z
DTSTAMP:20260420T151559Z
SUMMARY:Team Black vs. Sunday School Samba!
DESCRIPTION:Sunday School Samba! vs. Team BlackMore info: #255
X-ALT-DESC;FMTTYPE=text/html:<!DOCTYPE HTML PUBLIC "-//W3C//DTD HTML 3.2//E
	N">\n<HTML>\n<HEAD>\n<TITLE></TITLE>\n</HEAD>\n<BODY>\n<h3>Sunday School Sa
	mba! vs. Team Black</h3>More info: <a href="https://www.golnetwork.com/game
	/v/31124/">#255</a>\n\n</BODY>\n</HTML>
STATUS:CONFIRMED
CLASS:PUBLIC
URL:https://www.golnetwork.com/game/v/31124/
X-MICROSOFT-CDO-BUSYSTATUS:BUSY
X-MICROSOFT-CDO-IMPORTANCE:1
END:VEVENT
END:VCALENDAR
