BEGIN:VCALENDAR
PRODID:-//gdesolutions.com//MV Framework 1.0.0.1607 Calendar//EN
VERSION:2.0
METHOD:PUBLISH
CALSCALE:GREGORIAN
BEGIN:VEVENT
UID:g381o@games.golnetwork.com
LOCATION:Lamport Stadium Field 1
GEO:43.639337;-79.4248954
CREATED:20130708T192318Z
DTSTART:20130714T220000Z
DTEND:20130714T230000Z
DTSTAMP:20260422T041440Z
SUMMARY:FC Shooters vs. Boogie Time United
DESCRIPTION:Boogie Time United vs. FC ShootersMore info: #6
X-ALT-DESC;FMTTYPE=text/html:<!DOCTYPE HTML PUBLIC "-//W3C//DTD HTML 3.2//E
	N">\n<HTML>\n<HEAD>\n<TITLE></TITLE>\n</HEAD>\n<BODY>\n<h3>Boogie Time Unit
	ed vs. FC Shooters</h3>More info: <a href="https://www.golnetwork.com/game/
	v/31467/">#6</a>\n\n</BODY>\n</HTML>
STATUS:CONFIRMED
CLASS:PUBLIC
URL:https://www.golnetwork.com/game/v/31467/
X-MICROSOFT-CDO-BUSYSTATUS:BUSY
X-MICROSOFT-CDO-IMPORTANCE:1
END:VEVENT
BEGIN:VEVENT
UID:g381q@games.golnetwork.com
LOCATION:Lamport Stadium Field 1
GEO:43.639337;-79.4248954
CREATED:20130708T192318Z
DTSTART:20130714T230000Z
DTEND:20130715T000000Z
DTSTAMP:20260422T041440Z
SUMMARY:Bend it Like Barnabinho vs. District 12
DESCRIPTION:District 12 vs. Bend it Like BarnabinhoMore info: #9
X-ALT-DESC;FMTTYPE=text/html:<!DOCTYPE HTML PUBLIC "-//W3C//DTD HTML 3.2//E
	N">\n<HTML>\n<HEAD>\n<TITLE></TITLE>\n</HEAD>\n<BODY>\n<h3>District 12 vs. 
	Bend it Like Barnabinho</h3>More info: <a href="https://www.golnetwork.com/
	game/v/31468/">#9</a>\n\n</BODY>\n</HTML>
STATUS:CONFIRMED
CLASS:PUBLIC
URL:https://www.golnetwork.com/game/v/31468/
X-MICROSOFT-CDO-BUSYSTATUS:BUSY
X-MICROSOFT-CDO-IMPORTANCE:1
END:VEVENT
BEGIN:VEVENT
UID:g3821@games.golnetwork.com
LOCATION:Lamport Stadium Field 1
GEO:43.639337;-79.4248954
CREATED:20130708T192318Z
DTSTART:20130715T000000Z
DTEND:20130715T010000Z
DTSTAMP:20260422T041440Z
SUMMARY:Big Pinkies vs. XTSC Misfits
DESCRIPTION:XTSC Misfits vs. Big PinkiesMore info: #12
X-ALT-DESC;FMTTYPE=text/html:<!DOCTYPE HTML PUBLIC "-//W3C//DTD HTML 3.2//E
	N">\n<HTML>\n<HEAD>\n<TITLE></TITLE>\n</HEAD>\n<BODY>\n<h3>XTSC Misfits vs.
	 Big Pinkies</h3>More info: <a href="https://www.golnetwork.com/game/v/3146
	9/">#12</a>\n\n</BODY>\n</HTML>
STATUS:CONFIRMED
CLASS:PUBLIC
URL:https://www.golnetwork.com/game/v/31469/
X-MICROSOFT-CDO-BUSYSTATUS:BUSY
X-MICROSOFT-CDO-IMPORTANCE:1
END:VEVENT
BEGIN:VEVENT
UID:g3823@games.golnetwork.com
LOCATION:Lamport Stadium Field 1
GEO:43.639337;-79.4248954
CREATED:20130708T192318Z
DTSTART:20130721T220000Z
DTEND:20130721T230000Z
DTSTAMP:20260422T041440Z
SUMMARY:Bend it Like Barnabinho vs. FC Shooters
DESCRIPTION:FC Shooters vs. Bend it Like BarnabinhoMore info: #38
X-ALT-DESC;FMTTYPE=text/html:<!DOCTYPE HTML PUBLIC "-//W3C//DTD HTML 3.2//E
	N">\n<HTML>\n<HEAD>\n<TITLE></TITLE>\n</HEAD>\n<BODY>\n<h3>FC Shooters vs. 
	Bend it Like Barnabinho</h3>More info: <a href="https://www.golnetwork.com/
	game/v/31470/">#38</a>\n\n</BODY>\n</HTML>
STATUS:CONFIRMED
CLASS:PUBLIC
URL:https://www.golnetwork.com/game/v/31470/
X-MICROSOFT-CDO-BUSYSTATUS:BUSY
X-MICROSOFT-CDO-IMPORTANCE:1
END:VEVENT
BEGIN:VEVENT
UID:g3825@games.golnetwork.com
LOCATION:Lamport Stadium Field 1
GEO:43.639337;-79.4248954
CREATED:20130708T192318Z
DTSTART:20130721T230000Z
DTEND:20130722T000000Z
DTSTAMP:20260422T041440Z
SUMMARY:Big Pinkies vs. Boogie Time United
DESCRIPTION:Boogie Time United vs. Big PinkiesMore info: #44
X-ALT-DESC;FMTTYPE=text/html:<!DOCTYPE HTML PUBLIC "-//W3C//DTD HTML 3.2//E
	N">\n<HTML>\n<HEAD>\n<TITLE></TITLE>\n</HEAD>\n<BODY>\n<h3>Boogie Time Unit
	ed vs. Big Pinkies</h3>More info: <a href="https://www.golnetwork.com/game/
	v/31471/">#44</a>\n\n</BODY>\n</HTML>
STATUS:CONFIRMED
CLASS:PUBLIC
URL:https://www.golnetwork.com/game/v/31471/
X-MICROSOFT-CDO-BUSYSTATUS:BUSY
X-MICROSOFT-CDO-IMPORTANCE:1
END:VEVENT
BEGIN:VEVENT
UID:g3827@games.golnetwork.com
LOCATION:Lamport Stadium Field 1
GEO:43.639337;-79.4248954
CREATED:20130708T192318Z
DTSTART:20130722T000000Z
DTEND:20130722T010000Z
DTSTAMP:20260422T041440Z
SUMMARY:XTSC Misfits vs. District 12
DESCRIPTION:District 12 vs. XTSC MisfitsMore info: #50
X-ALT-DESC;FMTTYPE=text/html:<!DOCTYPE HTML PUBLIC "-//W3C//DTD HTML 3.2//E
	N">\n<HTML>\n<HEAD>\n<TITLE></TITLE>\n</HEAD>\n<BODY>\n<h3>District 12 vs. 
	XTSC Misfits</h3>More info: <a href="https://www.golnetwork.com/game/v/3147
	2/">#50</a>\n\n</BODY>\n</HTML>
STATUS:CONFIRMED
CLASS:PUBLIC
URL:https://www.golnetwork.com/game/v/31472/
X-MICROSOFT-CDO-BUSYSTATUS:BUSY
X-MICROSOFT-CDO-IMPORTANCE:1
END:VEVENT
BEGIN:VEVENT
UID:g382l@games.golnetwork.com
LOCATION:Lamport Stadium Field 1
GEO:43.639337;-79.4248954
CREATED:20130708T192318Z
DTSTART:20130811T220000Z
DTEND:20130811T230000Z
DTSTAMP:20260422T041440Z
SUMMARY:FC Shooters vs. District 12
DESCRIPTION:District 12 vs. FC ShootersMore info: #158
X-ALT-DESC;FMTTYPE=text/html:<!DOCTYPE HTML PUBLIC "-//W3C//DTD HTML 3.2//E
	N">\n<HTML>\n<HEAD>\n<TITLE></TITLE>\n</HEAD>\n<BODY>\n<h3>District 12 vs. 
	FC Shooters</h3>More info: <a href="https://www.golnetwork.com/game/v/31479
	/">#158</a>\n\n</BODY>\n</HTML>
STATUS:CONFIRMED
CLASS:PUBLIC
URL:https://www.golnetwork.com/game/v/31479/
X-MICROSOFT-CDO-BUSYSTATUS:BUSY
X-MICROSOFT-CDO-IMPORTANCE:1
END:VEVENT
BEGIN:VEVENT
UID:g382n@games.golnetwork.com
LOCATION:Lamport Stadium Field 1
GEO:43.639337;-79.4248954
CREATED:20130708T192318Z
DTSTART:20130811T230000Z
DTEND:20130812T000000Z
DTSTAMP:20260422T041440Z
SUMMARY:Boogie Time United vs. XTSC Misfits
DESCRIPTION:XTSC Misfits vs. Boogie Time UnitedMore info: #164
X-ALT-DESC;FMTTYPE=text/html:<!DOCTYPE HTML PUBLIC "-//W3C//DTD HTML 3.2//E
	N">\n<HTML>\n<HEAD>\n<TITLE></TITLE>\n</HEAD>\n<BODY>\n<h3>XTSC Misfits vs.
	 Boogie Time United</h3>More info: <a href="https://www.golnetwork.com/game
	/v/31480/">#164</a>\n\n</BODY>\n</HTML>
STATUS:CONFIRMED
CLASS:PUBLIC
URL:https://www.golnetwork.com/game/v/31480/
X-MICROSOFT-CDO-BUSYSTATUS:BUSY
X-MICROSOFT-CDO-IMPORTANCE:1
END:VEVENT
BEGIN:VEVENT
UID:g382p@games.golnetwork.com
LOCATION:Lamport Stadium Field 1
GEO:43.639337;-79.4248954
CREATED:20130708T192318Z
DTSTART:20130812T000000Z
DTEND:20130812T010000Z
DTSTAMP:20260422T041440Z
SUMMARY:Bend it Like Barnabinho vs. Big Pinkies
DESCRIPTION:Big Pinkies vs. Bend it Like BarnabinhoMore info: #170
X-ALT-DESC;FMTTYPE=text/html:<!DOCTYPE HTML PUBLIC "-//W3C//DTD HTML 3.2//E
	N">\n<HTML>\n<HEAD>\n<TITLE></TITLE>\n</HEAD>\n<BODY>\n<h3>Big Pinkies vs. 
	Bend it Like Barnabinho</h3>More info: <a href="https://www.golnetwork.com/
	game/v/31481/">#170</a>\n\n</BODY>\n</HTML>
STATUS:CONFIRMED
CLASS:PUBLIC
URL:https://www.golnetwork.com/game/v/31481/
X-MICROSOFT-CDO-BUSYSTATUS:BUSY
X-MICROSOFT-CDO-IMPORTANCE:1
END:VEVENT
BEGIN:VEVENT
UID:g3830@games.golnetwork.com
LOCATION:Lamport Stadium Field 1
GEO:43.639337;-79.4248954
CREATED:20130708T192318Z
DTSTART:20130818T220000Z
DTEND:20130818T230000Z
DTSTAMP:20260422T041440Z
SUMMARY:Boogie Time United vs. District 12
DESCRIPTION:District 12 vs. Boogie Time UnitedMore info: #204
X-ALT-DESC;FMTTYPE=text/html:<!DOCTYPE HTML PUBLIC "-//W3C//DTD HTML 3.2//E
	N">\n<HTML>\n<HEAD>\n<TITLE></TITLE>\n</HEAD>\n<BODY>\n<h3>District 12 vs. 
	Boogie Time United</h3>More info: <a href="https://www.golnetwork.com/game/
	v/31482/">#204</a>\n\n</BODY>\n</HTML>
STATUS:CONFIRMED
CLASS:PUBLIC
URL:https://www.golnetwork.com/game/v/31482/
X-MICROSOFT-CDO-BUSYSTATUS:BUSY
X-MICROSOFT-CDO-IMPORTANCE:1
END:VEVENT
BEGIN:VEVENT
UID:g3832@games.golnetwork.com
LOCATION:Lamport Stadium Field 1
GEO:43.639337;-79.4248954
CREATED:20130708T192318Z
DTSTART:20130818T230000Z
DTEND:20130819T000000Z
DTSTAMP:20260422T041440Z
SUMMARY:Bend it Like Barnabinho vs. XTSC Misfits
DESCRIPTION:XTSC Misfits vs. Bend it Like BarnabinhoMore info: #210
X-ALT-DESC;FMTTYPE=text/html:<!DOCTYPE HTML PUBLIC "-//W3C//DTD HTML 3.2//E
	N">\n<HTML>\n<HEAD>\n<TITLE></TITLE>\n</HEAD>\n<BODY>\n<h3>XTSC Misfits vs.
	 Bend it Like Barnabinho</h3>More info: <a href="https://www.golnetwork.com
	/game/v/31483/">#210</a>\n\n</BODY>\n</HTML>
STATUS:CONFIRMED
CLASS:PUBLIC
URL:https://www.golnetwork.com/game/v/31483/
X-MICROSOFT-CDO-BUSYSTATUS:BUSY
X-MICROSOFT-CDO-IMPORTANCE:1
END:VEVENT
BEGIN:VEVENT
UID:g3834@games.golnetwork.com
LOCATION:Lamport Stadium Field 1
GEO:43.639337;-79.4248954
CREATED:20130708T192318Z
DTSTART:20130819T000000Z
DTEND:20130819T010000Z
DTSTAMP:20260422T041440Z
SUMMARY:Big Pinkies vs. FC Shooters
DESCRIPTION:FC Shooters vs. Big PinkiesMore info: #216
X-ALT-DESC;FMTTYPE=text/html:<!DOCTYPE HTML PUBLIC "-//W3C//DTD HTML 3.2//E
	N">\n<HTML>\n<HEAD>\n<TITLE></TITLE>\n</HEAD>\n<BODY>\n<h3>FC Shooters vs. 
	Big Pinkies</h3>More info: <a href="https://www.golnetwork.com/game/v/31484
	/">#216</a>\n\n</BODY>\n</HTML>
STATUS:CONFIRMED
CLASS:PUBLIC
URL:https://www.golnetwork.com/game/v/31484/
X-MICROSOFT-CDO-BUSYSTATUS:BUSY
X-MICROSOFT-CDO-IMPORTANCE:1
END:VEVENT
BEGIN:VEVENT
UID:g3836@games.golnetwork.com
LOCATION:Lamport Stadium Field 1
GEO:43.639337;-79.4248954
CREATED:20130708T192318Z
DTSTART:20130825T220000Z
DTEND:20130825T230000Z
DTSTAMP:20260422T041440Z
SUMMARY:Boogie Time United vs. Bend it Like Barnabinho
DESCRIPTION:Bend it Like Barnabinho vs. Boogie Time UnitedMore info: #247
X-ALT-DESC;FMTTYPE=text/html:<!DOCTYPE HTML PUBLIC "-//W3C//DTD HTML 3.2//E
	N">\n<HTML>\n<HEAD>\n<TITLE></TITLE>\n</HEAD>\n<BODY>\n<h3>Bend it Like Bar
	nabinho vs. Boogie Time United</h3>More info: <a href="https://www.golnetwo
	rk.com/game/v/31485/">#247</a>\n\n</BODY>\n</HTML>
STATUS:CONFIRMED
CLASS:PUBLIC
URL:https://www.golnetwork.com/game/v/31485/
X-MICROSOFT-CDO-BUSYSTATUS:BUSY
X-MICROSOFT-CDO-IMPORTANCE:1
END:VEVENT
BEGIN:VEVENT
UID:g3838@games.golnetwork.com
LOCATION:Lamport Stadium Field 1
GEO:43.639337;-79.4248954
CREATED:20130708T192318Z
DTSTART:20130825T230000Z
DTEND:20130826T000000Z
DTSTAMP:20260422T041440Z
SUMMARY:XTSC Misfits vs. FC Shooters
DESCRIPTION:FC Shooters vs. XTSC MisfitsMore info: #253
X-ALT-DESC;FMTTYPE=text/html:<!DOCTYPE HTML PUBLIC "-//W3C//DTD HTML 3.2//E
	N">\n<HTML>\n<HEAD>\n<TITLE></TITLE>\n</HEAD>\n<BODY>\n<h3>FC Shooters vs. 
	XTSC Misfits</h3>More info: <a href="https://www.golnetwork.com/game/v/3148
	6/">#253</a>\n\n</BODY>\n</HTML>
STATUS:CONFIRMED
CLASS:PUBLIC
URL:https://www.golnetwork.com/game/v/31486/
X-MICROSOFT-CDO-BUSYSTATUS:BUSY
X-MICROSOFT-CDO-IMPORTANCE:1
END:VEVENT
BEGIN:VEVENT
UID:g383a@games.golnetwork.com
LOCATION:Lamport Stadium Field 1
GEO:43.639337;-79.4248954
CREATED:20130708T192318Z
DTSTART:20130826T000000Z
DTEND:20130826T010000Z
DTSTAMP:20260422T041440Z
SUMMARY:Big Pinkies vs. District 12
DESCRIPTION:District 12 vs. Big PinkiesMore info: #259
X-ALT-DESC;FMTTYPE=text/html:<!DOCTYPE HTML PUBLIC "-//W3C//DTD HTML 3.2//E
	N">\n<HTML>\n<HEAD>\n<TITLE></TITLE>\n</HEAD>\n<BODY>\n<h3>District 12 vs. 
	Big Pinkies</h3>More info: <a href="https://www.golnetwork.com/game/v/31487
	/">#259</a>\n\n</BODY>\n</HTML>
STATUS:CONFIRMED
CLASS:PUBLIC
URL:https://www.golnetwork.com/game/v/31487/
X-MICROSOFT-CDO-BUSYSTATUS:BUSY
X-MICROSOFT-CDO-IMPORTANCE:1
END:VEVENT
BEGIN:VEVENT
UID:g383i@games.golnetwork.com
LOCATION:Lamport Stadium Field 1
GEO:43.639337;-79.4248954
CREATED:20130708T192318Z
DTSTART:20130908T220000Z
DTEND:20130908T230000Z
DTSTAMP:20260422T041440Z
SUMMARY:Boogie Time United vs. FC Shooters
DESCRIPTION:FC Shooters vs. Boogie Time UnitedMore info: #315
X-ALT-DESC;FMTTYPE=text/html:<!DOCTYPE HTML PUBLIC "-//W3C//DTD HTML 3.2//E
	N">\n<HTML>\n<HEAD>\n<TITLE></TITLE>\n</HEAD>\n<BODY>\n<h3>FC Shooters vs. 
	Boogie Time United</h3>More info: <a href="https://www.golnetwork.com/game/
	v/31491/">#315</a>\n\n</BODY>\n</HTML>
STATUS:CONFIRMED
CLASS:PUBLIC
URL:https://www.golnetwork.com/game/v/31491/
X-MICROSOFT-CDO-BUSYSTATUS:BUSY
X-MICROSOFT-CDO-IMPORTANCE:1
END:VEVENT
BEGIN:VEVENT
UID:g383k@games.golnetwork.com
LOCATION:Lamport Stadium Field 1
GEO:43.639337;-79.4248954
CREATED:20130708T192318Z
DTSTART:20130908T230000Z
DTEND:20130909T000000Z
DTSTAMP:20260422T041440Z
SUMMARY:District 12 vs. Bend it Like Barnabinho
DESCRIPTION:Bend it Like Barnabinho vs. District 12More info: #321
X-ALT-DESC;FMTTYPE=text/html:<!DOCTYPE HTML PUBLIC "-//W3C//DTD HTML 3.2//E
	N">\n<HTML>\n<HEAD>\n<TITLE></TITLE>\n</HEAD>\n<BODY>\n<h3>Bend it Like Bar
	nabinho vs. District 12</h3>More info: <a href="https://www.golnetwork.com/
	game/v/31492/">#321</a>\n\n</BODY>\n</HTML>
STATUS:CONFIRMED
CLASS:PUBLIC
URL:https://www.golnetwork.com/game/v/31492/
X-MICROSOFT-CDO-BUSYSTATUS:BUSY
X-MICROSOFT-CDO-IMPORTANCE:1
END:VEVENT
BEGIN:VEVENT
UID:g383m@games.golnetwork.com
LOCATION:Lamport Stadium Field 1
GEO:43.639337;-79.4248954
CREATED:20130708T192318Z
DTSTART:20130909T000000Z
DTEND:20130909T010000Z
DTSTAMP:20260422T041440Z
SUMMARY:Big Pinkies vs. XTSC Misfits
DESCRIPTION:XTSC Misfits vs. Big PinkiesMore info: #327
X-ALT-DESC;FMTTYPE=text/html:<!DOCTYPE HTML PUBLIC "-//W3C//DTD HTML 3.2//E
	N">\n<HTML>\n<HEAD>\n<TITLE></TITLE>\n</HEAD>\n<BODY>\n<h3>XTSC Misfits vs.
	 Big Pinkies</h3>More info: <a href="https://www.golnetwork.com/game/v/3149
	3/">#327</a>\n\n</BODY>\n</HTML>
STATUS:CONFIRMED
CLASS:PUBLIC
URL:https://www.golnetwork.com/game/v/31493/
X-MICROSOFT-CDO-BUSYSTATUS:BUSY
X-MICROSOFT-CDO-IMPORTANCE:1
END:VEVENT
BEGIN:VEVENT
UID:g3863@games.golnetwork.com
LOCATION:Lamport Stadium Field 1
GEO:43.639337;-79.4248954
CREATED:20130708T193101Z
DTSTART:20130915T220000Z
DTEND:20130915T230000Z
DTSTAMP:20260422T041440Z
SUMMARY:FC Shooters vs. Bend it Like Barnabinho
DESCRIPTION:Bend it Like Barnabinho vs. FC ShootersMore info: #351
X-ALT-DESC;FMTTYPE=text/html:<!DOCTYPE HTML PUBLIC "-//W3C//DTD HTML 3.2//E
	N">\n<HTML>\n<HEAD>\n<TITLE></TITLE>\n</HEAD>\n<BODY>\n<h3>Bend it Like Bar
	nabinho vs. FC Shooters</h3>More info: <a href="https://www.golnetwork.com/
	game/v/31524/">#351</a>\n\n</BODY>\n</HTML>
STATUS:CONFIRMED
CLASS:PUBLIC
URL:https://www.golnetwork.com/game/v/31524/
X-MICROSOFT-CDO-BUSYSTATUS:BUSY
X-MICROSOFT-CDO-IMPORTANCE:1
END:VEVENT
BEGIN:VEVENT
UID:g3865@games.golnetwork.com
LOCATION:Lamport Stadium Field 1
GEO:43.639337;-79.4248954
CREATED:20130708T193104Z
DTSTART:20130915T230000Z
DTEND:20130916T000000Z
DTSTAMP:20260422T041440Z
SUMMARY:XTSC Misfits vs. District 12
DESCRIPTION:District 12 vs. XTSC MisfitsMore info: #356
X-ALT-DESC;FMTTYPE=text/html:<!DOCTYPE HTML PUBLIC "-//W3C//DTD HTML 3.2//E
	N">\n<HTML>\n<HEAD>\n<TITLE></TITLE>\n</HEAD>\n<BODY>\n<h3>District 12 vs. 
	XTSC Misfits</h3>More info: <a href="https://www.golnetwork.com/game/v/3152
	5/">#356</a>\n\n</BODY>\n</HTML>
STATUS:CONFIRMED
CLASS:PUBLIC
URL:https://www.golnetwork.com/game/v/31525/
X-MICROSOFT-CDO-BUSYSTATUS:BUSY
X-MICROSOFT-CDO-IMPORTANCE:1
END:VEVENT
BEGIN:VEVENT
UID:g3867@games.golnetwork.com
LOCATION:Lamport Stadium Field 1
GEO:43.639337;-79.4248954
CREATED:20130708T193108Z
DTSTART:20130916T000000Z
DTEND:20130916T010000Z
DTSTAMP:20260422T041440Z
SUMMARY:Big Pinkies vs. Boogie Time United
DESCRIPTION:Boogie Time United vs. Big PinkiesMore info: #361
X-ALT-DESC;FMTTYPE=text/html:<!DOCTYPE HTML PUBLIC "-//W3C//DTD HTML 3.2//E
	N">\n<HTML>\n<HEAD>\n<TITLE></TITLE>\n</HEAD>\n<BODY>\n<h3>Boogie Time Unit
	ed vs. Big Pinkies</h3>More info: <a href="https://www.golnetwork.com/game/
	v/31526/">#361</a>\n\n</BODY>\n</HTML>
STATUS:CONFIRMED
CLASS:PUBLIC
URL:https://www.golnetwork.com/game/v/31526/
X-MICROSOFT-CDO-BUSYSTATUS:BUSY
X-MICROSOFT-CDO-IMPORTANCE:1
END:VEVENT
BEGIN:VEVENT
UID:g38be@games.golnetwork.com
LOCATION:Lamport Stadium Field 1
GEO:43.639337;-79.4248954
CREATED:20130709T205700Z
DTSTART:20130922T220000Z
DTEND:20130922T230000Z
DTSTAMP:20260422T041440Z
SUMMARY:District 12 vs. XTSC Misfits
DESCRIPTION:XTSC Misfits vs. District 12More info: #376
X-ALT-DESC;FMTTYPE=text/html:<!DOCTYPE HTML PUBLIC "-//W3C//DTD HTML 3.2//E
	N">\n<HTML>\n<HEAD>\n<TITLE></TITLE>\n</HEAD>\n<BODY>\n<h3>XTSC Misfits vs.
	 District 12</h3>More info: <a href="https://www.golnetwork.com/game/v/3159
	7/">#376</a>\n\n</BODY>\n</HTML>
STATUS:CONFIRMED
CLASS:PUBLIC
URL:https://www.golnetwork.com/game/v/31597/
X-MICROSOFT-CDO-BUSYSTATUS:BUSY
X-MICROSOFT-CDO-IMPORTANCE:1
END:VEVENT
BEGIN:VEVENT
UID:g38bg@games.golnetwork.com
LOCATION:Lamport Stadium Field 1
GEO:43.639337;-79.4248954
CREATED:20130709T205706Z
DTSTART:20130922T230000Z
DTEND:20130923T000000Z
DTSTAMP:20260422T041440Z
SUMMARY:Boogie Time United vs. Bend it Like Barnabinho
DESCRIPTION:Bend it Like Barnabinho vs. Boogie Time UnitedMore info: #380
X-ALT-DESC;FMTTYPE=text/html:<!DOCTYPE HTML PUBLIC "-//W3C//DTD HTML 3.2//E
	N">\n<HTML>\n<HEAD>\n<TITLE></TITLE>\n</HEAD>\n<BODY>\n<h3>Bend it Like Bar
	nabinho vs. Boogie Time United</h3>More info: <a href="https://www.golnetwo
	rk.com/game/v/31598/">#380</a>\n\n</BODY>\n</HTML>
STATUS:CONFIRMED
CLASS:PUBLIC
URL:https://www.golnetwork.com/game/v/31598/
X-MICROSOFT-CDO-BUSYSTATUS:BUSY
X-MICROSOFT-CDO-IMPORTANCE:1
END:VEVENT
BEGIN:VEVENT
UID:g38bi@games.golnetwork.com
LOCATION:Lamport Stadium Field 1
GEO:43.639337;-79.4248954
CREATED:20130709T205712Z
DTSTART:20130923T000000Z
DTEND:20130923T010000Z
DTSTAMP:20260422T041440Z
SUMMARY:FC Shooters vs. Big Pinkies
DESCRIPTION:Big Pinkies vs. FC ShootersMore info: #383
X-ALT-DESC;FMTTYPE=text/html:<!DOCTYPE HTML PUBLIC "-//W3C//DTD HTML 3.2//E
	N">\n<HTML>\n<HEAD>\n<TITLE></TITLE>\n</HEAD>\n<BODY>\n<h3>Big Pinkies vs. 
	FC Shooters</h3>More info: <a href="https://www.golnetwork.com/game/v/31599
	/">#383</a>\n\n</BODY>\n</HTML>
STATUS:CONFIRMED
CLASS:PUBLIC
URL:https://www.golnetwork.com/game/v/31599/
X-MICROSOFT-CDO-BUSYSTATUS:BUSY
X-MICROSOFT-CDO-IMPORTANCE:1
END:VEVENT
BEGIN:VEVENT
UID:g3af2@games.golnetwork.com
LOCATION:Lamport Stadium Field 1
GEO:43.639337;-79.4248954
CREATED:20130728T200540Z
DTSTART:20130929T220000Z
DTEND:20130929T230000Z
DTSTAMP:20260422T041440Z
SUMMARY:District 12 vs. Big Pinkies
DESCRIPTION:Big Pinkies vs. District 12More info: #389
X-ALT-DESC;FMTTYPE=text/html:<!DOCTYPE HTML PUBLIC "-//W3C//DTD HTML 3.2//E
	N">\n<HTML>\n<HEAD>\n<TITLE></TITLE>\n</HEAD>\n<BODY>\n<h3>Big Pinkies vs. 
	District 12</h3>More info: <a href="https://www.golnetwork.com/game/v/32374
	/">#389</a>\n\n</BODY>\n</HTML>
STATUS:CONFIRMED
CLASS:PUBLIC
URL:https://www.golnetwork.com/game/v/32374/
X-MICROSOFT-CDO-BUSYSTATUS:BUSY
X-MICROSOFT-CDO-IMPORTANCE:1
END:VEVENT
BEGIN:VEVENT
UID:g3af4@games.golnetwork.com
LOCATION:Lamport Stadium Field 1
GEO:43.639337;-79.4248954
CREATED:20130728T200545Z
DTSTART:20130929T230000Z
DTEND:20130930T000000Z
DTSTAMP:20260422T041440Z
SUMMARY:XTSC Misfits vs. Boogie Time United
DESCRIPTION:Boogie Time United vs. XTSC MisfitsMore info: #391
X-ALT-DESC;FMTTYPE=text/html:<!DOCTYPE HTML PUBLIC "-//W3C//DTD HTML 3.2//E
	N">\n<HTML>\n<HEAD>\n<TITLE></TITLE>\n</HEAD>\n<BODY>\n<h3>Boogie Time Unit
	ed vs. XTSC Misfits</h3>More info: <a href="https://www.golnetwork.com/game
	/v/32375/">#391</a>\n\n</BODY>\n</HTML>
STATUS:CONFIRMED
CLASS:PUBLIC
URL:https://www.golnetwork.com/game/v/32375/
X-MICROSOFT-CDO-BUSYSTATUS:BUSY
X-MICROSOFT-CDO-IMPORTANCE:1
END:VEVENT
BEGIN:VEVENT
UID:g3af6@games.golnetwork.com
LOCATION:Lamport Stadium Field 1
GEO:43.639337;-79.4248954
CREATED:20130728T200553Z
DTSTART:20130930T000000Z
DTEND:20130930T010000Z
DTSTAMP:20260422T041440Z
SUMMARY:Bend it Like Barnabinho vs. FC Shooters
DESCRIPTION:FC Shooters vs. Bend it Like BarnabinhoMore info: #393
X-ALT-DESC;FMTTYPE=text/html:<!DOCTYPE HTML PUBLIC "-//W3C//DTD HTML 3.2//E
	N">\n<HTML>\n<HEAD>\n<TITLE></TITLE>\n</HEAD>\n<BODY>\n<h3>FC Shooters vs. 
	Bend it Like Barnabinho</h3>More info: <a href="https://www.golnetwork.com/
	game/v/32376/">#393</a>\n\n</BODY>\n</HTML>
STATUS:CONFIRMED
CLASS:PUBLIC
URL:https://www.golnetwork.com/game/v/32376/
X-MICROSOFT-CDO-BUSYSTATUS:BUSY
X-MICROSOFT-CDO-IMPORTANCE:1
END:VEVENT
END:VCALENDAR
