BEGIN:VCALENDAR
PRODID:-//gdesolutions.com//MV Framework 1.0.0.1607 Calendar//EN
VERSION:2.0
METHOD:PUBLISH
CALSCALE:GREGORIAN
BEGIN:VEVENT
UID:g3bfj@games.golnetwork.com
LOCATION:Jesse Ketchum 1
GEO:45.10662;-94.578209
CREATED:20130829T174546Z
DTSTART:20130902T220000Z
DTEND:20130902T230000Z
DTSTAMP:20260420T012828Z
SUMMARY:Cool Runnings vs. IWP Mate
DESCRIPTION:IWP Mate vs. Cool RunningsMore info: #1
X-ALT-DESC;FMTTYPE=text/html:<!DOCTYPE HTML PUBLIC "-//W3C//DTD HTML 3.2//E
	N">\n<HTML>\n<HEAD>\n<TITLE></TITLE>\n</HEAD>\n<BODY>\n<h3>IWP Mate vs. Coo
	l Runnings</h3>More info: <a href="https://www.golnetwork.com/game/v/32747/
	">#1</a>\n\n</BODY>\n</HTML>
STATUS:CONFIRMED
CLASS:PUBLIC
URL:https://www.golnetwork.com/game/v/32747/
X-MICROSOFT-CDO-BUSYSTATUS:BUSY
X-MICROSOFT-CDO-IMPORTANCE:1
END:VEVENT
BEGIN:VEVENT
UID:g3bfl@games.golnetwork.com
LOCATION:Jesse Ketchum 2
GEO:45.10662;-94.578209
CREATED:20130829T174546Z
DTSTART:20130902T220000Z
DTEND:20130902T230000Z
DTSTAMP:20260420T012828Z
SUMMARY:MD FC vs. The Orange
DESCRIPTION:The Orange vs. MD FCMore info: #2
X-ALT-DESC;FMTTYPE=text/html:<!DOCTYPE HTML PUBLIC "-//W3C//DTD HTML 3.2//E
	N">\n<HTML>\n<HEAD>\n<TITLE></TITLE>\n</HEAD>\n<BODY>\n<h3>The Orange vs. M
	D FC</h3>More info: <a href="https://www.golnetwork.com/game/v/32748/">#2</
	a>\n\n</BODY>\n</HTML>
STATUS:CONFIRMED
CLASS:PUBLIC
URL:https://www.golnetwork.com/game/v/32748/
X-MICROSOFT-CDO-BUSYSTATUS:BUSY
X-MICROSOFT-CDO-IMPORTANCE:1
END:VEVENT
BEGIN:VEVENT
UID:g3bfn@games.golnetwork.com
LOCATION:Jesse Ketchum 1
GEO:45.10662;-94.578209
CREATED:20130829T174546Z
DTSTART:20130902T230000Z
DTEND:20130903T000000Z
DTSTAMP:20260420T012828Z
SUMMARY:Predators vs. IWP Mate
DESCRIPTION:IWP Mate vs. PredatorsMore info: #3
X-ALT-DESC;FMTTYPE=text/html:<!DOCTYPE HTML PUBLIC "-//W3C//DTD HTML 3.2//E
	N">\n<HTML>\n<HEAD>\n<TITLE></TITLE>\n</HEAD>\n<BODY>\n<h3>IWP Mate vs. Pre
	dators</h3>More info: <a href="https://www.golnetwork.com/game/v/32749/">#3
	</a>\n\n</BODY>\n</HTML>
STATUS:CONFIRMED
CLASS:PUBLIC
URL:https://www.golnetwork.com/game/v/32749/
X-MICROSOFT-CDO-BUSYSTATUS:BUSY
X-MICROSOFT-CDO-IMPORTANCE:1
END:VEVENT
BEGIN:VEVENT
UID:g3bfp@games.golnetwork.com
LOCATION:Jesse Ketchum 2
GEO:45.10662;-94.578209
CREATED:20130829T174546Z
DTSTART:20130902T230000Z
DTEND:20130903T000000Z
DTSTAMP:20260420T012828Z
SUMMARY:UnbelievaBALL vs. The Orange
DESCRIPTION:The Orange vs. UnbelievaBALLMore info: #4
X-ALT-DESC;FMTTYPE=text/html:<!DOCTYPE HTML PUBLIC "-//W3C//DTD HTML 3.2//E
	N">\n<HTML>\n<HEAD>\n<TITLE></TITLE>\n</HEAD>\n<BODY>\n<h3>The Orange vs. U
	nbelievaBALL</h3>More info: <a href="https://www.golnetwork.com/game/v/3275
	0/">#4</a>\n\n</BODY>\n</HTML>
STATUS:CONFIRMED
CLASS:PUBLIC
URL:https://www.golnetwork.com/game/v/32750/
X-MICROSOFT-CDO-BUSYSTATUS:BUSY
X-MICROSOFT-CDO-IMPORTANCE:1
END:VEVENT
BEGIN:VEVENT
UID:g3bg0@games.golnetwork.com
LOCATION:Jesse Ketchum 1
GEO:45.10662;-94.578209
CREATED:20130829T174546Z
DTSTART:20130909T214500Z
DTEND:20130909T224500Z
DTSTAMP:20260420T012828Z
SUMMARY:MD FC vs. Predators
DESCRIPTION:Predators vs. MD FCMore info: #8
X-ALT-DESC;FMTTYPE=text/html:<!DOCTYPE HTML PUBLIC "-//W3C//DTD HTML 3.2//E
	N">\n<HTML>\n<HEAD>\n<TITLE></TITLE>\n</HEAD>\n<BODY>\n<h3>Predators vs. MD
	 FC</h3>More info: <a href="https://www.golnetwork.com/game/v/32751/">#8</a
	>\n\n</BODY>\n</HTML>
STATUS:CONFIRMED
CLASS:PUBLIC
URL:https://www.golnetwork.com/game/v/32751/
X-MICROSOFT-CDO-BUSYSTATUS:BUSY
X-MICROSOFT-CDO-IMPORTANCE:1
END:VEVENT
BEGIN:VEVENT
UID:g3bg2@games.golnetwork.com
LOCATION:Jesse Ketchum 2
GEO:45.10662;-94.578209
CREATED:20130829T174546Z
DTSTART:20130909T214500Z
DTEND:20130909T224500Z
DTSTAMP:20260420T012828Z
SUMMARY:Cool Runnings vs. UnbelievaBALL
DESCRIPTION:UnbelievaBALL vs. Cool RunningsMore info: #9
X-ALT-DESC;FMTTYPE=text/html:<!DOCTYPE HTML PUBLIC "-//W3C//DTD HTML 3.2//E
	N">\n<HTML>\n<HEAD>\n<TITLE></TITLE>\n</HEAD>\n<BODY>\n<h3>UnbelievaBALL vs
	. Cool Runnings</h3>More info: <a href="https://www.golnetwork.com/game/v/3
	2752/">#9</a>\n\n</BODY>\n</HTML>
STATUS:CONFIRMED
CLASS:PUBLIC
URL:https://www.golnetwork.com/game/v/32752/
X-MICROSOFT-CDO-BUSYSTATUS:BUSY
X-MICROSOFT-CDO-IMPORTANCE:1
END:VEVENT
BEGIN:VEVENT
UID:g3bg4@games.golnetwork.com
LOCATION:Jesse Ketchum 1
GEO:45.10662;-94.578209
CREATED:20130829T174546Z
DTSTART:20130909T224500Z
DTEND:20130909T234500Z
DTSTAMP:20260420T012828Z
SUMMARY:The Orange vs. IWP Mate
DESCRIPTION:IWP Mate vs. The OrangeMore info: #10
X-ALT-DESC;FMTTYPE=text/html:<!DOCTYPE HTML PUBLIC "-//W3C//DTD HTML 3.2//E
	N">\n<HTML>\n<HEAD>\n<TITLE></TITLE>\n</HEAD>\n<BODY>\n<h3>IWP Mate vs. The
	 Orange</h3>More info: <a href="https://www.golnetwork.com/game/v/32753/">#
	10</a>\n\n</BODY>\n</HTML>
STATUS:CONFIRMED
CLASS:PUBLIC
URL:https://www.golnetwork.com/game/v/32753/
X-MICROSOFT-CDO-BUSYSTATUS:BUSY
X-MICROSOFT-CDO-IMPORTANCE:1
END:VEVENT
BEGIN:VEVENT
UID:g3bg6@games.golnetwork.com
LOCATION:Jesse Ketchum 2
GEO:45.10662;-94.578209
CREATED:20130829T174547Z
DTSTART:20130909T224500Z
DTEND:20130909T234500Z
DTSTAMP:20260420T012828Z
SUMMARY:MD FC vs. UnbelievaBALL
DESCRIPTION:UnbelievaBALL vs. MD FCMore info: #11
X-ALT-DESC;FMTTYPE=text/html:<!DOCTYPE HTML PUBLIC "-//W3C//DTD HTML 3.2//E
	N">\n<HTML>\n<HEAD>\n<TITLE></TITLE>\n</HEAD>\n<BODY>\n<h3>UnbelievaBALL vs
	. MD FC</h3>More info: <a href="https://www.golnetwork.com/game/v/32754/">#
	11</a>\n\n</BODY>\n</HTML>
STATUS:CONFIRMED
CLASS:PUBLIC
URL:https://www.golnetwork.com/game/v/32754/
X-MICROSOFT-CDO-BUSYSTATUS:BUSY
X-MICROSOFT-CDO-IMPORTANCE:1
END:VEVENT
BEGIN:VEVENT
UID:g3bg8@games.golnetwork.com
LOCATION:Jesse Ketchum 1
GEO:45.10662;-94.578209
CREATED:20130829T174547Z
DTSTART:20130916T214500Z
DTEND:20130916T224500Z
DTSTAMP:20260420T012828Z
SUMMARY:Predators vs. Cool Runnings
DESCRIPTION:Cool Runnings vs. PredatorsMore info: #16
X-ALT-DESC;FMTTYPE=text/html:<!DOCTYPE HTML PUBLIC "-//W3C//DTD HTML 3.2//E
	N">\n<HTML>\n<HEAD>\n<TITLE></TITLE>\n</HEAD>\n<BODY>\n<h3>Cool Runnings vs
	. Predators</h3>More info: <a href="https://www.golnetwork.com/game/v/32755
	/">#16</a>\n\n</BODY>\n</HTML>
STATUS:CONFIRMED
CLASS:PUBLIC
URL:https://www.golnetwork.com/game/v/32755/
X-MICROSOFT-CDO-BUSYSTATUS:BUSY
X-MICROSOFT-CDO-IMPORTANCE:1
END:VEVENT
BEGIN:VEVENT
UID:g3bga@games.golnetwork.com
LOCATION:Jesse Ketchum 2
GEO:45.10662;-94.578209
CREATED:20130829T174547Z
DTSTART:20130916T214500Z
DTEND:20130916T224500Z
DTSTAMP:20260420T012828Z
SUMMARY:UnbelievaBALL vs. MD FC
DESCRIPTION:MD FC vs. UnbelievaBALLMore info: #17
X-ALT-DESC;FMTTYPE=text/html:<!DOCTYPE HTML PUBLIC "-//W3C//DTD HTML 3.2//E
	N">\n<HTML>\n<HEAD>\n<TITLE></TITLE>\n</HEAD>\n<BODY>\n<h3>MD FC vs. Unbeli
	evaBALL</h3>More info: <a href="https://www.golnetwork.com/game/v/32756/">#
	17</a>\n\n</BODY>\n</HTML>
STATUS:CONFIRMED
CLASS:PUBLIC
URL:https://www.golnetwork.com/game/v/32756/
X-MICROSOFT-CDO-BUSYSTATUS:BUSY
X-MICROSOFT-CDO-IMPORTANCE:1
END:VEVENT
BEGIN:VEVENT
UID:g3bgc@games.golnetwork.com
LOCATION:Jesse Ketchum 1
GEO:45.10662;-94.578209
CREATED:20130829T174547Z
DTSTART:20130916T224500Z
DTEND:20130916T234500Z
DTSTAMP:20260420T012828Z
SUMMARY:Predators vs. The Orange
DESCRIPTION:The Orange vs. PredatorsMore info: #18
X-ALT-DESC;FMTTYPE=text/html:<!DOCTYPE HTML PUBLIC "-//W3C//DTD HTML 3.2//E
	N">\n<HTML>\n<HEAD>\n<TITLE></TITLE>\n</HEAD>\n<BODY>\n<h3>The Orange vs. P
	redators</h3>More info: <a href="https://www.golnetwork.com/game/v/32757/">
	#18</a>\n\n</BODY>\n</HTML>
STATUS:CONFIRMED
CLASS:PUBLIC
URL:https://www.golnetwork.com/game/v/32757/
X-MICROSOFT-CDO-BUSYSTATUS:BUSY
X-MICROSOFT-CDO-IMPORTANCE:1
END:VEVENT
BEGIN:VEVENT
UID:g3bge@games.golnetwork.com
LOCATION:Jesse Ketchum 2
GEO:45.10662;-94.578209
CREATED:20130829T174547Z
DTSTART:20130916T224500Z
DTEND:20130916T234500Z
DTSTAMP:20260420T012828Z
SUMMARY:IWP Mate vs. Cool Runnings
DESCRIPTION:Cool Runnings vs. IWP MateMore info: #19
X-ALT-DESC;FMTTYPE=text/html:<!DOCTYPE HTML PUBLIC "-//W3C//DTD HTML 3.2//E
	N">\n<HTML>\n<HEAD>\n<TITLE></TITLE>\n</HEAD>\n<BODY>\n<h3>Cool Runnings vs
	. IWP Mate</h3>More info: <a href="https://www.golnetwork.com/game/v/32758/
	">#19</a>\n\n</BODY>\n</HTML>
STATUS:CONFIRMED
CLASS:PUBLIC
URL:https://www.golnetwork.com/game/v/32758/
X-MICROSOFT-CDO-BUSYSTATUS:BUSY
X-MICROSOFT-CDO-IMPORTANCE:1
END:VEVENT
BEGIN:VEVENT
UID:g3bgg@games.golnetwork.com
LOCATION:Jesse Ketchum 1
GEO:45.10662;-94.578209
CREATED:20130829T174547Z
DTSTART:20130923T214500Z
DTEND:20130923T224500Z
DTSTAMP:20260420T012828Z
SUMMARY:Predators vs. UnbelievaBALL
DESCRIPTION:UnbelievaBALL vs. PredatorsMore info: #24
X-ALT-DESC;FMTTYPE=text/html:<!DOCTYPE HTML PUBLIC "-//W3C//DTD HTML 3.2//E
	N">\n<HTML>\n<HEAD>\n<TITLE></TITLE>\n</HEAD>\n<BODY>\n<h3>UnbelievaBALL vs
	. Predators</h3>More info: <a href="https://www.golnetwork.com/game/v/32759
	/">#24</a>\n\n</BODY>\n</HTML>
STATUS:CONFIRMED
CLASS:PUBLIC
URL:https://www.golnetwork.com/game/v/32759/
X-MICROSOFT-CDO-BUSYSTATUS:BUSY
X-MICROSOFT-CDO-IMPORTANCE:1
END:VEVENT
BEGIN:VEVENT
UID:g3bgi@games.golnetwork.com
LOCATION:Jesse Ketchum 2
GEO:45.10662;-94.578209
CREATED:20130829T174547Z
DTSTART:20130923T214500Z
DTEND:20130923T224500Z
DTSTAMP:20260420T012828Z
SUMMARY:The Orange vs. Cool Runnings
DESCRIPTION:Cool Runnings vs. The OrangeMore info: #25
X-ALT-DESC;FMTTYPE=text/html:<!DOCTYPE HTML PUBLIC "-//W3C//DTD HTML 3.2//E
	N">\n<HTML>\n<HEAD>\n<TITLE></TITLE>\n</HEAD>\n<BODY>\n<h3>Cool Runnings vs
	. The Orange</h3>More info: <a href="https://www.golnetwork.com/game/v/3276
	0/">#25</a>\n\n</BODY>\n</HTML>
STATUS:CONFIRMED
CLASS:PUBLIC
URL:https://www.golnetwork.com/game/v/32760/
X-MICROSOFT-CDO-BUSYSTATUS:BUSY
X-MICROSOFT-CDO-IMPORTANCE:1
END:VEVENT
BEGIN:VEVENT
UID:g3bhl@games.golnetwork.com
LOCATION:Jesse Ketchum 1
GEO:45.10662;-94.578209
CREATED:20130829T180316Z
DTSTART:20130923T224500Z
DTEND:20130923T234500Z
DTSTAMP:20260420T012828Z
SUMMARY:The Orange vs. UnbelievaBALL
DESCRIPTION:UnbelievaBALL vs. The OrangeMore info: #27
X-ALT-DESC;FMTTYPE=text/html:<!DOCTYPE HTML PUBLIC "-//W3C//DTD HTML 3.2//E
	N">\n<HTML>\n<HEAD>\n<TITLE></TITLE>\n</HEAD>\n<BODY>\n<h3>UnbelievaBALL vs
	. The Orange</h3>More info: <a href="https://www.golnetwork.com/game/v/3277
	5/">#27</a>\n\n</BODY>\n</HTML>
STATUS:CONFIRMED
CLASS:PUBLIC
URL:https://www.golnetwork.com/game/v/32775/
X-MICROSOFT-CDO-BUSYSTATUS:BUSY
X-MICROSOFT-CDO-IMPORTANCE:1
END:VEVENT
BEGIN:VEVENT
UID:g3bgk@games.golnetwork.com
LOCATION:Jesse Ketchum 1
GEO:45.10662;-94.578209
CREATED:20130829T174547Z
DTSTART:20130923T224500Z
DTEND:20130923T234500Z
DTSTAMP:20260420T012828Z
SUMMARY:IWP Mate vs. MD FC
DESCRIPTION:MD FC vs. IWP MateMore info: #28
X-ALT-DESC;FMTTYPE=text/html:<!DOCTYPE HTML PUBLIC "-//W3C//DTD HTML 3.2//E
	N">\n<HTML>\n<HEAD>\n<TITLE></TITLE>\n</HEAD>\n<BODY>\n<h3>MD FC vs. IWP Ma
	te</h3>More info: <a href="https://www.golnetwork.com/game/v/32761/">#28</a
	>\n\n</BODY>\n</HTML>
STATUS:CONFIRMED
CLASS:PUBLIC
URL:https://www.golnetwork.com/game/v/32761/
X-MICROSOFT-CDO-BUSYSTATUS:BUSY
X-MICROSOFT-CDO-IMPORTANCE:1
END:VEVENT
BEGIN:VEVENT
UID:g3bgo@games.golnetwork.com
LOCATION:Jesse Ketchum 1
GEO:45.10662;-94.578209
CREATED:20130829T174547Z
DTSTART:20130930T220000Z
DTEND:20130930T230000Z
DTSTAMP:20260420T012828Z
SUMMARY:Predators vs. MD FC
DESCRIPTION:MD FC vs. PredatorsMore info: #39
X-ALT-DESC;FMTTYPE=text/html:<!DOCTYPE HTML PUBLIC "-//W3C//DTD HTML 3.2//E
	N">\n<HTML>\n<HEAD>\n<TITLE></TITLE>\n</HEAD>\n<BODY>\n<h3>MD FC vs. Predat
	ors</h3>More info: <a href="https://www.golnetwork.com/game/v/32763/">#39</
	a>\n\n</BODY>\n</HTML>
STATUS:CONFIRMED
CLASS:PUBLIC
URL:https://www.golnetwork.com/game/v/32763/
X-MICROSOFT-CDO-BUSYSTATUS:BUSY
X-MICROSOFT-CDO-IMPORTANCE:1
END:VEVENT
BEGIN:VEVENT
UID:g3bh1@games.golnetwork.com
LOCATION:Jesse Ketchum 2
GEO:45.10662;-94.578209
CREATED:20130829T174547Z
DTSTART:20130930T220000Z
DTEND:20130930T230000Z
DTSTAMP:20260420T012828Z
SUMMARY:IWP Mate vs. Cool Runnings
DESCRIPTION:Cool Runnings vs. IWP MateMore info: #40
X-ALT-DESC;FMTTYPE=text/html:<!DOCTYPE HTML PUBLIC "-//W3C//DTD HTML 3.2//E
	N">\n<HTML>\n<HEAD>\n<TITLE></TITLE>\n</HEAD>\n<BODY>\n<h3>Cool Runnings vs
	. IWP Mate</h3>More info: <a href="https://www.golnetwork.com/game/v/32765/
	">#40</a>\n\n</BODY>\n</HTML>
STATUS:CONFIRMED
CLASS:PUBLIC
URL:https://www.golnetwork.com/game/v/32765/
X-MICROSOFT-CDO-BUSYSTATUS:BUSY
X-MICROSOFT-CDO-IMPORTANCE:1
END:VEVENT
BEGIN:VEVENT
UID:g3bh5@games.golnetwork.com
LOCATION:Jesse Ketchum 1
GEO:45.10662;-94.578209
CREATED:20130829T174632Z
DTSTART:20131007T220000Z
DTEND:20131007T230000Z
DTSTAMP:20260420T012828Z
SUMMARY:IWP Mate vs. UnbelievaBALL
DESCRIPTION:UnbelievaBALL vs. IWP MateMore info: #57
X-ALT-DESC;FMTTYPE=text/html:<!DOCTYPE HTML PUBLIC "-//W3C//DTD HTML 3.2//E
	N">\n<HTML>\n<HEAD>\n<TITLE></TITLE>\n</HEAD>\n<BODY>\n<h3>UnbelievaBALL vs
	. IWP Mate</h3>More info: <a href="https://www.golnetwork.com/game/v/32767/
	">#57</a>\n\n</BODY>\n</HTML>
STATUS:CONFIRMED
CLASS:PUBLIC
URL:https://www.golnetwork.com/game/v/32767/
X-MICROSOFT-CDO-BUSYSTATUS:BUSY
X-MICROSOFT-CDO-IMPORTANCE:1
END:VEVENT
BEGIN:VEVENT
UID:g3bh7@games.golnetwork.com
LOCATION:Jesse Ketchum 2
GEO:45.10662;-94.578209
CREATED:20130829T174632Z
DTSTART:20131007T220000Z
DTEND:20131007T230000Z
DTSTAMP:20260420T012828Z
SUMMARY:The Orange vs. MD FC
DESCRIPTION:MD FC vs. The OrangeMore info: #58
X-ALT-DESC;FMTTYPE=text/html:<!DOCTYPE HTML PUBLIC "-//W3C//DTD HTML 3.2//E
	N">\n<HTML>\n<HEAD>\n<TITLE></TITLE>\n</HEAD>\n<BODY>\n<h3>MD FC vs. The Or
	ange</h3>More info: <a href="https://www.golnetwork.com/game/v/32768/">#58<
	/a>\n\n</BODY>\n</HTML>
STATUS:CONFIRMED
CLASS:PUBLIC
URL:https://www.golnetwork.com/game/v/32768/
X-MICROSOFT-CDO-BUSYSTATUS:BUSY
X-MICROSOFT-CDO-IMPORTANCE:1
END:VEVENT
BEGIN:VEVENT
UID:g3ecd@games.golnetwork.com
LOCATION:Jesse Ketchum 1
GEO:45.10662;-94.578209
CREATED:20130912T220340Z
DTSTART:20131014T214500Z
DTEND:20131014T224500Z
DTSTAMP:20260420T012828Z
SUMMARY:UnbelievaBALL vs. Cool Runnings
DESCRIPTION:Cool Runnings vs. UnbelievaBALLMore info: #71
X-ALT-DESC;FMTTYPE=text/html:<!DOCTYPE HTML PUBLIC "-//W3C//DTD HTML 3.2//E
	N">\n<HTML>\n<HEAD>\n<TITLE></TITLE>\n</HEAD>\n<BODY>\n<h3>Cool Runnings vs
	. UnbelievaBALL</h3>More info: <a href="https://www.golnetwork.com/game/v/3
	3797/">#71</a>\n\n</BODY>\n</HTML>
STATUS:CONFIRMED
CLASS:PUBLIC
URL:https://www.golnetwork.com/game/v/33797/
X-MICROSOFT-CDO-BUSYSTATUS:BUSY
X-MICROSOFT-CDO-IMPORTANCE:1
END:VEVENT
BEGIN:VEVENT
UID:g3ecf@games.golnetwork.com
LOCATION:Jesse Ketchum 2
GEO:45.10662;-94.578209
CREATED:20130912T220344Z
DTSTART:20131014T214500Z
DTEND:20131014T224500Z
DTSTAMP:20260420T012828Z
SUMMARY:MD FC vs. Predators
DESCRIPTION:Predators vs. MD FCMore info: #72
X-ALT-DESC;FMTTYPE=text/html:<!DOCTYPE HTML PUBLIC "-//W3C//DTD HTML 3.2//E
	N">\n<HTML>\n<HEAD>\n<TITLE></TITLE>\n</HEAD>\n<BODY>\n<h3>Predators vs. MD
	 FC</h3>More info: <a href="https://www.golnetwork.com/game/v/33798/">#72</
	a>\n\n</BODY>\n</HTML>
STATUS:CONFIRMED
CLASS:PUBLIC
URL:https://www.golnetwork.com/game/v/33798/
X-MICROSOFT-CDO-BUSYSTATUS:BUSY
X-MICROSOFT-CDO-IMPORTANCE:1
END:VEVENT
BEGIN:VEVENT
UID:g3bhd@games.golnetwork.com
LOCATION:Jesse Ketchum 1
GEO:45.10662;-94.578209
CREATED:20130829T174632Z
DTSTART:20131021T214500Z
DTEND:20131021T224500Z
DTSTAMP:20260420T012828Z
SUMMARY:IWP Mate vs. Cool Runnings
DESCRIPTION:Cool Runnings vs. IWP MateMore info: #79
X-ALT-DESC;FMTTYPE=text/html:<!DOCTYPE HTML PUBLIC "-//W3C//DTD HTML 3.2//E
	N">\n<HTML>\n<HEAD>\n<TITLE></TITLE>\n</HEAD>\n<BODY>\n<h3>Cool Runnings vs
	. IWP Mate</h3>More info: <a href="https://www.golnetwork.com/game/v/32771/
	">#79</a>\n\n</BODY>\n</HTML>
STATUS:CONFIRMED
CLASS:PUBLIC
URL:https://www.golnetwork.com/game/v/32771/
X-MICROSOFT-CDO-BUSYSTATUS:BUSY
X-MICROSOFT-CDO-IMPORTANCE:1
END:VEVENT
BEGIN:VEVENT
UID:g3bhf@games.golnetwork.com
LOCATION:Jesse Ketchum 2
GEO:45.10662;-94.578209
CREATED:20130829T174632Z
DTSTART:20131021T214500Z
DTEND:20131021T224500Z
DTSTAMP:20260420T012828Z
SUMMARY:The Orange vs. Predators
DESCRIPTION:Predators vs. The OrangeMore info: #80
X-ALT-DESC;FMTTYPE=text/html:<!DOCTYPE HTML PUBLIC "-//W3C//DTD HTML 3.2//E
	N">\n<HTML>\n<HEAD>\n<TITLE></TITLE>\n</HEAD>\n<BODY>\n<h3>Predators vs. Th
	e Orange</h3>More info: <a href="https://www.golnetwork.com/game/v/32772/">
	#80</a>\n\n</BODY>\n</HTML>
STATUS:CONFIRMED
CLASS:PUBLIC
URL:https://www.golnetwork.com/game/v/32772/
X-MICROSOFT-CDO-BUSYSTATUS:BUSY
X-MICROSOFT-CDO-IMPORTANCE:1
END:VEVENT
BEGIN:VEVENT
UID:g3bhh@games.golnetwork.com
LOCATION:Jesse Ketchum 1
GEO:45.10662;-94.578209
CREATED:20130829T174632Z
DTSTART:20131028T214500Z
DTEND:20131028T224500Z
DTSTAMP:20260420T012828Z
SUMMARY:Predators vs. Cool Runnings
DESCRIPTION:Cool Runnings vs. PredatorsMore info: #98
X-ALT-DESC;FMTTYPE=text/html:<!DOCTYPE HTML PUBLIC "-//W3C//DTD HTML 3.2//E
	N">\n<HTML>\n<HEAD>\n<TITLE></TITLE>\n</HEAD>\n<BODY>\n<h3>Cool Runnings vs
	. Predators</h3>More info: <a href="https://www.golnetwork.com/game/v/32773
	/">#98</a>\n\n</BODY>\n</HTML>
STATUS:CONFIRMED
CLASS:PUBLIC
URL:https://www.golnetwork.com/game/v/32773/
X-MICROSOFT-CDO-BUSYSTATUS:BUSY
X-MICROSOFT-CDO-IMPORTANCE:1
END:VEVENT
BEGIN:VEVENT
UID:g3bhj@games.golnetwork.com
LOCATION:Jesse Ketchum 2
GEO:45.10662;-94.578209
CREATED:20130829T174632Z
DTSTART:20131028T214500Z
DTEND:20131028T224500Z
DTSTAMP:20260420T012828Z
SUMMARY:The Orange vs. MD FC
DESCRIPTION:MD FC vs. The OrangeMore info: #99
X-ALT-DESC;FMTTYPE=text/html:<!DOCTYPE HTML PUBLIC "-//W3C//DTD HTML 3.2//E
	N">\n<HTML>\n<HEAD>\n<TITLE></TITLE>\n</HEAD>\n<BODY>\n<h3>MD FC vs. The Or
	ange</h3>More info: <a href="https://www.golnetwork.com/game/v/32774/">#99<
	/a>\n\n</BODY>\n</HTML>
STATUS:CONFIRMED
CLASS:PUBLIC
URL:https://www.golnetwork.com/game/v/32774/
X-MICROSOFT-CDO-BUSYSTATUS:BUSY
X-MICROSOFT-CDO-IMPORTANCE:1
END:VEVENT
END:VCALENDAR
