BEGIN:VCALENDAR
PRODID:-//gdesolutions.com//MV Framework 1.0.0.1607 Calendar//EN
VERSION:2.0
METHOD:PUBLISH
CALSCALE:GREGORIAN
BEGIN:VEVENT
UID:g3c09@games.golnetwork.com
LOCATION:Lamport Stadium Field 1
GEO:43.639337;-79.4248954
CREATED:20130903T220340Z
DTSTART:20130907T000000Z
DTEND:20130907T010000Z
DTSTAMP:20260420T224139Z
SUMMARY:XTSC Friday Night Lights vs. Broshooters
DESCRIPTION:Broshooters vs. XTSC Friday Night LightsMore info: #1
X-ALT-DESC;FMTTYPE=text/html:<!DOCTYPE HTML PUBLIC "-//W3C//DTD HTML 3.2//E
	N">\n<HTML>\n<HEAD>\n<TITLE></TITLE>\n</HEAD>\n<BODY>\n<h3>Broshooters vs. 
	XTSC Friday Night Lights</h3>More info: <a href="https://www.golnetwork.com
	/game/v/32904/">#1</a>\n\n</BODY>\n</HTML>
STATUS:CONFIRMED
CLASS:PUBLIC
URL:https://www.golnetwork.com/game/v/32904/
X-MICROSOFT-CDO-BUSYSTATUS:BUSY
X-MICROSOFT-CDO-IMPORTANCE:1
END:VEVENT
BEGIN:VEVENT
UID:g3c0b@games.golnetwork.com
LOCATION:Lamport Stadium Field 2
GEO:43.639337;-79.4248954
CREATED:20130903T220340Z
DTSTART:20130907T000000Z
DTEND:20130907T010000Z
DTSTAMP:20260420T224139Z
SUMMARY:The Six Shooters vs. Brave little toasters
DESCRIPTION:Brave little toasters vs. The Six ShootersMore info: #2
X-ALT-DESC;FMTTYPE=text/html:<!DOCTYPE HTML PUBLIC "-//W3C//DTD HTML 3.2//E
	N">\n<HTML>\n<HEAD>\n<TITLE></TITLE>\n</HEAD>\n<BODY>\n<h3>Brave little toa
	sters vs. The Six Shooters</h3>More info: <a href="https://www.golnetwork.c
	om/game/v/32905/">#2</a>\n\n</BODY>\n</HTML>
STATUS:CONFIRMED
CLASS:PUBLIC
URL:https://www.golnetwork.com/game/v/32905/
X-MICROSOFT-CDO-BUSYSTATUS:BUSY
X-MICROSOFT-CDO-IMPORTANCE:1
END:VEVENT
BEGIN:VEVENT
UID:g3c0d@games.golnetwork.com
LOCATION:Lamport Stadium Field 1
GEO:43.639337;-79.4248954
CREATED:20130903T220340Z
DTSTART:20130907T010000Z
DTEND:20130907T020000Z
DTSTAMP:20260420T224139Z
SUMMARY:The Six Shooters vs. Broshooters
DESCRIPTION:Broshooters vs. The Six ShootersMore info: #3
X-ALT-DESC;FMTTYPE=text/html:<!DOCTYPE HTML PUBLIC "-//W3C//DTD HTML 3.2//E
	N">\n<HTML>\n<HEAD>\n<TITLE></TITLE>\n</HEAD>\n<BODY>\n<h3>Broshooters vs. 
	The Six Shooters</h3>More info: <a href="https://www.golnetwork.com/game/v/
	32906/">#3</a>\n\n</BODY>\n</HTML>
STATUS:CONFIRMED
CLASS:PUBLIC
URL:https://www.golnetwork.com/game/v/32906/
X-MICROSOFT-CDO-BUSYSTATUS:BUSY
X-MICROSOFT-CDO-IMPORTANCE:1
END:VEVENT
BEGIN:VEVENT
UID:g3c0f@games.golnetwork.com
LOCATION:Lamport Stadium Field 2
GEO:43.639337;-79.4248954
CREATED:20130903T220340Z
DTSTART:20130907T010000Z
DTEND:20130907T020000Z
DTSTAMP:20260420T224139Z
SUMMARY:La Familia vs. Dateless Samba
DESCRIPTION:Dateless Samba vs. La FamiliaMore info: #4
X-ALT-DESC;FMTTYPE=text/html:<!DOCTYPE HTML PUBLIC "-//W3C//DTD HTML 3.2//E
	N">\n<HTML>\n<HEAD>\n<TITLE></TITLE>\n</HEAD>\n<BODY>\n<h3>Dateless Samba v
	s. La Familia</h3>More info: <a href="https://www.golnetwork.com/game/v/329
	07/">#4</a>\n\n</BODY>\n</HTML>
STATUS:CONFIRMED
CLASS:PUBLIC
URL:https://www.golnetwork.com/game/v/32907/
X-MICROSOFT-CDO-BUSYSTATUS:BUSY
X-MICROSOFT-CDO-IMPORTANCE:1
END:VEVENT
BEGIN:VEVENT
UID:g3c0h@games.golnetwork.com
LOCATION:Lamport Stadium Field 1
GEO:43.639337;-79.4248954
CREATED:20130903T220340Z
DTSTART:20130914T000000Z
DTEND:20130914T010000Z
DTSTAMP:20260420T224139Z
SUMMARY:The Six Shooters vs. XTSC Friday Night Lights
DESCRIPTION:XTSC Friday Night Lights vs. The Six ShootersMore info: #9
X-ALT-DESC;FMTTYPE=text/html:<!DOCTYPE HTML PUBLIC "-//W3C//DTD HTML 3.2//E
	N">\n<HTML>\n<HEAD>\n<TITLE></TITLE>\n</HEAD>\n<BODY>\n<h3>XTSC Friday Nigh
	t Lights vs. The Six Shooters</h3>More info: <a href="https://www.golnetwor
	k.com/game/v/32908/">#9</a>\n\n</BODY>\n</HTML>
STATUS:CONFIRMED
CLASS:PUBLIC
URL:https://www.golnetwork.com/game/v/32908/
X-MICROSOFT-CDO-BUSYSTATUS:BUSY
X-MICROSOFT-CDO-IMPORTANCE:1
END:VEVENT
BEGIN:VEVENT
UID:g3c0j@games.golnetwork.com
LOCATION:Lamport Stadium Field 2
GEO:43.639337;-79.4248954
CREATED:20130903T220340Z
DTSTART:20130914T000000Z
DTEND:20130914T010000Z
DTSTAMP:20260420T224139Z
SUMMARY:La Familia vs. Broshooters
DESCRIPTION:Broshooters vs. La FamiliaMore info: #10
X-ALT-DESC;FMTTYPE=text/html:<!DOCTYPE HTML PUBLIC "-//W3C//DTD HTML 3.2//E
	N">\n<HTML>\n<HEAD>\n<TITLE></TITLE>\n</HEAD>\n<BODY>\n<h3>Broshooters vs. 
	La Familia</h3>More info: <a href="https://www.golnetwork.com/game/v/32909/
	">#10</a>\n\n</BODY>\n</HTML>
STATUS:CONFIRMED
CLASS:PUBLIC
URL:https://www.golnetwork.com/game/v/32909/
X-MICROSOFT-CDO-BUSYSTATUS:BUSY
X-MICROSOFT-CDO-IMPORTANCE:1
END:VEVENT
BEGIN:VEVENT
UID:g3c0l@games.golnetwork.com
LOCATION:Lamport Stadium Field 1
GEO:43.639337;-79.4248954
CREATED:20130903T220340Z
DTSTART:20130914T010000Z
DTEND:20130914T020000Z
DTSTAMP:20260420T224139Z
SUMMARY:La Familia vs. Brave little toasters
DESCRIPTION:Brave little toasters vs. La FamiliaMore info: #11
X-ALT-DESC;FMTTYPE=text/html:<!DOCTYPE HTML PUBLIC "-//W3C//DTD HTML 3.2//E
	N">\n<HTML>\n<HEAD>\n<TITLE></TITLE>\n</HEAD>\n<BODY>\n<h3>Brave little toa
	sters vs. La Familia</h3>More info: <a href="https://www.golnetwork.com/gam
	e/v/32910/">#11</a>\n\n</BODY>\n</HTML>
STATUS:CONFIRMED
CLASS:PUBLIC
URL:https://www.golnetwork.com/game/v/32910/
X-MICROSOFT-CDO-BUSYSTATUS:BUSY
X-MICROSOFT-CDO-IMPORTANCE:1
END:VEVENT
BEGIN:VEVENT
UID:g3c0n@games.golnetwork.com
LOCATION:Lamport Stadium Field 2
GEO:43.639337;-79.4248954
CREATED:20130903T220340Z
DTSTART:20130914T010000Z
DTEND:20130914T020000Z
DTSTAMP:20260420T224139Z
SUMMARY:Dateless Samba vs. Aztecas
DESCRIPTION:Aztecas vs. Dateless SambaMore info: #12
X-ALT-DESC;FMTTYPE=text/html:<!DOCTYPE HTML PUBLIC "-//W3C//DTD HTML 3.2//E
	N">\n<HTML>\n<HEAD>\n<TITLE></TITLE>\n</HEAD>\n<BODY>\n<h3>Aztecas vs. Date
	less Samba</h3>More info: <a href="https://www.golnetwork.com/game/v/32911/
	">#12</a>\n\n</BODY>\n</HTML>
STATUS:CONFIRMED
CLASS:PUBLIC
URL:https://www.golnetwork.com/game/v/32911/
X-MICROSOFT-CDO-BUSYSTATUS:BUSY
X-MICROSOFT-CDO-IMPORTANCE:1
END:VEVENT
BEGIN:VEVENT
UID:g3c0p@games.golnetwork.com
LOCATION:Lamport Stadium Field 1
GEO:43.639337;-79.4248954
CREATED:20130903T220340Z
DTSTART:20130921T000000Z
DTEND:20130921T010000Z
DTSTAMP:20260420T224139Z
SUMMARY:Dateless Samba vs. Brave little toasters
DESCRIPTION:Brave little toasters vs. Dateless SambaMore info: #16
X-ALT-DESC;FMTTYPE=text/html:<!DOCTYPE HTML PUBLIC "-//W3C//DTD HTML 3.2//E
	N">\n<HTML>\n<HEAD>\n<TITLE></TITLE>\n</HEAD>\n<BODY>\n<h3>Brave little toa
	sters vs. Dateless Samba</h3>More info: <a href="https://www.golnetwork.com
	/game/v/32912/">#16</a>\n\n</BODY>\n</HTML>
STATUS:CONFIRMED
CLASS:PUBLIC
URL:https://www.golnetwork.com/game/v/32912/
X-MICROSOFT-CDO-BUSYSTATUS:BUSY
X-MICROSOFT-CDO-IMPORTANCE:1
END:VEVENT
BEGIN:VEVENT
UID:g3c10@games.golnetwork.com
LOCATION:Lamport Stadium Field 2
GEO:43.639337;-79.4248954
CREATED:20130903T220340Z
DTSTART:20130921T000000Z
DTEND:20130921T010000Z
DTSTAMP:20260420T224139Z
SUMMARY:La Familia vs. The Six Shooters
DESCRIPTION:The Six Shooters vs. La FamiliaMore info: #17
X-ALT-DESC;FMTTYPE=text/html:<!DOCTYPE HTML PUBLIC "-//W3C//DTD HTML 3.2//E
	N">\n<HTML>\n<HEAD>\n<TITLE></TITLE>\n</HEAD>\n<BODY>\n<h3>The Six Shooters
	 vs. La Familia</h3>More info: <a href="https://www.golnetwork.com/game/v/3
	2913/">#17</a>\n\n</BODY>\n</HTML>
STATUS:CONFIRMED
CLASS:PUBLIC
URL:https://www.golnetwork.com/game/v/32913/
X-MICROSOFT-CDO-BUSYSTATUS:BUSY
X-MICROSOFT-CDO-IMPORTANCE:1
END:VEVENT
BEGIN:VEVENT
UID:g3c12@games.golnetwork.com
LOCATION:Lamport Stadium Field 1
GEO:43.639337;-79.4248954
CREATED:20130903T220340Z
DTSTART:20130921T010000Z
DTEND:20130921T020000Z
DTSTAMP:20260420T224139Z
SUMMARY:Dateless Samba vs. Broshooters
DESCRIPTION:Broshooters vs. Dateless SambaMore info: #18
X-ALT-DESC;FMTTYPE=text/html:<!DOCTYPE HTML PUBLIC "-//W3C//DTD HTML 3.2//E
	N">\n<HTML>\n<HEAD>\n<TITLE></TITLE>\n</HEAD>\n<BODY>\n<h3>Broshooters vs. 
	Dateless Samba</h3>More info: <a href="https://www.golnetwork.com/game/v/32
	914/">#18</a>\n\n</BODY>\n</HTML>
STATUS:CONFIRMED
CLASS:PUBLIC
URL:https://www.golnetwork.com/game/v/32914/
X-MICROSOFT-CDO-BUSYSTATUS:BUSY
X-MICROSOFT-CDO-IMPORTANCE:1
END:VEVENT
BEGIN:VEVENT
UID:g3c14@games.golnetwork.com
LOCATION:Lamport Stadium Field 2
GEO:43.639337;-79.4248954
CREATED:20130903T220340Z
DTSTART:20130921T010000Z
DTEND:20130921T020000Z
DTSTAMP:20260420T224139Z
SUMMARY:XTSC Friday Night Lights vs. Aztecas
DESCRIPTION:Aztecas vs. XTSC Friday Night LightsMore info: #19
X-ALT-DESC;FMTTYPE=text/html:<!DOCTYPE HTML PUBLIC "-//W3C//DTD HTML 3.2//E
	N">\n<HTML>\n<HEAD>\n<TITLE></TITLE>\n</HEAD>\n<BODY>\n<h3>Aztecas vs. XTSC
	 Friday Night Lights</h3>More info: <a href="https://www.golnetwork.com/gam
	e/v/32915/">#19</a>\n\n</BODY>\n</HTML>
STATUS:CONFIRMED
CLASS:PUBLIC
URL:https://www.golnetwork.com/game/v/32915/
X-MICROSOFT-CDO-BUSYSTATUS:BUSY
X-MICROSOFT-CDO-IMPORTANCE:1
END:VEVENT
BEGIN:VEVENT
UID:g3c16@games.golnetwork.com
LOCATION:Lamport Stadium Field 1
GEO:43.639337;-79.4248954
CREATED:20130903T220340Z
DTSTART:20130928T000000Z
DTEND:20130928T010000Z
DTSTAMP:20260420T224139Z
SUMMARY:La Familia vs. XTSC Friday Night Lights
DESCRIPTION:XTSC Friday Night Lights vs. La FamiliaMore info: #23
X-ALT-DESC;FMTTYPE=text/html:<!DOCTYPE HTML PUBLIC "-//W3C//DTD HTML 3.2//E
	N">\n<HTML>\n<HEAD>\n<TITLE></TITLE>\n</HEAD>\n<BODY>\n<h3>XTSC Friday Nigh
	t Lights vs. La Familia</h3>More info: <a href="https://www.golnetwork.com/
	game/v/32916/">#23</a>\n\n</BODY>\n</HTML>
STATUS:CONFIRMED
CLASS:PUBLIC
URL:https://www.golnetwork.com/game/v/32916/
X-MICROSOFT-CDO-BUSYSTATUS:BUSY
X-MICROSOFT-CDO-IMPORTANCE:1
END:VEVENT
BEGIN:VEVENT
UID:g3c18@games.golnetwork.com
LOCATION:Lamport Stadium Field 2
GEO:43.639337;-79.4248954
CREATED:20130903T220340Z
DTSTART:20130928T000000Z
DTEND:20130928T010000Z
DTSTAMP:20260420T224139Z
SUMMARY:Brave little toasters vs. Aztecas
DESCRIPTION:Aztecas vs. Brave little toastersMore info: #24
X-ALT-DESC;FMTTYPE=text/html:<!DOCTYPE HTML PUBLIC "-//W3C//DTD HTML 3.2//E
	N">\n<HTML>\n<HEAD>\n<TITLE></TITLE>\n</HEAD>\n<BODY>\n<h3>Aztecas vs. Brav
	e little toasters</h3>More info: <a href="https://www.golnetwork.com/game/v
	/32917/">#24</a>\n\n</BODY>\n</HTML>
STATUS:CONFIRMED
CLASS:PUBLIC
URL:https://www.golnetwork.com/game/v/32917/
X-MICROSOFT-CDO-BUSYSTATUS:BUSY
X-MICROSOFT-CDO-IMPORTANCE:1
END:VEVENT
BEGIN:VEVENT
UID:g3c1a@games.golnetwork.com
LOCATION:Lamport Stadium Field 1
GEO:43.639337;-79.4248954
CREATED:20130903T220340Z
DTSTART:20130928T010000Z
DTEND:20130928T020000Z
DTSTAMP:20260420T224139Z
SUMMARY:Dateless Samba vs. The Six Shooters
DESCRIPTION:The Six Shooters vs. Dateless SambaMore info: #25
X-ALT-DESC;FMTTYPE=text/html:<!DOCTYPE HTML PUBLIC "-//W3C//DTD HTML 3.2//E
	N">\n<HTML>\n<HEAD>\n<TITLE></TITLE>\n</HEAD>\n<BODY>\n<h3>The Six Shooters
	 vs. Dateless Samba</h3>More info: <a href="https://www.golnetwork.com/game
	/v/32918/">#25</a>\n\n</BODY>\n</HTML>
STATUS:CONFIRMED
CLASS:PUBLIC
URL:https://www.golnetwork.com/game/v/32918/
X-MICROSOFT-CDO-BUSYSTATUS:BUSY
X-MICROSOFT-CDO-IMPORTANCE:1
END:VEVENT
BEGIN:VEVENT
UID:g3c1c@games.golnetwork.com
LOCATION:Lamport Stadium Field 2
GEO:43.639337;-79.4248954
CREATED:20130903T220340Z
DTSTART:20130928T010000Z
DTEND:20130928T020000Z
DTSTAMP:20260420T224139Z
SUMMARY:Brave little toasters vs. Broshooters
DESCRIPTION:Broshooters vs. Brave little toastersMore info: #26
X-ALT-DESC;FMTTYPE=text/html:<!DOCTYPE HTML PUBLIC "-//W3C//DTD HTML 3.2//E
	N">\n<HTML>\n<HEAD>\n<TITLE></TITLE>\n</HEAD>\n<BODY>\n<h3>Broshooters vs. 
	Brave little toasters</h3>More info: <a href="https://www.golnetwork.com/ga
	me/v/32919/">#26</a>\n\n</BODY>\n</HTML>
STATUS:CONFIRMED
CLASS:PUBLIC
URL:https://www.golnetwork.com/game/v/32919/
X-MICROSOFT-CDO-BUSYSTATUS:BUSY
X-MICROSOFT-CDO-IMPORTANCE:1
END:VEVENT
BEGIN:VEVENT
UID:g3c1e@games.golnetwork.com
LOCATION:Lamport Stadium Field 1
GEO:43.639337;-79.4248954
CREATED:20130903T220340Z
DTSTART:20131005T000000Z
DTEND:20131005T010000Z
DTSTAMP:20260420T224139Z
SUMMARY:Brave little toasters vs. La Familia
DESCRIPTION:La Familia vs. Brave little toastersMore info: #30
X-ALT-DESC;FMTTYPE=text/html:<!DOCTYPE HTML PUBLIC "-//W3C//DTD HTML 3.2//E
	N">\n<HTML>\n<HEAD>\n<TITLE></TITLE>\n</HEAD>\n<BODY>\n<h3>La Familia vs. B
	rave little toasters</h3>More info: <a href="https://www.golnetwork.com/gam
	e/v/32920/">#30</a>\n\n</BODY>\n</HTML>
STATUS:CONFIRMED
CLASS:PUBLIC
URL:https://www.golnetwork.com/game/v/32920/
X-MICROSOFT-CDO-BUSYSTATUS:BUSY
X-MICROSOFT-CDO-IMPORTANCE:1
END:VEVENT
BEGIN:VEVENT
UID:g3c1g@games.golnetwork.com
LOCATION:Lamport Stadium Field 2
GEO:43.639337;-79.4248954
CREATED:20130903T220340Z
DTSTART:20131005T000000Z
DTEND:20131005T010000Z
DTSTAMP:20260420T224139Z
SUMMARY:Broshooters vs. XTSC Friday Night Lights
DESCRIPTION:XTSC Friday Night Lights vs. BroshootersMore info: #31
X-ALT-DESC;FMTTYPE=text/html:<!DOCTYPE HTML PUBLIC "-//W3C//DTD HTML 3.2//E
	N">\n<HTML>\n<HEAD>\n<TITLE></TITLE>\n</HEAD>\n<BODY>\n<h3>XTSC Friday Nigh
	t Lights vs. Broshooters</h3>More info: <a href="https://www.golnetwork.com
	/game/v/32921/">#31</a>\n\n</BODY>\n</HTML>
STATUS:CONFIRMED
CLASS:PUBLIC
URL:https://www.golnetwork.com/game/v/32921/
X-MICROSOFT-CDO-BUSYSTATUS:BUSY
X-MICROSOFT-CDO-IMPORTANCE:1
END:VEVENT
BEGIN:VEVENT
UID:g3c1i@games.golnetwork.com
LOCATION:Lamport Stadium Field 1
GEO:43.639337;-79.4248954
CREATED:20130903T220340Z
DTSTART:20131005T010000Z
DTEND:20131005T020000Z
DTSTAMP:20260420T224139Z
SUMMARY:Aztecas vs. The Six Shooters
DESCRIPTION:The Six Shooters vs. AztecasMore info: #32
X-ALT-DESC;FMTTYPE=text/html:<!DOCTYPE HTML PUBLIC "-//W3C//DTD HTML 3.2//E
	N">\n<HTML>\n<HEAD>\n<TITLE></TITLE>\n</HEAD>\n<BODY>\n<h3>The Six Shooters
	 vs. Aztecas</h3>More info: <a href="https://www.golnetwork.com/game/v/3292
	2/">#32</a>\n\n</BODY>\n</HTML>
STATUS:CONFIRMED
CLASS:PUBLIC
URL:https://www.golnetwork.com/game/v/32922/
X-MICROSOFT-CDO-BUSYSTATUS:BUSY
X-MICROSOFT-CDO-IMPORTANCE:1
END:VEVENT
BEGIN:VEVENT
UID:g3c1k@games.golnetwork.com
LOCATION:Lamport Stadium Field 2
GEO:43.639337;-79.4248954
CREATED:20130903T220340Z
DTSTART:20131005T010000Z
DTEND:20131005T020000Z
DTSTAMP:20260420T224139Z
SUMMARY:Dateless Samba vs. XTSC Friday Night Lights
DESCRIPTION:XTSC Friday Night Lights vs. Dateless SambaMore info: #33
X-ALT-DESC;FMTTYPE=text/html:<!DOCTYPE HTML PUBLIC "-//W3C//DTD HTML 3.2//E
	N">\n<HTML>\n<HEAD>\n<TITLE></TITLE>\n</HEAD>\n<BODY>\n<h3>XTSC Friday Nigh
	t Lights vs. Dateless Samba</h3>More info: <a href="https://www.golnetwork.
	com/game/v/32923/">#33</a>\n\n</BODY>\n</HTML>
STATUS:CONFIRMED
CLASS:PUBLIC
URL:https://www.golnetwork.com/game/v/32923/
X-MICROSOFT-CDO-BUSYSTATUS:BUSY
X-MICROSOFT-CDO-IMPORTANCE:1
END:VEVENT
BEGIN:VEVENT
UID:g3c1m@games.golnetwork.com
LOCATION:Lamport Stadium Field 1
GEO:43.639337;-79.4248954
CREATED:20130903T220340Z
DTSTART:20131012T000000Z
DTEND:20131012T010000Z
DTSTAMP:20260420T224139Z
SUMMARY:Aztecas vs. La Familia
DESCRIPTION:La Familia vs. AztecasMore info: #37
X-ALT-DESC;FMTTYPE=text/html:<!DOCTYPE HTML PUBLIC "-//W3C//DTD HTML 3.2//E
	N">\n<HTML>\n<HEAD>\n<TITLE></TITLE>\n</HEAD>\n<BODY>\n<h3>La Familia vs. A
	ztecas</h3>More info: <a href="https://www.golnetwork.com/game/v/32924/">#3
	7</a>\n\n</BODY>\n</HTML>
STATUS:CONFIRMED
CLASS:PUBLIC
URL:https://www.golnetwork.com/game/v/32924/
X-MICROSOFT-CDO-BUSYSTATUS:BUSY
X-MICROSOFT-CDO-IMPORTANCE:1
END:VEVENT
BEGIN:VEVENT
UID:g3c1o@games.golnetwork.com
LOCATION:Lamport Stadium Field 2
GEO:43.639337;-79.4248954
CREATED:20130903T220340Z
DTSTART:20131012T000000Z
DTEND:20131012T010000Z
DTSTAMP:20260420T224139Z
SUMMARY:Dateless Samba vs. Brave little toasters
DESCRIPTION:Brave little toasters vs. Dateless SambaMore info: #38
X-ALT-DESC;FMTTYPE=text/html:<!DOCTYPE HTML PUBLIC "-//W3C//DTD HTML 3.2//E
	N">\n<HTML>\n<HEAD>\n<TITLE></TITLE>\n</HEAD>\n<BODY>\n<h3>Brave little toa
	sters vs. Dateless Samba</h3>More info: <a href="https://www.golnetwork.com
	/game/v/32925/">#38</a>\n\n</BODY>\n</HTML>
STATUS:CONFIRMED
CLASS:PUBLIC
URL:https://www.golnetwork.com/game/v/32925/
X-MICROSOFT-CDO-BUSYSTATUS:BUSY
X-MICROSOFT-CDO-IMPORTANCE:1
END:VEVENT
BEGIN:VEVENT
UID:g3c1q@games.golnetwork.com
LOCATION:Lamport Stadium Field 1
GEO:43.639337;-79.4248954
CREATED:20130903T220340Z
DTSTART:20131012T010000Z
DTEND:20131012T020000Z
DTSTAMP:20260420T224139Z
SUMMARY:Aztecas vs. XTSC Friday Night Lights
DESCRIPTION:XTSC Friday Night Lights vs. AztecasMore info: #39
X-ALT-DESC;FMTTYPE=text/html:<!DOCTYPE HTML PUBLIC "-//W3C//DTD HTML 3.2//E
	N">\n<HTML>\n<HEAD>\n<TITLE></TITLE>\n</HEAD>\n<BODY>\n<h3>XTSC Friday Nigh
	t Lights vs. Aztecas</h3>More info: <a href="https://www.golnetwork.com/gam
	e/v/32926/">#39</a>\n\n</BODY>\n</HTML>
STATUS:CONFIRMED
CLASS:PUBLIC
URL:https://www.golnetwork.com/game/v/32926/
X-MICROSOFT-CDO-BUSYSTATUS:BUSY
X-MICROSOFT-CDO-IMPORTANCE:1
END:VEVENT
BEGIN:VEVENT
UID:g3c21@games.golnetwork.com
LOCATION:Lamport Stadium Field 2
GEO:43.639337;-79.4248954
CREATED:20130903T220340Z
DTSTART:20131012T010000Z
DTEND:20131012T020000Z
DTSTAMP:20260420T224139Z
SUMMARY:The Six Shooters vs. Broshooters
DESCRIPTION:Broshooters vs. The Six ShootersMore info: #40
X-ALT-DESC;FMTTYPE=text/html:<!DOCTYPE HTML PUBLIC "-//W3C//DTD HTML 3.2//E
	N">\n<HTML>\n<HEAD>\n<TITLE></TITLE>\n</HEAD>\n<BODY>\n<h3>Broshooters vs. 
	The Six Shooters</h3>More info: <a href="https://www.golnetwork.com/game/v/
	32927/">#40</a>\n\n</BODY>\n</HTML>
STATUS:CONFIRMED
CLASS:PUBLIC
URL:https://www.golnetwork.com/game/v/32927/
X-MICROSOFT-CDO-BUSYSTATUS:BUSY
X-MICROSOFT-CDO-IMPORTANCE:1
END:VEVENT
BEGIN:VEVENT
UID:g3c23@games.golnetwork.com
LOCATION:Lamport Stadium Field 1
GEO:43.639337;-79.4248954
CREATED:20130903T220340Z
DTSTART:20131019T000000Z
DTEND:20131019T010000Z
DTSTAMP:20260420T224139Z
SUMMARY:Dateless Samba vs. La Familia
DESCRIPTION:La Familia vs. Dateless SambaMore info: #47
X-ALT-DESC;FMTTYPE=text/html:<!DOCTYPE HTML PUBLIC "-//W3C//DTD HTML 3.2//E
	N">\n<HTML>\n<HEAD>\n<TITLE></TITLE>\n</HEAD>\n<BODY>\n<h3>La Familia vs. D
	ateless Samba</h3>More info: <a href="https://www.golnetwork.com/game/v/329
	28/">#47</a>\n\n</BODY>\n</HTML>
STATUS:CONFIRMED
CLASS:PUBLIC
URL:https://www.golnetwork.com/game/v/32928/
X-MICROSOFT-CDO-BUSYSTATUS:BUSY
X-MICROSOFT-CDO-IMPORTANCE:1
END:VEVENT
BEGIN:VEVENT
UID:g3c25@games.golnetwork.com
LOCATION:Lamport Stadium Field 2
GEO:43.639337;-79.4248954
CREATED:20130903T220340Z
DTSTART:20131019T000000Z
DTEND:20131019T010000Z
DTSTAMP:20260420T224139Z
SUMMARY:Brave little toasters vs. Aztecas
DESCRIPTION:Aztecas vs. Brave little toastersMore info: #48
X-ALT-DESC;FMTTYPE=text/html:<!DOCTYPE HTML PUBLIC "-//W3C//DTD HTML 3.2//E
	N">\n<HTML>\n<HEAD>\n<TITLE></TITLE>\n</HEAD>\n<BODY>\n<h3>Aztecas vs. Brav
	e little toasters</h3>More info: <a href="https://www.golnetwork.com/game/v
	/32929/">#48</a>\n\n</BODY>\n</HTML>
STATUS:CONFIRMED
CLASS:PUBLIC
URL:https://www.golnetwork.com/game/v/32929/
X-MICROSOFT-CDO-BUSYSTATUS:BUSY
X-MICROSOFT-CDO-IMPORTANCE:1
END:VEVENT
BEGIN:VEVENT
UID:g3c27@games.golnetwork.com
LOCATION:Lamport Stadium Field 1
GEO:43.639337;-79.4248954
CREATED:20130903T220340Z
DTSTART:20131019T010000Z
DTEND:20131019T020000Z
DTSTAMP:20260420T224139Z
SUMMARY:Broshooters vs. La Familia
DESCRIPTION:La Familia vs. BroshootersMore info: #49
X-ALT-DESC;FMTTYPE=text/html:<!DOCTYPE HTML PUBLIC "-//W3C//DTD HTML 3.2//E
	N">\n<HTML>\n<HEAD>\n<TITLE></TITLE>\n</HEAD>\n<BODY>\n<h3>La Familia vs. B
	roshooters</h3>More info: <a href="https://www.golnetwork.com/game/v/32930/
	">#49</a>\n\n</BODY>\n</HTML>
STATUS:CONFIRMED
CLASS:PUBLIC
URL:https://www.golnetwork.com/game/v/32930/
X-MICROSOFT-CDO-BUSYSTATUS:BUSY
X-MICROSOFT-CDO-IMPORTANCE:1
END:VEVENT
BEGIN:VEVENT
UID:g3c29@games.golnetwork.com
LOCATION:Lamport Stadium Field 2
GEO:43.639337;-79.4248954
CREATED:20130903T220340Z
DTSTART:20131019T010000Z
DTEND:20131019T020000Z
DTSTAMP:20260420T224139Z
SUMMARY:XTSC Friday Night Lights vs. The Six Shooters
DESCRIPTION:The Six Shooters vs. XTSC Friday Night LightsMore info: #50
X-ALT-DESC;FMTTYPE=text/html:<!DOCTYPE HTML PUBLIC "-//W3C//DTD HTML 3.2//E
	N">\n<HTML>\n<HEAD>\n<TITLE></TITLE>\n</HEAD>\n<BODY>\n<h3>The Six Shooters
	 vs. XTSC Friday Night Lights</h3>More info: <a href="https://www.golnetwor
	k.com/game/v/32931/">#50</a>\n\n</BODY>\n</HTML>
STATUS:CONFIRMED
CLASS:PUBLIC
URL:https://www.golnetwork.com/game/v/32931/
X-MICROSOFT-CDO-BUSYSTATUS:BUSY
X-MICROSOFT-CDO-IMPORTANCE:1
END:VEVENT
END:VCALENDAR
