BEGIN:VCALENDAR
PRODID:-//gdesolutions.com//MV Framework 1.0.0.1607 Calendar//EN
VERSION:2.0
METHOD:PUBLISH
CALSCALE:GREGORIAN
BEGIN:VEVENT
UID:g3c3c@games.golnetwork.com
LOCATION:North Toronto CI - Feild 1
GEO:43.7098942;-79.3965038
CREATED:20130905T210845Z
DTSTART:20130909T220000Z
DTEND:20130909T230000Z
DTSTAMP:20260425T221111Z
SUMMARY:Man and Woman United vs. XTSC Show Stoppers
DESCRIPTION:XTSC Show Stoppers vs. Man and Woman UnitedMore info: #5
X-ALT-DESC;FMTTYPE=text/html:<!DOCTYPE HTML PUBLIC "-//W3C//DTD HTML 3.2//E
	N">\n<HTML>\n<HEAD>\n<TITLE></TITLE>\n</HEAD>\n<BODY>\n<h3>XTSC Show Stoppe
	rs vs. Man and Woman United</h3>More info: <a href="https://www.golnetwork.
	com/game/v/32946/">#5</a>\n\n</BODY>\n</HTML>
STATUS:CONFIRMED
CLASS:PUBLIC
URL:https://www.golnetwork.com/game/v/32946/
X-MICROSOFT-CDO-BUSYSTATUS:BUSY
X-MICROSOFT-CDO-IMPORTANCE:1
END:VEVENT
BEGIN:VEVENT
UID:g3c3e@games.golnetwork.com
LOCATION:North Toronto CI - Field 2
GEO:43.7098942;-79.3965038
CREATED:20130905T210845Z
DTSTART:20130909T220000Z
DTEND:20130909T230000Z
DTSTAMP:20260425T221111Z
SUMMARY:EFC vs. Mortchester City
DESCRIPTION:Mortchester City vs. EFCMore info: #6
X-ALT-DESC;FMTTYPE=text/html:<!DOCTYPE HTML PUBLIC "-//W3C//DTD HTML 3.2//E
	N">\n<HTML>\n<HEAD>\n<TITLE></TITLE>\n</HEAD>\n<BODY>\n<h3>Mortchester City
	 vs. EFC</h3>More info: <a href="https://www.golnetwork.com/game/v/32947/">
	#6</a>\n\n</BODY>\n</HTML>
STATUS:CONFIRMED
CLASS:PUBLIC
URL:https://www.golnetwork.com/game/v/32947/
X-MICROSOFT-CDO-BUSYSTATUS:BUSY
X-MICROSOFT-CDO-IMPORTANCE:1
END:VEVENT
BEGIN:VEVENT
UID:g3c3g@games.golnetwork.com
LOCATION:North Toronto CI - Feild 1
GEO:43.7098942;-79.3965038
CREATED:20130905T210845Z
DTSTART:20130909T230000Z
DTEND:20130910T000000Z
DTSTAMP:20260425T221111Z
SUMMARY:Man and Woman United vs. Samba All-Stars
DESCRIPTION:Samba All-Stars vs. Man and Woman UnitedMore info: #7
X-ALT-DESC;FMTTYPE=text/html:<!DOCTYPE HTML PUBLIC "-//W3C//DTD HTML 3.2//E
	N">\n<HTML>\n<HEAD>\n<TITLE></TITLE>\n</HEAD>\n<BODY>\n<h3>Samba All-Stars 
	vs. Man and Woman United</h3>More info: <a href="https://www.golnetwork.com
	/game/v/32948/">#7</a>\n\n</BODY>\n</HTML>
STATUS:CONFIRMED
CLASS:PUBLIC
URL:https://www.golnetwork.com/game/v/32948/
X-MICROSOFT-CDO-BUSYSTATUS:BUSY
X-MICROSOFT-CDO-IMPORTANCE:1
END:VEVENT
BEGIN:VEVENT
UID:g3c3i@games.golnetwork.com
LOCATION:North Toronto CI - Field 2
GEO:43.7098942;-79.3965038
CREATED:20130905T210845Z
DTSTART:20130909T230000Z
DTEND:20130910T000000Z
DTSTAMP:20260425T221111Z
SUMMARY:Misfires vs. Mortchester City
DESCRIPTION:Mortchester City vs. MisfiresMore info: #8
X-ALT-DESC;FMTTYPE=text/html:<!DOCTYPE HTML PUBLIC "-//W3C//DTD HTML 3.2//E
	N">\n<HTML>\n<HEAD>\n<TITLE></TITLE>\n</HEAD>\n<BODY>\n<h3>Mortchester City
	 vs. Misfires</h3>More info: <a href="https://www.golnetwork.com/game/v/329
	49/">#8</a>\n\n</BODY>\n</HTML>
STATUS:CONFIRMED
CLASS:PUBLIC
URL:https://www.golnetwork.com/game/v/32949/
X-MICROSOFT-CDO-BUSYSTATUS:BUSY
X-MICROSOFT-CDO-IMPORTANCE:1
END:VEVENT
BEGIN:VEVENT
UID:g3c3k@games.golnetwork.com
LOCATION:North Toronto CI - Feild 1
GEO:43.7098942;-79.3965038
CREATED:20130905T212319Z
DTSTART:20130916T220000Z
DTEND:20130916T230000Z
DTSTAMP:20260425T221111Z
SUMMARY:Man and Woman United vs. EFC
DESCRIPTION:EFC vs. Man and Woman UnitedMore info: #13
X-ALT-DESC;FMTTYPE=text/html:<!DOCTYPE HTML PUBLIC "-//W3C//DTD HTML 3.2//E
	N">\n<HTML>\n<HEAD>\n<TITLE></TITLE>\n</HEAD>\n<BODY>\n<h3>EFC vs. Man and 
	Woman United</h3>More info: <a href="https://www.golnetwork.com/game/v/3295
	0/">#13</a>\n\n</BODY>\n</HTML>
STATUS:CONFIRMED
CLASS:PUBLIC
URL:https://www.golnetwork.com/game/v/32950/
X-MICROSOFT-CDO-BUSYSTATUS:BUSY
X-MICROSOFT-CDO-IMPORTANCE:1
END:VEVENT
BEGIN:VEVENT
UID:g3c3m@games.golnetwork.com
LOCATION:North Toronto CI - Field 2
GEO:43.7098942;-79.3965038
CREATED:20130905T212319Z
DTSTART:20130916T220000Z
DTEND:20130916T230000Z
DTSTAMP:20260425T221111Z
SUMMARY:Samba All-Stars vs. Mortchester City
DESCRIPTION:Mortchester City vs. Samba All-StarsMore info: #14
X-ALT-DESC;FMTTYPE=text/html:<!DOCTYPE HTML PUBLIC "-//W3C//DTD HTML 3.2//E
	N">\n<HTML>\n<HEAD>\n<TITLE></TITLE>\n</HEAD>\n<BODY>\n<h3>Mortchester City
	 vs. Samba All-Stars</h3>More info: <a href="https://www.golnetwork.com/gam
	e/v/32951/">#14</a>\n\n</BODY>\n</HTML>
STATUS:CONFIRMED
CLASS:PUBLIC
URL:https://www.golnetwork.com/game/v/32951/
X-MICROSOFT-CDO-BUSYSTATUS:BUSY
X-MICROSOFT-CDO-IMPORTANCE:1
END:VEVENT
BEGIN:VEVENT
UID:g3c3o@games.golnetwork.com
LOCATION:North Toronto CI - Field 3
GEO:43.7098942;-79.3965038
CREATED:20130905T212319Z
DTSTART:20130916T220000Z
DTEND:20130916T230000Z
DTSTAMP:20260425T221111Z
SUMMARY:Misfires vs. XTSC Show Stoppers
DESCRIPTION:XTSC Show Stoppers vs. MisfiresMore info: #15
X-ALT-DESC;FMTTYPE=text/html:<!DOCTYPE HTML PUBLIC "-//W3C//DTD HTML 3.2//E
	N">\n<HTML>\n<HEAD>\n<TITLE></TITLE>\n</HEAD>\n<BODY>\n<h3>XTSC Show Stoppe
	rs vs. Misfires</h3>More info: <a href="https://www.golnetwork.com/game/v/3
	2952/">#15</a>\n\n</BODY>\n</HTML>
STATUS:CONFIRMED
CLASS:PUBLIC
URL:https://www.golnetwork.com/game/v/32952/
X-MICROSOFT-CDO-BUSYSTATUS:BUSY
X-MICROSOFT-CDO-IMPORTANCE:1
END:VEVENT
BEGIN:VEVENT
UID:g3c3q@games.golnetwork.com
LOCATION:North Toronto CI - Feild 1
GEO:43.7098942;-79.3965038
CREATED:20130905T212319Z
DTSTART:20130923T220000Z
DTEND:20130923T230000Z
DTSTAMP:20260425T221111Z
SUMMARY:Samba All-Stars vs. XTSC Show Stoppers
DESCRIPTION:XTSC Show Stoppers vs. Samba All-StarsMore info: #20
X-ALT-DESC;FMTTYPE=text/html:<!DOCTYPE HTML PUBLIC "-//W3C//DTD HTML 3.2//E
	N">\n<HTML>\n<HEAD>\n<TITLE></TITLE>\n</HEAD>\n<BODY>\n<h3>XTSC Show Stoppe
	rs vs. Samba All-Stars</h3>More info: <a href="https://www.golnetwork.com/g
	ame/v/32953/">#20</a>\n\n</BODY>\n</HTML>
STATUS:CONFIRMED
CLASS:PUBLIC
URL:https://www.golnetwork.com/game/v/32953/
X-MICROSOFT-CDO-BUSYSTATUS:BUSY
X-MICROSOFT-CDO-IMPORTANCE:1
END:VEVENT
BEGIN:VEVENT
UID:g3c41@games.golnetwork.com
LOCATION:North Toronto CI - Field 2
GEO:43.7098942;-79.3965038
CREATED:20130905T212319Z
DTSTART:20130923T220000Z
DTEND:20130923T230000Z
DTSTAMP:20260425T221111Z
SUMMARY:Mortchester City vs. Man and Woman United
DESCRIPTION:Man and Woman United vs. Mortchester CityMore info: #21
X-ALT-DESC;FMTTYPE=text/html:<!DOCTYPE HTML PUBLIC "-//W3C//DTD HTML 3.2//E
	N">\n<HTML>\n<HEAD>\n<TITLE></TITLE>\n</HEAD>\n<BODY>\n<h3>Man and Woman Un
	ited vs. Mortchester City</h3>More info: <a href="https://www.golnetwork.co
	m/game/v/32954/">#21</a>\n\n</BODY>\n</HTML>
STATUS:CONFIRMED
CLASS:PUBLIC
URL:https://www.golnetwork.com/game/v/32954/
X-MICROSOFT-CDO-BUSYSTATUS:BUSY
X-MICROSOFT-CDO-IMPORTANCE:1
END:VEVENT
BEGIN:VEVENT
UID:g3c43@games.golnetwork.com
LOCATION:North Toronto CI - Field 3
GEO:43.7098942;-79.3965038
CREATED:20130905T212319Z
DTSTART:20130923T220000Z
DTEND:20130923T230000Z
DTSTAMP:20260425T221111Z
SUMMARY:EFC vs. Misfires
DESCRIPTION:Misfires vs. EFCMore info: #22
X-ALT-DESC;FMTTYPE=text/html:<!DOCTYPE HTML PUBLIC "-//W3C//DTD HTML 3.2//E
	N">\n<HTML>\n<HEAD>\n<TITLE></TITLE>\n</HEAD>\n<BODY>\n<h3>Misfires vs. EFC
	</h3>More info: <a href="https://www.golnetwork.com/game/v/32955/">#22</a>\
	n\n</BODY>\n</HTML>
STATUS:CONFIRMED
CLASS:PUBLIC
URL:https://www.golnetwork.com/game/v/32955/
X-MICROSOFT-CDO-BUSYSTATUS:BUSY
X-MICROSOFT-CDO-IMPORTANCE:1
END:VEVENT
BEGIN:VEVENT
UID:g3c45@games.golnetwork.com
LOCATION:North Toronto CI - Feild 1
GEO:43.7098942;-79.3965038
CREATED:20130905T212319Z
DTSTART:20130930T220000Z
DTEND:20130930T230000Z
DTSTAMP:20260425T221111Z
SUMMARY:Man and Woman United vs. Mortchester City
DESCRIPTION:Mortchester City vs. Man and Woman UnitedMore info: #27
X-ALT-DESC;FMTTYPE=text/html:<!DOCTYPE HTML PUBLIC "-//W3C//DTD HTML 3.2//E
	N">\n<HTML>\n<HEAD>\n<TITLE></TITLE>\n</HEAD>\n<BODY>\n<h3>Mortchester City
	 vs. Man and Woman United</h3>More info: <a href="https://www.golnetwork.co
	m/game/v/32956/">#27</a>\n\n</BODY>\n</HTML>
STATUS:CONFIRMED
CLASS:PUBLIC
URL:https://www.golnetwork.com/game/v/32956/
X-MICROSOFT-CDO-BUSYSTATUS:BUSY
X-MICROSOFT-CDO-IMPORTANCE:1
END:VEVENT
BEGIN:VEVENT
UID:g3c47@games.golnetwork.com
LOCATION:North Toronto CI - Field 2
GEO:43.7098942;-79.3965038
CREATED:20130905T212319Z
DTSTART:20130930T220000Z
DTEND:20130930T230000Z
DTSTAMP:20260425T221111Z
SUMMARY:EFC vs. Samba All-Stars
DESCRIPTION:Samba All-Stars vs. EFCMore info: #28
X-ALT-DESC;FMTTYPE=text/html:<!DOCTYPE HTML PUBLIC "-//W3C//DTD HTML 3.2//E
	N">\n<HTML>\n<HEAD>\n<TITLE></TITLE>\n</HEAD>\n<BODY>\n<h3>Samba All-Stars 
	vs. EFC</h3>More info: <a href="https://www.golnetwork.com/game/v/32957/">#
	28</a>\n\n</BODY>\n</HTML>
STATUS:CONFIRMED
CLASS:PUBLIC
URL:https://www.golnetwork.com/game/v/32957/
X-MICROSOFT-CDO-BUSYSTATUS:BUSY
X-MICROSOFT-CDO-IMPORTANCE:1
END:VEVENT
BEGIN:VEVENT
UID:g3c49@games.golnetwork.com
LOCATION:North Toronto CI - Field 3
GEO:43.7098942;-79.3965038
CREATED:20130905T212320Z
DTSTART:20130930T220000Z
DTEND:20130930T230000Z
DTSTAMP:20260425T221111Z
SUMMARY:Misfires vs. XTSC Show Stoppers
DESCRIPTION:XTSC Show Stoppers vs. MisfiresMore info: #29
X-ALT-DESC;FMTTYPE=text/html:<!DOCTYPE HTML PUBLIC "-//W3C//DTD HTML 3.2//E
	N">\n<HTML>\n<HEAD>\n<TITLE></TITLE>\n</HEAD>\n<BODY>\n<h3>XTSC Show Stoppe
	rs vs. Misfires</h3>More info: <a href="https://www.golnetwork.com/game/v/3
	2958/">#29</a>\n\n</BODY>\n</HTML>
STATUS:CONFIRMED
CLASS:PUBLIC
URL:https://www.golnetwork.com/game/v/32958/
X-MICROSOFT-CDO-BUSYSTATUS:BUSY
X-MICROSOFT-CDO-IMPORTANCE:1
END:VEVENT
BEGIN:VEVENT
UID:g3c4b@games.golnetwork.com
LOCATION:North Toronto - Field 1
GEO:43.7098022;-79.3963055
CREATED:20130905T212320Z
DTSTART:20131007T220000Z
DTEND:20131007T230000Z
DTSTAMP:20260425T221111Z
SUMMARY:EFC vs. Man and Woman United
DESCRIPTION:Man and Woman United vs. EFCMore info: #34
X-ALT-DESC;FMTTYPE=text/html:<!DOCTYPE HTML PUBLIC "-//W3C//DTD HTML 3.2//E
	N">\n<HTML>\n<HEAD>\n<TITLE></TITLE>\n</HEAD>\n<BODY>\n<h3>Man and Woman Un
	ited vs. EFC</h3>More info: <a href="https://www.golnetwork.com/game/v/3295
	9/">#34</a>\n\n</BODY>\n</HTML>
STATUS:CONFIRMED
CLASS:PUBLIC
URL:https://www.golnetwork.com/game/v/32959/
X-MICROSOFT-CDO-BUSYSTATUS:BUSY
X-MICROSOFT-CDO-IMPORTANCE:1
END:VEVENT
BEGIN:VEVENT
UID:g3c4d@games.golnetwork.com
LOCATION:North Toronto - Field 2
GEO:43.7098022;-79.3963055
CREATED:20130905T212320Z
DTSTART:20131007T220000Z
DTEND:20131007T230000Z
DTSTAMP:20260425T221111Z
SUMMARY:XTSC Show Stoppers vs. Mortchester City
DESCRIPTION:Mortchester City vs. XTSC Show StoppersMore info: #35
X-ALT-DESC;FMTTYPE=text/html:<!DOCTYPE HTML PUBLIC "-//W3C//DTD HTML 3.2//E
	N">\n<HTML>\n<HEAD>\n<TITLE></TITLE>\n</HEAD>\n<BODY>\n<h3>Mortchester City
	 vs. XTSC Show Stoppers</h3>More info: <a href="https://www.golnetwork.com/
	game/v/32960/">#35</a>\n\n</BODY>\n</HTML>
STATUS:CONFIRMED
CLASS:PUBLIC
URL:https://www.golnetwork.com/game/v/32960/
X-MICROSOFT-CDO-BUSYSTATUS:BUSY
X-MICROSOFT-CDO-IMPORTANCE:1
END:VEVENT
BEGIN:VEVENT
UID:g3c4f@games.golnetwork.com
LOCATION:North Toronto - Field 3
GEO:43.7098022;-79.3963055
CREATED:20130905T212320Z
DTSTART:20131007T220000Z
DTEND:20131007T230000Z
DTSTAMP:20260425T221111Z
SUMMARY:Misfires vs. Samba All-Stars
DESCRIPTION:Samba All-Stars vs. MisfiresMore info: #36
X-ALT-DESC;FMTTYPE=text/html:<!DOCTYPE HTML PUBLIC "-//W3C//DTD HTML 3.2//E
	N">\n<HTML>\n<HEAD>\n<TITLE></TITLE>\n</HEAD>\n<BODY>\n<h3>Samba All-Stars 
	vs. Misfires</h3>More info: <a href="https://www.golnetwork.com/game/v/3296
	1/">#36</a>\n\n</BODY>\n</HTML>
STATUS:CONFIRMED
CLASS:PUBLIC
URL:https://www.golnetwork.com/game/v/32961/
X-MICROSOFT-CDO-BUSYSTATUS:BUSY
X-MICROSOFT-CDO-IMPORTANCE:1
END:VEVENT
BEGIN:VEVENT
UID:g3c4h@games.golnetwork.com
LOCATION:North Toronto - Field 1
GEO:43.7098022;-79.3963055
CREATED:20130905T212841Z
DTSTART:20131014T203000Z
DTEND:20131014T213000Z
DTSTAMP:20260425T221111Z
SUMMARY:Mortchester City vs. EFC
DESCRIPTION:EFC vs. Mortchester CityMore info: #42
X-ALT-DESC;FMTTYPE=text/html:<!DOCTYPE HTML PUBLIC "-//W3C//DTD HTML 3.2//E
	N">\n<HTML>\n<HEAD>\n<TITLE></TITLE>\n</HEAD>\n<BODY>\n<h3>EFC vs. Mortches
	ter City</h3>More info: <a href="https://www.golnetwork.com/game/v/32962/">
	#42</a>\n\n</BODY>\n</HTML>
STATUS:CONFIRMED
CLASS:PUBLIC
URL:https://www.golnetwork.com/game/v/32962/
X-MICROSOFT-CDO-BUSYSTATUS:BUSY
X-MICROSOFT-CDO-IMPORTANCE:1
END:VEVENT
BEGIN:VEVENT
UID:g3c4j@games.golnetwork.com
LOCATION:North Toronto - Field 2
GEO:43.7098022;-79.3963055
CREATED:20130905T212841Z
DTSTART:20131014T203000Z
DTEND:20131014T213000Z
DTSTAMP:20260425T221111Z
SUMMARY:Man and Woman United vs. XTSC Show Stoppers
DESCRIPTION:XTSC Show Stoppers vs. Man and Woman UnitedMore info: #43
X-ALT-DESC;FMTTYPE=text/html:<!DOCTYPE HTML PUBLIC "-//W3C//DTD HTML 3.2//E
	N">\n<HTML>\n<HEAD>\n<TITLE></TITLE>\n</HEAD>\n<BODY>\n<h3>XTSC Show Stoppe
	rs vs. Man and Woman United</h3>More info: <a href="https://www.golnetwork.
	com/game/v/32963/">#43</a>\n\n</BODY>\n</HTML>
STATUS:CONFIRMED
CLASS:PUBLIC
URL:https://www.golnetwork.com/game/v/32963/
X-MICROSOFT-CDO-BUSYSTATUS:BUSY
X-MICROSOFT-CDO-IMPORTANCE:1
END:VEVENT
BEGIN:VEVENT
UID:g3jlh@games.golnetwork.com
LOCATION:North Toronto - Field 3
GEO:43.7098022;-79.3963055
CREATED:20131008T163354Z
DTSTART:20131014T203000Z
DTEND:20131014T213000Z
DTSTAMP:20260425T221111Z
SUMMARY:Misfires vs. Samba All-Stars
DESCRIPTION:Samba All-Stars vs. MisfiresMore info: #41
X-ALT-DESC;FMTTYPE=text/html:<!DOCTYPE HTML PUBLIC "-//W3C//DTD HTML 3.2//E
	N">\n<HTML>\n<HEAD>\n<TITLE></TITLE>\n</HEAD>\n<BODY>\n<h3>Samba All-Stars 
	vs. Misfires</h3>More info: <a href="https://www.golnetwork.com/game/v/3574
	3/">#41</a>\n\n</BODY>\n</HTML>
STATUS:CONFIRMED
CLASS:PUBLIC
URL:https://www.golnetwork.com/game/v/35743/
X-MICROSOFT-CDO-BUSYSTATUS:BUSY
X-MICROSOFT-CDO-IMPORTANCE:1
END:VEVENT
BEGIN:VEVENT
UID:g3c4l@games.golnetwork.com
LOCATION:North Toronto - Field 1
GEO:43.7098022;-79.3963055
CREATED:20130905T212841Z
DTSTART:20131014T213000Z
DTEND:20131014T223000Z
DTSTAMP:20260425T221111Z
SUMMARY:XTSC Show Stoppers vs. EFC
DESCRIPTION:EFC vs. XTSC Show StoppersMore info: #44
X-ALT-DESC;FMTTYPE=text/html:<!DOCTYPE HTML PUBLIC "-//W3C//DTD HTML 3.2//E
	N">\n<HTML>\n<HEAD>\n<TITLE></TITLE>\n</HEAD>\n<BODY>\n<h3>EFC vs. XTSC Sho
	w Stoppers</h3>More info: <a href="https://www.golnetwork.com/game/v/32964/
	">#44</a>\n\n</BODY>\n</HTML>
STATUS:CONFIRMED
CLASS:PUBLIC
URL:https://www.golnetwork.com/game/v/32964/
X-MICROSOFT-CDO-BUSYSTATUS:BUSY
X-MICROSOFT-CDO-IMPORTANCE:1
END:VEVENT
BEGIN:VEVENT
UID:g3c4n@games.golnetwork.com
LOCATION:North Toronto - Field 2
GEO:43.7098022;-79.3963055
CREATED:20130905T212841Z
DTSTART:20131014T213000Z
DTEND:20131014T223000Z
DTSTAMP:20260425T221111Z
SUMMARY:Man and Woman United vs. Misfires
DESCRIPTION:Misfires vs. Man and Woman UnitedMore info: #45
X-ALT-DESC;FMTTYPE=text/html:<!DOCTYPE HTML PUBLIC "-//W3C//DTD HTML 3.2//E
	N">\n<HTML>\n<HEAD>\n<TITLE></TITLE>\n</HEAD>\n<BODY>\n<h3>Misfires vs. Man
	 and Woman United</h3>More info: <a href="https://www.golnetwork.com/game/v
	/32965/">#45</a>\n\n</BODY>\n</HTML>
STATUS:CONFIRMED
CLASS:PUBLIC
URL:https://www.golnetwork.com/game/v/32965/
X-MICROSOFT-CDO-BUSYSTATUS:BUSY
X-MICROSOFT-CDO-IMPORTANCE:1
END:VEVENT
BEGIN:VEVENT
UID:g3jlj@games.golnetwork.com
LOCATION:North Toronto - Field 3
GEO:43.7098022;-79.3963055
CREATED:20131008T163443Z
DTSTART:20131014T213000Z
DTEND:20131014T223000Z
DTSTAMP:20260425T221111Z
SUMMARY:Mortchester City vs. Samba All-Stars
DESCRIPTION:Samba All-Stars vs. Mortchester CityMore info: #46
X-ALT-DESC;FMTTYPE=text/html:<!DOCTYPE HTML PUBLIC "-//W3C//DTD HTML 3.2//E
	N">\n<HTML>\n<HEAD>\n<TITLE></TITLE>\n</HEAD>\n<BODY>\n<h3>Samba All-Stars 
	vs. Mortchester City</h3>More info: <a href="https://www.golnetwork.com/gam
	e/v/35744/">#46</a>\n\n</BODY>\n</HTML>
STATUS:CONFIRMED
CLASS:PUBLIC
URL:https://www.golnetwork.com/game/v/35744/
X-MICROSOFT-CDO-BUSYSTATUS:BUSY
X-MICROSOFT-CDO-IMPORTANCE:1
END:VEVENT
BEGIN:VEVENT
UID:g3c50@games.golnetwork.com
LOCATION:North Toronto - Field 1
GEO:43.7098022;-79.3963055
CREATED:20130905T212958Z
DTSTART:20131021T220000Z
DTEND:20131021T230000Z
DTSTAMP:20260425T221111Z
SUMMARY:Samba All-Stars vs. Mortchester City
DESCRIPTION:Mortchester City vs. Samba All-StarsMore info: #51
X-ALT-DESC;FMTTYPE=text/html:<!DOCTYPE HTML PUBLIC "-//W3C//DTD HTML 3.2//E
	N">\n<HTML>\n<HEAD>\n<TITLE></TITLE>\n</HEAD>\n<BODY>\n<h3>Mortchester City
	 vs. Samba All-Stars</h3>More info: <a href="https://www.golnetwork.com/gam
	e/v/32967/">#51</a>\n\n</BODY>\n</HTML>
STATUS:CONFIRMED
CLASS:PUBLIC
URL:https://www.golnetwork.com/game/v/32967/
X-MICROSOFT-CDO-BUSYSTATUS:BUSY
X-MICROSOFT-CDO-IMPORTANCE:1
END:VEVENT
BEGIN:VEVENT
UID:g3c52@games.golnetwork.com
LOCATION:North Toronto - Field 2
GEO:43.7098022;-79.3963055
CREATED:20130905T213007Z
DTSTART:20131021T220000Z
DTEND:20131021T230000Z
DTSTAMP:20260425T221111Z
SUMMARY:EFC vs. Misfires
DESCRIPTION:Misfires vs. EFCMore info: #52
X-ALT-DESC;FMTTYPE=text/html:<!DOCTYPE HTML PUBLIC "-//W3C//DTD HTML 3.2//E
	N">\n<HTML>\n<HEAD>\n<TITLE></TITLE>\n</HEAD>\n<BODY>\n<h3>Misfires vs. EFC
	</h3>More info: <a href="https://www.golnetwork.com/game/v/32968/">#52</a>\
	n\n</BODY>\n</HTML>
STATUS:CONFIRMED
CLASS:PUBLIC
URL:https://www.golnetwork.com/game/v/32968/
X-MICROSOFT-CDO-BUSYSTATUS:BUSY
X-MICROSOFT-CDO-IMPORTANCE:1
END:VEVENT
BEGIN:VEVENT
UID:g3c4p@games.golnetwork.com
LOCATION:North Toronto - Field 3
GEO:43.7098022;-79.3963055
CREATED:20130905T212948Z
DTSTART:20131021T220000Z
DTEND:20131021T230000Z
DTSTAMP:20260425T221111Z
SUMMARY:Man and Woman United vs. XTSC Show Stoppers
DESCRIPTION:XTSC Show Stoppers vs. Man and Woman UnitedMore info: #53
X-ALT-DESC;FMTTYPE=text/html:<!DOCTYPE HTML PUBLIC "-//W3C//DTD HTML 3.2//E
	N">\n<HTML>\n<HEAD>\n<TITLE></TITLE>\n</HEAD>\n<BODY>\n<h3>XTSC Show Stoppe
	rs vs. Man and Woman United</h3>More info: <a href="https://www.golnetwork.
	com/game/v/32966/">#53</a>\n\n</BODY>\n</HTML>
STATUS:CONFIRMED
CLASS:PUBLIC
URL:https://www.golnetwork.com/game/v/32966/
X-MICROSOFT-CDO-BUSYSTATUS:BUSY
X-MICROSOFT-CDO-IMPORTANCE:1
END:VEVENT
BEGIN:VEVENT
UID:g3c54@games.golnetwork.com
LOCATION:North Toronto - Field 1
GEO:43.7098022;-79.3963055
CREATED:20130905T213015Z
DTSTART:20131028T220000Z
DTEND:20131028T230000Z
DTSTAMP:20260425T221111Z
SUMMARY:Man and Woman United vs. EFC
DESCRIPTION:EFC vs. Man and Woman UnitedMore info: #54
X-ALT-DESC;FMTTYPE=text/html:<!DOCTYPE HTML PUBLIC "-//W3C//DTD HTML 3.2//E
	N">\n<HTML>\n<HEAD>\n<TITLE></TITLE>\n</HEAD>\n<BODY>\n<h3>EFC vs. Man and 
	Woman United</h3>More info: <a href="https://www.golnetwork.com/game/v/3296
	9/">#54</a>\n\n</BODY>\n</HTML>
STATUS:CONFIRMED
CLASS:PUBLIC
URL:https://www.golnetwork.com/game/v/32969/
X-MICROSOFT-CDO-BUSYSTATUS:BUSY
X-MICROSOFT-CDO-IMPORTANCE:1
END:VEVENT
BEGIN:VEVENT
UID:g3c56@games.golnetwork.com
LOCATION:North Toronto - Field 2
GEO:43.7098022;-79.3963055
CREATED:20130905T213020Z
DTSTART:20131028T220000Z
DTEND:20131028T230000Z
DTSTAMP:20260425T221111Z
SUMMARY:Misfires vs. Mortchester City
DESCRIPTION:Mortchester City vs. MisfiresMore info: #55
X-ALT-DESC;FMTTYPE=text/html:<!DOCTYPE HTML PUBLIC "-//W3C//DTD HTML 3.2//E
	N">\n<HTML>\n<HEAD>\n<TITLE></TITLE>\n</HEAD>\n<BODY>\n<h3>Mortchester City
	 vs. Misfires</h3>More info: <a href="https://www.golnetwork.com/game/v/329
	70/">#55</a>\n\n</BODY>\n</HTML>
STATUS:CONFIRMED
CLASS:PUBLIC
URL:https://www.golnetwork.com/game/v/32970/
X-MICROSOFT-CDO-BUSYSTATUS:BUSY
X-MICROSOFT-CDO-IMPORTANCE:1
END:VEVENT
BEGIN:VEVENT
UID:g3c58@games.golnetwork.com
LOCATION:North Toronto - Field 3
GEO:43.7098022;-79.3963055
CREATED:20130905T213025Z
DTSTART:20131028T220000Z
DTEND:20131028T230000Z
DTSTAMP:20260425T221111Z
SUMMARY:XTSC Show Stoppers vs. Samba All-Stars
DESCRIPTION:Samba All-Stars vs. XTSC Show StoppersMore info: #56
X-ALT-DESC;FMTTYPE=text/html:<!DOCTYPE HTML PUBLIC "-//W3C//DTD HTML 3.2//E
	N">\n<HTML>\n<HEAD>\n<TITLE></TITLE>\n</HEAD>\n<BODY>\n<h3>Samba All-Stars 
	vs. XTSC Show Stoppers</h3>More info: <a href="https://www.golnetwork.com/g
	ame/v/32971/">#56</a>\n\n</BODY>\n</HTML>
STATUS:CONFIRMED
CLASS:PUBLIC
URL:https://www.golnetwork.com/game/v/32971/
X-MICROSOFT-CDO-BUSYSTATUS:BUSY
X-MICROSOFT-CDO-IMPORTANCE:1
END:VEVENT
END:VCALENDAR
