BEGIN:VCALENDAR
PRODID:-//gdesolutions.com//MV Framework 1.0.0.1607 Calendar//EN
VERSION:2.0
METHOD:PUBLISH
CALSCALE:GREGORIAN
BEGIN:VEVENT
UID:g3ggb@games.golnetwork.com
LOCATION:Tomlinson Fieldhouse
GEO:45.508899688721;-73.581298828125
CREATED:20130919T142818Z
DTSTART:20130925T003000Z
DTEND:20130925T012000Z
DTSTAMP:20260426T021617Z
SUMMARY:Team Clay Matthews vs. Alpha Delta Phi
DESCRIPTION:Alpha Delta Phi vs. Team Clay MatthewsMore info: #3
X-ALT-DESC;FMTTYPE=text/html:<!DOCTYPE HTML PUBLIC "-//W3C//DTD HTML 3.2//E
	N">\n<HTML>\n<HEAD>\n<TITLE></TITLE>\n</HEAD>\n<BODY>\n<h3>Alpha Delta Phi 
	vs. Team Clay Matthews</h3>More info: <a href="https://www.golnetwork.com/g
	ame/v/34579/">#3</a>\n\n</BODY>\n</HTML>
STATUS:CONFIRMED
CLASS:PUBLIC
URL:https://www.golnetwork.com/game/v/34579/
X-MICROSOFT-CDO-BUSYSTATUS:BUSY
X-MICROSOFT-CDO-IMPORTANCE:1
END:VEVENT
BEGIN:VEVENT
UID:g3ggd@games.golnetwork.com
LOCATION:Tomlinson Fieldhouse
GEO:45.508899688721;-73.581298828125
CREATED:20130919T142818Z
DTSTART:20130925T013000Z
DTEND:20130925T022000Z
DTSTAMP:20260426T021617Z
SUMMARY:Floor Rida! vs. Jagr Bombs
DESCRIPTION:Jagr Bombs vs. Floor Rida!More info: #4
X-ALT-DESC;FMTTYPE=text/html:<!DOCTYPE HTML PUBLIC "-//W3C//DTD HTML 3.2//E
	N">\n<HTML>\n<HEAD>\n<TITLE></TITLE>\n</HEAD>\n<BODY>\n<h3>Jagr Bombs vs. F
	loor Rida!</h3>More info: <a href="https://www.golnetwork.com/game/v/34580/
	">#4</a>\n\n</BODY>\n</HTML>
STATUS:CONFIRMED
CLASS:PUBLIC
URL:https://www.golnetwork.com/game/v/34580/
X-MICROSOFT-CDO-BUSYSTATUS:BUSY
X-MICROSOFT-CDO-IMPORTANCE:1
END:VEVENT
BEGIN:VEVENT
UID:g3ggj@games.golnetwork.com
LOCATION:Tomlinson Fieldhouse
GEO:45.508899688721;-73.581298828125
CREATED:20130919T142818Z
DTSTART:20131002T003000Z
DTEND:20131002T012000Z
DTSTAMP:20260426T021617Z
SUMMARY:Mug 18 vs. Brewliners
DESCRIPTION:Brewliners vs. Mug 18More info: #7
X-ALT-DESC;FMTTYPE=text/html:<!DOCTYPE HTML PUBLIC "-//W3C//DTD HTML 3.2//E
	N">\n<HTML>\n<HEAD>\n<TITLE></TITLE>\n</HEAD>\n<BODY>\n<h3>Brewliners vs. M
	ug 18</h3>More info: <a href="https://www.golnetwork.com/game/v/34583/">#7<
	/a>\n\n</BODY>\n</HTML>
STATUS:CONFIRMED
CLASS:PUBLIC
URL:https://www.golnetwork.com/game/v/34583/
X-MICROSOFT-CDO-BUSYSTATUS:BUSY
X-MICROSOFT-CDO-IMPORTANCE:1
END:VEVENT
BEGIN:VEVENT
UID:g3ggn@games.golnetwork.com
LOCATION:Tomlinson Fieldhouse
GEO:45.508899688721;-73.581298828125
CREATED:20130919T142818Z
DTSTART:20131006T170000Z
DTEND:20131006T175000Z
DTSTAMP:20260426T021617Z
SUMMARY:Mug 18 vs. Alpha Delta Phi
DESCRIPTION:Alpha Delta Phi vs. Mug 18More info: #10
X-ALT-DESC;FMTTYPE=text/html:<!DOCTYPE HTML PUBLIC "-//W3C//DTD HTML 3.2//E
	N">\n<HTML>\n<HEAD>\n<TITLE></TITLE>\n</HEAD>\n<BODY>\n<h3>Alpha Delta Phi 
	vs. Mug 18</h3>More info: <a href="https://www.golnetwork.com/game/v/34585/
	">#10</a>\n\n</BODY>\n</HTML>
STATUS:CONFIRMED
CLASS:PUBLIC
URL:https://www.golnetwork.com/game/v/34585/
X-MICROSOFT-CDO-BUSYSTATUS:BUSY
X-MICROSOFT-CDO-IMPORTANCE:1
END:VEVENT
BEGIN:VEVENT
UID:g3gh0@games.golnetwork.com
LOCATION:Tomlinson Fieldhouse
GEO:45.508899688721;-73.581298828125
CREATED:20130919T142818Z
DTSTART:20131006T190000Z
DTEND:20131006T195000Z
DTSTAMP:20260426T021617Z
SUMMARY:Floor Rida! vs. Brewliners
DESCRIPTION:Brewliners vs. Floor Rida!More info: #12
X-ALT-DESC;FMTTYPE=text/html:<!DOCTYPE HTML PUBLIC "-//W3C//DTD HTML 3.2//E
	N">\n<HTML>\n<HEAD>\n<TITLE></TITLE>\n</HEAD>\n<BODY>\n<h3>Brewliners vs. F
	loor Rida!</h3>More info: <a href="https://www.golnetwork.com/game/v/34587/
	">#12</a>\n\n</BODY>\n</HTML>
STATUS:CONFIRMED
CLASS:PUBLIC
URL:https://www.golnetwork.com/game/v/34587/
X-MICROSOFT-CDO-BUSYSTATUS:BUSY
X-MICROSOFT-CDO-IMPORTANCE:1
END:VEVENT
BEGIN:VEVENT
UID:g3gh6@games.golnetwork.com
LOCATION:Tomlinson Fieldhouse
GEO:45.508899688721;-73.581298828125
CREATED:20130919T142818Z
DTSTART:20131006T220000Z
DTEND:20131006T225000Z
DTSTAMP:20260426T021617Z
SUMMARY:Jagr Bombs vs. Team Clay Matthews
DESCRIPTION:Team Clay Matthews vs. Jagr BombsMore info: #15
X-ALT-DESC;FMTTYPE=text/html:<!DOCTYPE HTML PUBLIC "-//W3C//DTD HTML 3.2//E
	N">\n<HTML>\n<HEAD>\n<TITLE></TITLE>\n</HEAD>\n<BODY>\n<h3>Team Clay Matthe
	ws vs. Jagr Bombs</h3>More info: <a href="https://www.golnetwork.com/game/v
	/34590/">#15</a>\n\n</BODY>\n</HTML>
STATUS:CONFIRMED
CLASS:PUBLIC
URL:https://www.golnetwork.com/game/v/34590/
X-MICROSOFT-CDO-BUSYSTATUS:BUSY
X-MICROSOFT-CDO-IMPORTANCE:1
END:VEVENT
BEGIN:VEVENT
UID:g3gha@games.golnetwork.com
LOCATION:Tomlinson Fieldhouse
GEO:45.508899688721;-73.581298828125
CREATED:20130919T142818Z
DTSTART:20131008T223000Z
DTEND:20131008T232000Z
DTSTAMP:20260426T021617Z
SUMMARY:Floor Rida! vs. Mug 18
DESCRIPTION:Mug 18 vs. Floor Rida!More info: #17
X-ALT-DESC;FMTTYPE=text/html:<!DOCTYPE HTML PUBLIC "-//W3C//DTD HTML 3.2//E
	N">\n<HTML>\n<HEAD>\n<TITLE></TITLE>\n</HEAD>\n<BODY>\n<h3>Mug 18 vs. Floor
	 Rida!</h3>More info: <a href="https://www.golnetwork.com/game/v/34592/">#1
	7</a>\n\n</BODY>\n</HTML>
STATUS:CONFIRMED
CLASS:PUBLIC
URL:https://www.golnetwork.com/game/v/34592/
X-MICROSOFT-CDO-BUSYSTATUS:BUSY
X-MICROSOFT-CDO-IMPORTANCE:1
END:VEVENT
BEGIN:VEVENT
UID:g3ghc@games.golnetwork.com
LOCATION:Tomlinson Fieldhouse
GEO:45.508899688721;-73.581298828125
CREATED:20130919T142818Z
DTSTART:20131008T233000Z
DTEND:20131009T002000Z
DTSTAMP:20260426T021617Z
SUMMARY:Team Clay Matthews vs. Brewliners
DESCRIPTION:Brewliners vs. Team Clay MatthewsMore info: #18
X-ALT-DESC;FMTTYPE=text/html:<!DOCTYPE HTML PUBLIC "-//W3C//DTD HTML 3.2//E
	N">\n<HTML>\n<HEAD>\n<TITLE></TITLE>\n</HEAD>\n<BODY>\n<h3>Brewliners vs. T
	eam Clay Matthews</h3>More info: <a href="https://www.golnetwork.com/game/v
	/34593/">#18</a>\n\n</BODY>\n</HTML>
STATUS:CONFIRMED
CLASS:PUBLIC
URL:https://www.golnetwork.com/game/v/34593/
X-MICROSOFT-CDO-BUSYSTATUS:BUSY
X-MICROSOFT-CDO-IMPORTANCE:1
END:VEVENT
BEGIN:VEVENT
UID:g3gho@games.golnetwork.com
LOCATION:Tomlinson Fieldhouse
GEO:45.508899688721;-73.581298828125
CREATED:20130919T142818Z
DTSTART:20131020T200000Z
DTEND:20131020T205000Z
DTSTAMP:20260426T021617Z
SUMMARY:Jagr Bombs vs. PT Topguns
DESCRIPTION:PT Topguns vs. Jagr BombsMore info: #25
X-ALT-DESC;FMTTYPE=text/html:<!DOCTYPE HTML PUBLIC "-//W3C//DTD HTML 3.2//E
	N">\n<HTML>\n<HEAD>\n<TITLE></TITLE>\n</HEAD>\n<BODY>\n<h3>PT Topguns vs. J
	agr Bombs</h3>More info: <a href="https://www.golnetwork.com/game/v/34599/"
	>#25</a>\n\n</BODY>\n</HTML>
STATUS:CONFIRMED
CLASS:PUBLIC
URL:https://www.golnetwork.com/game/v/34599/
X-MICROSOFT-CDO-BUSYSTATUS:BUSY
X-MICROSOFT-CDO-IMPORTANCE:1
END:VEVENT
BEGIN:VEVENT
UID:g3gi3@games.golnetwork.com
LOCATION:Tomlinson Fieldhouse
GEO:45.508899688721;-73.581298828125
CREATED:20130919T142818Z
DTSTART:20131022T223000Z
DTEND:20131022T232000Z
DTSTAMP:20260426T021617Z
SUMMARY:Floor Rida! vs. PT Topguns
DESCRIPTION:PT Topguns vs. Floor Rida!More info: #29
X-ALT-DESC;FMTTYPE=text/html:<!DOCTYPE HTML PUBLIC "-//W3C//DTD HTML 3.2//E
	N">\n<HTML>\n<HEAD>\n<TITLE></TITLE>\n</HEAD>\n<BODY>\n<h3>PT Topguns vs. F
	loor Rida!</h3>More info: <a href="https://www.golnetwork.com/game/v/34602/
	">#29</a>\n\n</BODY>\n</HTML>
STATUS:CONFIRMED
CLASS:PUBLIC
URL:https://www.golnetwork.com/game/v/34602/
X-MICROSOFT-CDO-BUSYSTATUS:BUSY
X-MICROSOFT-CDO-IMPORTANCE:1
END:VEVENT
BEGIN:VEVENT
UID:g3gi5@games.golnetwork.com
LOCATION:Tomlinson Fieldhouse
GEO:45.508899688721;-73.581298828125
CREATED:20130919T142818Z
DTSTART:20131022T233000Z
DTEND:20131023T002000Z
DTSTAMP:20260426T021617Z
SUMMARY:Mug 18 vs. Team Clay Matthews
DESCRIPTION:Team Clay Matthews vs. Mug 18More info: #30
X-ALT-DESC;FMTTYPE=text/html:<!DOCTYPE HTML PUBLIC "-//W3C//DTD HTML 3.2//E
	N">\n<HTML>\n<HEAD>\n<TITLE></TITLE>\n</HEAD>\n<BODY>\n<h3>Team Clay Matthe
	ws vs. Mug 18</h3>More info: <a href="https://www.golnetwork.com/game/v/346
	03/">#30</a>\n\n</BODY>\n</HTML>
STATUS:CONFIRMED
CLASS:PUBLIC
URL:https://www.golnetwork.com/game/v/34603/
X-MICROSOFT-CDO-BUSYSTATUS:BUSY
X-MICROSOFT-CDO-IMPORTANCE:1
END:VEVENT
BEGIN:VEVENT
UID:g3gid@games.golnetwork.com
LOCATION:Tomlinson Fieldhouse
GEO:45.508899688721;-73.581298828125
CREATED:20130919T142818Z
DTSTART:20131027T210000Z
DTEND:20131027T215000Z
DTSTAMP:20260426T021617Z
SUMMARY:Brewliners vs. Jagr Bombs
DESCRIPTION:Jagr Bombs vs. BrewlinersMore info: #38
X-ALT-DESC;FMTTYPE=text/html:<!DOCTYPE HTML PUBLIC "-//W3C//DTD HTML 3.2//E
	N">\n<HTML>\n<HEAD>\n<TITLE></TITLE>\n</HEAD>\n<BODY>\n<h3>Jagr Bombs vs. B
	rewliners</h3>More info: <a href="https://www.golnetwork.com/game/v/34607/"
	>#38</a>\n\n</BODY>\n</HTML>
STATUS:CONFIRMED
CLASS:PUBLIC
URL:https://www.golnetwork.com/game/v/34607/
X-MICROSOFT-CDO-BUSYSTATUS:BUSY
X-MICROSOFT-CDO-IMPORTANCE:1
END:VEVENT
BEGIN:VEVENT
UID:g3gil@games.golnetwork.com
LOCATION:Tomlinson Fieldhouse
GEO:45.508899688721;-73.581298828125
CREATED:20130919T142819Z
DTSTART:20131029T233000Z
DTEND:20131030T002000Z
DTSTAMP:20260426T021617Z
SUMMARY:Floor Rida! vs. Team Clay Matthews
DESCRIPTION:Team Clay Matthews vs. Floor Rida!More info: #42
X-ALT-DESC;FMTTYPE=text/html:<!DOCTYPE HTML PUBLIC "-//W3C//DTD HTML 3.2//E
	N">\n<HTML>\n<HEAD>\n<TITLE></TITLE>\n</HEAD>\n<BODY>\n<h3>Team Clay Matthe
	ws vs. Floor Rida!</h3>More info: <a href="https://www.golnetwork.com/game/
	v/34611/">#42</a>\n\n</BODY>\n</HTML>
STATUS:CONFIRMED
CLASS:PUBLIC
URL:https://www.golnetwork.com/game/v/34611/
X-MICROSOFT-CDO-BUSYSTATUS:BUSY
X-MICROSOFT-CDO-IMPORTANCE:1
END:VEVENT
BEGIN:VEVENT
UID:g3gj4@games.golnetwork.com
LOCATION:Tomlinson Fieldhouse
GEO:45.508899688721;-73.581298828125
CREATED:20130919T142819Z
DTSTART:20131106T013000Z
DTEND:20131106T022000Z
DTSTAMP:20260426T021617Z
SUMMARY:Brewliners vs. PT Topguns
DESCRIPTION:PT Topguns vs. BrewlinersMore info: #47
X-ALT-DESC;FMTTYPE=text/html:<!DOCTYPE HTML PUBLIC "-//W3C//DTD HTML 3.2//E
	N">\n<HTML>\n<HEAD>\n<TITLE></TITLE>\n</HEAD>\n<BODY>\n<h3>PT Topguns vs. B
	rewliners</h3>More info: <a href="https://www.golnetwork.com/game/v/34616/"
	>#47</a>\n\n</BODY>\n</HTML>
STATUS:CONFIRMED
CLASS:PUBLIC
URL:https://www.golnetwork.com/game/v/34616/
X-MICROSOFT-CDO-BUSYSTATUS:BUSY
X-MICROSOFT-CDO-IMPORTANCE:1
END:VEVENT
BEGIN:VEVENT
UID:g3gj6@games.golnetwork.com
LOCATION:Tomlinson Fieldhouse
GEO:45.508899688721;-73.581298828125
CREATED:20130919T142819Z
DTSTART:20131106T023000Z
DTEND:20131106T032000Z
DTSTAMP:20260426T021617Z
SUMMARY:Mug 18 vs. Jagr Bombs
DESCRIPTION:Jagr Bombs vs. Mug 18More info: #48
X-ALT-DESC;FMTTYPE=text/html:<!DOCTYPE HTML PUBLIC "-//W3C//DTD HTML 3.2//E
	N">\n<HTML>\n<HEAD>\n<TITLE></TITLE>\n</HEAD>\n<BODY>\n<h3>Jagr Bombs vs. M
	ug 18</h3>More info: <a href="https://www.golnetwork.com/game/v/34617/">#48
	</a>\n\n</BODY>\n</HTML>
STATUS:CONFIRMED
CLASS:PUBLIC
URL:https://www.golnetwork.com/game/v/34617/
X-MICROSOFT-CDO-BUSYSTATUS:BUSY
X-MICROSOFT-CDO-IMPORTANCE:1
END:VEVENT
END:VCALENDAR
