BEGIN:VCALENDAR
PRODID:-//gdesolutions.com//MV Framework 1.0.0.1607 Calendar//EN
VERSION:2.0
METHOD:PUBLISH
CALSCALE:GREGORIAN
BEGIN:VEVENT
UID:g476n@games.golnetwork.com
LOCATION:Lamport Stadium - Field 2
GEO:43.6390028;-79.4232104
CREATED:20131111T212319Z
DTSTART:20131116T180000Z
DTEND:20131116T190000Z
DTSTAMP:20260422T074410Z
SUMMARY:Not Sure Yet vs. The Orange
DESCRIPTION:The Orange vs. Not Sure YetMore info: #55
X-ALT-DESC;FMTTYPE=text/html:<!DOCTYPE HTML PUBLIC "-//W3C//DTD HTML 3.2//E
	N">\n<HTML>\n<HEAD>\n<TITLE></TITLE>\n</HEAD>\n<BODY>\n<h3>The Orange vs. N
	ot Sure Yet</h3>More info: <a href="https://www.golnetwork.com/game/v/41011
	/">#55</a>\n\n</BODY>\n</HTML>
STATUS:CONFIRMED
CLASS:PUBLIC
URL:https://www.golnetwork.com/game/v/41011/
X-MICROSOFT-CDO-BUSYSTATUS:BUSY
X-MICROSOFT-CDO-IMPORTANCE:1
END:VEVENT
BEGIN:VEVENT
UID:g476p@games.golnetwork.com
LOCATION:Lamport Stadium - Field 2
GEO:43.6390028;-79.4232104
CREATED:20131111T212319Z
DTSTART:20131116T190000Z
DTEND:20131116T200000Z
DTSTAMP:20260422T074410Z
SUMMARY:Magos vs. Onetouchables FC
DESCRIPTION:Onetouchables FC vs. MagosMore info: #58
X-ALT-DESC;FMTTYPE=text/html:<!DOCTYPE HTML PUBLIC "-//W3C//DTD HTML 3.2//E
	N">\n<HTML>\n<HEAD>\n<TITLE></TITLE>\n</HEAD>\n<BODY>\n<h3>Onetouchables FC
	 vs. Magos</h3>More info: <a href="https://www.golnetwork.com/game/v/41012/
	">#58</a>\n\n</BODY>\n</HTML>
STATUS:CONFIRMED
CLASS:PUBLIC
URL:https://www.golnetwork.com/game/v/41012/
X-MICROSOFT-CDO-BUSYSTATUS:BUSY
X-MICROSOFT-CDO-IMPORTANCE:1
END:VEVENT
BEGIN:VEVENT
UID:g4770@games.golnetwork.com
LOCATION:Lamport Stadium - Field 2
GEO:43.6390028;-79.4232104
CREATED:20131111T212319Z
DTSTART:20131116T200000Z
DTEND:20131116T210000Z
DTSTAMP:20260422T074410Z
SUMMARY:The Worst Team Ever vs. Lokomotiv Bison FC 1873
DESCRIPTION:Lokomotiv Bison FC 1873 vs. The Worst Team EverMore info: #61
X-ALT-DESC;FMTTYPE=text/html:<!DOCTYPE HTML PUBLIC "-//W3C//DTD HTML 3.2//E
	N">\n<HTML>\n<HEAD>\n<TITLE></TITLE>\n</HEAD>\n<BODY>\n<h3>Lokomotiv Bison 
	FC 1873 vs. The Worst Team Ever</h3>More info: <a href="https://www.golnetw
	ork.com/game/v/41013/">#61</a>\n\n</BODY>\n</HTML>
STATUS:CONFIRMED
CLASS:PUBLIC
URL:https://www.golnetwork.com/game/v/41013/
X-MICROSOFT-CDO-BUSYSTATUS:BUSY
X-MICROSOFT-CDO-IMPORTANCE:1
END:VEVENT
BEGIN:VEVENT
UID:g4772@games.golnetwork.com
LOCATION:Lamport Stadium - Field 2
GEO:43.6390028;-79.4232104
CREATED:20131111T212319Z
DTSTART:20131123T180000Z
DTEND:20131123T190000Z
DTSTAMP:20260422T074410Z
SUMMARY:Lokomotiv Bison FC 1873 vs. Onetouchables FC
DESCRIPTION:Onetouchables FC vs. Lokomotiv Bison FC 1873More info: #95
X-ALT-DESC;FMTTYPE=text/html:<!DOCTYPE HTML PUBLIC "-//W3C//DTD HTML 3.2//E
	N">\n<HTML>\n<HEAD>\n<TITLE></TITLE>\n</HEAD>\n<BODY>\n<h3>Onetouchables FC
	 vs. Lokomotiv Bison FC 1873</h3>More info: <a href="https://www.golnetwork
	.com/game/v/41014/">#95</a>\n\n</BODY>\n</HTML>
STATUS:CONFIRMED
CLASS:PUBLIC
URL:https://www.golnetwork.com/game/v/41014/
X-MICROSOFT-CDO-BUSYSTATUS:BUSY
X-MICROSOFT-CDO-IMPORTANCE:1
END:VEVENT
BEGIN:VEVENT
UID:g4774@games.golnetwork.com
LOCATION:Lamport Stadium - Field 2
GEO:43.6390028;-79.4232104
CREATED:20131111T212319Z
DTSTART:20131123T190000Z
DTEND:20131123T200000Z
DTSTAMP:20260422T074410Z
SUMMARY:The Worst Team Ever vs. The Orange
DESCRIPTION:The Orange vs. The Worst Team EverMore info: #98
X-ALT-DESC;FMTTYPE=text/html:<!DOCTYPE HTML PUBLIC "-//W3C//DTD HTML 3.2//E
	N">\n<HTML>\n<HEAD>\n<TITLE></TITLE>\n</HEAD>\n<BODY>\n<h3>The Orange vs. T
	he Worst Team Ever</h3>More info: <a href="https://www.golnetwork.com/game/
	v/41015/">#98</a>\n\n</BODY>\n</HTML>
STATUS:CONFIRMED
CLASS:PUBLIC
URL:https://www.golnetwork.com/game/v/41015/
X-MICROSOFT-CDO-BUSYSTATUS:BUSY
X-MICROSOFT-CDO-IMPORTANCE:1
END:VEVENT
BEGIN:VEVENT
UID:g4776@games.golnetwork.com
LOCATION:Lamport Stadium - Field 2
GEO:43.6390028;-79.4232104
CREATED:20131111T212319Z
DTSTART:20131123T200000Z
DTEND:20131123T210000Z
DTSTAMP:20260422T074410Z
SUMMARY:Magos vs. Not Sure Yet
DESCRIPTION:Not Sure Yet vs. MagosMore info: #101
X-ALT-DESC;FMTTYPE=text/html:<!DOCTYPE HTML PUBLIC "-//W3C//DTD HTML 3.2//E
	N">\n<HTML>\n<HEAD>\n<TITLE></TITLE>\n</HEAD>\n<BODY>\n<h3>Not Sure Yet vs.
	 Magos</h3>More info: <a href="https://www.golnetwork.com/game/v/41016/">#1
	01</a>\n\n</BODY>\n</HTML>
STATUS:CONFIRMED
CLASS:PUBLIC
URL:https://www.golnetwork.com/game/v/41016/
X-MICROSOFT-CDO-BUSYSTATUS:BUSY
X-MICROSOFT-CDO-IMPORTANCE:1
END:VEVENT
BEGIN:VEVENT
UID:g4778@games.golnetwork.com
LOCATION:Lamport Stadium - Field 2
GEO:43.6390028;-79.4232104
CREATED:20131111T212319Z
DTSTART:20131130T180000Z
DTEND:20131130T190000Z
DTSTAMP:20260422T074410Z
SUMMARY:Lokomotiv Bison FC 1873 vs. Magos
DESCRIPTION:Magos vs. Lokomotiv Bison FC 1873More info: #136
X-ALT-DESC;FMTTYPE=text/html:<!DOCTYPE HTML PUBLIC "-//W3C//DTD HTML 3.2//E
	N">\n<HTML>\n<HEAD>\n<TITLE></TITLE>\n</HEAD>\n<BODY>\n<h3>Magos vs. Lokomo
	tiv Bison FC 1873</h3>More info: <a href="https://www.golnetwork.com/game/v
	/41017/">#136</a>\n\n</BODY>\n</HTML>
STATUS:CONFIRMED
CLASS:PUBLIC
URL:https://www.golnetwork.com/game/v/41017/
X-MICROSOFT-CDO-BUSYSTATUS:BUSY
X-MICROSOFT-CDO-IMPORTANCE:1
END:VEVENT
BEGIN:VEVENT
UID:g477a@games.golnetwork.com
LOCATION:Lamport Stadium - Field 2
GEO:43.6390028;-79.4232104
CREATED:20131111T212319Z
DTSTART:20131130T190000Z
DTEND:20131130T200000Z
DTSTAMP:20260422T074410Z
SUMMARY:Not Sure Yet vs. The Worst Team Ever
DESCRIPTION:The Worst Team Ever vs. Not Sure YetMore info: #139
X-ALT-DESC;FMTTYPE=text/html:<!DOCTYPE HTML PUBLIC "-//W3C//DTD HTML 3.2//E
	N">\n<HTML>\n<HEAD>\n<TITLE></TITLE>\n</HEAD>\n<BODY>\n<h3>The Worst Team E
	ver vs. Not Sure Yet</h3>More info: <a href="https://www.golnetwork.com/gam
	e/v/41018/">#139</a>\n\n</BODY>\n</HTML>
STATUS:CONFIRMED
CLASS:PUBLIC
URL:https://www.golnetwork.com/game/v/41018/
X-MICROSOFT-CDO-BUSYSTATUS:BUSY
X-MICROSOFT-CDO-IMPORTANCE:1
END:VEVENT
BEGIN:VEVENT
UID:g477c@games.golnetwork.com
LOCATION:Lamport Stadium - Field 2
GEO:43.6390028;-79.4232104
CREATED:20131111T212319Z
DTSTART:20131130T200000Z
DTEND:20131130T210000Z
DTSTAMP:20260422T074410Z
SUMMARY:Onetouchables FC vs. The Orange
DESCRIPTION:The Orange vs. Onetouchables FCMore info: #142
X-ALT-DESC;FMTTYPE=text/html:<!DOCTYPE HTML PUBLIC "-//W3C//DTD HTML 3.2//E
	N">\n<HTML>\n<HEAD>\n<TITLE></TITLE>\n</HEAD>\n<BODY>\n<h3>The Orange vs. O
	netouchables FC</h3>More info: <a href="https://www.golnetwork.com/game/v/4
	1019/">#142</a>\n\n</BODY>\n</HTML>
STATUS:CONFIRMED
CLASS:PUBLIC
URL:https://www.golnetwork.com/game/v/41019/
X-MICROSOFT-CDO-BUSYSTATUS:BUSY
X-MICROSOFT-CDO-IMPORTANCE:1
END:VEVENT
BEGIN:VEVENT
UID:g477e@games.golnetwork.com
LOCATION:Lamport Stadium - Field 2
GEO:43.6390028;-79.4232104
CREATED:20131111T212319Z
DTSTART:20131207T180000Z
DTEND:20131207T190000Z
DTSTAMP:20260422T074410Z
SUMMARY:Onetouchables FC vs. The Worst Team Ever
DESCRIPTION:The Worst Team Ever vs. Onetouchables FCMore info: #177
X-ALT-DESC;FMTTYPE=text/html:<!DOCTYPE HTML PUBLIC "-//W3C//DTD HTML 3.2//E
	N">\n<HTML>\n<HEAD>\n<TITLE></TITLE>\n</HEAD>\n<BODY>\n<h3>The Worst Team E
	ver vs. Onetouchables FC</h3>More info: <a href="https://www.golnetwork.com
	/game/v/41020/">#177</a>\n\n</BODY>\n</HTML>
STATUS:CONFIRMED
CLASS:PUBLIC
URL:https://www.golnetwork.com/game/v/41020/
X-MICROSOFT-CDO-BUSYSTATUS:BUSY
X-MICROSOFT-CDO-IMPORTANCE:1
END:VEVENT
BEGIN:VEVENT
UID:g477g@games.golnetwork.com
LOCATION:Lamport Stadium - Field 2
GEO:43.6390028;-79.4232104
CREATED:20131111T212319Z
DTSTART:20131207T190000Z
DTEND:20131207T200000Z
DTSTAMP:20260422T074410Z
SUMMARY:The Orange vs. Magos
DESCRIPTION:Magos vs. The OrangeMore info: #180
X-ALT-DESC;FMTTYPE=text/html:<!DOCTYPE HTML PUBLIC "-//W3C//DTD HTML 3.2//E
	N">\n<HTML>\n<HEAD>\n<TITLE></TITLE>\n</HEAD>\n<BODY>\n<h3>Magos vs. The Or
	ange</h3>More info: <a href="https://www.golnetwork.com/game/v/41021/">#180
	</a>\n\n</BODY>\n</HTML>
STATUS:CONFIRMED
CLASS:PUBLIC
URL:https://www.golnetwork.com/game/v/41021/
X-MICROSOFT-CDO-BUSYSTATUS:BUSY
X-MICROSOFT-CDO-IMPORTANCE:1
END:VEVENT
BEGIN:VEVENT
UID:g477i@games.golnetwork.com
LOCATION:Lamport Stadium - Field 2
GEO:43.6390028;-79.4232104
CREATED:20131111T212319Z
DTSTART:20131207T200000Z
DTEND:20131207T210000Z
DTSTAMP:20260422T074410Z
SUMMARY:Lokomotiv Bison FC 1873 vs. Not Sure Yet
DESCRIPTION:Not Sure Yet vs. Lokomotiv Bison FC 1873More info: #183
X-ALT-DESC;FMTTYPE=text/html:<!DOCTYPE HTML PUBLIC "-//W3C//DTD HTML 3.2//E
	N">\n<HTML>\n<HEAD>\n<TITLE></TITLE>\n</HEAD>\n<BODY>\n<h3>Not Sure Yet vs.
	 Lokomotiv Bison FC 1873</h3>More info: <a href="https://www.golnetwork.com
	/game/v/41022/">#183</a>\n\n</BODY>\n</HTML>
STATUS:CONFIRMED
CLASS:PUBLIC
URL:https://www.golnetwork.com/game/v/41022/
X-MICROSOFT-CDO-BUSYSTATUS:BUSY
X-MICROSOFT-CDO-IMPORTANCE:1
END:VEVENT
BEGIN:VEVENT
UID:g477k@games.golnetwork.com
LOCATION:Lamport Stadium - Field 2
GEO:43.6390028;-79.4232104
CREATED:20131111T212319Z
DTSTART:20131214T180000Z
DTEND:20131214T190000Z
DTSTAMP:20260422T074410Z
SUMMARY:Not Sure Yet vs. Onetouchables FC
DESCRIPTION:Onetouchables FC vs. Not Sure YetMore info: #218
X-ALT-DESC;FMTTYPE=text/html:<!DOCTYPE HTML PUBLIC "-//W3C//DTD HTML 3.2//E
	N">\n<HTML>\n<HEAD>\n<TITLE></TITLE>\n</HEAD>\n<BODY>\n<h3>Onetouchables FC
	 vs. Not Sure Yet</h3>More info: <a href="https://www.golnetwork.com/game/v
	/41023/">#218</a>\n\n</BODY>\n</HTML>
STATUS:CONFIRMED
CLASS:PUBLIC
URL:https://www.golnetwork.com/game/v/41023/
X-MICROSOFT-CDO-BUSYSTATUS:BUSY
X-MICROSOFT-CDO-IMPORTANCE:1
END:VEVENT
BEGIN:VEVENT
UID:g477m@games.golnetwork.com
LOCATION:Lamport Stadium - Field 2
GEO:43.6390028;-79.4232104
CREATED:20131111T212319Z
DTSTART:20131214T190000Z
DTEND:20131214T200000Z
DTSTAMP:20260422T074410Z
SUMMARY:The Orange vs. Lokomotiv Bison FC 1873
DESCRIPTION:Lokomotiv Bison FC 1873 vs. The OrangeMore info: #221
X-ALT-DESC;FMTTYPE=text/html:<!DOCTYPE HTML PUBLIC "-//W3C//DTD HTML 3.2//E
	N">\n<HTML>\n<HEAD>\n<TITLE></TITLE>\n</HEAD>\n<BODY>\n<h3>Lokomotiv Bison 
	FC 1873 vs. The Orange</h3>More info: <a href="https://www.golnetwork.com/g
	ame/v/41024/">#221</a>\n\n</BODY>\n</HTML>
STATUS:CONFIRMED
CLASS:PUBLIC
URL:https://www.golnetwork.com/game/v/41024/
X-MICROSOFT-CDO-BUSYSTATUS:BUSY
X-MICROSOFT-CDO-IMPORTANCE:1
END:VEVENT
BEGIN:VEVENT
UID:g477o@games.golnetwork.com
LOCATION:Lamport Stadium - Field 2
GEO:43.6390028;-79.4232104
CREATED:20131111T212319Z
DTSTART:20131214T200000Z
DTEND:20131214T210000Z
DTSTAMP:20260422T074410Z
SUMMARY:Magos vs. The Worst Team Ever
DESCRIPTION:The Worst Team Ever vs. MagosMore info: #224
X-ALT-DESC;FMTTYPE=text/html:<!DOCTYPE HTML PUBLIC "-//W3C//DTD HTML 3.2//E
	N">\n<HTML>\n<HEAD>\n<TITLE></TITLE>\n</HEAD>\n<BODY>\n<h3>The Worst Team E
	ver vs. Magos</h3>More info: <a href="https://www.golnetwork.com/game/v/410
	25/">#224</a>\n\n</BODY>\n</HTML>
STATUS:CONFIRMED
CLASS:PUBLIC
URL:https://www.golnetwork.com/game/v/41025/
X-MICROSOFT-CDO-BUSYSTATUS:BUSY
X-MICROSOFT-CDO-IMPORTANCE:1
END:VEVENT
BEGIN:VEVENT
UID:g477q@games.golnetwork.com
LOCATION:Lamport Stadium - Field 2
GEO:43.6390028;-79.4232104
CREATED:20131111T212319Z
DTSTART:20131221T180000Z
DTEND:20131221T190000Z
DTSTAMP:20260422T074410Z
SUMMARY:The Orange vs. Lokomotiv Bison FC 1873
DESCRIPTION:Lokomotiv Bison FC 1873 vs. The OrangeMore info: #259
X-ALT-DESC;FMTTYPE=text/html:<!DOCTYPE HTML PUBLIC "-//W3C//DTD HTML 3.2//E
	N">\n<HTML>\n<HEAD>\n<TITLE></TITLE>\n</HEAD>\n<BODY>\n<h3>Lokomotiv Bison 
	FC 1873 vs. The Orange</h3>More info: <a href="https://www.golnetwork.com/g
	ame/v/41026/">#259</a>\n\n</BODY>\n</HTML>
STATUS:CONFIRMED
CLASS:PUBLIC
URL:https://www.golnetwork.com/game/v/41026/
X-MICROSOFT-CDO-BUSYSTATUS:BUSY
X-MICROSOFT-CDO-IMPORTANCE:1
END:VEVENT
BEGIN:VEVENT
UID:g4781@games.golnetwork.com
LOCATION:Lamport Stadium - Field 2
GEO:43.6390028;-79.4232104
CREATED:20131111T212319Z
DTSTART:20131221T190000Z
DTEND:20131221T200000Z
DTSTAMP:20260422T074410Z
SUMMARY:Not Sure Yet vs. Onetouchables FC
DESCRIPTION:Onetouchables FC vs. Not Sure YetMore info: #262
X-ALT-DESC;FMTTYPE=text/html:<!DOCTYPE HTML PUBLIC "-//W3C//DTD HTML 3.2//E
	N">\n<HTML>\n<HEAD>\n<TITLE></TITLE>\n</HEAD>\n<BODY>\n<h3>Onetouchables FC
	 vs. Not Sure Yet</h3>More info: <a href="https://www.golnetwork.com/game/v
	/41027/">#262</a>\n\n</BODY>\n</HTML>
STATUS:CONFIRMED
CLASS:PUBLIC
URL:https://www.golnetwork.com/game/v/41027/
X-MICROSOFT-CDO-BUSYSTATUS:BUSY
X-MICROSOFT-CDO-IMPORTANCE:1
END:VEVENT
BEGIN:VEVENT
UID:g4783@games.golnetwork.com
LOCATION:Lamport Stadium - Field 2
GEO:43.6390028;-79.4232104
CREATED:20131111T212319Z
DTSTART:20131221T200000Z
DTEND:20131221T210000Z
DTSTAMP:20260422T074410Z
SUMMARY:The Worst Team Ever vs. Magos
DESCRIPTION:Magos vs. The Worst Team EverMore info: #265
X-ALT-DESC;FMTTYPE=text/html:<!DOCTYPE HTML PUBLIC "-//W3C//DTD HTML 3.2//E
	N">\n<HTML>\n<HEAD>\n<TITLE></TITLE>\n</HEAD>\n<BODY>\n<h3>Magos vs. The Wo
	rst Team Ever</h3>More info: <a href="https://www.golnetwork.com/game/v/410
	28/">#265</a>\n\n</BODY>\n</HTML>
STATUS:CONFIRMED
CLASS:PUBLIC
URL:https://www.golnetwork.com/game/v/41028/
X-MICROSOFT-CDO-BUSYSTATUS:BUSY
X-MICROSOFT-CDO-IMPORTANCE:1
END:VEVENT
BEGIN:VEVENT
UID:g4785@games.golnetwork.com
LOCATION:Lamport Stadium - Field 2
GEO:43.6390028;-79.4232104
CREATED:20131111T212319Z
DTSTART:20140104T180000Z
DTEND:20140104T190000Z
DTSTAMP:20260422T074410Z
SUMMARY:Lokomotiv Bison FC 1873 vs. The Worst Team Ever
DESCRIPTION:The Worst Team Ever vs. Lokomotiv Bison FC 1873More info: #280
X-ALT-DESC;FMTTYPE=text/html:<!DOCTYPE HTML PUBLIC "-//W3C//DTD HTML 3.2//E
	N">\n<HTML>\n<HEAD>\n<TITLE></TITLE>\n</HEAD>\n<BODY>\n<h3>The Worst Team E
	ver vs. Lokomotiv Bison FC 1873</h3>More info: <a href="https://www.golnetw
	ork.com/game/v/41029/">#280</a>\n\n</BODY>\n</HTML>
STATUS:CONFIRMED
CLASS:PUBLIC
URL:https://www.golnetwork.com/game/v/41029/
X-MICROSOFT-CDO-BUSYSTATUS:BUSY
X-MICROSOFT-CDO-IMPORTANCE:1
END:VEVENT
BEGIN:VEVENT
UID:g4787@games.golnetwork.com
LOCATION:Lamport Stadium - Field 2
GEO:43.6390028;-79.4232104
CREATED:20131111T212319Z
DTSTART:20140104T190000Z
DTEND:20140104T200000Z
DTSTAMP:20260422T074410Z
SUMMARY:Magos vs. Onetouchables FC
DESCRIPTION:Onetouchables FC vs. MagosMore info: #283
X-ALT-DESC;FMTTYPE=text/html:<!DOCTYPE HTML PUBLIC "-//W3C//DTD HTML 3.2//E
	N">\n<HTML>\n<HEAD>\n<TITLE></TITLE>\n</HEAD>\n<BODY>\n<h3>Onetouchables FC
	 vs. Magos</h3>More info: <a href="https://www.golnetwork.com/game/v/41030/
	">#283</a>\n\n</BODY>\n</HTML>
STATUS:CONFIRMED
CLASS:PUBLIC
URL:https://www.golnetwork.com/game/v/41030/
X-MICROSOFT-CDO-BUSYSTATUS:BUSY
X-MICROSOFT-CDO-IMPORTANCE:1
END:VEVENT
BEGIN:VEVENT
UID:g4789@games.golnetwork.com
LOCATION:Lamport Stadium - Field 2
GEO:43.6390028;-79.4232104
CREATED:20131111T212319Z
DTSTART:20140104T200000Z
DTEND:20140104T210000Z
DTSTAMP:20260422T074410Z
SUMMARY:Not Sure Yet vs. The Orange
DESCRIPTION:The Orange vs. Not Sure YetMore info: #286
X-ALT-DESC;FMTTYPE=text/html:<!DOCTYPE HTML PUBLIC "-//W3C//DTD HTML 3.2//E
	N">\n<HTML>\n<HEAD>\n<TITLE></TITLE>\n</HEAD>\n<BODY>\n<h3>The Orange vs. N
	ot Sure Yet</h3>More info: <a href="https://www.golnetwork.com/game/v/41031
	/">#286</a>\n\n</BODY>\n</HTML>
STATUS:CONFIRMED
CLASS:PUBLIC
URL:https://www.golnetwork.com/game/v/41031/
X-MICROSOFT-CDO-BUSYSTATUS:BUSY
X-MICROSOFT-CDO-IMPORTANCE:1
END:VEVENT
BEGIN:VEVENT
UID:g478b@games.golnetwork.com
LOCATION:Lamport Stadium - Field 2
GEO:43.6390028;-79.4232104
CREATED:20131111T212319Z
DTSTART:20140111T180000Z
DTEND:20140111T190000Z
DTSTAMP:20260422T074410Z
SUMMARY:Magos vs. The Orange
DESCRIPTION:The Orange vs. MagosMore info: #310
X-ALT-DESC;FMTTYPE=text/html:<!DOCTYPE HTML PUBLIC "-//W3C//DTD HTML 3.2//E
	N">\n<HTML>\n<HEAD>\n<TITLE></TITLE>\n</HEAD>\n<BODY>\n<h3>The Orange vs. M
	agos</h3>More info: <a href="https://www.golnetwork.com/game/v/41032/">#310
	</a>\n\n</BODY>\n</HTML>
STATUS:CONFIRMED
CLASS:PUBLIC
URL:https://www.golnetwork.com/game/v/41032/
X-MICROSOFT-CDO-BUSYSTATUS:BUSY
X-MICROSOFT-CDO-IMPORTANCE:1
END:VEVENT
BEGIN:VEVENT
UID:g478d@games.golnetwork.com
LOCATION:Lamport Stadium - Field 2
GEO:43.6390028;-79.4232104
CREATED:20131111T212319Z
DTSTART:20140111T190000Z
DTEND:20140111T200000Z
DTSTAMP:20260422T074410Z
SUMMARY:Lokomotiv Bison FC 1873 vs. Not Sure Yet
DESCRIPTION:Not Sure Yet vs. Lokomotiv Bison FC 1873More info: #313
X-ALT-DESC;FMTTYPE=text/html:<!DOCTYPE HTML PUBLIC "-//W3C//DTD HTML 3.2//E
	N">\n<HTML>\n<HEAD>\n<TITLE></TITLE>\n</HEAD>\n<BODY>\n<h3>Not Sure Yet vs.
	 Lokomotiv Bison FC 1873</h3>More info: <a href="https://www.golnetwork.com
	/game/v/41033/">#313</a>\n\n</BODY>\n</HTML>
STATUS:CONFIRMED
CLASS:PUBLIC
URL:https://www.golnetwork.com/game/v/41033/
X-MICROSOFT-CDO-BUSYSTATUS:BUSY
X-MICROSOFT-CDO-IMPORTANCE:1
END:VEVENT
BEGIN:VEVENT
UID:g478f@games.golnetwork.com
LOCATION:Lamport Stadium - Field 2
GEO:43.6390028;-79.4232104
CREATED:20131111T212319Z
DTSTART:20140111T200000Z
DTEND:20140111T210000Z
DTSTAMP:20260422T074410Z
SUMMARY:Onetouchables FC vs. The Worst Team Ever
DESCRIPTION:The Worst Team Ever vs. Onetouchables FCMore info: #316
X-ALT-DESC;FMTTYPE=text/html:<!DOCTYPE HTML PUBLIC "-//W3C//DTD HTML 3.2//E
	N">\n<HTML>\n<HEAD>\n<TITLE></TITLE>\n</HEAD>\n<BODY>\n<h3>The Worst Team E
	ver vs. Onetouchables FC</h3>More info: <a href="https://www.golnetwork.com
	/game/v/41034/">#316</a>\n\n</BODY>\n</HTML>
STATUS:CONFIRMED
CLASS:PUBLIC
URL:https://www.golnetwork.com/game/v/41034/
X-MICROSOFT-CDO-BUSYSTATUS:BUSY
X-MICROSOFT-CDO-IMPORTANCE:1
END:VEVENT
BEGIN:VEVENT
UID:g478h@games.golnetwork.com
LOCATION:Lamport Stadium - Field 2
GEO:43.6390028;-79.4232104
CREATED:20131111T212319Z
DTSTART:20140118T180000Z
DTEND:20140118T190000Z
DTSTAMP:20260422T074410Z
SUMMARY:Not Sure Yet vs. The Worst Team Ever
DESCRIPTION:The Worst Team Ever vs. Not Sure YetMore info: #340
X-ALT-DESC;FMTTYPE=text/html:<!DOCTYPE HTML PUBLIC "-//W3C//DTD HTML 3.2//E
	N">\n<HTML>\n<HEAD>\n<TITLE></TITLE>\n</HEAD>\n<BODY>\n<h3>The Worst Team E
	ver vs. Not Sure Yet</h3>More info: <a href="https://www.golnetwork.com/gam
	e/v/41035/">#340</a>\n\n</BODY>\n</HTML>
STATUS:CONFIRMED
CLASS:PUBLIC
URL:https://www.golnetwork.com/game/v/41035/
X-MICROSOFT-CDO-BUSYSTATUS:BUSY
X-MICROSOFT-CDO-IMPORTANCE:1
END:VEVENT
BEGIN:VEVENT
UID:g478j@games.golnetwork.com
LOCATION:Lamport Stadium - Field 2
GEO:43.6390028;-79.4232104
CREATED:20131111T212319Z
DTSTART:20140118T190000Z
DTEND:20140118T200000Z
DTSTAMP:20260422T074410Z
SUMMARY:Onetouchables FC vs. The Orange
DESCRIPTION:The Orange vs. Onetouchables FCMore info: #343
X-ALT-DESC;FMTTYPE=text/html:<!DOCTYPE HTML PUBLIC "-//W3C//DTD HTML 3.2//E
	N">\n<HTML>\n<HEAD>\n<TITLE></TITLE>\n</HEAD>\n<BODY>\n<h3>The Orange vs. O
	netouchables FC</h3>More info: <a href="https://www.golnetwork.com/game/v/4
	1036/">#343</a>\n\n</BODY>\n</HTML>
STATUS:CONFIRMED
CLASS:PUBLIC
URL:https://www.golnetwork.com/game/v/41036/
X-MICROSOFT-CDO-BUSYSTATUS:BUSY
X-MICROSOFT-CDO-IMPORTANCE:1
END:VEVENT
BEGIN:VEVENT
UID:g478l@games.golnetwork.com
LOCATION:Lamport Stadium - Field 2
GEO:43.6390028;-79.4232104
CREATED:20131111T212319Z
DTSTART:20140118T200000Z
DTEND:20140118T210000Z
DTSTAMP:20260422T074410Z
SUMMARY:Lokomotiv Bison FC 1873 vs. Magos
DESCRIPTION:Magos vs. Lokomotiv Bison FC 1873More info: #346
X-ALT-DESC;FMTTYPE=text/html:<!DOCTYPE HTML PUBLIC "-//W3C//DTD HTML 3.2//E
	N">\n<HTML>\n<HEAD>\n<TITLE></TITLE>\n</HEAD>\n<BODY>\n<h3>Magos vs. Lokomo
	tiv Bison FC 1873</h3>More info: <a href="https://www.golnetwork.com/game/v
	/41037/">#346</a>\n\n</BODY>\n</HTML>
STATUS:CONFIRMED
CLASS:PUBLIC
URL:https://www.golnetwork.com/game/v/41037/
X-MICROSOFT-CDO-BUSYSTATUS:BUSY
X-MICROSOFT-CDO-IMPORTANCE:1
END:VEVENT
BEGIN:VEVENT
UID:g478n@games.golnetwork.com
LOCATION:Lamport Stadium - Field 2
GEO:43.6390028;-79.4232104
CREATED:20131111T212319Z
DTSTART:20140125T180000Z
DTEND:20140125T190000Z
DTSTAMP:20260422T074410Z
SUMMARY:The Orange vs. The Worst Team Ever
DESCRIPTION:The Worst Team Ever vs. The OrangeMore info: #370
X-ALT-DESC;FMTTYPE=text/html:<!DOCTYPE HTML PUBLIC "-//W3C//DTD HTML 3.2//E
	N">\n<HTML>\n<HEAD>\n<TITLE></TITLE>\n</HEAD>\n<BODY>\n<h3>The Worst Team E
	ver vs. The Orange</h3>More info: <a href="https://www.golnetwork.com/game/
	v/41038/">#370</a>\n\n</BODY>\n</HTML>
STATUS:CONFIRMED
CLASS:PUBLIC
URL:https://www.golnetwork.com/game/v/41038/
X-MICROSOFT-CDO-BUSYSTATUS:BUSY
X-MICROSOFT-CDO-IMPORTANCE:1
END:VEVENT
BEGIN:VEVENT
UID:g478p@games.golnetwork.com
LOCATION:Lamport Stadium - Field 2
GEO:43.6390028;-79.4232104
CREATED:20131111T212319Z
DTSTART:20140125T190000Z
DTEND:20140125T200000Z
DTSTAMP:20260422T074410Z
SUMMARY:Magos vs. Not Sure Yet
DESCRIPTION:Not Sure Yet vs. MagosMore info: #373
X-ALT-DESC;FMTTYPE=text/html:<!DOCTYPE HTML PUBLIC "-//W3C//DTD HTML 3.2//E
	N">\n<HTML>\n<HEAD>\n<TITLE></TITLE>\n</HEAD>\n<BODY>\n<h3>Not Sure Yet vs.
	 Magos</h3>More info: <a href="https://www.golnetwork.com/game/v/41039/">#3
	73</a>\n\n</BODY>\n</HTML>
STATUS:CONFIRMED
CLASS:PUBLIC
URL:https://www.golnetwork.com/game/v/41039/
X-MICROSOFT-CDO-BUSYSTATUS:BUSY
X-MICROSOFT-CDO-IMPORTANCE:1
END:VEVENT
BEGIN:VEVENT
UID:g4790@games.golnetwork.com
LOCATION:Lamport Stadium - Field 2
GEO:43.6390028;-79.4232104
CREATED:20131111T212319Z
DTSTART:20140125T200000Z
DTEND:20140125T210000Z
DTSTAMP:20260422T074410Z
SUMMARY:Onetouchables FC vs. Lokomotiv Bison FC 1873
DESCRIPTION:Lokomotiv Bison FC 1873 vs. Onetouchables FCMore info: #376
X-ALT-DESC;FMTTYPE=text/html:<!DOCTYPE HTML PUBLIC "-//W3C//DTD HTML 3.2//E
	N">\n<HTML>\n<HEAD>\n<TITLE></TITLE>\n</HEAD>\n<BODY>\n<h3>Lokomotiv Bison 
	FC 1873 vs. Onetouchables FC</h3>More info: <a href="https://www.golnetwork
	.com/game/v/41040/">#376</a>\n\n</BODY>\n</HTML>
STATUS:CONFIRMED
CLASS:PUBLIC
URL:https://www.golnetwork.com/game/v/41040/
X-MICROSOFT-CDO-BUSYSTATUS:BUSY
X-MICROSOFT-CDO-IMPORTANCE:1
END:VEVENT
END:VCALENDAR
