BEGIN:VCALENDAR
PRODID:-//gdesolutions.com//MV Framework 1.0.0.1607 Calendar//EN
VERSION:2.0
METHOD:PUBLISH
CALSCALE:GREGORIAN
BEGIN:VEVENT
UID:g458j@games.golnetwork.com
LOCATION:Monarch Park Stadium - Field 3
GEO:43.6792789;-79.3234873
CREATED:20131023T104333Z
DTSTART:20131028T010000Z
DTEND:20131028T020000Z
DTSTAMP:20260422T071424Z
SUMMARY:D.T.F.C. vs. Killtrocity Football Club
DESCRIPTION:Killtrocity Football Club vs. D.T.F.C.More info: #1
X-ALT-DESC;FMTTYPE=text/html:<!DOCTYPE HTML PUBLIC "-//W3C//DTD HTML 3.2//E
	N">\n<HTML>\n<HEAD>\n<TITLE></TITLE>\n</HEAD>\n<BODY>\n<h3>Killtrocity Foot
	ball Club vs. D.T.F.C.</h3>More info: <a href="https://www.golnetwork.com/g
	ame/v/40307/">#1</a>\n\n</BODY>\n</HTML>
STATUS:CONFIRMED
CLASS:PUBLIC
URL:https://www.golnetwork.com/game/v/40307/
X-MICROSOFT-CDO-BUSYSTATUS:BUSY
X-MICROSOFT-CDO-IMPORTANCE:1
END:VEVENT
BEGIN:VEVENT
UID:g458h@games.golnetwork.com
LOCATION:Monarch Park Stadium - Field 3
GEO:43.6792789;-79.3234873
CREATED:20131023T104333Z
DTSTART:20131028T020000Z
DTEND:20131028T030000Z
DTSTAMP:20260422T071424Z
SUMMARY:The Special Ones vs. Dynamite FC
DESCRIPTION:Dynamite FC vs. The Special OnesMore info: #2
X-ALT-DESC;FMTTYPE=text/html:<!DOCTYPE HTML PUBLIC "-//W3C//DTD HTML 3.2//E
	N">\n<HTML>\n<HEAD>\n<TITLE></TITLE>\n</HEAD>\n<BODY>\n<h3>Dynamite FC vs. 
	The Special Ones</h3>More info: <a href="https://www.golnetwork.com/game/v/
	40306/">#2</a>\n\n</BODY>\n</HTML>
STATUS:CONFIRMED
CLASS:PUBLIC
URL:https://www.golnetwork.com/game/v/40306/
X-MICROSOFT-CDO-BUSYSTATUS:BUSY
X-MICROSOFT-CDO-IMPORTANCE:1
END:VEVENT
BEGIN:VEVENT
UID:g458f@games.golnetwork.com
LOCATION:Monarch Park Stadium - Field 3
GEO:43.6792789;-79.3234873
CREATED:20131023T104333Z
DTSTART:20131028T030000Z
DTEND:20131028T040000Z
DTSTAMP:20260422T071424Z
SUMMARY:Monstars FC vs. RICE UTD
DESCRIPTION:RICE UTD vs. Monstars FCMore info: #3
X-ALT-DESC;FMTTYPE=text/html:<!DOCTYPE HTML PUBLIC "-//W3C//DTD HTML 3.2//E
	N">\n<HTML>\n<HEAD>\n<TITLE></TITLE>\n</HEAD>\n<BODY>\n<h3>RICE UTD vs. Mon
	stars FC</h3>More info: <a href="https://www.golnetwork.com/game/v/40305/">
	#3</a>\n\n</BODY>\n</HTML>
STATUS:CONFIRMED
CLASS:PUBLIC
URL:https://www.golnetwork.com/game/v/40305/
X-MICROSOFT-CDO-BUSYSTATUS:BUSY
X-MICROSOFT-CDO-IMPORTANCE:1
END:VEVENT
BEGIN:VEVENT
UID:g458l@games.golnetwork.com
LOCATION:Monarch Park Stadium - Field 1
GEO:43.6792789;-79.3234873
CREATED:20131023T104333Z
DTSTART:20131104T020000Z
DTEND:20131104T030000Z
DTSTAMP:20260422T071424Z
SUMMARY:The Special Ones vs. Monstars FC
DESCRIPTION:Monstars FC vs. The Special OnesMore info: #4
X-ALT-DESC;FMTTYPE=text/html:<!DOCTYPE HTML PUBLIC "-//W3C//DTD HTML 3.2//E
	N">\n<HTML>\n<HEAD>\n<TITLE></TITLE>\n</HEAD>\n<BODY>\n<h3>Monstars FC vs. 
	The Special Ones</h3>More info: <a href="https://www.golnetwork.com/game/v/
	40308/">#4</a>\n\n</BODY>\n</HTML>
STATUS:CONFIRMED
CLASS:PUBLIC
URL:https://www.golnetwork.com/game/v/40308/
X-MICROSOFT-CDO-BUSYSTATUS:BUSY
X-MICROSOFT-CDO-IMPORTANCE:1
END:VEVENT
BEGIN:VEVENT
UID:g458n@games.golnetwork.com
LOCATION:Monarch Park Stadium - Field 1
GEO:43.6792789;-79.3234873
CREATED:20131023T104333Z
DTSTART:20131104T030000Z
DTEND:20131104T040000Z
DTSTAMP:20260422T071424Z
SUMMARY:D.T.F.C. vs. RICE UTD
DESCRIPTION:RICE UTD vs. D.T.F.C.More info: #5
X-ALT-DESC;FMTTYPE=text/html:<!DOCTYPE HTML PUBLIC "-//W3C//DTD HTML 3.2//E
	N">\n<HTML>\n<HEAD>\n<TITLE></TITLE>\n</HEAD>\n<BODY>\n<h3>RICE UTD vs. D.T
	.F.C.</h3>More info: <a href="https://www.golnetwork.com/game/v/40309/">#5<
	/a>\n\n</BODY>\n</HTML>
STATUS:CONFIRMED
CLASS:PUBLIC
URL:https://www.golnetwork.com/game/v/40309/
X-MICROSOFT-CDO-BUSYSTATUS:BUSY
X-MICROSOFT-CDO-IMPORTANCE:1
END:VEVENT
BEGIN:VEVENT
UID:g458p@games.golnetwork.com
LOCATION:Monarch Park Stadium - Field 1
GEO:43.6792789;-79.3234873
CREATED:20131023T104333Z
DTSTART:20131104T040000Z
DTEND:20131104T050000Z
DTSTAMP:20260422T071424Z
SUMMARY:Killtrocity Football Club vs. Dynamite FC
DESCRIPTION:Dynamite FC vs. Killtrocity Football ClubMore info: #6
X-ALT-DESC;FMTTYPE=text/html:<!DOCTYPE HTML PUBLIC "-//W3C//DTD HTML 3.2//E
	N">\n<HTML>\n<HEAD>\n<TITLE></TITLE>\n</HEAD>\n<BODY>\n<h3>Dynamite FC vs. 
	Killtrocity Football Club</h3>More info: <a href="https://www.golnetwork.co
	m/game/v/40310/">#6</a>\n\n</BODY>\n</HTML>
STATUS:CONFIRMED
CLASS:PUBLIC
URL:https://www.golnetwork.com/game/v/40310/
X-MICROSOFT-CDO-BUSYSTATUS:BUSY
X-MICROSOFT-CDO-IMPORTANCE:1
END:VEVENT
BEGIN:VEVENT
UID:g4590@games.golnetwork.com
LOCATION:Monarch Park Stadium - Field 1
GEO:43.6792789;-79.3234873
CREATED:20131023T104333Z
DTSTART:20131111T020000Z
DTEND:20131111T030000Z
DTSTAMP:20260422T071424Z
SUMMARY:Killtrocity Football Club vs. The Special Ones
DESCRIPTION:The Special Ones vs. Killtrocity Football ClubMore info: #7
X-ALT-DESC;FMTTYPE=text/html:<!DOCTYPE HTML PUBLIC "-//W3C//DTD HTML 3.2//E
	N">\n<HTML>\n<HEAD>\n<TITLE></TITLE>\n</HEAD>\n<BODY>\n<h3>The Special Ones
	 vs. Killtrocity Football Club</h3>More info: <a href="https://www.golnetwo
	rk.com/game/v/40311/">#7</a>\n\n</BODY>\n</HTML>
STATUS:CONFIRMED
CLASS:PUBLIC
URL:https://www.golnetwork.com/game/v/40311/
X-MICROSOFT-CDO-BUSYSTATUS:BUSY
X-MICROSOFT-CDO-IMPORTANCE:1
END:VEVENT
BEGIN:VEVENT
UID:g4592@games.golnetwork.com
LOCATION:Monarch Park Stadium - Field 1
GEO:43.6792789;-79.3234873
CREATED:20131023T104333Z
DTSTART:20131111T030000Z
DTEND:20131111T040000Z
DTSTAMP:20260422T071424Z
SUMMARY:RICE UTD vs. Dynamite FC
DESCRIPTION:Dynamite FC vs. RICE UTDMore info: #8
X-ALT-DESC;FMTTYPE=text/html:<!DOCTYPE HTML PUBLIC "-//W3C//DTD HTML 3.2//E
	N">\n<HTML>\n<HEAD>\n<TITLE></TITLE>\n</HEAD>\n<BODY>\n<h3>Dynamite FC vs. 
	RICE UTD</h3>More info: <a href="https://www.golnetwork.com/game/v/40312/">
	#8</a>\n\n</BODY>\n</HTML>
STATUS:CONFIRMED
CLASS:PUBLIC
URL:https://www.golnetwork.com/game/v/40312/
X-MICROSOFT-CDO-BUSYSTATUS:BUSY
X-MICROSOFT-CDO-IMPORTANCE:1
END:VEVENT
BEGIN:VEVENT
UID:g4594@games.golnetwork.com
LOCATION:Monarch Park Stadium - Field 1
GEO:43.6792789;-79.3234873
CREATED:20131023T104333Z
DTSTART:20131111T040000Z
DTEND:20131111T050000Z
DTSTAMP:20260422T071424Z
SUMMARY:D.T.F.C. vs. Monstars FC
DESCRIPTION:Monstars FC vs. D.T.F.C.More info: #9
X-ALT-DESC;FMTTYPE=text/html:<!DOCTYPE HTML PUBLIC "-//W3C//DTD HTML 3.2//E
	N">\n<HTML>\n<HEAD>\n<TITLE></TITLE>\n</HEAD>\n<BODY>\n<h3>Monstars FC vs. 
	D.T.F.C.</h3>More info: <a href="https://www.golnetwork.com/game/v/40313/">
	#9</a>\n\n</BODY>\n</HTML>
STATUS:CONFIRMED
CLASS:PUBLIC
URL:https://www.golnetwork.com/game/v/40313/
X-MICROSOFT-CDO-BUSYSTATUS:BUSY
X-MICROSOFT-CDO-IMPORTANCE:1
END:VEVENT
BEGIN:VEVENT
UID:g4596@games.golnetwork.com
LOCATION:Monarch Park Stadium - Field 1
GEO:43.6792789;-79.3234873
CREATED:20131023T104333Z
DTSTART:20131118T020000Z
DTEND:20131118T030000Z
DTSTAMP:20260422T071424Z
SUMMARY:Killtrocity Football Club vs. Monstars FC
DESCRIPTION:Monstars FC vs. Killtrocity Football ClubMore info: #10
X-ALT-DESC;FMTTYPE=text/html:<!DOCTYPE HTML PUBLIC "-//W3C//DTD HTML 3.2//E
	N">\n<HTML>\n<HEAD>\n<TITLE></TITLE>\n</HEAD>\n<BODY>\n<h3>Monstars FC vs. 
	Killtrocity Football Club</h3>More info: <a href="https://www.golnetwork.co
	m/game/v/40314/">#10</a>\n\n</BODY>\n</HTML>
STATUS:CONFIRMED
CLASS:PUBLIC
URL:https://www.golnetwork.com/game/v/40314/
X-MICROSOFT-CDO-BUSYSTATUS:BUSY
X-MICROSOFT-CDO-IMPORTANCE:1
END:VEVENT
BEGIN:VEVENT
UID:g4598@games.golnetwork.com
LOCATION:Monarch Park Stadium - Field 1
GEO:43.6792789;-79.3234873
CREATED:20131023T104333Z
DTSTART:20131118T030000Z
DTEND:20131118T040000Z
DTSTAMP:20260422T071424Z
SUMMARY:Dynamite FC vs. D.T.F.C.
DESCRIPTION:D.T.F.C. vs. Dynamite FCMore info: #11
X-ALT-DESC;FMTTYPE=text/html:<!DOCTYPE HTML PUBLIC "-//W3C//DTD HTML 3.2//E
	N">\n<HTML>\n<HEAD>\n<TITLE></TITLE>\n</HEAD>\n<BODY>\n<h3>D.T.F.C. vs. Dyn
	amite FC</h3>More info: <a href="https://www.golnetwork.com/game/v/40315/">
	#11</a>\n\n</BODY>\n</HTML>
STATUS:CONFIRMED
CLASS:PUBLIC
URL:https://www.golnetwork.com/game/v/40315/
X-MICROSOFT-CDO-BUSYSTATUS:BUSY
X-MICROSOFT-CDO-IMPORTANCE:1
END:VEVENT
BEGIN:VEVENT
UID:g459a@games.golnetwork.com
LOCATION:Monarch Park Stadium - Field 1
GEO:43.6792789;-79.3234873
CREATED:20131023T104333Z
DTSTART:20131118T040000Z
DTEND:20131118T050000Z
DTSTAMP:20260422T071424Z
SUMMARY:RICE UTD vs. The Special Ones
DESCRIPTION:The Special Ones vs. RICE UTDMore info: #12
X-ALT-DESC;FMTTYPE=text/html:<!DOCTYPE HTML PUBLIC "-//W3C//DTD HTML 3.2//E
	N">\n<HTML>\n<HEAD>\n<TITLE></TITLE>\n</HEAD>\n<BODY>\n<h3>The Special Ones
	 vs. RICE UTD</h3>More info: <a href="https://www.golnetwork.com/game/v/403
	16/">#12</a>\n\n</BODY>\n</HTML>
STATUS:CONFIRMED
CLASS:PUBLIC
URL:https://www.golnetwork.com/game/v/40316/
X-MICROSOFT-CDO-BUSYSTATUS:BUSY
X-MICROSOFT-CDO-IMPORTANCE:1
END:VEVENT
BEGIN:VEVENT
UID:g459c@games.golnetwork.com
LOCATION:Monarch Park Stadium - Field 1
GEO:43.6792789;-79.3234873
CREATED:20131023T104333Z
DTSTART:20131125T020000Z
DTEND:20131125T030000Z
DTSTAMP:20260422T071424Z
SUMMARY:The Special Ones vs. D.T.F.C.
DESCRIPTION:D.T.F.C. vs. The Special OnesMore info: #13
X-ALT-DESC;FMTTYPE=text/html:<!DOCTYPE HTML PUBLIC "-//W3C//DTD HTML 3.2//E
	N">\n<HTML>\n<HEAD>\n<TITLE></TITLE>\n</HEAD>\n<BODY>\n<h3>D.T.F.C. vs. The
	 Special Ones</h3>More info: <a href="https://www.golnetwork.com/game/v/403
	17/">#13</a>\n\n</BODY>\n</HTML>
STATUS:CONFIRMED
CLASS:PUBLIC
URL:https://www.golnetwork.com/game/v/40317/
X-MICROSOFT-CDO-BUSYSTATUS:BUSY
X-MICROSOFT-CDO-IMPORTANCE:1
END:VEVENT
BEGIN:VEVENT
UID:g459e@games.golnetwork.com
LOCATION:Monarch Park Stadium - Field 1
GEO:43.6792789;-79.3234873
CREATED:20131023T104333Z
DTSTART:20131125T030000Z
DTEND:20131125T040000Z
DTSTAMP:20260422T071424Z
SUMMARY:RICE UTD vs. Killtrocity Football Club
DESCRIPTION:Killtrocity Football Club vs. RICE UTDMore info: #14
X-ALT-DESC;FMTTYPE=text/html:<!DOCTYPE HTML PUBLIC "-//W3C//DTD HTML 3.2//E
	N">\n<HTML>\n<HEAD>\n<TITLE></TITLE>\n</HEAD>\n<BODY>\n<h3>Killtrocity Foot
	ball Club vs. RICE UTD</h3>More info: <a href="https://www.golnetwork.com/g
	ame/v/40318/">#14</a>\n\n</BODY>\n</HTML>
STATUS:CONFIRMED
CLASS:PUBLIC
URL:https://www.golnetwork.com/game/v/40318/
X-MICROSOFT-CDO-BUSYSTATUS:BUSY
X-MICROSOFT-CDO-IMPORTANCE:1
END:VEVENT
BEGIN:VEVENT
UID:g459g@games.golnetwork.com
LOCATION:Monarch Park Stadium - Field 1
GEO:43.6792789;-79.3234873
CREATED:20131023T104333Z
DTSTART:20131125T040000Z
DTEND:20131125T050000Z
DTSTAMP:20260422T071424Z
SUMMARY:Dynamite FC vs. Monstars FC
DESCRIPTION:Monstars FC vs. Dynamite FCMore info: #15
X-ALT-DESC;FMTTYPE=text/html:<!DOCTYPE HTML PUBLIC "-//W3C//DTD HTML 3.2//E
	N">\n<HTML>\n<HEAD>\n<TITLE></TITLE>\n</HEAD>\n<BODY>\n<h3>Monstars FC vs. 
	Dynamite FC</h3>More info: <a href="https://www.golnetwork.com/game/v/40319
	/">#15</a>\n\n</BODY>\n</HTML>
STATUS:CONFIRMED
CLASS:PUBLIC
URL:https://www.golnetwork.com/game/v/40319/
X-MICROSOFT-CDO-BUSYSTATUS:BUSY
X-MICROSOFT-CDO-IMPORTANCE:1
END:VEVENT
BEGIN:VEVENT
UID:g459i@games.golnetwork.com
LOCATION:Monarch Park Stadium - Field 1
GEO:43.6792789;-79.3234873
CREATED:20131023T104412Z
DTSTART:20131202T020000Z
DTEND:20131202T030000Z
DTSTAMP:20260422T071424Z
SUMMARY:RICE UTD vs. Monstars FC
DESCRIPTION:Monstars FC vs. RICE UTDMore info: #16
X-ALT-DESC;FMTTYPE=text/html:<!DOCTYPE HTML PUBLIC "-//W3C//DTD HTML 3.2//E
	N">\n<HTML>\n<HEAD>\n<TITLE></TITLE>\n</HEAD>\n<BODY>\n<h3>Monstars FC vs. 
	RICE UTD</h3>More info: <a href="https://www.golnetwork.com/game/v/40320/">
	#16</a>\n\n</BODY>\n</HTML>
STATUS:CONFIRMED
CLASS:PUBLIC
URL:https://www.golnetwork.com/game/v/40320/
X-MICROSOFT-CDO-BUSYSTATUS:BUSY
X-MICROSOFT-CDO-IMPORTANCE:1
END:VEVENT
BEGIN:VEVENT
UID:g459k@games.golnetwork.com
LOCATION:Monarch Park Stadium - Field 1
GEO:43.6792789;-79.3234873
CREATED:20131023T104435Z
DTSTART:20131202T030000Z
DTEND:20131202T040000Z
DTSTAMP:20260422T071424Z
SUMMARY:The Special Ones vs. Dynamite FC
DESCRIPTION:Dynamite FC vs. The Special OnesMore info: #17
X-ALT-DESC;FMTTYPE=text/html:<!DOCTYPE HTML PUBLIC "-//W3C//DTD HTML 3.2//E
	N">\n<HTML>\n<HEAD>\n<TITLE></TITLE>\n</HEAD>\n<BODY>\n<h3>Dynamite FC vs. 
	The Special Ones</h3>More info: <a href="https://www.golnetwork.com/game/v/
	40321/">#17</a>\n\n</BODY>\n</HTML>
STATUS:CONFIRMED
CLASS:PUBLIC
URL:https://www.golnetwork.com/game/v/40321/
X-MICROSOFT-CDO-BUSYSTATUS:BUSY
X-MICROSOFT-CDO-IMPORTANCE:1
END:VEVENT
BEGIN:VEVENT
UID:g459m@games.golnetwork.com
LOCATION:Monarch Park Stadium - Field 1
GEO:43.6792789;-79.3234873
CREATED:20131023T104443Z
DTSTART:20131202T040000Z
DTEND:20131202T050000Z
DTSTAMP:20260422T071424Z
SUMMARY:D.T.F.C. vs. Killtrocity Football Club
DESCRIPTION:Killtrocity Football Club vs. D.T.F.C.More info: #18
X-ALT-DESC;FMTTYPE=text/html:<!DOCTYPE HTML PUBLIC "-//W3C//DTD HTML 3.2//E
	N">\n<HTML>\n<HEAD>\n<TITLE></TITLE>\n</HEAD>\n<BODY>\n<h3>Killtrocity Foot
	ball Club vs. D.T.F.C.</h3>More info: <a href="https://www.golnetwork.com/g
	ame/v/40322/">#18</a>\n\n</BODY>\n</HTML>
STATUS:CONFIRMED
CLASS:PUBLIC
URL:https://www.golnetwork.com/game/v/40322/
X-MICROSOFT-CDO-BUSYSTATUS:BUSY
X-MICROSOFT-CDO-IMPORTANCE:1
END:VEVENT
BEGIN:VEVENT
UID:g459o@games.golnetwork.com
LOCATION:Monarch Park Stadium - Field 1
GEO:43.6792789;-79.3234873
CREATED:20131023T104500Z
DTSTART:20131209T020000Z
DTEND:20131209T030000Z
DTSTAMP:20260422T071424Z
SUMMARY:Killtrocity Football Club vs. The Special Ones
DESCRIPTION:The Special Ones vs. Killtrocity Football ClubMore info: #19
X-ALT-DESC;FMTTYPE=text/html:<!DOCTYPE HTML PUBLIC "-//W3C//DTD HTML 3.2//E
	N">\n<HTML>\n<HEAD>\n<TITLE></TITLE>\n</HEAD>\n<BODY>\n<h3>The Special Ones
	 vs. Killtrocity Football Club</h3>More info: <a href="https://www.golnetwo
	rk.com/game/v/40323/">#19</a>\n\n</BODY>\n</HTML>
STATUS:CONFIRMED
CLASS:PUBLIC
URL:https://www.golnetwork.com/game/v/40323/
X-MICROSOFT-CDO-BUSYSTATUS:BUSY
X-MICROSOFT-CDO-IMPORTANCE:1
END:VEVENT
BEGIN:VEVENT
UID:g459q@games.golnetwork.com
LOCATION:Monarch Park Stadium - Field 1
GEO:43.6792789;-79.3234873
CREATED:20131023T104505Z
DTSTART:20131209T030000Z
DTEND:20131209T040000Z
DTSTAMP:20260422T071424Z
SUMMARY:Dynamite FC vs. RICE UTD
DESCRIPTION:RICE UTD vs. Dynamite FCMore info: #20
X-ALT-DESC;FMTTYPE=text/html:<!DOCTYPE HTML PUBLIC "-//W3C//DTD HTML 3.2//E
	N">\n<HTML>\n<HEAD>\n<TITLE></TITLE>\n</HEAD>\n<BODY>\n<h3>RICE UTD vs. Dyn
	amite FC</h3>More info: <a href="https://www.golnetwork.com/game/v/40324/">
	#20</a>\n\n</BODY>\n</HTML>
STATUS:CONFIRMED
CLASS:PUBLIC
URL:https://www.golnetwork.com/game/v/40324/
X-MICROSOFT-CDO-BUSYSTATUS:BUSY
X-MICROSOFT-CDO-IMPORTANCE:1
END:VEVENT
BEGIN:VEVENT
UID:g45a1@games.golnetwork.com
LOCATION:Monarch Park Stadium - Field 1
GEO:43.6792789;-79.3234873
CREATED:20131023T104509Z
DTSTART:20131209T040000Z
DTEND:20131209T050000Z
DTSTAMP:20260422T071424Z
SUMMARY:Monstars FC vs. D.T.F.C.
DESCRIPTION:D.T.F.C. vs. Monstars FCMore info: #21
X-ALT-DESC;FMTTYPE=text/html:<!DOCTYPE HTML PUBLIC "-//W3C//DTD HTML 3.2//E
	N">\n<HTML>\n<HEAD>\n<TITLE></TITLE>\n</HEAD>\n<BODY>\n<h3>D.T.F.C. vs. Mon
	stars FC</h3>More info: <a href="https://www.golnetwork.com/game/v/40325/">
	#21</a>\n\n</BODY>\n</HTML>
STATUS:CONFIRMED
CLASS:PUBLIC
URL:https://www.golnetwork.com/game/v/40325/
X-MICROSOFT-CDO-BUSYSTATUS:BUSY
X-MICROSOFT-CDO-IMPORTANCE:1
END:VEVENT
BEGIN:VEVENT
UID:g45a7@games.golnetwork.com
LOCATION:Monarch Park Stadium - Field 1
GEO:43.6792789;-79.3234873
CREATED:20131023T104525Z
DTSTART:20131216T020000Z
DTEND:20131216T030000Z
DTSTAMP:20260422T071424Z
SUMMARY:RICE UTD vs. D.T.F.C.
DESCRIPTION:D.T.F.C. vs. RICE UTDMore info: #22
X-ALT-DESC;FMTTYPE=text/html:<!DOCTYPE HTML PUBLIC "-//W3C//DTD HTML 3.2//E
	N">\n<HTML>\n<HEAD>\n<TITLE></TITLE>\n</HEAD>\n<BODY>\n<h3>D.T.F.C. vs. RIC
	E UTD</h3>More info: <a href="https://www.golnetwork.com/game/v/40328/">#22
	</a>\n\n</BODY>\n</HTML>
STATUS:CONFIRMED
CLASS:PUBLIC
URL:https://www.golnetwork.com/game/v/40328/
X-MICROSOFT-CDO-BUSYSTATUS:BUSY
X-MICROSOFT-CDO-IMPORTANCE:1
END:VEVENT
BEGIN:VEVENT
UID:g45a5@games.golnetwork.com
LOCATION:Monarch Park Stadium - Field 1
GEO:43.6792789;-79.3234873
CREATED:20131023T104520Z
DTSTART:20131216T030000Z
DTEND:20131216T040000Z
DTSTAMP:20260422T071424Z
SUMMARY:The Special Ones vs. Dynamite FC
DESCRIPTION:Dynamite FC vs. The Special OnesMore info: #23
X-ALT-DESC;FMTTYPE=text/html:<!DOCTYPE HTML PUBLIC "-//W3C//DTD HTML 3.2//E
	N">\n<HTML>\n<HEAD>\n<TITLE></TITLE>\n</HEAD>\n<BODY>\n<h3>Dynamite FC vs. 
	The Special Ones</h3>More info: <a href="https://www.golnetwork.com/game/v/
	40327/">#23</a>\n\n</BODY>\n</HTML>
STATUS:CONFIRMED
CLASS:PUBLIC
URL:https://www.golnetwork.com/game/v/40327/
X-MICROSOFT-CDO-BUSYSTATUS:BUSY
X-MICROSOFT-CDO-IMPORTANCE:1
END:VEVENT
BEGIN:VEVENT
UID:g45a3@games.golnetwork.com
LOCATION:Monarch Park Stadium - Field 1
GEO:43.6792789;-79.3234873
CREATED:20131023T104515Z
DTSTART:20131216T040000Z
DTEND:20131216T050000Z
DTSTAMP:20260422T071424Z
SUMMARY:Monstars FC vs. Killtrocity Football Club
DESCRIPTION:Killtrocity Football Club vs. Monstars FCMore info: #24
X-ALT-DESC;FMTTYPE=text/html:<!DOCTYPE HTML PUBLIC "-//W3C//DTD HTML 3.2//E
	N">\n<HTML>\n<HEAD>\n<TITLE></TITLE>\n</HEAD>\n<BODY>\n<h3>Killtrocity Foot
	ball Club vs. Monstars FC</h3>More info: <a href="https://www.golnetwork.co
	m/game/v/40326/">#24</a>\n\n</BODY>\n</HTML>
STATUS:CONFIRMED
CLASS:PUBLIC
URL:https://www.golnetwork.com/game/v/40326/
X-MICROSOFT-CDO-BUSYSTATUS:BUSY
X-MICROSOFT-CDO-IMPORTANCE:1
END:VEVENT
END:VCALENDAR
