BEGIN:VCALENDAR
PRODID:-//gdesolutions.com//MV Framework 1.0.0.1607 Calendar//EN
VERSION:2.0
METHOD:PUBLISH
CALSCALE:GREGORIAN
BEGIN:VEVENT
UID:g4f89@games.golnetwork.com
LOCATION:Monarch Park Stadium - Field 2
GEO:43.6792789;-79.3234873
CREATED:20140109T223329Z
DTSTART:20140106T030000Z
DTEND:20140106T040000Z
DTSTAMP:20260422T114829Z
SUMMARY:The Last Minutes! vs. Pumpkins FC
DESCRIPTION:Pumpkins FC vs. The Last Minutes!More info: #4
X-ALT-DESC;FMTTYPE=text/html:<!DOCTYPE HTML PUBLIC "-//W3C//DTD HTML 3.2//E
	N">\n<HTML>\n<HEAD>\n<TITLE></TITLE>\n</HEAD>\n<BODY>\n<h3>Pumpkins FC vs. 
	The Last Minutes!</h3>More info: <a href="https://www.golnetwork.com/game/v
	/43947/">#4</a>\n\n</BODY>\n</HTML>
STATUS:CONFIRMED
CLASS:PUBLIC
URL:https://www.golnetwork.com/game/v/43947/
X-MICROSOFT-CDO-BUSYSTATUS:BUSY
X-MICROSOFT-CDO-IMPORTANCE:1
END:VEVENT
BEGIN:VEVENT
UID:g4ch5@games.golnetwork.com
LOCATION:Monarch Park Stadium - Field 2
GEO:43.6792789;-79.3234873
CREATED:20140103T172911Z
DTSTART:20140106T040000Z
DTEND:20140106T050000Z
DTSTAMP:20260422T114829Z
SUMMARY:The Cheatin Refs vs. Revolution
DESCRIPTION:Revolution vs. The Cheatin RefsMore info: #5
X-ALT-DESC;FMTTYPE=text/html:<!DOCTYPE HTML PUBLIC "-//W3C//DTD HTML 3.2//E
	N">\n<HTML>\n<HEAD>\n<TITLE></TITLE>\n</HEAD>\n<BODY>\n<h3>Revolution vs. T
	he Cheatin Refs</h3>More info: <a href="https://www.golnetwork.com/game/v/4
	2973/">#5</a>\n\n</BODY>\n</HTML>
STATUS:CONFIRMED
CLASS:PUBLIC
URL:https://www.golnetwork.com/game/v/42973/
X-MICROSOFT-CDO-BUSYSTATUS:BUSY
X-MICROSOFT-CDO-IMPORTANCE:1
END:VEVENT
BEGIN:VEVENT
UID:g4f8d@games.golnetwork.com
LOCATION:Monarch Park Stadium - Field 1
GEO:43.6792789;-79.3234873
CREATED:20140109T224423Z
DTSTART:20140113T020000Z
DTEND:20140113T030000Z
DTSTAMP:20260422T114829Z
SUMMARY:The Last Minutes! vs. Samba All-Stars
DESCRIPTION:Samba All-Stars vs. The Last Minutes!More info: #13
X-ALT-DESC;FMTTYPE=text/html:<!DOCTYPE HTML PUBLIC "-//W3C//DTD HTML 3.2//E
	N">\n<HTML>\n<HEAD>\n<TITLE></TITLE>\n</HEAD>\n<BODY>\n<h3>Samba All-Stars 
	vs. The Last Minutes!</h3>More info: <a href="https://www.golnetwork.com/ga
	me/v/43949/">#13</a>\n\n</BODY>\n</HTML>
STATUS:CONFIRMED
CLASS:PUBLIC
URL:https://www.golnetwork.com/game/v/43949/
X-MICROSOFT-CDO-BUSYSTATUS:BUSY
X-MICROSOFT-CDO-IMPORTANCE:1
END:VEVENT
BEGIN:VEVENT
UID:g4f8f@games.golnetwork.com
LOCATION:Monarch Park Stadium - Field 1
GEO:43.6792789;-79.3234873
CREATED:20140109T224423Z
DTSTART:20140113T030000Z
DTEND:20140113T040000Z
DTSTAMP:20260422T114829Z
SUMMARY:Revolution vs. Samba All-Stars
DESCRIPTION:Samba All-Stars vs. RevolutionMore info: #14
X-ALT-DESC;FMTTYPE=text/html:<!DOCTYPE HTML PUBLIC "-//W3C//DTD HTML 3.2//E
	N">\n<HTML>\n<HEAD>\n<TITLE></TITLE>\n</HEAD>\n<BODY>\n<h3>Samba All-Stars 
	vs. Revolution</h3>More info: <a href="https://www.golnetwork.com/game/v/43
	950/">#14</a>\n\n</BODY>\n</HTML>
STATUS:CONFIRMED
CLASS:PUBLIC
URL:https://www.golnetwork.com/game/v/43950/
X-MICROSOFT-CDO-BUSYSTATUS:BUSY
X-MICROSOFT-CDO-IMPORTANCE:1
END:VEVENT
BEGIN:VEVENT
UID:g4f8h@games.golnetwork.com
LOCATION:Monarch Park Stadium - Field 1
GEO:43.6792789;-79.3234873
CREATED:20140109T224423Z
DTSTART:20140113T040000Z
DTEND:20140113T050000Z
DTSTAMP:20260422T114829Z
SUMMARY:Pumpkins FC vs. The Cheatin Refs
DESCRIPTION:The Cheatin Refs vs. Pumpkins FCMore info: #15
X-ALT-DESC;FMTTYPE=text/html:<!DOCTYPE HTML PUBLIC "-//W3C//DTD HTML 3.2//E
	N">\n<HTML>\n<HEAD>\n<TITLE></TITLE>\n</HEAD>\n<BODY>\n<h3>The Cheatin Refs
	 vs. Pumpkins FC</h3>More info: <a href="https://www.golnetwork.com/game/v/
	43951/">#15</a>\n\n</BODY>\n</HTML>
STATUS:CONFIRMED
CLASS:PUBLIC
URL:https://www.golnetwork.com/game/v/43951/
X-MICROSOFT-CDO-BUSYSTATUS:BUSY
X-MICROSOFT-CDO-IMPORTANCE:1
END:VEVENT
BEGIN:VEVENT
UID:g4f8j@games.golnetwork.com
LOCATION:Monarch Park Stadium - Field 1
GEO:43.6792789;-79.3234873
CREATED:20140109T224423Z
DTSTART:20140120T020000Z
DTEND:20140120T030000Z
DTSTAMP:20260422T114829Z
SUMMARY:Revolution vs. Pumpkins FC
DESCRIPTION:Pumpkins FC vs. RevolutionMore info: #24
X-ALT-DESC;FMTTYPE=text/html:<!DOCTYPE HTML PUBLIC "-//W3C//DTD HTML 3.2//E
	N">\n<HTML>\n<HEAD>\n<TITLE></TITLE>\n</HEAD>\n<BODY>\n<h3>Pumpkins FC vs. 
	Revolution</h3>More info: <a href="https://www.golnetwork.com/game/v/43952/
	">#24</a>\n\n</BODY>\n</HTML>
STATUS:CONFIRMED
CLASS:PUBLIC
URL:https://www.golnetwork.com/game/v/43952/
X-MICROSOFT-CDO-BUSYSTATUS:BUSY
X-MICROSOFT-CDO-IMPORTANCE:1
END:VEVENT
BEGIN:VEVENT
UID:g4f8l@games.golnetwork.com
LOCATION:Monarch Park Stadium - Field 1
GEO:43.6792789;-79.3234873
CREATED:20140109T224423Z
DTSTART:20140120T030000Z
DTEND:20140120T040000Z
DTSTAMP:20260422T114829Z
SUMMARY:Samba All-Stars vs. Pumpkins FC
DESCRIPTION:Pumpkins FC vs. Samba All-StarsMore info: #25
X-ALT-DESC;FMTTYPE=text/html:<!DOCTYPE HTML PUBLIC "-//W3C//DTD HTML 3.2//E
	N">\n<HTML>\n<HEAD>\n<TITLE></TITLE>\n</HEAD>\n<BODY>\n<h3>Pumpkins FC vs. 
	Samba All-Stars</h3>More info: <a href="https://www.golnetwork.com/game/v/4
	3953/">#25</a>\n\n</BODY>\n</HTML>
STATUS:CONFIRMED
CLASS:PUBLIC
URL:https://www.golnetwork.com/game/v/43953/
X-MICROSOFT-CDO-BUSYSTATUS:BUSY
X-MICROSOFT-CDO-IMPORTANCE:1
END:VEVENT
BEGIN:VEVENT
UID:g4f8n@games.golnetwork.com
LOCATION:Monarch Park Stadium - Field 1
GEO:43.6792789;-79.3234873
CREATED:20140109T224423Z
DTSTART:20140120T040000Z
DTEND:20140120T050000Z
DTSTAMP:20260422T114829Z
SUMMARY:The Last Minutes! vs. The Cheatin Refs
DESCRIPTION:The Cheatin Refs vs. The Last Minutes!More info: #26
X-ALT-DESC;FMTTYPE=text/html:<!DOCTYPE HTML PUBLIC "-//W3C//DTD HTML 3.2//E
	N">\n<HTML>\n<HEAD>\n<TITLE></TITLE>\n</HEAD>\n<BODY>\n<h3>The Cheatin Refs
	 vs. The Last Minutes!</h3>More info: <a href="https://www.golnetwork.com/g
	ame/v/43954/">#26</a>\n\n</BODY>\n</HTML>
STATUS:CONFIRMED
CLASS:PUBLIC
URL:https://www.golnetwork.com/game/v/43954/
X-MICROSOFT-CDO-BUSYSTATUS:BUSY
X-MICROSOFT-CDO-IMPORTANCE:1
END:VEVENT
BEGIN:VEVENT
UID:g4f8p@games.golnetwork.com
LOCATION:Monarch Park Stadium - Field 1
GEO:43.6792789;-79.3234873
CREATED:20140109T224423Z
DTSTART:20140127T020000Z
DTEND:20140127T030000Z
DTSTAMP:20260422T114829Z
SUMMARY:The Last Minutes! vs. Pumpkins FC
DESCRIPTION:Pumpkins FC vs. The Last Minutes!More info: #35
X-ALT-DESC;FMTTYPE=text/html:<!DOCTYPE HTML PUBLIC "-//W3C//DTD HTML 3.2//E
	N">\n<HTML>\n<HEAD>\n<TITLE></TITLE>\n</HEAD>\n<BODY>\n<h3>Pumpkins FC vs. 
	The Last Minutes!</h3>More info: <a href="https://www.golnetwork.com/game/v
	/43955/">#35</a>\n\n</BODY>\n</HTML>
STATUS:CONFIRMED
CLASS:PUBLIC
URL:https://www.golnetwork.com/game/v/43955/
X-MICROSOFT-CDO-BUSYSTATUS:BUSY
X-MICROSOFT-CDO-IMPORTANCE:1
END:VEVENT
BEGIN:VEVENT
UID:g4f90@games.golnetwork.com
LOCATION:Monarch Park Stadium - Field 1
GEO:43.6792789;-79.3234873
CREATED:20140109T224423Z
DTSTART:20140127T030000Z
DTEND:20140127T040000Z
DTSTAMP:20260422T114829Z
SUMMARY:The Last Minutes! vs. Revolution
DESCRIPTION:Revolution vs. The Last Minutes!More info: #36
X-ALT-DESC;FMTTYPE=text/html:<!DOCTYPE HTML PUBLIC "-//W3C//DTD HTML 3.2//E
	N">\n<HTML>\n<HEAD>\n<TITLE></TITLE>\n</HEAD>\n<BODY>\n<h3>Revolution vs. T
	he Last Minutes!</h3>More info: <a href="https://www.golnetwork.com/game/v/
	43956/">#36</a>\n\n</BODY>\n</HTML>
STATUS:CONFIRMED
CLASS:PUBLIC
URL:https://www.golnetwork.com/game/v/43956/
X-MICROSOFT-CDO-BUSYSTATUS:BUSY
X-MICROSOFT-CDO-IMPORTANCE:1
END:VEVENT
BEGIN:VEVENT
UID:g4f92@games.golnetwork.com
LOCATION:Monarch Park Stadium - Field 1
GEO:43.6792789;-79.3234873
CREATED:20140109T224423Z
DTSTART:20140127T040000Z
DTEND:20140127T050000Z
DTSTAMP:20260422T114829Z
SUMMARY:Samba All-Stars vs. The Cheatin Refs
DESCRIPTION:The Cheatin Refs vs. Samba All-StarsMore info: #37
X-ALT-DESC;FMTTYPE=text/html:<!DOCTYPE HTML PUBLIC "-//W3C//DTD HTML 3.2//E
	N">\n<HTML>\n<HEAD>\n<TITLE></TITLE>\n</HEAD>\n<BODY>\n<h3>The Cheatin Refs
	 vs. Samba All-Stars</h3>More info: <a href="https://www.golnetwork.com/gam
	e/v/43957/">#37</a>\n\n</BODY>\n</HTML>
STATUS:CONFIRMED
CLASS:PUBLIC
URL:https://www.golnetwork.com/game/v/43957/
X-MICROSOFT-CDO-BUSYSTATUS:BUSY
X-MICROSOFT-CDO-IMPORTANCE:1
END:VEVENT
BEGIN:VEVENT
UID:g4f94@games.golnetwork.com
LOCATION:Monarch Park Stadium - Field 1
GEO:43.6792789;-79.3234873
CREATED:20140109T224423Z
DTSTART:20140203T020000Z
DTEND:20140203T030000Z
DTSTAMP:20260422T114829Z
SUMMARY:The Last Minutes! vs. Pumpkins FC
DESCRIPTION:Pumpkins FC vs. The Last Minutes!More info: #67
X-ALT-DESC;FMTTYPE=text/html:<!DOCTYPE HTML PUBLIC "-//W3C//DTD HTML 3.2//E
	N">\n<HTML>\n<HEAD>\n<TITLE></TITLE>\n</HEAD>\n<BODY>\n<h3>Pumpkins FC vs. 
	The Last Minutes!</h3>More info: <a href="https://www.golnetwork.com/game/v
	/43958/">#67</a>\n\n</BODY>\n</HTML>
STATUS:CONFIRMED
CLASS:PUBLIC
URL:https://www.golnetwork.com/game/v/43958/
X-MICROSOFT-CDO-BUSYSTATUS:BUSY
X-MICROSOFT-CDO-IMPORTANCE:1
END:VEVENT
BEGIN:VEVENT
UID:g4f96@games.golnetwork.com
LOCATION:Monarch Park Stadium - Field 1
GEO:43.6792789;-79.3234873
CREATED:20140109T224423Z
DTSTART:20140203T030000Z
DTEND:20140203T040000Z
DTSTAMP:20260422T114829Z
SUMMARY:Samba All-Stars vs. Revolution
DESCRIPTION:Revolution vs. Samba All-StarsMore info: #69
X-ALT-DESC;FMTTYPE=text/html:<!DOCTYPE HTML PUBLIC "-//W3C//DTD HTML 3.2//E
	N">\n<HTML>\n<HEAD>\n<TITLE></TITLE>\n</HEAD>\n<BODY>\n<h3>Revolution vs. S
	amba All-Stars</h3>More info: <a href="https://www.golnetwork.com/game/v/43
	959/">#69</a>\n\n</BODY>\n</HTML>
STATUS:CONFIRMED
CLASS:PUBLIC
URL:https://www.golnetwork.com/game/v/43959/
X-MICROSOFT-CDO-BUSYSTATUS:BUSY
X-MICROSOFT-CDO-IMPORTANCE:1
END:VEVENT
BEGIN:VEVENT
UID:g4f98@games.golnetwork.com
LOCATION:Monarch Park Stadium - Field 1
GEO:43.6792789;-79.3234873
CREATED:20140109T224423Z
DTSTART:20140203T040000Z
DTEND:20140203T050000Z
DTSTAMP:20260422T114829Z
SUMMARY:The Cheatin Refs vs. Revolution
DESCRIPTION:Revolution vs. The Cheatin RefsMore info: #70
X-ALT-DESC;FMTTYPE=text/html:<!DOCTYPE HTML PUBLIC "-//W3C//DTD HTML 3.2//E
	N">\n<HTML>\n<HEAD>\n<TITLE></TITLE>\n</HEAD>\n<BODY>\n<h3>Revolution vs. T
	he Cheatin Refs</h3>More info: <a href="https://www.golnetwork.com/game/v/4
	3960/">#70</a>\n\n</BODY>\n</HTML>
STATUS:CONFIRMED
CLASS:PUBLIC
URL:https://www.golnetwork.com/game/v/43960/
X-MICROSOFT-CDO-BUSYSTATUS:BUSY
X-MICROSOFT-CDO-IMPORTANCE:1
END:VEVENT
BEGIN:VEVENT
UID:g4f9c@games.golnetwork.com
LOCATION:Monarch Park Stadium - Field 1
GEO:43.6792789;-79.3234873
CREATED:20140110T162223Z
DTSTART:20140210T020000Z
DTEND:20140210T030000Z
DTSTAMP:20260422T114829Z
SUMMARY:The Last Minutes! vs. Revolution
DESCRIPTION:Revolution vs. The Last Minutes!More info: #108
X-ALT-DESC;FMTTYPE=text/html:<!DOCTYPE HTML PUBLIC "-//W3C//DTD HTML 3.2//E
	N">\n<HTML>\n<HEAD>\n<TITLE></TITLE>\n</HEAD>\n<BODY>\n<h3>Revolution vs. T
	he Last Minutes!</h3>More info: <a href="https://www.golnetwork.com/game/v/
	43962/">#108</a>\n\n</BODY>\n</HTML>
STATUS:CONFIRMED
CLASS:PUBLIC
URL:https://www.golnetwork.com/game/v/43962/
X-MICROSOFT-CDO-BUSYSTATUS:BUSY
X-MICROSOFT-CDO-IMPORTANCE:1
END:VEVENT
BEGIN:VEVENT
UID:g4f9e@games.golnetwork.com
LOCATION:Monarch Park Stadium - Field 1
GEO:43.6792789;-79.3234873
CREATED:20140110T162226Z
DTSTART:20140210T030000Z
DTEND:20140210T040000Z
DTSTAMP:20260422T114829Z
SUMMARY:Samba All-Stars vs. The Cheatin Refs
DESCRIPTION:The Cheatin Refs vs. Samba All-StarsMore info: #109
X-ALT-DESC;FMTTYPE=text/html:<!DOCTYPE HTML PUBLIC "-//W3C//DTD HTML 3.2//E
	N">\n<HTML>\n<HEAD>\n<TITLE></TITLE>\n</HEAD>\n<BODY>\n<h3>The Cheatin Refs
	 vs. Samba All-Stars</h3>More info: <a href="https://www.golnetwork.com/gam
	e/v/43963/">#109</a>\n\n</BODY>\n</HTML>
STATUS:CONFIRMED
CLASS:PUBLIC
URL:https://www.golnetwork.com/game/v/43963/
X-MICROSOFT-CDO-BUSYSTATUS:BUSY
X-MICROSOFT-CDO-IMPORTANCE:1
END:VEVENT
BEGIN:VEVENT
UID:g4f9g@games.golnetwork.com
LOCATION:Monarch Park Stadium - Field 1
GEO:43.6792789;-79.3234873
CREATED:20140110T162229Z
DTSTART:20140210T040000Z
DTEND:20140210T050000Z
DTSTAMP:20260422T114829Z
SUMMARY:Pumpkins FC vs. The Cheatin Refs
DESCRIPTION:The Cheatin Refs vs. Pumpkins FCMore info: #110
X-ALT-DESC;FMTTYPE=text/html:<!DOCTYPE HTML PUBLIC "-//W3C//DTD HTML 3.2//E
	N">\n<HTML>\n<HEAD>\n<TITLE></TITLE>\n</HEAD>\n<BODY>\n<h3>The Cheatin Refs
	 vs. Pumpkins FC</h3>More info: <a href="https://www.golnetwork.com/game/v/
	43964/">#110</a>\n\n</BODY>\n</HTML>
STATUS:CONFIRMED
CLASS:PUBLIC
URL:https://www.golnetwork.com/game/v/43964/
X-MICROSOFT-CDO-BUSYSTATUS:BUSY
X-MICROSOFT-CDO-IMPORTANCE:1
END:VEVENT
BEGIN:VEVENT
UID:g4l27@games.golnetwork.com
LOCATION:Monarch Park Stadium - Field 1
GEO:43.6792789;-79.3234873
CREATED:20140212T193229Z
DTSTART:20140217T030000Z
DTEND:20140217T040000Z
DTSTAMP:20260422T114829Z
SUMMARY:Revolution vs. Samba All-Stars
DESCRIPTION:Samba All-Stars vs. RevolutionMore info: #128
X-ALT-DESC;FMTTYPE=text/html:<!DOCTYPE HTML PUBLIC "-//W3C//DTD HTML 3.2//E
	N">\n<HTML>\n<HEAD>\n<TITLE></TITLE>\n</HEAD>\n<BODY>\n<h3>Samba All-Stars 
	vs. Revolution</h3>More info: <a href="https://www.golnetwork.com/game/v/46
	052/">#128</a>\n\n</BODY>\n</HTML>
STATUS:CONFIRMED
CLASS:PUBLIC
URL:https://www.golnetwork.com/game/v/46052/
X-MICROSOFT-CDO-BUSYSTATUS:BUSY
X-MICROSOFT-CDO-IMPORTANCE:1
END:VEVENT
BEGIN:VEVENT
UID:g4l29@games.golnetwork.com
LOCATION:Monarch Park Stadium - Field 1
GEO:43.6792789;-79.3234873
CREATED:20140212T193241Z
DTSTART:20140217T040000Z
DTEND:20140217T050000Z
DTSTAMP:20260422T114829Z
SUMMARY:The Last Minutes! vs. The Cheatin Refs
DESCRIPTION:The Cheatin Refs vs. The Last Minutes!More info: #129
X-ALT-DESC;FMTTYPE=text/html:<!DOCTYPE HTML PUBLIC "-//W3C//DTD HTML 3.2//E
	N">\n<HTML>\n<HEAD>\n<TITLE></TITLE>\n</HEAD>\n<BODY>\n<h3>The Cheatin Refs
	 vs. The Last Minutes!</h3>More info: <a href="https://www.golnetwork.com/g
	ame/v/46053/">#129</a>\n\n</BODY>\n</HTML>
STATUS:CONFIRMED
CLASS:PUBLIC
URL:https://www.golnetwork.com/game/v/46053/
X-MICROSOFT-CDO-BUSYSTATUS:BUSY
X-MICROSOFT-CDO-IMPORTANCE:1
END:VEVENT
BEGIN:VEVENT
UID:g4ejp@games.golnetwork.com
LOCATION:Monarch Park Stadium - Field 1
GEO:43.6792789;-79.3234873
CREATED:20140109T202454Z
DTSTART:20140224T020000Z
DTEND:20140224T030000Z
DTSTAMP:20260422T114829Z
SUMMARY:The Last Minutes! vs. Revolution
DESCRIPTION:Revolution vs. The Last Minutes!More info: #167
X-ALT-DESC;FMTTYPE=text/html:<!DOCTYPE HTML PUBLIC "-//W3C//DTD HTML 3.2//E
	N">\n<HTML>\n<HEAD>\n<TITLE></TITLE>\n</HEAD>\n<BODY>\n<h3>Revolution vs. T
	he Last Minutes!</h3>More info: <a href="https://www.golnetwork.com/game/v/
	43739/">#167</a>\n\n</BODY>\n</HTML>
STATUS:CONFIRMED
CLASS:PUBLIC
URL:https://www.golnetwork.com/game/v/43739/
X-MICROSOFT-CDO-BUSYSTATUS:BUSY
X-MICROSOFT-CDO-IMPORTANCE:1
END:VEVENT
BEGIN:VEVENT
UID:g4l8n@games.golnetwork.com
LOCATION:Monarch Park Stadium - Field 2
GEO:43.6792789;-79.3234873
CREATED:20140218T150524Z
DTSTART:20140224T020000Z
DTEND:20140224T030000Z
DTSTAMP:20260422T114829Z
SUMMARY:Pumpkins FC vs. The Cheatin Refs
DESCRIPTION:The Cheatin Refs vs. Pumpkins FCMore info: #168
X-ALT-DESC;FMTTYPE=text/html:<!DOCTYPE HTML PUBLIC "-//W3C//DTD HTML 3.2//E
	N">\n<HTML>\n<HEAD>\n<TITLE></TITLE>\n</HEAD>\n<BODY>\n<h3>The Cheatin Refs
	 vs. Pumpkins FC</h3>More info: <a href="https://www.golnetwork.com/game/v/
	46141/">#168</a>\n\n</BODY>\n</HTML>
STATUS:CONFIRMED
CLASS:PUBLIC
URL:https://www.golnetwork.com/game/v/46141/
X-MICROSOFT-CDO-BUSYSTATUS:BUSY
X-MICROSOFT-CDO-IMPORTANCE:1
END:VEVENT
END:VCALENDAR
