BEGIN:VCALENDAR
PRODID:-//gdesolutions.com//MV Framework 1.0.0.1607 Calendar//EN
VERSION:2.0
METHOD:PUBLISH
CALSCALE:GREGORIAN
BEGIN:VEVENT
UID:g4m9h@games.golnetwork.com
LOCATION:Monarch Park Stadium - Field 1
GEO:43.6792789;-79.3234873
CREATED:20140303T160756Z
DTSTART:20140305T030000Z
DTEND:20140305T040000Z
DTSTAMP:20260420T144820Z
SUMMARY:Hardly Athletic vs. Team Brazil
DESCRIPTION:Team Brazil vs. Hardly AthleticMore info: #7
X-ALT-DESC;FMTTYPE=text/html:<!DOCTYPE HTML PUBLIC "-//W3C//DTD HTML 3.2//E
	N">\n<HTML>\n<HEAD>\n<TITLE></TITLE>\n</HEAD>\n<BODY>\n<h3>Team Brazil vs. 
	Hardly Athletic</h3>More info: <a href="https://www.golnetwork.com/game/v/4
	6516/">#7</a>\n\n</BODY>\n</HTML>
STATUS:CONFIRMED
CLASS:PUBLIC
URL:https://www.golnetwork.com/game/v/46516/
X-MICROSOFT-CDO-BUSYSTATUS:BUSY
X-MICROSOFT-CDO-IMPORTANCE:1
END:VEVENT
BEGIN:VEVENT
UID:g4m9j@games.golnetwork.com
LOCATION:Monarch Park Stadium - Field 2
GEO:43.6792789;-79.3234873
CREATED:20140303T160756Z
DTSTART:20140305T030000Z
DTEND:20140305T040000Z
DTSTAMP:20260420T144820Z
SUMMARY:Eckler FC (Blue/White) vs. Troubadours
DESCRIPTION:Troubadours vs. Eckler FC (Blue/White)More info: #8
X-ALT-DESC;FMTTYPE=text/html:<!DOCTYPE HTML PUBLIC "-//W3C//DTD HTML 3.2//E
	N">\n<HTML>\n<HEAD>\n<TITLE></TITLE>\n</HEAD>\n<BODY>\n<h3>Troubadours vs. 
	Eckler FC (Blue/White)</h3>More info: <a href="https://www.golnetwork.com/g
	ame/v/46517/">#8</a>\n\n</BODY>\n</HTML>
STATUS:CONFIRMED
CLASS:PUBLIC
URL:https://www.golnetwork.com/game/v/46517/
X-MICROSOFT-CDO-BUSYSTATUS:BUSY
X-MICROSOFT-CDO-IMPORTANCE:1
END:VEVENT
BEGIN:VEVENT
UID:g4m9l@games.golnetwork.com
LOCATION:Monarch Park Stadium - Field 2
GEO:43.6792789;-79.3234873
CREATED:20140303T160756Z
DTSTART:20140305T040000Z
DTEND:20140305T050000Z
DTSTAMP:20260420T144820Z
SUMMARY:Eckler FC (Blue/White) vs. XTSC Park Rangers
DESCRIPTION:XTSC Park Rangers vs. Eckler FC (Blue/White)More info: #9
X-ALT-DESC;FMTTYPE=text/html:<!DOCTYPE HTML PUBLIC "-//W3C//DTD HTML 3.2//E
	N">\n<HTML>\n<HEAD>\n<TITLE></TITLE>\n</HEAD>\n<BODY>\n<h3>XTSC Park Ranger
	s vs. Eckler FC (Blue/White)</h3>More info: <a href="https://www.golnetwork
	.com/game/v/46518/">#9</a>\n\n</BODY>\n</HTML>
STATUS:CONFIRMED
CLASS:PUBLIC
URL:https://www.golnetwork.com/game/v/46518/
X-MICROSOFT-CDO-BUSYSTATUS:BUSY
X-MICROSOFT-CDO-IMPORTANCE:1
END:VEVENT
BEGIN:VEVENT
UID:g4m9n@games.golnetwork.com
LOCATION:Monarch Park Stadium - Field 1
GEO:43.6792789;-79.3234873
CREATED:20140303T160756Z
DTSTART:20140312T020000Z
DTEND:20140312T030000Z
DTSTAMP:20260420T144820Z
SUMMARY:Team Brazil vs. XTSC Park Rangers
DESCRIPTION:XTSC Park Rangers vs. Team BrazilMore info: #16
X-ALT-DESC;FMTTYPE=text/html:<!DOCTYPE HTML PUBLIC "-//W3C//DTD HTML 3.2//E
	N">\n<HTML>\n<HEAD>\n<TITLE></TITLE>\n</HEAD>\n<BODY>\n<h3>XTSC Park Ranger
	s vs. Team Brazil</h3>More info: <a href="https://www.golnetwork.com/game/v
	/46519/">#16</a>\n\n</BODY>\n</HTML>
STATUS:CONFIRMED
CLASS:PUBLIC
URL:https://www.golnetwork.com/game/v/46519/
X-MICROSOFT-CDO-BUSYSTATUS:BUSY
X-MICROSOFT-CDO-IMPORTANCE:1
END:VEVENT
BEGIN:VEVENT
UID:g4m9p@games.golnetwork.com
LOCATION:Monarch Park Stadium - Field 2
GEO:43.6792789;-79.3234873
CREATED:20140303T160756Z
DTSTART:20140312T020000Z
DTEND:20140312T030000Z
DTSTAMP:20260420T144820Z
SUMMARY:Eckler FC (Blue/White) vs. Hardly Athletic
DESCRIPTION:Hardly Athletic vs. Eckler FC (Blue/White)More info: #17
X-ALT-DESC;FMTTYPE=text/html:<!DOCTYPE HTML PUBLIC "-//W3C//DTD HTML 3.2//E
	N">\n<HTML>\n<HEAD>\n<TITLE></TITLE>\n</HEAD>\n<BODY>\n<h3>Hardly Athletic 
	vs. Eckler FC (Blue/White)</h3>More info: <a href="https://www.golnetwork.c
	om/game/v/46520/">#17</a>\n\n</BODY>\n</HTML>
STATUS:CONFIRMED
CLASS:PUBLIC
URL:https://www.golnetwork.com/game/v/46520/
X-MICROSOFT-CDO-BUSYSTATUS:BUSY
X-MICROSOFT-CDO-IMPORTANCE:1
END:VEVENT
BEGIN:VEVENT
UID:g4ma0@games.golnetwork.com
LOCATION:Monarch Park Stadium - Field 2
GEO:43.6792789;-79.3234873
CREATED:20140303T160756Z
DTSTART:20140312T030000Z
DTEND:20140312T040000Z
DTSTAMP:20260420T144820Z
SUMMARY:Troubadours vs. Hardly Athletic
DESCRIPTION:Hardly Athletic vs. TroubadoursMore info: #18
X-ALT-DESC;FMTTYPE=text/html:<!DOCTYPE HTML PUBLIC "-//W3C//DTD HTML 3.2//E
	N">\n<HTML>\n<HEAD>\n<TITLE></TITLE>\n</HEAD>\n<BODY>\n<h3>Hardly Athletic 
	vs. Troubadours</h3>More info: <a href="https://www.golnetwork.com/game/v/4
	6521/">#18</a>\n\n</BODY>\n</HTML>
STATUS:CONFIRMED
CLASS:PUBLIC
URL:https://www.golnetwork.com/game/v/46521/
X-MICROSOFT-CDO-BUSYSTATUS:BUSY
X-MICROSOFT-CDO-IMPORTANCE:1
END:VEVENT
BEGIN:VEVENT
UID:g4ma2@games.golnetwork.com
LOCATION:Monarch Park Stadium - Field 1
GEO:43.6792789;-79.3234873
CREATED:20140303T160756Z
DTSTART:20140319T020000Z
DTEND:20140319T030000Z
DTSTAMP:20260420T144820Z
SUMMARY:XTSC Park Rangers vs. Hardly Athletic
DESCRIPTION:Hardly Athletic vs. XTSC Park RangersMore info: #25
X-ALT-DESC;FMTTYPE=text/html:<!DOCTYPE HTML PUBLIC "-//W3C//DTD HTML 3.2//E
	N">\n<HTML>\n<HEAD>\n<TITLE></TITLE>\n</HEAD>\n<BODY>\n<h3>Hardly Athletic 
	vs. XTSC Park Rangers</h3>More info: <a href="https://www.golnetwork.com/ga
	me/v/46522/">#25</a>\n\n</BODY>\n</HTML>
STATUS:CONFIRMED
CLASS:PUBLIC
URL:https://www.golnetwork.com/game/v/46522/
X-MICROSOFT-CDO-BUSYSTATUS:BUSY
X-MICROSOFT-CDO-IMPORTANCE:1
END:VEVENT
BEGIN:VEVENT
UID:g4ma4@games.golnetwork.com
LOCATION:Monarch Park Stadium - Field 2
GEO:43.6792789;-79.3234873
CREATED:20140303T160756Z
DTSTART:20140319T020000Z
DTEND:20140319T030000Z
DTSTAMP:20260420T144820Z
SUMMARY:Team Brazil vs. Troubadours
DESCRIPTION:Troubadours vs. Team BrazilMore info: #26
X-ALT-DESC;FMTTYPE=text/html:<!DOCTYPE HTML PUBLIC "-//W3C//DTD HTML 3.2//E
	N">\n<HTML>\n<HEAD>\n<TITLE></TITLE>\n</HEAD>\n<BODY>\n<h3>Troubadours vs. 
	Team Brazil</h3>More info: <a href="https://www.golnetwork.com/game/v/46523
	/">#26</a>\n\n</BODY>\n</HTML>
STATUS:CONFIRMED
CLASS:PUBLIC
URL:https://www.golnetwork.com/game/v/46523/
X-MICROSOFT-CDO-BUSYSTATUS:BUSY
X-MICROSOFT-CDO-IMPORTANCE:1
END:VEVENT
BEGIN:VEVENT
UID:g4ma6@games.golnetwork.com
LOCATION:Monarch Park Stadium - Field 2
GEO:43.6792789;-79.3234873
CREATED:20140303T160756Z
DTSTART:20140319T030000Z
DTEND:20140319T040000Z
DTSTAMP:20260420T144820Z
SUMMARY:Team Brazil vs. Eckler FC (Blue/White)
DESCRIPTION:Eckler FC (Blue/White) vs. Team BrazilMore info: #27
X-ALT-DESC;FMTTYPE=text/html:<!DOCTYPE HTML PUBLIC "-//W3C//DTD HTML 3.2//E
	N">\n<HTML>\n<HEAD>\n<TITLE></TITLE>\n</HEAD>\n<BODY>\n<h3>Eckler FC (Blue/
	White) vs. Team Brazil</h3>More info: <a href="https://www.golnetwork.com/g
	ame/v/46524/">#27</a>\n\n</BODY>\n</HTML>
STATUS:CONFIRMED
CLASS:PUBLIC
URL:https://www.golnetwork.com/game/v/46524/
X-MICROSOFT-CDO-BUSYSTATUS:BUSY
X-MICROSOFT-CDO-IMPORTANCE:1
END:VEVENT
BEGIN:VEVENT
UID:g4ma8@games.golnetwork.com
LOCATION:Monarch Park Stadium - Field 1
GEO:43.6792789;-79.3234873
CREATED:20140303T160756Z
DTSTART:20140326T020000Z
DTEND:20140326T030000Z
DTSTAMP:20260420T144820Z
SUMMARY:Team Brazil vs. Eckler FC (Blue/White)
DESCRIPTION:Eckler FC (Blue/White) vs. Team BrazilMore info: #34
X-ALT-DESC;FMTTYPE=text/html:<!DOCTYPE HTML PUBLIC "-//W3C//DTD HTML 3.2//E
	N">\n<HTML>\n<HEAD>\n<TITLE></TITLE>\n</HEAD>\n<BODY>\n<h3>Eckler FC (Blue/
	White) vs. Team Brazil</h3>More info: <a href="https://www.golnetwork.com/g
	ame/v/46525/">#34</a>\n\n</BODY>\n</HTML>
STATUS:CONFIRMED
CLASS:PUBLIC
URL:https://www.golnetwork.com/game/v/46525/
X-MICROSOFT-CDO-BUSYSTATUS:BUSY
X-MICROSOFT-CDO-IMPORTANCE:1
END:VEVENT
BEGIN:VEVENT
UID:g4maa@games.golnetwork.com
LOCATION:Monarch Park Stadium - Field 2
GEO:43.6792789;-79.3234873
CREATED:20140303T160756Z
DTSTART:20140326T020000Z
DTEND:20140326T030000Z
DTSTAMP:20260420T144820Z
SUMMARY:Troubadours vs. XTSC Park Rangers
DESCRIPTION:XTSC Park Rangers vs. TroubadoursMore info: #35
X-ALT-DESC;FMTTYPE=text/html:<!DOCTYPE HTML PUBLIC "-//W3C//DTD HTML 3.2//E
	N">\n<HTML>\n<HEAD>\n<TITLE></TITLE>\n</HEAD>\n<BODY>\n<h3>XTSC Park Ranger
	s vs. Troubadours</h3>More info: <a href="https://www.golnetwork.com/game/v
	/46526/">#35</a>\n\n</BODY>\n</HTML>
STATUS:CONFIRMED
CLASS:PUBLIC
URL:https://www.golnetwork.com/game/v/46526/
X-MICROSOFT-CDO-BUSYSTATUS:BUSY
X-MICROSOFT-CDO-IMPORTANCE:1
END:VEVENT
BEGIN:VEVENT
UID:g4mac@games.golnetwork.com
LOCATION:Monarch Park Stadium - Field 2
GEO:43.6792789;-79.3234873
CREATED:20140303T160756Z
DTSTART:20140326T030000Z
DTEND:20140326T040000Z
DTSTAMP:20260420T144820Z
SUMMARY:Troubadours vs. Hardly Athletic
DESCRIPTION:Hardly Athletic vs. TroubadoursMore info: #36
X-ALT-DESC;FMTTYPE=text/html:<!DOCTYPE HTML PUBLIC "-//W3C//DTD HTML 3.2//E
	N">\n<HTML>\n<HEAD>\n<TITLE></TITLE>\n</HEAD>\n<BODY>\n<h3>Hardly Athletic 
	vs. Troubadours</h3>More info: <a href="https://www.golnetwork.com/game/v/4
	6527/">#36</a>\n\n</BODY>\n</HTML>
STATUS:CONFIRMED
CLASS:PUBLIC
URL:https://www.golnetwork.com/game/v/46527/
X-MICROSOFT-CDO-BUSYSTATUS:BUSY
X-MICROSOFT-CDO-IMPORTANCE:1
END:VEVENT
BEGIN:VEVENT
UID:g4mae@games.golnetwork.com
LOCATION:Monarch Park Stadium - Field 1
GEO:43.6792789;-79.3234873
CREATED:20140303T160756Z
DTSTART:20140402T020000Z
DTEND:20140402T030000Z
DTSTAMP:20260420T144820Z
SUMMARY:Hardly Athletic vs. Eckler FC (Blue/White)
DESCRIPTION:Eckler FC (Blue/White) vs. Hardly AthleticMore info: #43
X-ALT-DESC;FMTTYPE=text/html:<!DOCTYPE HTML PUBLIC "-//W3C//DTD HTML 3.2//E
	N">\n<HTML>\n<HEAD>\n<TITLE></TITLE>\n</HEAD>\n<BODY>\n<h3>Eckler FC (Blue/
	White) vs. Hardly Athletic</h3>More info: <a href="https://www.golnetwork.c
	om/game/v/46528/">#43</a>\n\n</BODY>\n</HTML>
STATUS:CONFIRMED
CLASS:PUBLIC
URL:https://www.golnetwork.com/game/v/46528/
X-MICROSOFT-CDO-BUSYSTATUS:BUSY
X-MICROSOFT-CDO-IMPORTANCE:1
END:VEVENT
BEGIN:VEVENT
UID:g4mag@games.golnetwork.com
LOCATION:Monarch Park Stadium - Field 2
GEO:43.6792789;-79.3234873
CREATED:20140303T160756Z
DTSTART:20140402T020000Z
DTEND:20140402T030000Z
DTSTAMP:20260420T144820Z
SUMMARY:Troubadours vs. XTSC Park Rangers
DESCRIPTION:XTSC Park Rangers vs. TroubadoursMore info: #44
X-ALT-DESC;FMTTYPE=text/html:<!DOCTYPE HTML PUBLIC "-//W3C//DTD HTML 3.2//E
	N">\n<HTML>\n<HEAD>\n<TITLE></TITLE>\n</HEAD>\n<BODY>\n<h3>XTSC Park Ranger
	s vs. Troubadours</h3>More info: <a href="https://www.golnetwork.com/game/v
	/46529/">#44</a>\n\n</BODY>\n</HTML>
STATUS:CONFIRMED
CLASS:PUBLIC
URL:https://www.golnetwork.com/game/v/46529/
X-MICROSOFT-CDO-BUSYSTATUS:BUSY
X-MICROSOFT-CDO-IMPORTANCE:1
END:VEVENT
BEGIN:VEVENT
UID:g4mai@games.golnetwork.com
LOCATION:Monarch Park Stadium - Field 2
GEO:43.6792789;-79.3234873
CREATED:20140303T160756Z
DTSTART:20140402T030000Z
DTEND:20140402T040000Z
DTSTAMP:20260420T144820Z
SUMMARY:Team Brazil vs. XTSC Park Rangers
DESCRIPTION:XTSC Park Rangers vs. Team BrazilMore info: #45
X-ALT-DESC;FMTTYPE=text/html:<!DOCTYPE HTML PUBLIC "-//W3C//DTD HTML 3.2//E
	N">\n<HTML>\n<HEAD>\n<TITLE></TITLE>\n</HEAD>\n<BODY>\n<h3>XTSC Park Ranger
	s vs. Team Brazil</h3>More info: <a href="https://www.golnetwork.com/game/v
	/46530/">#45</a>\n\n</BODY>\n</HTML>
STATUS:CONFIRMED
CLASS:PUBLIC
URL:https://www.golnetwork.com/game/v/46530/
X-MICROSOFT-CDO-BUSYSTATUS:BUSY
X-MICROSOFT-CDO-IMPORTANCE:1
END:VEVENT
BEGIN:VEVENT
UID:g4mak@games.golnetwork.com
LOCATION:Monarch Park Stadium - Field 1
GEO:43.6792789;-79.3234873
CREATED:20140303T160756Z
DTSTART:20140409T020000Z
DTEND:20140409T030000Z
DTSTAMP:20260420T144820Z
SUMMARY:XTSC Park Rangers vs. Team Brazil
DESCRIPTION:Team Brazil vs. XTSC Park RangersMore info: #52
X-ALT-DESC;FMTTYPE=text/html:<!DOCTYPE HTML PUBLIC "-//W3C//DTD HTML 3.2//E
	N">\n<HTML>\n<HEAD>\n<TITLE></TITLE>\n</HEAD>\n<BODY>\n<h3>Team Brazil vs. 
	XTSC Park Rangers</h3>More info: <a href="https://www.golnetwork.com/game/v
	/46531/">#52</a>\n\n</BODY>\n</HTML>
STATUS:CONFIRMED
CLASS:PUBLIC
URL:https://www.golnetwork.com/game/v/46531/
X-MICROSOFT-CDO-BUSYSTATUS:BUSY
X-MICROSOFT-CDO-IMPORTANCE:1
END:VEVENT
BEGIN:VEVENT
UID:g4mam@games.golnetwork.com
LOCATION:Monarch Park Stadium - Field 2
GEO:43.6792789;-79.3234873
CREATED:20140303T160756Z
DTSTART:20140409T020000Z
DTEND:20140409T030000Z
DTSTAMP:20260420T144820Z
SUMMARY:Hardly Athletic vs. Eckler FC (Blue/White)
DESCRIPTION:Eckler FC (Blue/White) vs. Hardly AthleticMore info: #53
X-ALT-DESC;FMTTYPE=text/html:<!DOCTYPE HTML PUBLIC "-//W3C//DTD HTML 3.2//E
	N">\n<HTML>\n<HEAD>\n<TITLE></TITLE>\n</HEAD>\n<BODY>\n<h3>Eckler FC (Blue/
	White) vs. Hardly Athletic</h3>More info: <a href="https://www.golnetwork.c
	om/game/v/46532/">#53</a>\n\n</BODY>\n</HTML>
STATUS:CONFIRMED
CLASS:PUBLIC
URL:https://www.golnetwork.com/game/v/46532/
X-MICROSOFT-CDO-BUSYSTATUS:BUSY
X-MICROSOFT-CDO-IMPORTANCE:1
END:VEVENT
BEGIN:VEVENT
UID:g4mao@games.golnetwork.com
LOCATION:Monarch Park Stadium - Field 2
GEO:43.6792789;-79.3234873
CREATED:20140303T160756Z
DTSTART:20140409T030000Z
DTEND:20140409T040000Z
DTSTAMP:20260420T144820Z
SUMMARY:Troubadours vs. Eckler FC (Blue/White)
DESCRIPTION:Eckler FC (Blue/White) vs. TroubadoursMore info: #54
X-ALT-DESC;FMTTYPE=text/html:<!DOCTYPE HTML PUBLIC "-//W3C//DTD HTML 3.2//E
	N">\n<HTML>\n<HEAD>\n<TITLE></TITLE>\n</HEAD>\n<BODY>\n<h3>Eckler FC (Blue/
	White) vs. Troubadours</h3>More info: <a href="https://www.golnetwork.com/g
	ame/v/46533/">#54</a>\n\n</BODY>\n</HTML>
STATUS:CONFIRMED
CLASS:PUBLIC
URL:https://www.golnetwork.com/game/v/46533/
X-MICROSOFT-CDO-BUSYSTATUS:BUSY
X-MICROSOFT-CDO-IMPORTANCE:1
END:VEVENT
BEGIN:VEVENT
UID:g4maq@games.golnetwork.com
LOCATION:Monarch Park Stadium - Field 1
GEO:43.6792789;-79.3234873
CREATED:20140303T160756Z
DTSTART:20140416T020000Z
DTEND:20140416T030000Z
DTSTAMP:20260420T144820Z
SUMMARY:Team Brazil vs. Eckler FC (Blue/White)
DESCRIPTION:Eckler FC (Blue/White) vs. Team BrazilMore info: #61
X-ALT-DESC;FMTTYPE=text/html:<!DOCTYPE HTML PUBLIC "-//W3C//DTD HTML 3.2//E
	N">\n<HTML>\n<HEAD>\n<TITLE></TITLE>\n</HEAD>\n<BODY>\n<h3>Eckler FC (Blue/
	White) vs. Team Brazil</h3>More info: <a href="https://www.golnetwork.com/g
	ame/v/46534/">#61</a>\n\n</BODY>\n</HTML>
STATUS:CONFIRMED
CLASS:PUBLIC
URL:https://www.golnetwork.com/game/v/46534/
X-MICROSOFT-CDO-BUSYSTATUS:BUSY
X-MICROSOFT-CDO-IMPORTANCE:1
END:VEVENT
BEGIN:VEVENT
UID:g4mb1@games.golnetwork.com
LOCATION:Monarch Park Stadium - Field 2
GEO:43.6792789;-79.3234873
CREATED:20140303T160756Z
DTSTART:20140416T020000Z
DTEND:20140416T030000Z
DTSTAMP:20260420T144820Z
SUMMARY:Hardly Athletic vs. XTSC Park Rangers
DESCRIPTION:XTSC Park Rangers vs. Hardly AthleticMore info: #62
X-ALT-DESC;FMTTYPE=text/html:<!DOCTYPE HTML PUBLIC "-//W3C//DTD HTML 3.2//E
	N">\n<HTML>\n<HEAD>\n<TITLE></TITLE>\n</HEAD>\n<BODY>\n<h3>XTSC Park Ranger
	s vs. Hardly Athletic</h3>More info: <a href="https://www.golnetwork.com/ga
	me/v/46535/">#62</a>\n\n</BODY>\n</HTML>
STATUS:CONFIRMED
CLASS:PUBLIC
URL:https://www.golnetwork.com/game/v/46535/
X-MICROSOFT-CDO-BUSYSTATUS:BUSY
X-MICROSOFT-CDO-IMPORTANCE:1
END:VEVENT
BEGIN:VEVENT
UID:g4mb3@games.golnetwork.com
LOCATION:Monarch Park Stadium - Field 2
GEO:43.6792789;-79.3234873
CREATED:20140303T160756Z
DTSTART:20140416T030000Z
DTEND:20140416T040000Z
DTSTAMP:20260420T144820Z
SUMMARY:Hardly Athletic vs. Troubadours
DESCRIPTION:Troubadours vs. Hardly AthleticMore info: #63
X-ALT-DESC;FMTTYPE=text/html:<!DOCTYPE HTML PUBLIC "-//W3C//DTD HTML 3.2//E
	N">\n<HTML>\n<HEAD>\n<TITLE></TITLE>\n</HEAD>\n<BODY>\n<h3>Troubadours vs. 
	Hardly Athletic</h3>More info: <a href="https://www.golnetwork.com/game/v/4
	6536/">#63</a>\n\n</BODY>\n</HTML>
STATUS:CONFIRMED
CLASS:PUBLIC
URL:https://www.golnetwork.com/game/v/46536/
X-MICROSOFT-CDO-BUSYSTATUS:BUSY
X-MICROSOFT-CDO-IMPORTANCE:1
END:VEVENT
END:VCALENDAR
