BEGIN:VCALENDAR
PRODID:-//gdesolutions.com//MV Framework 1.0.0.1607 Calendar//EN
VERSION:2.0
METHOD:PUBLISH
CALSCALE:GREGORIAN
BEGIN:VEVENT
UID:g4of5@games.golnetwork.com
LOCATION:Fieldhouse C & D
GEO:45.10662;-94.578209
CREATED:20140329T060304Z
DTSTART:20140403T233000Z
DTEND:20140404T001400Z
DTSTAMP:20260419T130547Z
SUMMARY:FC Fine Men vs. Samba
DESCRIPTION:Samba vs. FC Fine MenMore info: #369
X-ALT-DESC;FMTTYPE=text/html:<!DOCTYPE HTML PUBLIC "-//W3C//DTD HTML 3.2//E
	N">\n<HTML>\n<HEAD>\n<TITLE></TITLE>\n</HEAD>\n<BODY>\n<h3>Samba vs. FC Fin
	e Men</h3>More info: <a href="https://www.golnetwork.com/game/v/47320/">#36
	9</a>\n\n</BODY>\n</HTML>
STATUS:CONFIRMED
CLASS:PUBLIC
URL:https://www.golnetwork.com/game/v/47320/
X-MICROSOFT-CDO-BUSYSTATUS:BUSY
X-MICROSOFT-CDO-IMPORTANCE:1
END:VEVENT
BEGIN:VEVENT
UID:g4of7@games.golnetwork.com
LOCATION:Fieldhouse C & D
GEO:45.10662;-94.578209
CREATED:20140329T060304Z
DTSTART:20140404T233000Z
DTEND:20140405T001400Z
DTSTAMP:20260419T130547Z
SUMMARY:Hugo vs. 2 Goals 1 Cup (OPA) (5v5)
DESCRIPTION:2 Goals 1 Cup (OPA) (5v5) vs. HugoMore info: #374
X-ALT-DESC;FMTTYPE=text/html:<!DOCTYPE HTML PUBLIC "-//W3C//DTD HTML 3.2//E
	N">\n<HTML>\n<HEAD>\n<TITLE></TITLE>\n</HEAD>\n<BODY>\n<h3>2 Goals 1 Cup (O
	PA) (5v5) vs. Hugo</h3>More info: <a href="https://www.golnetwork.com/game/
	v/47321/">#374</a>\n\n</BODY>\n</HTML>
STATUS:CONFIRMED
CLASS:PUBLIC
URL:https://www.golnetwork.com/game/v/47321/
X-MICROSOFT-CDO-BUSYSTATUS:BUSY
X-MICROSOFT-CDO-IMPORTANCE:1
END:VEVENT
BEGIN:VEVENT
UID:g4ofb@games.golnetwork.com
LOCATION:Fieldhouse C & D
GEO:45.10662;-94.578209
CREATED:20140329T060350Z
DTSTART:20140406T193000Z
DTEND:20140406T201400Z
DTSTAMP:20260419T130547Z
SUMMARY:FC Fine Men vs. Samba
DESCRIPTION:Samba vs. FC Fine MenMore info: #395
X-ALT-DESC;FMTTYPE=text/html:<!DOCTYPE HTML PUBLIC "-//W3C//DTD HTML 3.2//E
	N">\n<HTML>\n<HEAD>\n<TITLE></TITLE>\n</HEAD>\n<BODY>\n<h3>Samba vs. FC Fin
	e Men</h3>More info: <a href="https://www.golnetwork.com/game/v/47323/">#39
	5</a>\n\n</BODY>\n</HTML>
STATUS:RESCHEDULED
CLASS:PUBLIC
URL:https://www.golnetwork.com/game/v/47323/
X-MICROSOFT-CDO-BUSYSTATUS:BUSY
X-MICROSOFT-CDO-IMPORTANCE:1
END:VEVENT
BEGIN:VEVENT
UID:g4ofd@games.golnetwork.com
LOCATION:Fieldhouse C & D
GEO:45.10662;-94.578209
CREATED:20140329T060409Z
DTSTART:20140406T203000Z
DTEND:20140406T211400Z
DTSTAMP:20260419T130547Z
SUMMARY:Hugo vs. 2 Goals 1 Cup (OPA) (5v5)
DESCRIPTION:2 Goals 1 Cup (OPA) (5v5) vs. HugoMore info: #396
X-ALT-DESC;FMTTYPE=text/html:<!DOCTYPE HTML PUBLIC "-//W3C//DTD HTML 3.2//E
	N">\n<HTML>\n<HEAD>\n<TITLE></TITLE>\n</HEAD>\n<BODY>\n<h3>2 Goals 1 Cup (O
	PA) (5v5) vs. Hugo</h3>More info: <a href="https://www.golnetwork.com/game/
	v/47324/">#396</a>\n\n</BODY>\n</HTML>
STATUS:CONFIRMED
CLASS:PUBLIC
URL:https://www.golnetwork.com/game/v/47324/
X-MICROSOFT-CDO-BUSYSTATUS:BUSY
X-MICROSOFT-CDO-IMPORTANCE:1
END:VEVENT
BEGIN:VEVENT
UID:g4oqq@games.golnetwork.com
LOCATION:Fieldhouse A & B
GEO:45.10662;-94.578209
CREATED:20140405T004516Z
DTSTART:20140408T003000Z
DTEND:20140408T011400Z
DTSTAMP:20260419T130547Z
SUMMARY:FC Fine Men vs. Samba
DESCRIPTION:Samba vs. FC Fine MenMore info: R#392
X-ALT-DESC;FMTTYPE=text/html:<!DOCTYPE HTML PUBLIC "-//W3C//DTD HTML 3.2//E
	N">\n<HTML>\n<HEAD>\n<TITLE></TITLE>\n</HEAD>\n<BODY>\n<h3>Samba vs. FC Fin
	e Men</h3>More info: <a href="https://www.golnetwork.com/game/v/47479/">R#3
	92</a>\n\n</BODY>\n</HTML>
STATUS:CONFIRMED
CLASS:PUBLIC
URL:https://www.golnetwork.com/game/v/47479/
X-MICROSOFT-CDO-BUSYSTATUS:BUSY
X-MICROSOFT-CDO-IMPORTANCE:1
END:VEVENT
BEGIN:VEVENT
UID:g4of9@games.golnetwork.com
LOCATION:Fieldhouse C & D
GEO:45.10662;-94.578209
CREATED:20140329T060304Z
DTSTART:20140411T011500Z
DTEND:20140411T015900Z
DTSTAMP:20260419T130547Z
SUMMARY:2 Goals 1 Cup (OPA) (5v5) vs. Samba
DESCRIPTION:Samba vs. 2 Goals 1 Cup (OPA) (5v5)More info: #416
X-ALT-DESC;FMTTYPE=text/html:<!DOCTYPE HTML PUBLIC "-//W3C//DTD HTML 3.2//E
	N">\n<HTML>\n<HEAD>\n<TITLE></TITLE>\n</HEAD>\n<BODY>\n<h3>Samba vs. 2 Goal
	s 1 Cup (OPA) (5v5)</h3>More info: <a href="https://www.golnetwork.com/game
	/v/47322/">#416</a>\n\n</BODY>\n</HTML>
STATUS:CONFIRMED
CLASS:PUBLIC
URL:https://www.golnetwork.com/game/v/47322/
X-MICROSOFT-CDO-BUSYSTATUS:BUSY
X-MICROSOFT-CDO-IMPORTANCE:1
END:VEVENT
END:VCALENDAR
