BEGIN:VCALENDAR
PRODID:-//gdesolutions.com//MV Framework 1.0.0.1607 Calendar//EN
VERSION:2.0
METHOD:PUBLISH
CALSCALE:GREGORIAN
BEGIN:VEVENT
UID:g56kj@games.golnetwork.com
LOCATION:North Toronto - Field 1
GEO:43.7098022;-79.3963055
CREATED:20140502T150524Z
DTSTART:20140502T223000Z
DTEND:20140502T233000Z
DTSTAMP:20260421T050704Z
SUMMARY:Team FC vs. Unleash da Powa in da Showa
DESCRIPTION:Unleash da Powa in da Showa vs. Team FCMore info: #78
X-ALT-DESC;FMTTYPE=text/html:<!DOCTYPE HTML PUBLIC "-//W3C//DTD HTML 3.2//E
	N">\n<HTML>\n<HEAD>\n<TITLE></TITLE>\n</HEAD>\n<BODY>\n<h3>Unleash da Powa 
	in da Showa vs. Team FC</h3>More info: <a href="https://www.golnetwork.com/
	game/v/50675/">#78</a>\n\n</BODY>\n</HTML>
STATUS:CONFIRMED
CLASS:PUBLIC
URL:https://www.golnetwork.com/game/v/50675/
X-MICROSOFT-CDO-BUSYSTATUS:BUSY
X-MICROSOFT-CDO-IMPORTANCE:1
END:VEVENT
BEGIN:VEVENT
UID:g56kl@games.golnetwork.com
LOCATION:North Toronto - Field 2
GEO:43.7098022;-79.3963055
CREATED:20140502T150524Z
DTSTART:20140502T223000Z
DTEND:20140502T233000Z
DTSTAMP:20260421T050704Z
SUMMARY:The Six Shooters vs. Northlanders FC
DESCRIPTION:Northlanders FC vs. The Six ShootersMore info: #79
X-ALT-DESC;FMTTYPE=text/html:<!DOCTYPE HTML PUBLIC "-//W3C//DTD HTML 3.2//E
	N">\n<HTML>\n<HEAD>\n<TITLE></TITLE>\n</HEAD>\n<BODY>\n<h3>Northlanders FC 
	vs. The Six Shooters</h3>More info: <a href="https://www.golnetwork.com/gam
	e/v/50676/">#79</a>\n\n</BODY>\n</HTML>
STATUS:CONFIRMED
CLASS:PUBLIC
URL:https://www.golnetwork.com/game/v/50676/
X-MICROSOFT-CDO-BUSYSTATUS:BUSY
X-MICROSOFT-CDO-IMPORTANCE:1
END:VEVENT
BEGIN:VEVENT
UID:g56kn@games.golnetwork.com
LOCATION:North Toronto - Field 1
GEO:43.7098022;-79.3963055
CREATED:20140502T150524Z
DTSTART:20140502T233000Z
DTEND:20140503T003000Z
DTSTAMP:20260421T050704Z
SUMMARY:Goal Diggers vs. Unleash da Powa in da Showa
DESCRIPTION:Unleash da Powa in da Showa vs. Goal DiggersMore info: #80
X-ALT-DESC;FMTTYPE=text/html:<!DOCTYPE HTML PUBLIC "-//W3C//DTD HTML 3.2//E
	N">\n<HTML>\n<HEAD>\n<TITLE></TITLE>\n</HEAD>\n<BODY>\n<h3>Unleash da Powa 
	in da Showa vs. Goal Diggers</h3>More info: <a href="https://www.golnetwork
	.com/game/v/50677/">#80</a>\n\n</BODY>\n</HTML>
STATUS:CONFIRMED
CLASS:PUBLIC
URL:https://www.golnetwork.com/game/v/50677/
X-MICROSOFT-CDO-BUSYSTATUS:BUSY
X-MICROSOFT-CDO-IMPORTANCE:1
END:VEVENT
BEGIN:VEVENT
UID:g56kp@games.golnetwork.com
LOCATION:North Toronto - Field 2
GEO:43.7098022;-79.3963055
CREATED:20140502T150524Z
DTSTART:20140502T233000Z
DTEND:20140503T003000Z
DTSTAMP:20260421T050704Z
SUMMARY:Talk Footy To Me vs. XTSC Misfits
DESCRIPTION:XTSC Misfits vs. Talk Footy To MeMore info: #81
X-ALT-DESC;FMTTYPE=text/html:<!DOCTYPE HTML PUBLIC "-//W3C//DTD HTML 3.2//E
	N">\n<HTML>\n<HEAD>\n<TITLE></TITLE>\n</HEAD>\n<BODY>\n<h3>XTSC Misfits vs.
	 Talk Footy To Me</h3>More info: <a href="https://www.golnetwork.com/game/v
	/50678/">#81</a>\n\n</BODY>\n</HTML>
STATUS:CONFIRMED
CLASS:PUBLIC
URL:https://www.golnetwork.com/game/v/50678/
X-MICROSOFT-CDO-BUSYSTATUS:BUSY
X-MICROSOFT-CDO-IMPORTANCE:1
END:VEVENT
BEGIN:VEVENT
UID:g56l0@games.golnetwork.com
LOCATION:North Toronto - Field 1
GEO:43.7098022;-79.3963055
CREATED:20140502T150524Z
DTSTART:20140509T223000Z
DTEND:20140509T233000Z
DTSTAMP:20260421T050704Z
SUMMARY:Unleash da Powa in da Showa vs. Northlanders FC
DESCRIPTION:Northlanders FC vs. Unleash da Powa in da ShowaMore info: #106
X-ALT-DESC;FMTTYPE=text/html:<!DOCTYPE HTML PUBLIC "-//W3C//DTD HTML 3.2//E
	N">\n<HTML>\n<HEAD>\n<TITLE></TITLE>\n</HEAD>\n<BODY>\n<h3>Northlanders FC 
	vs. Unleash da Powa in da Showa</h3>More info: <a href="https://www.golnetw
	ork.com/game/v/50679/">#106</a>\n\n</BODY>\n</HTML>
STATUS:CONFIRMED
CLASS:PUBLIC
URL:https://www.golnetwork.com/game/v/50679/
X-MICROSOFT-CDO-BUSYSTATUS:BUSY
X-MICROSOFT-CDO-IMPORTANCE:1
END:VEVENT
BEGIN:VEVENT
UID:g56l2@games.golnetwork.com
LOCATION:North Toronto - Field 2
GEO:43.7098022;-79.3963055
CREATED:20140502T150524Z
DTSTART:20140509T223000Z
DTEND:20140509T233000Z
DTSTAMP:20260421T050704Z
SUMMARY:XTSC Misfits vs. Goal Diggers
DESCRIPTION:Goal Diggers vs. XTSC MisfitsMore info: #107
X-ALT-DESC;FMTTYPE=text/html:<!DOCTYPE HTML PUBLIC "-//W3C//DTD HTML 3.2//E
	N">\n<HTML>\n<HEAD>\n<TITLE></TITLE>\n</HEAD>\n<BODY>\n<h3>Goal Diggers vs.
	 XTSC Misfits</h3>More info: <a href="https://www.golnetwork.com/game/v/506
	80/">#107</a>\n\n</BODY>\n</HTML>
STATUS:CONFIRMED
CLASS:PUBLIC
URL:https://www.golnetwork.com/game/v/50680/
X-MICROSOFT-CDO-BUSYSTATUS:BUSY
X-MICROSOFT-CDO-IMPORTANCE:1
END:VEVENT
BEGIN:VEVENT
UID:g56l4@games.golnetwork.com
LOCATION:North Toronto - Field 1
GEO:43.7098022;-79.3963055
CREATED:20140502T150524Z
DTSTART:20140509T233000Z
DTEND:20140510T003000Z
DTSTAMP:20260421T050704Z
SUMMARY:Team FC vs. The Six Shooters
DESCRIPTION:The Six Shooters vs. Team FCMore info: #108
X-ALT-DESC;FMTTYPE=text/html:<!DOCTYPE HTML PUBLIC "-//W3C//DTD HTML 3.2//E
	N">\n<HTML>\n<HEAD>\n<TITLE></TITLE>\n</HEAD>\n<BODY>\n<h3>The Six Shooters
	 vs. Team FC</h3>More info: <a href="https://www.golnetwork.com/game/v/5068
	1/">#108</a>\n\n</BODY>\n</HTML>
STATUS:CONFIRMED
CLASS:PUBLIC
URL:https://www.golnetwork.com/game/v/50681/
X-MICROSOFT-CDO-BUSYSTATUS:BUSY
X-MICROSOFT-CDO-IMPORTANCE:1
END:VEVENT
BEGIN:VEVENT
UID:g56l6@games.golnetwork.com
LOCATION:North Toronto - Field 2
GEO:43.7098022;-79.3963055
CREATED:20140502T150524Z
DTSTART:20140509T233000Z
DTEND:20140510T003000Z
DTSTAMP:20260421T050704Z
SUMMARY:Talk Footy To Me vs. Goal Diggers
DESCRIPTION:Goal Diggers vs. Talk Footy To MeMore info: #109
X-ALT-DESC;FMTTYPE=text/html:<!DOCTYPE HTML PUBLIC "-//W3C//DTD HTML 3.2//E
	N">\n<HTML>\n<HEAD>\n<TITLE></TITLE>\n</HEAD>\n<BODY>\n<h3>Goal Diggers vs.
	 Talk Footy To Me</h3>More info: <a href="https://www.golnetwork.com/game/v
	/50682/">#109</a>\n\n</BODY>\n</HTML>
STATUS:CONFIRMED
CLASS:PUBLIC
URL:https://www.golnetwork.com/game/v/50682/
X-MICROSOFT-CDO-BUSYSTATUS:BUSY
X-MICROSOFT-CDO-IMPORTANCE:1
END:VEVENT
BEGIN:VEVENT
UID:g56l8@games.golnetwork.com
LOCATION:North Toronto - Field 1
GEO:43.7098022;-79.3963055
CREATED:20140502T150524Z
DTSTART:20140516T223000Z
DTEND:20140516T233000Z
DTSTAMP:20260421T050704Z
SUMMARY:Northlanders FC vs. XTSC Misfits
DESCRIPTION:XTSC Misfits vs. Northlanders FCMore info: #157
X-ALT-DESC;FMTTYPE=text/html:<!DOCTYPE HTML PUBLIC "-//W3C//DTD HTML 3.2//E
	N">\n<HTML>\n<HEAD>\n<TITLE></TITLE>\n</HEAD>\n<BODY>\n<h3>XTSC Misfits vs.
	 Northlanders FC</h3>More info: <a href="https://www.golnetwork.com/game/v/
	50683/">#157</a>\n\n</BODY>\n</HTML>
STATUS:CONFIRMED
CLASS:PUBLIC
URL:https://www.golnetwork.com/game/v/50683/
X-MICROSOFT-CDO-BUSYSTATUS:BUSY
X-MICROSOFT-CDO-IMPORTANCE:1
END:VEVENT
BEGIN:VEVENT
UID:g56la@games.golnetwork.com
LOCATION:North Toronto - Field 2
GEO:43.7098022;-79.3963055
CREATED:20140502T150524Z
DTSTART:20140516T223000Z
DTEND:20140516T233000Z
DTSTAMP:20260421T050704Z
SUMMARY:The Six Shooters vs. Goal Diggers
DESCRIPTION:Goal Diggers vs. The Six ShootersMore info: #158
X-ALT-DESC;FMTTYPE=text/html:<!DOCTYPE HTML PUBLIC "-//W3C//DTD HTML 3.2//E
	N">\n<HTML>\n<HEAD>\n<TITLE></TITLE>\n</HEAD>\n<BODY>\n<h3>Goal Diggers vs.
	 The Six Shooters</h3>More info: <a href="https://www.golnetwork.com/game/v
	/50684/">#158</a>\n\n</BODY>\n</HTML>
STATUS:CONFIRMED
CLASS:PUBLIC
URL:https://www.golnetwork.com/game/v/50684/
X-MICROSOFT-CDO-BUSYSTATUS:BUSY
X-MICROSOFT-CDO-IMPORTANCE:1
END:VEVENT
BEGIN:VEVENT
UID:g56lc@games.golnetwork.com
LOCATION:North Toronto - Field 1
GEO:43.7098022;-79.3963055
CREATED:20140502T150524Z
DTSTART:20140516T233000Z
DTEND:20140517T003000Z
DTSTAMP:20260421T050704Z
SUMMARY:Team FC vs. XTSC Misfits
DESCRIPTION:XTSC Misfits vs. Team FCMore info: #159
X-ALT-DESC;FMTTYPE=text/html:<!DOCTYPE HTML PUBLIC "-//W3C//DTD HTML 3.2//E
	N">\n<HTML>\n<HEAD>\n<TITLE></TITLE>\n</HEAD>\n<BODY>\n<h3>XTSC Misfits vs.
	 Team FC</h3>More info: <a href="https://www.golnetwork.com/game/v/50685/">
	#159</a>\n\n</BODY>\n</HTML>
STATUS:CONFIRMED
CLASS:PUBLIC
URL:https://www.golnetwork.com/game/v/50685/
X-MICROSOFT-CDO-BUSYSTATUS:BUSY
X-MICROSOFT-CDO-IMPORTANCE:1
END:VEVENT
BEGIN:VEVENT
UID:g56le@games.golnetwork.com
LOCATION:North Toronto - Field 2
GEO:43.7098022;-79.3963055
CREATED:20140502T150524Z
DTSTART:20140516T233000Z
DTEND:20140517T003000Z
DTSTAMP:20260421T050704Z
SUMMARY:Talk Footy To Me vs. Unleash da Powa in da Showa
DESCRIPTION:Unleash da Powa in da Showa vs. Talk Footy To MeMore info: #160
X-ALT-DESC;FMTTYPE=text/html:<!DOCTYPE HTML PUBLIC "-//W3C//DTD HTML 3.2//E
	N">\n<HTML>\n<HEAD>\n<TITLE></TITLE>\n</HEAD>\n<BODY>\n<h3>Unleash da Powa 
	in da Showa vs. Talk Footy To Me</h3>More info: <a href="https://www.golnet
	work.com/game/v/50686/">#160</a>\n\n</BODY>\n</HTML>
STATUS:CONFIRMED
CLASS:PUBLIC
URL:https://www.golnetwork.com/game/v/50686/
X-MICROSOFT-CDO-BUSYSTATUS:BUSY
X-MICROSOFT-CDO-IMPORTANCE:1
END:VEVENT
BEGIN:VEVENT
UID:g56lg@games.golnetwork.com
LOCATION:North Toronto - Field 1
GEO:43.7098022;-79.3963055
CREATED:20140502T150524Z
DTSTART:20140523T223000Z
DTEND:20140523T233000Z
DTSTAMP:20260421T050704Z
SUMMARY:The Six Shooters vs. Unleash da Powa in da Showa
DESCRIPTION:Unleash da Powa in da Showa vs. The Six ShootersMore info: #203
X-ALT-DESC;FMTTYPE=text/html:<!DOCTYPE HTML PUBLIC "-//W3C//DTD HTML 3.2//E
	N">\n<HTML>\n<HEAD>\n<TITLE></TITLE>\n</HEAD>\n<BODY>\n<h3>Unleash da Powa 
	in da Showa vs. The Six Shooters</h3>More info: <a href="https://www.golnet
	work.com/game/v/50687/">#203</a>\n\n</BODY>\n</HTML>
STATUS:CONFIRMED
CLASS:PUBLIC
URL:https://www.golnetwork.com/game/v/50687/
X-MICROSOFT-CDO-BUSYSTATUS:BUSY
X-MICROSOFT-CDO-IMPORTANCE:1
END:VEVENT
BEGIN:VEVENT
UID:g56li@games.golnetwork.com
LOCATION:North Toronto - Field 2
GEO:43.7098022;-79.3963055
CREATED:20140502T150524Z
DTSTART:20140523T223000Z
DTEND:20140523T233000Z
DTSTAMP:20260421T050704Z
SUMMARY:Northlanders FC vs. Team FC
DESCRIPTION:Team FC vs. Northlanders FCMore info: #204
X-ALT-DESC;FMTTYPE=text/html:<!DOCTYPE HTML PUBLIC "-//W3C//DTD HTML 3.2//E
	N">\n<HTML>\n<HEAD>\n<TITLE></TITLE>\n</HEAD>\n<BODY>\n<h3>Team FC vs. Nort
	hlanders FC</h3>More info: <a href="https://www.golnetwork.com/game/v/50688
	/">#204</a>\n\n</BODY>\n</HTML>
STATUS:CONFIRMED
CLASS:PUBLIC
URL:https://www.golnetwork.com/game/v/50688/
X-MICROSOFT-CDO-BUSYSTATUS:BUSY
X-MICROSOFT-CDO-IMPORTANCE:1
END:VEVENT
BEGIN:VEVENT
UID:g56lk@games.golnetwork.com
LOCATION:North Toronto - Field 1
GEO:43.7098022;-79.3963055
CREATED:20140502T150524Z
DTSTART:20140523T233000Z
DTEND:20140524T003000Z
DTSTAMP:20260421T050704Z
SUMMARY:The Six Shooters vs. Talk Footy To Me
DESCRIPTION:Talk Footy To Me vs. The Six ShootersMore info: #205
X-ALT-DESC;FMTTYPE=text/html:<!DOCTYPE HTML PUBLIC "-//W3C//DTD HTML 3.2//E
	N">\n<HTML>\n<HEAD>\n<TITLE></TITLE>\n</HEAD>\n<BODY>\n<h3>Talk Footy To Me
	 vs. The Six Shooters</h3>More info: <a href="https://www.golnetwork.com/ga
	me/v/50689/">#205</a>\n\n</BODY>\n</HTML>
STATUS:CONFIRMED
CLASS:PUBLIC
URL:https://www.golnetwork.com/game/v/50689/
X-MICROSOFT-CDO-BUSYSTATUS:BUSY
X-MICROSOFT-CDO-IMPORTANCE:1
END:VEVENT
BEGIN:VEVENT
UID:g56lm@games.golnetwork.com
LOCATION:North Toronto - Field 2
GEO:43.7098022;-79.3963055
CREATED:20140502T150524Z
DTSTART:20140523T233000Z
DTEND:20140524T003000Z
DTSTAMP:20260421T050704Z
SUMMARY:Goal Diggers vs. XTSC Misfits
DESCRIPTION:XTSC Misfits vs. Goal DiggersMore info: #206
X-ALT-DESC;FMTTYPE=text/html:<!DOCTYPE HTML PUBLIC "-//W3C//DTD HTML 3.2//E
	N">\n<HTML>\n<HEAD>\n<TITLE></TITLE>\n</HEAD>\n<BODY>\n<h3>XTSC Misfits vs.
	 Goal Diggers</h3>More info: <a href="https://www.golnetwork.com/game/v/506
	90/">#206</a>\n\n</BODY>\n</HTML>
STATUS:CONFIRMED
CLASS:PUBLIC
URL:https://www.golnetwork.com/game/v/50690/
X-MICROSOFT-CDO-BUSYSTATUS:BUSY
X-MICROSOFT-CDO-IMPORTANCE:1
END:VEVENT
BEGIN:VEVENT
UID:g56lo@games.golnetwork.com
LOCATION:North Toronto - Field 1
GEO:43.7098022;-79.3963055
CREATED:20140502T150524Z
DTSTART:20140530T223000Z
DTEND:20140530T233000Z
DTSTAMP:20260421T050704Z
SUMMARY:XTSC Misfits vs. Unleash da Powa in da Showa
DESCRIPTION:Unleash da Powa in da Showa vs. XTSC MisfitsMore info: #255
X-ALT-DESC;FMTTYPE=text/html:<!DOCTYPE HTML PUBLIC "-//W3C//DTD HTML 3.2//E
	N">\n<HTML>\n<HEAD>\n<TITLE></TITLE>\n</HEAD>\n<BODY>\n<h3>Unleash da Powa 
	in da Showa vs. XTSC Misfits</h3>More info: <a href="https://www.golnetwork
	.com/game/v/50691/">#255</a>\n\n</BODY>\n</HTML>
STATUS:CONFIRMED
CLASS:PUBLIC
URL:https://www.golnetwork.com/game/v/50691/
X-MICROSOFT-CDO-BUSYSTATUS:BUSY
X-MICROSOFT-CDO-IMPORTANCE:1
END:VEVENT
BEGIN:VEVENT
UID:g56lq@games.golnetwork.com
LOCATION:North Toronto - Field 2
GEO:43.7098022;-79.3963055
CREATED:20140502T150524Z
DTSTART:20140530T223000Z
DTEND:20140530T233000Z
DTSTAMP:20260421T050704Z
SUMMARY:Goal Diggers vs. Northlanders FC
DESCRIPTION:Northlanders FC vs. Goal DiggersMore info: #256
X-ALT-DESC;FMTTYPE=text/html:<!DOCTYPE HTML PUBLIC "-//W3C//DTD HTML 3.2//E
	N">\n<HTML>\n<HEAD>\n<TITLE></TITLE>\n</HEAD>\n<BODY>\n<h3>Northlanders FC 
	vs. Goal Diggers</h3>More info: <a href="https://www.golnetwork.com/game/v/
	50692/">#256</a>\n\n</BODY>\n</HTML>
STATUS:CONFIRMED
CLASS:PUBLIC
URL:https://www.golnetwork.com/game/v/50692/
X-MICROSOFT-CDO-BUSYSTATUS:BUSY
X-MICROSOFT-CDO-IMPORTANCE:1
END:VEVENT
BEGIN:VEVENT
UID:g56m1@games.golnetwork.com
LOCATION:North Toronto - Field 1
GEO:43.7098022;-79.3963055
CREATED:20140502T150524Z
DTSTART:20140530T233000Z
DTEND:20140531T003000Z
DTSTAMP:20260421T050704Z
SUMMARY:Team FC vs. The Six Shooters
DESCRIPTION:The Six Shooters vs. Team FCMore info: #257
X-ALT-DESC;FMTTYPE=text/html:<!DOCTYPE HTML PUBLIC "-//W3C//DTD HTML 3.2//E
	N">\n<HTML>\n<HEAD>\n<TITLE></TITLE>\n</HEAD>\n<BODY>\n<h3>The Six Shooters
	 vs. Team FC</h3>More info: <a href="https://www.golnetwork.com/game/v/5069
	3/">#257</a>\n\n</BODY>\n</HTML>
STATUS:CONFIRMED
CLASS:PUBLIC
URL:https://www.golnetwork.com/game/v/50693/
X-MICROSOFT-CDO-BUSYSTATUS:BUSY
X-MICROSOFT-CDO-IMPORTANCE:1
END:VEVENT
BEGIN:VEVENT
UID:g56m3@games.golnetwork.com
LOCATION:North Toronto - Field 2
GEO:43.7098022;-79.3963055
CREATED:20140502T150524Z
DTSTART:20140530T233000Z
DTEND:20140531T003000Z
DTSTAMP:20260421T050704Z
SUMMARY:Talk Footy To Me vs. Northlanders FC
DESCRIPTION:Northlanders FC vs. Talk Footy To MeMore info: #258
X-ALT-DESC;FMTTYPE=text/html:<!DOCTYPE HTML PUBLIC "-//W3C//DTD HTML 3.2//E
	N">\n<HTML>\n<HEAD>\n<TITLE></TITLE>\n</HEAD>\n<BODY>\n<h3>Northlanders FC 
	vs. Talk Footy To Me</h3>More info: <a href="https://www.golnetwork.com/gam
	e/v/50694/">#258</a>\n\n</BODY>\n</HTML>
STATUS:CONFIRMED
CLASS:PUBLIC
URL:https://www.golnetwork.com/game/v/50694/
X-MICROSOFT-CDO-BUSYSTATUS:BUSY
X-MICROSOFT-CDO-IMPORTANCE:1
END:VEVENT
BEGIN:VEVENT
UID:g56m5@games.golnetwork.com
LOCATION:North Toronto - Field 1
GEO:43.7098022;-79.3963055
CREATED:20140502T150524Z
DTSTART:20140606T223000Z
DTEND:20140606T233000Z
DTSTAMP:20260421T050704Z
SUMMARY:Goal Diggers vs. XTSC Misfits
DESCRIPTION:XTSC Misfits vs. Goal DiggersMore info: #307
X-ALT-DESC;FMTTYPE=text/html:<!DOCTYPE HTML PUBLIC "-//W3C//DTD HTML 3.2//E
	N">\n<HTML>\n<HEAD>\n<TITLE></TITLE>\n</HEAD>\n<BODY>\n<h3>XTSC Misfits vs.
	 Goal Diggers</h3>More info: <a href="https://www.golnetwork.com/game/v/506
	95/">#307</a>\n\n</BODY>\n</HTML>
STATUS:CONFIRMED
CLASS:PUBLIC
URL:https://www.golnetwork.com/game/v/50695/
X-MICROSOFT-CDO-BUSYSTATUS:BUSY
X-MICROSOFT-CDO-IMPORTANCE:1
END:VEVENT
BEGIN:VEVENT
UID:g56m7@games.golnetwork.com
LOCATION:North Toronto - Field 2
GEO:43.7098022;-79.3963055
CREATED:20140502T150524Z
DTSTART:20140606T223000Z
DTEND:20140606T233000Z
DTSTAMP:20260421T050704Z
SUMMARY:Unleash da Powa in da Showa vs. Team FC
DESCRIPTION:Team FC vs. Unleash da Powa in da ShowaMore info: #308
X-ALT-DESC;FMTTYPE=text/html:<!DOCTYPE HTML PUBLIC "-//W3C//DTD HTML 3.2//E
	N">\n<HTML>\n<HEAD>\n<TITLE></TITLE>\n</HEAD>\n<BODY>\n<h3>Team FC vs. Unle
	ash da Powa in da Showa</h3>More info: <a href="https://www.golnetwork.com/
	game/v/50696/">#308</a>\n\n</BODY>\n</HTML>
STATUS:CONFIRMED
CLASS:PUBLIC
URL:https://www.golnetwork.com/game/v/50696/
X-MICROSOFT-CDO-BUSYSTATUS:BUSY
X-MICROSOFT-CDO-IMPORTANCE:1
END:VEVENT
BEGIN:VEVENT
UID:g56m9@games.golnetwork.com
LOCATION:North Toronto - Field 1
GEO:43.7098022;-79.3963055
CREATED:20140502T150524Z
DTSTART:20140606T233000Z
DTEND:20140607T003000Z
DTSTAMP:20260421T050704Z
SUMMARY:The Six Shooters vs. Northlanders FC
DESCRIPTION:Northlanders FC vs. The Six ShootersMore info: #309
X-ALT-DESC;FMTTYPE=text/html:<!DOCTYPE HTML PUBLIC "-//W3C//DTD HTML 3.2//E
	N">\n<HTML>\n<HEAD>\n<TITLE></TITLE>\n</HEAD>\n<BODY>\n<h3>Northlanders FC 
	vs. The Six Shooters</h3>More info: <a href="https://www.golnetwork.com/gam
	e/v/50697/">#309</a>\n\n</BODY>\n</HTML>
STATUS:CONFIRMED
CLASS:PUBLIC
URL:https://www.golnetwork.com/game/v/50697/
X-MICROSOFT-CDO-BUSYSTATUS:BUSY
X-MICROSOFT-CDO-IMPORTANCE:1
END:VEVENT
BEGIN:VEVENT
UID:g56mb@games.golnetwork.com
LOCATION:North Toronto - Field 2
GEO:43.7098022;-79.3963055
CREATED:20140502T150524Z
DTSTART:20140606T233000Z
DTEND:20140607T003000Z
DTSTAMP:20260421T050704Z
SUMMARY:Talk Footy To Me vs. Team FC
DESCRIPTION:Team FC vs. Talk Footy To MeMore info: #310
X-ALT-DESC;FMTTYPE=text/html:<!DOCTYPE HTML PUBLIC "-//W3C//DTD HTML 3.2//E
	N">\n<HTML>\n<HEAD>\n<TITLE></TITLE>\n</HEAD>\n<BODY>\n<h3>Team FC vs. Talk
	 Footy To Me</h3>More info: <a href="https://www.golnetwork.com/game/v/5069
	8/">#310</a>\n\n</BODY>\n</HTML>
STATUS:CONFIRMED
CLASS:PUBLIC
URL:https://www.golnetwork.com/game/v/50698/
X-MICROSOFT-CDO-BUSYSTATUS:BUSY
X-MICROSOFT-CDO-IMPORTANCE:1
END:VEVENT
BEGIN:VEVENT
UID:g56md@games.golnetwork.com
LOCATION:North Toronto - Field 1
GEO:43.7098022;-79.3963055
CREATED:20140502T150524Z
DTSTART:20140613T223000Z
DTEND:20140613T233000Z
DTSTAMP:20260421T050704Z
SUMMARY:Team FC vs. Unleash da Powa in da Showa
DESCRIPTION:Unleash da Powa in da Showa vs. Team FCMore info: #359
X-ALT-DESC;FMTTYPE=text/html:<!DOCTYPE HTML PUBLIC "-//W3C//DTD HTML 3.2//E
	N">\n<HTML>\n<HEAD>\n<TITLE></TITLE>\n</HEAD>\n<BODY>\n<h3>Unleash da Powa 
	in da Showa vs. Team FC</h3>More info: <a href="https://www.golnetwork.com/
	game/v/50699/">#359</a>\n\n</BODY>\n</HTML>
STATUS:CONFIRMED
CLASS:PUBLIC
URL:https://www.golnetwork.com/game/v/50699/
X-MICROSOFT-CDO-BUSYSTATUS:BUSY
X-MICROSOFT-CDO-IMPORTANCE:1
END:VEVENT
BEGIN:VEVENT
UID:g56mf@games.golnetwork.com
LOCATION:North Toronto - Field 2
GEO:43.7098022;-79.3963055
CREATED:20140502T150524Z
DTSTART:20140613T223000Z
DTEND:20140613T233000Z
DTSTAMP:20260421T050704Z
SUMMARY:The Six Shooters vs. Talk Footy To Me
DESCRIPTION:Talk Footy To Me vs. The Six ShootersMore info: #360
X-ALT-DESC;FMTTYPE=text/html:<!DOCTYPE HTML PUBLIC "-//W3C//DTD HTML 3.2//E
	N">\n<HTML>\n<HEAD>\n<TITLE></TITLE>\n</HEAD>\n<BODY>\n<h3>Talk Footy To Me
	 vs. The Six Shooters</h3>More info: <a href="https://www.golnetwork.com/ga
	me/v/50700/">#360</a>\n\n</BODY>\n</HTML>
STATUS:CONFIRMED
CLASS:PUBLIC
URL:https://www.golnetwork.com/game/v/50700/
X-MICROSOFT-CDO-BUSYSTATUS:BUSY
X-MICROSOFT-CDO-IMPORTANCE:1
END:VEVENT
BEGIN:VEVENT
UID:g56mh@games.golnetwork.com
LOCATION:North Toronto - Field 1
GEO:43.7098022;-79.3963055
CREATED:20140502T150524Z
DTSTART:20140613T233000Z
DTEND:20140614T003000Z
DTSTAMP:20260421T050704Z
SUMMARY:XTSC Misfits vs. Goal Diggers
DESCRIPTION:Goal Diggers vs. XTSC MisfitsMore info: #361
X-ALT-DESC;FMTTYPE=text/html:<!DOCTYPE HTML PUBLIC "-//W3C//DTD HTML 3.2//E
	N">\n<HTML>\n<HEAD>\n<TITLE></TITLE>\n</HEAD>\n<BODY>\n<h3>Goal Diggers vs.
	 XTSC Misfits</h3>More info: <a href="https://www.golnetwork.com/game/v/507
	01/">#361</a>\n\n</BODY>\n</HTML>
STATUS:CONFIRMED
CLASS:PUBLIC
URL:https://www.golnetwork.com/game/v/50701/
X-MICROSOFT-CDO-BUSYSTATUS:BUSY
X-MICROSOFT-CDO-IMPORTANCE:1
END:VEVENT
BEGIN:VEVENT
UID:g56mj@games.golnetwork.com
LOCATION:North Toronto - Field 2
GEO:43.7098022;-79.3963055
CREATED:20140502T150524Z
DTSTART:20140613T233000Z
DTEND:20140614T003000Z
DTSTAMP:20260421T050704Z
SUMMARY:Northlanders FC vs. Talk Footy To Me
DESCRIPTION:Talk Footy To Me vs. Northlanders FCMore info: #362
X-ALT-DESC;FMTTYPE=text/html:<!DOCTYPE HTML PUBLIC "-//W3C//DTD HTML 3.2//E
	N">\n<HTML>\n<HEAD>\n<TITLE></TITLE>\n</HEAD>\n<BODY>\n<h3>Talk Footy To Me
	 vs. Northlanders FC</h3>More info: <a href="https://www.golnetwork.com/gam
	e/v/50702/">#362</a>\n\n</BODY>\n</HTML>
STATUS:CONFIRMED
CLASS:PUBLIC
URL:https://www.golnetwork.com/game/v/50702/
X-MICROSOFT-CDO-BUSYSTATUS:BUSY
X-MICROSOFT-CDO-IMPORTANCE:1
END:VEVENT
BEGIN:VEVENT
UID:g56ml@games.golnetwork.com
LOCATION:North Toronto - Field 1
GEO:43.7098022;-79.3963055
CREATED:20140502T150524Z
DTSTART:20140620T223000Z
DTEND:20140620T233000Z
DTSTAMP:20260421T050704Z
SUMMARY:Northlanders FC vs. XTSC Misfits
DESCRIPTION:XTSC Misfits vs. Northlanders FCMore info: #411
X-ALT-DESC;FMTTYPE=text/html:<!DOCTYPE HTML PUBLIC "-//W3C//DTD HTML 3.2//E
	N">\n<HTML>\n<HEAD>\n<TITLE></TITLE>\n</HEAD>\n<BODY>\n<h3>XTSC Misfits vs.
	 Northlanders FC</h3>More info: <a href="https://www.golnetwork.com/game/v/
	50703/">#411</a>\n\n</BODY>\n</HTML>
STATUS:CONFIRMED
CLASS:PUBLIC
URL:https://www.golnetwork.com/game/v/50703/
X-MICROSOFT-CDO-BUSYSTATUS:BUSY
X-MICROSOFT-CDO-IMPORTANCE:1
END:VEVENT
BEGIN:VEVENT
UID:g56mn@games.golnetwork.com
LOCATION:North Toronto - Field 2
GEO:43.7098022;-79.3963055
CREATED:20140502T150524Z
DTSTART:20140620T223000Z
DTEND:20140620T233000Z
DTSTAMP:20260421T050704Z
SUMMARY:The Six Shooters vs. Goal Diggers
DESCRIPTION:Goal Diggers vs. The Six ShootersMore info: #412
X-ALT-DESC;FMTTYPE=text/html:<!DOCTYPE HTML PUBLIC "-//W3C//DTD HTML 3.2//E
	N">\n<HTML>\n<HEAD>\n<TITLE></TITLE>\n</HEAD>\n<BODY>\n<h3>Goal Diggers vs.
	 The Six Shooters</h3>More info: <a href="https://www.golnetwork.com/game/v
	/50704/">#412</a>\n\n</BODY>\n</HTML>
STATUS:CONFIRMED
CLASS:PUBLIC
URL:https://www.golnetwork.com/game/v/50704/
X-MICROSOFT-CDO-BUSYSTATUS:BUSY
X-MICROSOFT-CDO-IMPORTANCE:1
END:VEVENT
BEGIN:VEVENT
UID:g56mp@games.golnetwork.com
LOCATION:North Toronto - Field 1
GEO:43.7098022;-79.3963055
CREATED:20140502T150524Z
DTSTART:20140620T233000Z
DTEND:20140621T003000Z
DTSTAMP:20260421T050704Z
SUMMARY:Talk Footy To Me vs. Unleash da Powa in da Showa
DESCRIPTION:Unleash da Powa in da Showa vs. Talk Footy To MeMore info: #413
X-ALT-DESC;FMTTYPE=text/html:<!DOCTYPE HTML PUBLIC "-//W3C//DTD HTML 3.2//E
	N">\n<HTML>\n<HEAD>\n<TITLE></TITLE>\n</HEAD>\n<BODY>\n<h3>Unleash da Powa 
	in da Showa vs. Talk Footy To Me</h3>More info: <a href="https://www.golnet
	work.com/game/v/50705/">#413</a>\n\n</BODY>\n</HTML>
STATUS:CONFIRMED
CLASS:PUBLIC
URL:https://www.golnetwork.com/game/v/50705/
X-MICROSOFT-CDO-BUSYSTATUS:BUSY
X-MICROSOFT-CDO-IMPORTANCE:1
END:VEVENT
BEGIN:VEVENT
UID:g56n0@games.golnetwork.com
LOCATION:North Toronto - Field 2
GEO:43.7098022;-79.3963055
CREATED:20140502T150524Z
DTSTART:20140620T233000Z
DTEND:20140621T003000Z
DTSTAMP:20260421T050704Z
SUMMARY:The Six Shooters vs. Team FC
DESCRIPTION:Team FC vs. The Six ShootersMore info: #414
X-ALT-DESC;FMTTYPE=text/html:<!DOCTYPE HTML PUBLIC "-//W3C//DTD HTML 3.2//E
	N">\n<HTML>\n<HEAD>\n<TITLE></TITLE>\n</HEAD>\n<BODY>\n<h3>Team FC vs. The 
	Six Shooters</h3>More info: <a href="https://www.golnetwork.com/game/v/5070
	6/">#414</a>\n\n</BODY>\n</HTML>
STATUS:CONFIRMED
CLASS:PUBLIC
URL:https://www.golnetwork.com/game/v/50706/
X-MICROSOFT-CDO-BUSYSTATUS:BUSY
X-MICROSOFT-CDO-IMPORTANCE:1
END:VEVENT
END:VCALENDAR
