BEGIN:VCALENDAR
PRODID:-//gdesolutions.com//MV Framework 1.0.0.1607 Calendar//EN
VERSION:2.0
METHOD:PUBLISH
CALSCALE:GREGORIAN
BEGIN:VEVENT
UID:g5b62@games.golnetwork.com
LOCATION:Craig Henry Park - West 1
GEO:45.3329135;-75.7757053
CREATED:20140528T215830Z
DTSTART:20140601T203000Z
DTEND:20140601T220000Z
DTSTAMP:20260420T224346Z
SUMMARY:Athletic Bluerange FC vs. The Shotgunners
DESCRIPTION:The Shotgunners vs. Athletic Bluerange FCMore info: #3
X-ALT-DESC;FMTTYPE=text/html:<!DOCTYPE HTML PUBLIC "-//W3C//DTD HTML 3.2//E
	N">\n<HTML>\n<HEAD>\n<TITLE></TITLE>\n</HEAD>\n<BODY>\n<h3>The Shotgunners 
	vs. Athletic Bluerange FC</h3>More info: <a href="https://www.golnetwork.co
	m/game/v/52300/">#3</a>\n\n</BODY>\n</HTML>
STATUS:CONFIRMED
CLASS:PUBLIC
URL:https://www.golnetwork.com/game/v/52300/
X-MICROSOFT-CDO-BUSYSTATUS:BUSY
X-MICROSOFT-CDO-IMPORTANCE:1
END:VEVENT
BEGIN:VEVENT
UID:g5aji@games.golnetwork.com
LOCATION:Craig Henry Park - West 1
GEO:45.3329135;-75.7757053
CREATED:20140521T032930Z
DTSTART:20140601T221500Z
DTEND:20140601T234500Z
DTSTAMP:20260420T224346Z
SUMMARY:Strangers United vs. The Closers
DESCRIPTION:The Closers vs. Strangers UnitedMore info: #10
X-ALT-DESC;FMTTYPE=text/html:<!DOCTYPE HTML PUBLIC "-//W3C//DTD HTML 3.2//E
	N">\n<HTML>\n<HEAD>\n<TITLE></TITLE>\n</HEAD>\n<BODY>\n<h3>The Closers vs. 
	Strangers United</h3>More info: <a href="https://www.golnetwork.com/game/v/
	52119/">#10</a>\n\n</BODY>\n</HTML>
STATUS:CONFIRMED
CLASS:PUBLIC
URL:https://www.golnetwork.com/game/v/52119/
X-MICROSOFT-CDO-BUSYSTATUS:BUSY
X-MICROSOFT-CDO-IMPORTANCE:1
END:VEVENT
BEGIN:VEVENT
UID:g5ajk@games.golnetwork.com
LOCATION:Craig Henry Park - West 2
GEO:45.3329135;-75.7757053
CREATED:20140521T032939Z
DTSTART:20140601T221500Z
DTEND:20140601T234500Z
DTSTAMP:20260420T224346Z
SUMMARY:Dcourt vs. Intermediate Individuals 2
DESCRIPTION:Intermediate Individuals 2 vs. DcourtMore info: #11
X-ALT-DESC;FMTTYPE=text/html:<!DOCTYPE HTML PUBLIC "-//W3C//DTD HTML 3.2//E
	N">\n<HTML>\n<HEAD>\n<TITLE></TITLE>\n</HEAD>\n<BODY>\n<h3>Intermediate Ind
	ividuals 2 vs. Dcourt</h3>More info: <a href="https://www.golnetwork.com/ga
	me/v/52120/">#11</a>\n\n</BODY>\n</HTML>
STATUS:CONFIRMED
CLASS:PUBLIC
URL:https://www.golnetwork.com/game/v/52120/
X-MICROSOFT-CDO-BUSYSTATUS:BUSY
X-MICROSOFT-CDO-IMPORTANCE:1
END:VEVENT
BEGIN:VEVENT
UID:g5be2@games.golnetwork.com
LOCATION:Craig Henry Park - Sports Field East 1
GEO:45.3332351;-75.7745898
CREATED:20140604T062040Z
DTSTART:20140601T221500Z
DTEND:20140601T234500Z
DTSTAMP:20260420T224346Z
SUMMARY:The Walruses vs. FC Bars-will-owna
DESCRIPTION:FC Bars-will-owna vs. The WalrusesMore info: #13
X-ALT-DESC;FMTTYPE=text/html:<!DOCTYPE HTML PUBLIC "-//W3C//DTD HTML 3.2//E
	N">\n<HTML>\n<HEAD>\n<TITLE></TITLE>\n</HEAD>\n<BODY>\n<h3>FC Bars-will-own
	a vs. The Walruses</h3>More info: <a href="https://www.golnetwork.com/game/
	v/52408/">#13</a>\n\n</BODY>\n</HTML>
STATUS:CONFIRMED
CLASS:PUBLIC
URL:https://www.golnetwork.com/game/v/52408/
X-MICROSOFT-CDO-BUSYSTATUS:BUSY
X-MICROSOFT-CDO-IMPORTANCE:1
END:VEVENT
BEGIN:VEVENT
UID:g5bci@games.golnetwork.com
LOCATION:Craig Henry Park - West Mini
GEO:45.3329253;-75.7757098
CREATED:20140602T200730Z
DTSTART:20140608T203000Z
DTEND:20140608T220000Z
DTSTAMP:20260420T224346Z
SUMMARY:Dcourt vs. FC Bars-will-owna
DESCRIPTION:FC Bars-will-owna vs. DcourtMore info: #20
X-ALT-DESC;FMTTYPE=text/html:<!DOCTYPE HTML PUBLIC "-//W3C//DTD HTML 3.2//E
	N">\n<HTML>\n<HEAD>\n<TITLE></TITLE>\n</HEAD>\n<BODY>\n<h3>FC Bars-will-own
	a vs. Dcourt</h3>More info: <a href="https://www.golnetwork.com/game/v/5238
	9/">#20</a>\n\n</BODY>\n</HTML>
STATUS:CONFIRMED
CLASS:PUBLIC
URL:https://www.golnetwork.com/game/v/52389/
X-MICROSOFT-CDO-BUSYSTATUS:BUSY
X-MICROSOFT-CDO-IMPORTANCE:1
END:VEVENT
BEGIN:VEVENT
UID:g5bca@games.golnetwork.com
LOCATION:Craig Henry Park West 3
GEO:45.10662;-94.578209
CREATED:20140602T200622Z
DTSTART:20140608T203000Z
DTEND:20140608T220000Z
DTSTAMP:20260420T224346Z
SUMMARY:The Closers vs. The Shotgunners
DESCRIPTION:The Shotgunners vs. The ClosersMore info: #23
X-ALT-DESC;FMTTYPE=text/html:<!DOCTYPE HTML PUBLIC "-//W3C//DTD HTML 3.2//E
	N">\n<HTML>\n<HEAD>\n<TITLE></TITLE>\n</HEAD>\n<BODY>\n<h3>The Shotgunners 
	vs. The Closers</h3>More info: <a href="https://www.golnetwork.com/game/v/5
	2385/">#23</a>\n\n</BODY>\n</HTML>
STATUS:CONFIRMED
CLASS:PUBLIC
URL:https://www.golnetwork.com/game/v/52385/
X-MICROSOFT-CDO-BUSYSTATUS:BUSY
X-MICROSOFT-CDO-IMPORTANCE:1
END:VEVENT
BEGIN:VEVENT
UID:g5be6@games.golnetwork.com
LOCATION:Craig Henry Park - South Mini
GEO:45.3329135;-75.7757053
CREATED:20140604T062310Z
DTSTART:20140608T221500Z
DTEND:20140608T234500Z
DTSTAMP:20260420T224346Z
SUMMARY:Legion of Boom vs. Intermediate Individuals 2
DESCRIPTION:Intermediate Individuals 2 vs. Legion of BoomMore info: #24
X-ALT-DESC;FMTTYPE=text/html:<!DOCTYPE HTML PUBLIC "-//W3C//DTD HTML 3.2//E
	N">\n<HTML>\n<HEAD>\n<TITLE></TITLE>\n</HEAD>\n<BODY>\n<h3>Intermediate Ind
	ividuals 2 vs. Legion of Boom</h3>More info: <a href="https://www.golnetwor
	k.com/game/v/52410/">#24</a>\n\n</BODY>\n</HTML>
STATUS:CONFIRMED
CLASS:PUBLIC
URL:https://www.golnetwork.com/game/v/52410/
X-MICROSOFT-CDO-BUSYSTATUS:BUSY
X-MICROSOFT-CDO-IMPORTANCE:1
END:VEVENT
BEGIN:VEVENT
UID:g5bd1@games.golnetwork.com
LOCATION:Craig Henry Park - West Mini
GEO:45.3329253;-75.7757098
CREATED:20140602T200931Z
DTSTART:20140608T221500Z
DTEND:20140608T234500Z
DTSTAMP:20260420T224346Z
SUMMARY:Strangers United vs. Athletic Bluerange FC
DESCRIPTION:Athletic Bluerange FC vs. Strangers UnitedMore info: #28
X-ALT-DESC;FMTTYPE=text/html:<!DOCTYPE HTML PUBLIC "-//W3C//DTD HTML 3.2//E
	N">\n<HTML>\n<HEAD>\n<TITLE></TITLE>\n</HEAD>\n<BODY>\n<h3>Athletic Blueran
	ge FC vs. Strangers United</h3>More info: <a href="https://www.golnetwork.c
	om/game/v/52394/">#28</a>\n\n</BODY>\n</HTML>
STATUS:CONFIRMED
CLASS:PUBLIC
URL:https://www.golnetwork.com/game/v/52394/
X-MICROSOFT-CDO-BUSYSTATUS:BUSY
X-MICROSOFT-CDO-IMPORTANCE:1
END:VEVENT
BEGIN:VEVENT
UID:g5be8@games.golnetwork.com
LOCATION:Craig Henry Park - West 1
GEO:45.3329135;-75.7757053
CREATED:20140604T062412Z
DTSTART:20140615T203000Z
DTEND:20140615T220000Z
DTSTAMP:20260420T224346Z
SUMMARY:Intermediate Individuals 2 vs. The Shotgunners
DESCRIPTION:The Shotgunners vs. Intermediate Individuals 2More info: #33
X-ALT-DESC;FMTTYPE=text/html:<!DOCTYPE HTML PUBLIC "-//W3C//DTD HTML 3.2//E
	N">\n<HTML>\n<HEAD>\n<TITLE></TITLE>\n</HEAD>\n<BODY>\n<h3>The Shotgunners 
	vs. Intermediate Individuals 2</h3>More info: <a href="https://www.golnetwo
	rk.com/game/v/52411/">#33</a>\n\n</BODY>\n</HTML>
STATUS:CONFIRMED
CLASS:PUBLIC
URL:https://www.golnetwork.com/game/v/52411/
X-MICROSOFT-CDO-BUSYSTATUS:BUSY
X-MICROSOFT-CDO-IMPORTANCE:1
END:VEVENT
BEGIN:VEVENT
UID:g5beo@games.golnetwork.com
LOCATION:Craig Henry Park - West 1
GEO:45.3329135;-75.7757053
CREATED:20140604T062731Z
DTSTART:20140615T221500Z
DTEND:20140615T234500Z
DTSTAMP:20260420T224346Z
SUMMARY:Athletic Bluerange FC vs. FC Bars-will-owna
DESCRIPTION:FC Bars-will-owna vs. Athletic Bluerange FCMore info: #40
X-ALT-DESC;FMTTYPE=text/html:<!DOCTYPE HTML PUBLIC "-//W3C//DTD HTML 3.2//E
	N">\n<HTML>\n<HEAD>\n<TITLE></TITLE>\n</HEAD>\n<BODY>\n<h3>FC Bars-will-own
	a vs. Athletic Bluerange FC</h3>More info: <a href="https://www.golnetwork.
	com/game/v/52419/">#40</a>\n\n</BODY>\n</HTML>
STATUS:CONFIRMED
CLASS:PUBLIC
URL:https://www.golnetwork.com/game/v/52419/
X-MICROSOFT-CDO-BUSYSTATUS:BUSY
X-MICROSOFT-CDO-IMPORTANCE:1
END:VEVENT
BEGIN:VEVENT
UID:g5bf1@games.golnetwork.com
LOCATION:Craig Henry Park West 3
GEO:45.10662;-94.578209
CREATED:20140604T062812Z
DTSTART:20140615T221500Z
DTEND:20140615T234500Z
DTSTAMP:20260420T224346Z
SUMMARY:Dcourt vs. The Closers
DESCRIPTION:The Closers vs. DcourtMore info: #45
X-ALT-DESC;FMTTYPE=text/html:<!DOCTYPE HTML PUBLIC "-//W3C//DTD HTML 3.2//E
	N">\n<HTML>\n<HEAD>\n<TITLE></TITLE>\n</HEAD>\n<BODY>\n<h3>The Closers vs. 
	Dcourt</h3>More info: <a href="https://www.golnetwork.com/game/v/52421/">#4
	5</a>\n\n</BODY>\n</HTML>
STATUS:CONFIRMED
CLASS:PUBLIC
URL:https://www.golnetwork.com/game/v/52421/
X-MICROSOFT-CDO-BUSYSTATUS:BUSY
X-MICROSOFT-CDO-IMPORTANCE:1
END:VEVENT
BEGIN:VEVENT
UID:g5bnf@games.golnetwork.com
LOCATION:Craig Henry Park - East Mini
GEO:45.3329135;-75.7757053
CREATED:20140616T180311Z
DTSTART:20140622T203000Z
DTEND:20140622T220000Z
DTSTAMP:20260420T224346Z
SUMMARY:The Bo$$es vs. The Shotgunners
DESCRIPTION:The Shotgunners vs. The Bo$$esMore info: #47
X-ALT-DESC;FMTTYPE=text/html:<!DOCTYPE HTML PUBLIC "-//W3C//DTD HTML 3.2//E
	N">\n<HTML>\n<HEAD>\n<TITLE></TITLE>\n</HEAD>\n<BODY>\n<h3>The Shotgunners 
	vs. The Bo$$es</h3>More info: <a href="https://www.golnetwork.com/game/v/52
	536/">#47</a>\n\n</BODY>\n</HTML>
STATUS:CONFIRMED
CLASS:PUBLIC
URL:https://www.golnetwork.com/game/v/52536/
X-MICROSOFT-CDO-BUSYSTATUS:BUSY
X-MICROSOFT-CDO-IMPORTANCE:1
END:VEVENT
BEGIN:VEVENT
UID:g5bg6@games.golnetwork.com
LOCATION:Craig Henry Park West 3
GEO:45.10662;-94.578209
CREATED:20140604T063303Z
DTSTART:20140622T203000Z
DTEND:20140622T220000Z
DTSTAMP:20260420T224346Z
SUMMARY:Dcourt vs. Athletic Bluerange FC
DESCRIPTION:Athletic Bluerange FC vs. DcourtMore info: #53
X-ALT-DESC;FMTTYPE=text/html:<!DOCTYPE HTML PUBLIC "-//W3C//DTD HTML 3.2//E
	N">\n<HTML>\n<HEAD>\n<TITLE></TITLE>\n</HEAD>\n<BODY>\n<h3>Athletic Blueran
	ge FC vs. Dcourt</h3>More info: <a href="https://www.golnetwork.com/game/v/
	52437/">#53</a>\n\n</BODY>\n</HTML>
STATUS:CONFIRMED
CLASS:PUBLIC
URL:https://www.golnetwork.com/game/v/52437/
X-MICROSOFT-CDO-BUSYSTATUS:BUSY
X-MICROSOFT-CDO-IMPORTANCE:1
END:VEVENT
BEGIN:VEVENT
UID:g5bga@games.golnetwork.com
LOCATION:Craig Henry Park - Sports Field East 2
GEO:45.3332351;-75.7745898
CREATED:20140604T063335Z
DTSTART:20140622T221500Z
DTEND:20140622T234500Z
DTSTAMP:20260420T224346Z
SUMMARY:Intermediate Individuals 2 vs. Strangers United
DESCRIPTION:Strangers United vs. Intermediate Individuals 2More info: #60
X-ALT-DESC;FMTTYPE=text/html:<!DOCTYPE HTML PUBLIC "-//W3C//DTD HTML 3.2//E
	N">\n<HTML>\n<HEAD>\n<TITLE></TITLE>\n</HEAD>\n<BODY>\n<h3>Strangers United
	 vs. Intermediate Individuals 2</h3>More info: <a href="https://www.golnetw
	ork.com/game/v/52439/">#60</a>\n\n</BODY>\n</HTML>
STATUS:CONFIRMED
CLASS:PUBLIC
URL:https://www.golnetwork.com/game/v/52439/
X-MICROSOFT-CDO-BUSYSTATUS:BUSY
X-MICROSOFT-CDO-IMPORTANCE:1
END:VEVENT
BEGIN:VEVENT
UID:g5bg8@games.golnetwork.com
LOCATION:Craig Henry Park West 3
GEO:45.10662;-94.578209
CREATED:20140604T063321Z
DTSTART:20140622T221500Z
DTEND:20140622T234500Z
DTSTAMP:20260420T224346Z
SUMMARY:The Closers vs. FC Bars-will-owna
DESCRIPTION:FC Bars-will-owna vs. The ClosersMore info: #61
X-ALT-DESC;FMTTYPE=text/html:<!DOCTYPE HTML PUBLIC "-//W3C//DTD HTML 3.2//E
	N">\n<HTML>\n<HEAD>\n<TITLE></TITLE>\n</HEAD>\n<BODY>\n<h3>FC Bars-will-own
	a vs. The Closers</h3>More info: <a href="https://www.golnetwork.com/game/v
	/52438/">#61</a>\n\n</BODY>\n</HTML>
STATUS:CONFIRMED
CLASS:PUBLIC
URL:https://www.golnetwork.com/game/v/52438/
X-MICROSOFT-CDO-BUSYSTATUS:BUSY
X-MICROSOFT-CDO-IMPORTANCE:1
END:VEVENT
BEGIN:VEVENT
UID:g5d6a@games.golnetwork.com
LOCATION:Craig Henry Park - South Mini
GEO:45.3329135;-75.7757053
CREATED:20140625T200618Z
DTSTART:20140629T203000Z
DTEND:20140629T220000Z
DTSTAMP:20260420T224346Z
SUMMARY:Strangers United vs. The Shotgunners
DESCRIPTION:The Shotgunners vs. Strangers UnitedMore info: #62
X-ALT-DESC;FMTTYPE=text/html:<!DOCTYPE HTML PUBLIC "-//W3C//DTD HTML 3.2//E
	N">\n<HTML>\n<HEAD>\n<TITLE></TITLE>\n</HEAD>\n<BODY>\n<h3>The Shotgunners 
	vs. Strangers United</h3>More info: <a href="https://www.golnetwork.com/gam
	e/v/53033/">#62</a>\n\n</BODY>\n</HTML>
STATUS:CONFIRMED
CLASS:PUBLIC
URL:https://www.golnetwork.com/game/v/53033/
X-MICROSOFT-CDO-BUSYSTATUS:BUSY
X-MICROSOFT-CDO-IMPORTANCE:1
END:VEVENT
BEGIN:VEVENT
UID:g5d60@games.golnetwork.com
LOCATION:Craig Henry Park West 3
GEO:45.10662;-94.578209
CREATED:20140625T200442Z
DTSTART:20140629T203000Z
DTEND:20140629T220000Z
DTSTAMP:20260420T224346Z
SUMMARY:Intermediate Individuals 2 vs. FC Bars-will-owna
DESCRIPTION:FC Bars-will-owna vs. Intermediate Individuals 2More info: #69
X-ALT-DESC;FMTTYPE=text/html:<!DOCTYPE HTML PUBLIC "-//W3C//DTD HTML 3.2//E
	N">\n<HTML>\n<HEAD>\n<TITLE></TITLE>\n</HEAD>\n<BODY>\n<h3>FC Bars-will-own
	a vs. Intermediate Individuals 2</h3>More info: <a href="https://www.golnet
	work.com/game/v/53028/">#69</a>\n\n</BODY>\n</HTML>
STATUS:CONFIRMED
CLASS:PUBLIC
URL:https://www.golnetwork.com/game/v/53028/
X-MICROSOFT-CDO-BUSYSTATUS:BUSY
X-MICROSOFT-CDO-IMPORTANCE:1
END:VEVENT
BEGIN:VEVENT
UID:g5d6k@games.golnetwork.com
LOCATION:Craig Henry Park - Sports Field East 2
GEO:45.3332351;-75.7745898
CREATED:20140625T200741Z
DTSTART:20140629T221500Z
DTEND:20140629T234500Z
DTSTAMP:20260420T224346Z
SUMMARY:Athletic Bluerange FC vs. The Closers
DESCRIPTION:The Closers vs. Athletic Bluerange FCMore info: #76
X-ALT-DESC;FMTTYPE=text/html:<!DOCTYPE HTML PUBLIC "-//W3C//DTD HTML 3.2//E
	N">\n<HTML>\n<HEAD>\n<TITLE></TITLE>\n</HEAD>\n<BODY>\n<h3>The Closers vs. 
	Athletic Bluerange FC</h3>More info: <a href="https://www.golnetwork.com/ga
	me/v/53038/">#76</a>\n\n</BODY>\n</HTML>
STATUS:CONFIRMED
CLASS:PUBLIC
URL:https://www.golnetwork.com/game/v/53038/
X-MICROSOFT-CDO-BUSYSTATUS:BUSY
X-MICROSOFT-CDO-IMPORTANCE:1
END:VEVENT
BEGIN:VEVENT
UID:g5d4i@games.golnetwork.com
LOCATION:Craig Henry Park - West 2
GEO:45.3329135;-75.7757053
CREATED:20140625T195952Z
DTSTART:20140706T203000Z
DTEND:20140706T220000Z
DTSTAMP:20260420T224346Z
SUMMARY:Knights in Cleats vs. The Closers
DESCRIPTION:The Closers vs. Knights in CleatsMore info: #81
X-ALT-DESC;FMTTYPE=text/html:<!DOCTYPE HTML PUBLIC "-//W3C//DTD HTML 3.2//E
	N">\n<HTML>\n<HEAD>\n<TITLE></TITLE>\n</HEAD>\n<BODY>\n<h3>The Closers vs. 
	Knights in Cleats</h3>More info: <a href="https://www.golnetwork.com/game/v
	/53010/">#81</a>\n\n</BODY>\n</HTML>
STATUS:CONFIRMED
CLASS:PUBLIC
URL:https://www.golnetwork.com/game/v/53010/
X-MICROSOFT-CDO-BUSYSTATUS:BUSY
X-MICROSOFT-CDO-IMPORTANCE:1
END:VEVENT
BEGIN:VEVENT
UID:g5d53@games.golnetwork.com
LOCATION:Craig Henry Park - West Mini
GEO:45.3329253;-75.7757098
CREATED:20140625T200121Z
DTSTART:20140706T203000Z
DTEND:20140706T220000Z
DTSTAMP:20260420T224346Z
SUMMARY:Dcourt vs. Strangers United
DESCRIPTION:Strangers United vs. DcourtMore info: #82
X-ALT-DESC;FMTTYPE=text/html:<!DOCTYPE HTML PUBLIC "-//W3C//DTD HTML 3.2//E
	N">\n<HTML>\n<HEAD>\n<TITLE></TITLE>\n</HEAD>\n<BODY>\n<h3>Strangers United
	 vs. Dcourt</h3>More info: <a href="https://www.golnetwork.com/game/v/53016
	/">#82</a>\n\n</BODY>\n</HTML>
STATUS:CONFIRMED
CLASS:PUBLIC
URL:https://www.golnetwork.com/game/v/53016/
X-MICROSOFT-CDO-BUSYSTATUS:BUSY
X-MICROSOFT-CDO-IMPORTANCE:1
END:VEVENT
BEGIN:VEVENT
UID:g5d5d@games.golnetwork.com
LOCATION:Craig Henry Park - Sports Field East 1
GEO:45.3332351;-75.7745898
CREATED:20140625T200250Z
DTSTART:20140706T203000Z
DTEND:20140706T220000Z
DTSTAMP:20260420T224346Z
SUMMARY:The Shotgunners vs. FC Bars-will-owna
DESCRIPTION:FC Bars-will-owna vs. The ShotgunnersMore info: #83
X-ALT-DESC;FMTTYPE=text/html:<!DOCTYPE HTML PUBLIC "-//W3C//DTD HTML 3.2//E
	N">\n<HTML>\n<HEAD>\n<TITLE></TITLE>\n</HEAD>\n<BODY>\n<h3>FC Bars-will-own
	a vs. The Shotgunners</h3>More info: <a href="https://www.golnetwork.com/ga
	me/v/53021/">#83</a>\n\n</BODY>\n</HTML>
STATUS:CONFIRMED
CLASS:PUBLIC
URL:https://www.golnetwork.com/game/v/53021/
X-MICROSOFT-CDO-BUSYSTATUS:BUSY
X-MICROSOFT-CDO-IMPORTANCE:1
END:VEVENT
BEGIN:VEVENT
UID:g5d5j@games.golnetwork.com
LOCATION:Craig Henry Park - West Mini
GEO:45.3329253;-75.7757098
CREATED:20140625T200335Z
DTSTART:20140706T221500Z
DTEND:20140706T234500Z
DTSTAMP:20260420T224346Z
SUMMARY:Intermediate Individuals 2 vs. Athletic Bluerange FC
DESCRIPTION:Athletic Bluerange FC vs. Intermediate Individuals 2More info: 
	#90
X-ALT-DESC;FMTTYPE=text/html:<!DOCTYPE HTML PUBLIC "-//W3C//DTD HTML 3.2//E
	N">\n<HTML>\n<HEAD>\n<TITLE></TITLE>\n</HEAD>\n<BODY>\n<h3>Athletic Blueran
	ge FC vs. Intermediate Individuals 2</h3>More info: <a href="https://www.go
	lnetwork.com/game/v/53024/">#90</a>\n\n</BODY>\n</HTML>
STATUS:CONFIRMED
CLASS:PUBLIC
URL:https://www.golnetwork.com/game/v/53024/
X-MICROSOFT-CDO-BUSYSTATUS:BUSY
X-MICROSOFT-CDO-IMPORTANCE:1
END:VEVENT
BEGIN:VEVENT
UID:g5d75@games.golnetwork.com
LOCATION:Craig Henry Park - West Mini
GEO:45.3329253;-75.7757098
CREATED:20140625T200923Z
DTSTART:20140713T213000Z
DTEND:20140713T230000Z
DTSTAMP:20260420T224346Z
SUMMARY:Strangers United vs. FC Bars-will-owna
DESCRIPTION:FC Bars-will-owna vs. Strangers UnitedMore info: #98
X-ALT-DESC;FMTTYPE=text/html:<!DOCTYPE HTML PUBLIC "-//W3C//DTD HTML 3.2//E
	N">\n<HTML>\n<HEAD>\n<TITLE></TITLE>\n</HEAD>\n<BODY>\n<h3>FC Bars-will-own
	a vs. Strangers United</h3>More info: <a href="https://www.golnetwork.com/g
	ame/v/53044/">#98</a>\n\n</BODY>\n</HTML>
STATUS:CONFIRMED
CLASS:PUBLIC
URL:https://www.golnetwork.com/game/v/53044/
X-MICROSOFT-CDO-BUSYSTATUS:BUSY
X-MICROSOFT-CDO-IMPORTANCE:1
END:VEVENT
BEGIN:VEVENT
UID:g5d7j@games.golnetwork.com
LOCATION:Craig Henry Park - West 2
GEO:45.3329135;-75.7757053
CREATED:20140625T201132Z
DTSTART:20140713T221500Z
DTEND:20140713T234500Z
DTSTAMP:20260420T224346Z
SUMMARY:Strikers and Strokers vs. Athletic Bluerange FC
DESCRIPTION:Athletic Bluerange FC vs. Strikers and StrokersMore info: #101
X-ALT-DESC;FMTTYPE=text/html:<!DOCTYPE HTML PUBLIC "-//W3C//DTD HTML 3.2//E
	N">\n<HTML>\n<HEAD>\n<TITLE></TITLE>\n</HEAD>\n<BODY>\n<h3>Athletic Blueran
	ge FC vs. Strikers and Strokers</h3>More info: <a href="https://www.golnetw
	ork.com/game/v/53051/">#101</a>\n\n</BODY>\n</HTML>
STATUS:CONFIRMED
CLASS:PUBLIC
URL:https://www.golnetwork.com/game/v/53051/
X-MICROSOFT-CDO-BUSYSTATUS:BUSY
X-MICROSOFT-CDO-IMPORTANCE:1
END:VEVENT
BEGIN:VEVENT
UID:g5d7l@games.golnetwork.com
LOCATION:Craig Henry Park - West Mini
GEO:45.3329253;-75.7757098
CREATED:20140625T201145Z
DTSTART:20140713T230000Z
DTEND:20140714T003000Z
DTSTAMP:20260420T224346Z
SUMMARY:Dcourt vs. The Shotgunners
DESCRIPTION:The Shotgunners vs. DcourtMore info: #106
X-ALT-DESC;FMTTYPE=text/html:<!DOCTYPE HTML PUBLIC "-//W3C//DTD HTML 3.2//E
	N">\n<HTML>\n<HEAD>\n<TITLE></TITLE>\n</HEAD>\n<BODY>\n<h3>The Shotgunners 
	vs. Dcourt</h3>More info: <a href="https://www.golnetwork.com/game/v/53052/
	">#106</a>\n\n</BODY>\n</HTML>
STATUS:CONFIRMED
CLASS:PUBLIC
URL:https://www.golnetwork.com/game/v/53052/
X-MICROSOFT-CDO-BUSYSTATUS:BUSY
X-MICROSOFT-CDO-IMPORTANCE:1
END:VEVENT
BEGIN:VEVENT
UID:g5d93@games.golnetwork.com
LOCATION:Craig Henry Park - Sports Field East 2
GEO:45.3332351;-75.7745898
CREATED:20140625T202008Z
DTSTART:20140720T203000Z
DTEND:20140720T220000Z
DTSTAMP:20260420T224346Z
SUMMARY:Athletic Bluerange FC vs. The Shotgunners
DESCRIPTION:The Shotgunners vs. Athletic Bluerange FCMore info: #113
X-ALT-DESC;FMTTYPE=text/html:<!DOCTYPE HTML PUBLIC "-//W3C//DTD HTML 3.2//E
	N">\n<HTML>\n<HEAD>\n<TITLE></TITLE>\n</HEAD>\n<BODY>\n<h3>The Shotgunners 
	vs. Athletic Bluerange FC</h3>More info: <a href="https://www.golnetwork.co
	m/game/v/53070/">#113</a>\n\n</BODY>\n</HTML>
STATUS:CONFIRMED
CLASS:PUBLIC
URL:https://www.golnetwork.com/game/v/53070/
X-MICROSOFT-CDO-BUSYSTATUS:BUSY
X-MICROSOFT-CDO-IMPORTANCE:1
END:VEVENT
BEGIN:VEVENT
UID:g5d8a@games.golnetwork.com
LOCATION:Craig Henry Park West 3
GEO:45.10662;-94.578209
CREATED:20140625T201714Z
DTSTART:20140720T203000Z
DTEND:20140720T220000Z
DTSTAMP:20260420T224346Z
SUMMARY:Strangers United vs. The Closers
DESCRIPTION:The Closers vs. Strangers UnitedMore info: #114
X-ALT-DESC;FMTTYPE=text/html:<!DOCTYPE HTML PUBLIC "-//W3C//DTD HTML 3.2//E
	N">\n<HTML>\n<HEAD>\n<TITLE></TITLE>\n</HEAD>\n<BODY>\n<h3>The Closers vs. 
	Strangers United</h3>More info: <a href="https://www.golnetwork.com/game/v/
	53060/">#114</a>\n\n</BODY>\n</HTML>
STATUS:CONFIRMED
CLASS:PUBLIC
URL:https://www.golnetwork.com/game/v/53060/
X-MICROSOFT-CDO-BUSYSTATUS:BUSY
X-MICROSOFT-CDO-IMPORTANCE:1
END:VEVENT
BEGIN:VEVENT
UID:g5d8q@games.golnetwork.com
LOCATION:Craig Henry Park West 3
GEO:45.10662;-94.578209
CREATED:20140625T201939Z
DTSTART:20140720T221500Z
DTEND:20140720T234500Z
DTSTAMP:20260420T224346Z
SUMMARY:Dcourt vs. Intermediate Individuals 2
DESCRIPTION:Intermediate Individuals 2 vs. DcourtMore info: #122
X-ALT-DESC;FMTTYPE=text/html:<!DOCTYPE HTML PUBLIC "-//W3C//DTD HTML 3.2//E
	N">\n<HTML>\n<HEAD>\n<TITLE></TITLE>\n</HEAD>\n<BODY>\n<h3>Intermediate Ind
	ividuals 2 vs. Dcourt</h3>More info: <a href="https://www.golnetwork.com/ga
	me/v/53068/">#122</a>\n\n</BODY>\n</HTML>
STATUS:CONFIRMED
CLASS:PUBLIC
URL:https://www.golnetwork.com/game/v/53068/
X-MICROSOFT-CDO-BUSYSTATUS:BUSY
X-MICROSOFT-CDO-IMPORTANCE:1
END:VEVENT
BEGIN:VEVENT
UID:g5d9d@games.golnetwork.com
LOCATION:Craig Henry Park - South Mini
GEO:45.3329135;-75.7757053
CREATED:20140625T202131Z
DTSTART:20140727T203000Z
DTEND:20140727T220000Z
DTSTAMP:20260420T224346Z
SUMMARY:Intermediate Individuals 2 vs. The Shotgunners
DESCRIPTION:The Shotgunners vs. Intermediate Individuals 2More info: #124
X-ALT-DESC;FMTTYPE=text/html:<!DOCTYPE HTML PUBLIC "-//W3C//DTD HTML 3.2//E
	N">\n<HTML>\n<HEAD>\n<TITLE></TITLE>\n</HEAD>\n<BODY>\n<h3>The Shotgunners 
	vs. Intermediate Individuals 2</h3>More info: <a href="https://www.golnetwo
	rk.com/game/v/53075/">#124</a>\n\n</BODY>\n</HTML>
STATUS:CONFIRMED
CLASS:PUBLIC
URL:https://www.golnetwork.com/game/v/53075/
X-MICROSOFT-CDO-BUSYSTATUS:BUSY
X-MICROSOFT-CDO-IMPORTANCE:1
END:VEVENT
BEGIN:VEVENT
UID:g5da2@games.golnetwork.com
LOCATION:Craig Henry Park - West 2
GEO:45.3329135;-75.7757053
CREATED:20140625T202409Z
DTSTART:20140727T221500Z
DTEND:20140727T234500Z
DTSTAMP:20260420T224346Z
SUMMARY:Athletic Bluerange FC vs. FC Bars-will-owna
DESCRIPTION:FC Bars-will-owna vs. Athletic Bluerange FCMore info: #134
X-ALT-DESC;FMTTYPE=text/html:<!DOCTYPE HTML PUBLIC "-//W3C//DTD HTML 3.2//E
	N">\n<HTML>\n<HEAD>\n<TITLE></TITLE>\n</HEAD>\n<BODY>\n<h3>FC Bars-will-own
	a vs. Athletic Bluerange FC</h3>More info: <a href="https://www.golnetwork.
	com/game/v/53083/">#134</a>\n\n</BODY>\n</HTML>
STATUS:CONFIRMED
CLASS:PUBLIC
URL:https://www.golnetwork.com/game/v/53083/
X-MICROSOFT-CDO-BUSYSTATUS:BUSY
X-MICROSOFT-CDO-IMPORTANCE:1
END:VEVENT
BEGIN:VEVENT
UID:g5hc0@games.golnetwork.com
LOCATION:Craig Henry Park - West 2
GEO:45.3329135;-75.7757053
CREATED:20140731T055924Z
DTSTART:20140803T203000Z
DTEND:20140803T220000Z
DTSTAMP:20260420T224346Z
SUMMARY:Intermediate Individuals 2 vs. The Closers
DESCRIPTION:The Closers vs. Intermediate Individuals 2More info: #140
X-ALT-DESC;FMTTYPE=text/html:<!DOCTYPE HTML PUBLIC "-//W3C//DTD HTML 3.2//E
	N">\n<HTML>\n<HEAD>\n<TITLE></TITLE>\n</HEAD>\n<BODY>\n<h3>The Closers vs. 
	Intermediate Individuals 2</h3>More info: <a href="https://www.golnetwork.c
	om/game/v/54567/">#140</a>\n\n</BODY>\n</HTML>
STATUS:CONFIRMED
CLASS:PUBLIC
URL:https://www.golnetwork.com/game/v/54567/
X-MICROSOFT-CDO-BUSYSTATUS:BUSY
X-MICROSOFT-CDO-IMPORTANCE:1
END:VEVENT
BEGIN:VEVENT
UID:g5hc2@games.golnetwork.com
LOCATION:Craig Henry Park West 3
GEO:45.10662;-94.578209
CREATED:20140731T060009Z
DTSTART:20140803T203000Z
DTEND:20140803T220000Z
DTSTAMP:20260420T224346Z
SUMMARY:Dcourt vs. FC Bars-will-owna
DESCRIPTION:FC Bars-will-owna vs. DcourtMore info: #142
X-ALT-DESC;FMTTYPE=text/html:<!DOCTYPE HTML PUBLIC "-//W3C//DTD HTML 3.2//E
	N">\n<HTML>\n<HEAD>\n<TITLE></TITLE>\n</HEAD>\n<BODY>\n<h3>FC Bars-will-own
	a vs. Dcourt</h3>More info: <a href="https://www.golnetwork.com/game/v/5456
	8/">#142</a>\n\n</BODY>\n</HTML>
STATUS:CONFIRMED
CLASS:PUBLIC
URL:https://www.golnetwork.com/game/v/54568/
X-MICROSOFT-CDO-BUSYSTATUS:BUSY
X-MICROSOFT-CDO-IMPORTANCE:1
END:VEVENT
BEGIN:VEVENT
UID:g5hc4@games.golnetwork.com
LOCATION:Craig Henry Park - West 2
GEO:45.3329135;-75.7757053
CREATED:20140731T060023Z
DTSTART:20140803T221500Z
DTEND:20140803T234500Z
DTSTAMP:20260420T224346Z
SUMMARY:Intermediate Individuals 2 vs. Athletic Bluerange FC
DESCRIPTION:Athletic Bluerange FC vs. Intermediate Individuals 2More info: 
	#145
X-ALT-DESC;FMTTYPE=text/html:<!DOCTYPE HTML PUBLIC "-//W3C//DTD HTML 3.2//E
	N">\n<HTML>\n<HEAD>\n<TITLE></TITLE>\n</HEAD>\n<BODY>\n<h3>Athletic Blueran
	ge FC vs. Intermediate Individuals 2</h3>More info: <a href="https://www.go
	lnetwork.com/game/v/54569/">#145</a>\n\n</BODY>\n</HTML>
STATUS:CONFIRMED
CLASS:PUBLIC
URL:https://www.golnetwork.com/game/v/54569/
X-MICROSOFT-CDO-BUSYSTATUS:BUSY
X-MICROSOFT-CDO-IMPORTANCE:1
END:VEVENT
END:VCALENDAR
