BEGIN:VCALENDAR
PRODID:-//gdesolutions.com//MV Framework 1.0.0.1607 Calendar//EN
VERSION:2.0
METHOD:PUBLISH
CALSCALE:GREGORIAN
BEGIN:VEVENT
UID:g580f@games.golnetwork.com
LOCATION:Louis Riel #2
GEO:45.4410208;-75.5715394
CREATED:20140505T200305Z
DTSTART:20140509T000000Z
DTEND:20140509T005000Z
DTSTAMP:20260422T115342Z
SUMMARY:Ineedasub FC vs. TGIT
DESCRIPTION:TGIT vs. Ineedasub FCMore info: #102
X-ALT-DESC;FMTTYPE=text/html:<!DOCTYPE HTML PUBLIC "-//W3C//DTD HTML 3.2//E
	N">\n<HTML>\n<HEAD>\n<TITLE></TITLE>\n</HEAD>\n<BODY>\n<h3>TGIT vs. Ineedas
	ub FC</h3>More info: <a href="https://www.golnetwork.com/game/v/51132/">#10
	2</a>\n\n</BODY>\n</HTML>
STATUS:CONFIRMED
CLASS:PUBLIC
URL:https://www.golnetwork.com/game/v/51132/
X-MICROSOFT-CDO-BUSYSTATUS:BUSY
X-MICROSOFT-CDO-IMPORTANCE:1
END:VEVENT
BEGIN:VEVENT
UID:g580d@games.golnetwork.com
LOCATION:Louis Riel #2
GEO:45.4410208;-75.5715394
CREATED:20140505T200236Z
DTSTART:20140509T010000Z
DTEND:20140509T015000Z
DTSTAMP:20260422T115342Z
SUMMARY:The All-Stars vs. The Juggernauts
DESCRIPTION:The Juggernauts vs. The All-StarsMore info: #107
X-ALT-DESC;FMTTYPE=text/html:<!DOCTYPE HTML PUBLIC "-//W3C//DTD HTML 3.2//E
	N">\n<HTML>\n<HEAD>\n<TITLE></TITLE>\n</HEAD>\n<BODY>\n<h3>The Juggernauts 
	vs. The All-Stars</h3>More info: <a href="https://www.golnetwork.com/game/v
	/51131/">#107</a>\n\n</BODY>\n</HTML>
STATUS:CONFIRMED
CLASS:PUBLIC
URL:https://www.golnetwork.com/game/v/51131/
X-MICROSOFT-CDO-BUSYSTATUS:BUSY
X-MICROSOFT-CDO-IMPORTANCE:1
END:VEVENT
BEGIN:VEVENT
UID:g58he@games.golnetwork.com
LOCATION:Louis Riel #2
GEO:45.4410208;-75.5715394
CREATED:20140509T194636Z
DTSTART:20140515T230000Z
DTEND:20140515T235000Z
DTSTAMP:20260422T115342Z
SUMMARY:Spartans FC vs. TGIT
DESCRIPTION:TGIT vs. Spartans FCMore info: #113
X-ALT-DESC;FMTTYPE=text/html:<!DOCTYPE HTML PUBLIC "-//W3C//DTD HTML 3.2//E
	N">\n<HTML>\n<HEAD>\n<TITLE></TITLE>\n</HEAD>\n<BODY>\n<h3>TGIT vs. Spartan
	s FC</h3>More info: <a href="https://www.golnetwork.com/game/v/51361/">#113
	</a>\n\n</BODY>\n</HTML>
STATUS:CONFIRMED
CLASS:PUBLIC
URL:https://www.golnetwork.com/game/v/51361/
X-MICROSOFT-CDO-BUSYSTATUS:BUSY
X-MICROSOFT-CDO-IMPORTANCE:1
END:VEVENT
BEGIN:VEVENT
UID:g58hg@games.golnetwork.com
LOCATION:Louis Riel #3
GEO:45.4410208;-75.5715394
CREATED:20140509T194720Z
DTSTART:20140515T230000Z
DTEND:20140515T235000Z
DTSTAMP:20260422T115342Z
SUMMARY:Ineedasub FC vs. The Juggernauts
DESCRIPTION:The Juggernauts vs. Ineedasub FCMore info: #114
X-ALT-DESC;FMTTYPE=text/html:<!DOCTYPE HTML PUBLIC "-//W3C//DTD HTML 3.2//E
	N">\n<HTML>\n<HEAD>\n<TITLE></TITLE>\n</HEAD>\n<BODY>\n<h3>The Juggernauts 
	vs. Ineedasub FC</h3>More info: <a href="https://www.golnetwork.com/game/v/
	51362/">#114</a>\n\n</BODY>\n</HTML>
STATUS:CONFIRMED
CLASS:PUBLIC
URL:https://www.golnetwork.com/game/v/51362/
X-MICROSOFT-CDO-BUSYSTATUS:BUSY
X-MICROSOFT-CDO-IMPORTANCE:1
END:VEVENT
BEGIN:VEVENT
UID:g58hc@games.golnetwork.com
LOCATION:Louis Riel #2
GEO:45.4410208;-75.5715394
CREATED:20140509T194616Z
DTSTART:20140516T010000Z
DTEND:20140516T015000Z
DTSTAMP:20260422T115342Z
SUMMARY:Dynamo FC vs. The All-Stars
DESCRIPTION:The All-Stars vs. Dynamo FCMore info: #123
X-ALT-DESC;FMTTYPE=text/html:<!DOCTYPE HTML PUBLIC "-//W3C//DTD HTML 3.2//E
	N">\n<HTML>\n<HEAD>\n<TITLE></TITLE>\n</HEAD>\n<BODY>\n<h3>The All-Stars vs
	. Dynamo FC</h3>More info: <a href="https://www.golnetwork.com/game/v/51360
	/">#123</a>\n\n</BODY>\n</HTML>
STATUS:CONFIRMED
CLASS:PUBLIC
URL:https://www.golnetwork.com/game/v/51360/
X-MICROSOFT-CDO-BUSYSTATUS:BUSY
X-MICROSOFT-CDO-IMPORTANCE:1
END:VEVENT
BEGIN:VEVENT
UID:g5aej@games.golnetwork.com
LOCATION:Hornet's Nest #2
GEO:45.4428309;-75.575268
CREATED:20140518T072913Z
DTSTART:20140522T230000Z
DTEND:20140522T235000Z
DTSTAMP:20260422T115342Z
SUMMARY:Spartans FC vs. Dynamo FC
DESCRIPTION:Dynamo FC vs. Spartans FCMore info: #127
X-ALT-DESC;FMTTYPE=text/html:<!DOCTYPE HTML PUBLIC "-//W3C//DTD HTML 3.2//E
	N">\n<HTML>\n<HEAD>\n<TITLE></TITLE>\n</HEAD>\n<BODY>\n<h3>Dynamo FC vs. Sp
	artans FC</h3>More info: <a href="https://www.golnetwork.com/game/v/52052/"
	>#127</a>\n\n</BODY>\n</HTML>
STATUS:CONFIRMED
CLASS:PUBLIC
URL:https://www.golnetwork.com/game/v/52052/
X-MICROSOFT-CDO-BUSYSTATUS:BUSY
X-MICROSOFT-CDO-IMPORTANCE:1
END:VEVENT
BEGIN:VEVENT
UID:g5ael@games.golnetwork.com
LOCATION:Hornet's Nest #3
GEO:45.4428309;-75.575268
CREATED:20140518T072926Z
DTSTART:20140522T230000Z
DTEND:20140522T235000Z
DTSTAMP:20260422T115342Z
SUMMARY:TGIT vs. The All-Stars
DESCRIPTION:The All-Stars vs. TGITMore info: #128
X-ALT-DESC;FMTTYPE=text/html:<!DOCTYPE HTML PUBLIC "-//W3C//DTD HTML 3.2//E
	N">\n<HTML>\n<HEAD>\n<TITLE></TITLE>\n</HEAD>\n<BODY>\n<h3>The All-Stars vs
	. TGIT</h3>More info: <a href="https://www.golnetwork.com/game/v/52053/">#1
	28</a>\n\n</BODY>\n</HTML>
STATUS:CONFIRMED
CLASS:PUBLIC
URL:https://www.golnetwork.com/game/v/52053/
X-MICROSOFT-CDO-BUSYSTATUS:BUSY
X-MICROSOFT-CDO-IMPORTANCE:1
END:VEVENT
BEGIN:VEVENT
UID:g5afe@games.golnetwork.com
LOCATION:Louis Riel #3
GEO:45.4410208;-75.5715394
CREATED:20140518T073845Z
DTSTART:20140523T020000Z
DTEND:20140523T025000Z
DTSTAMP:20260422T115342Z
SUMMARY:The Juggernauts vs. The Miseducation
DESCRIPTION:The Miseducation vs. The JuggernautsMore info: #139
X-ALT-DESC;FMTTYPE=text/html:<!DOCTYPE HTML PUBLIC "-//W3C//DTD HTML 3.2//E
	N">\n<HTML>\n<HEAD>\n<TITLE></TITLE>\n</HEAD>\n<BODY>\n<h3>The Miseducation
	 vs. The Juggernauts</h3>More info: <a href="https://www.golnetwork.com/gam
	e/v/52063/">#139</a>\n\n</BODY>\n</HTML>
STATUS:CONFIRMED
CLASS:PUBLIC
URL:https://www.golnetwork.com/game/v/52063/
X-MICROSOFT-CDO-BUSYSTATUS:BUSY
X-MICROSOFT-CDO-IMPORTANCE:1
END:VEVENT
END:VCALENDAR
