BEGIN:VCALENDAR
PRODID:-//gdesolutions.com//MV Framework 1.0.0.1607 Calendar//EN
VERSION:2.0
METHOD:PUBLISH
CALSCALE:GREGORIAN
BEGIN:VEVENT
UID:g5d0c@games.golnetwork.com
LOCATION:North Toronto - Field 1
GEO:43.7098022;-79.3963055
CREATED:20140624T132245Z
DTSTART:20140627T220000Z
DTEND:20140627T225500Z
DTSTAMP:20260420T175336Z
SUMMARY:Northlanders FC vs. Maxus 
DESCRIPTION:Maxus  vs. Northlanders FCMore info: #1
X-ALT-DESC;FMTTYPE=text/html:<!DOCTYPE HTML PUBLIC "-//W3C//DTD HTML 3.2//E
	N">\n<HTML>\n<HEAD>\n<TITLE></TITLE>\n</HEAD>\n<BODY>\n<h3>Maxus  vs. North
	landers FC</h3>More info: <a href="https://www.golnetwork.com/game/v/52953/
	">#1</a>\n\n</BODY>\n</HTML>
STATUS:CONFIRMED
CLASS:PUBLIC
URL:https://www.golnetwork.com/game/v/52953/
X-MICROSOFT-CDO-BUSYSTATUS:BUSY
X-MICROSOFT-CDO-IMPORTANCE:1
END:VEVENT
BEGIN:VEVENT
UID:g5d0e@games.golnetwork.com
LOCATION:North Toronto - Field 1
GEO:43.7098022;-79.3963055
CREATED:20140624T132250Z
DTSTART:20140627T225500Z
DTEND:20140627T235000Z
DTSTAMP:20260420T175336Z
SUMMARY:The Six Shooters vs. Unleash da Powa in da Showa
DESCRIPTION:Unleash da Powa in da Showa vs. The Six ShootersMore info: #2
X-ALT-DESC;FMTTYPE=text/html:<!DOCTYPE HTML PUBLIC "-//W3C//DTD HTML 3.2//E
	N">\n<HTML>\n<HEAD>\n<TITLE></TITLE>\n</HEAD>\n<BODY>\n<h3>Unleash da Powa 
	in da Showa vs. The Six Shooters</h3>More info: <a href="https://www.golnet
	work.com/game/v/52954/">#2</a>\n\n</BODY>\n</HTML>
STATUS:CONFIRMED
CLASS:PUBLIC
URL:https://www.golnetwork.com/game/v/52954/
X-MICROSOFT-CDO-BUSYSTATUS:BUSY
X-MICROSOFT-CDO-IMPORTANCE:1
END:VEVENT
BEGIN:VEVENT
UID:g5d0g@games.golnetwork.com
LOCATION:North Toronto - Field 1
GEO:43.7098022;-79.3963055
CREATED:20140624T132300Z
DTSTART:20140627T235000Z
DTEND:20140628T004500Z
DTSTAMP:20260420T175336Z
SUMMARY:XTSC Misfits vs. Talk Footy To Me
DESCRIPTION:Talk Footy To Me vs. XTSC MisfitsMore info: #3
X-ALT-DESC;FMTTYPE=text/html:<!DOCTYPE HTML PUBLIC "-//W3C//DTD HTML 3.2//E
	N">\n<HTML>\n<HEAD>\n<TITLE></TITLE>\n</HEAD>\n<BODY>\n<h3>Talk Footy To Me
	 vs. XTSC Misfits</h3>More info: <a href="https://www.golnetwork.com/game/v
	/52955/">#3</a>\n\n</BODY>\n</HTML>
STATUS:CONFIRMED
CLASS:PUBLIC
URL:https://www.golnetwork.com/game/v/52955/
X-MICROSOFT-CDO-BUSYSTATUS:BUSY
X-MICROSOFT-CDO-IMPORTANCE:1
END:VEVENT
BEGIN:VEVENT
UID:g5e63@games.golnetwork.com
LOCATION:North Toronto - Field 1
GEO:43.7098022;-79.3963055
CREATED:20140703T154936Z
DTSTART:20140704T220000Z
DTEND:20140704T225500Z
DTSTAMP:20260420T175336Z
SUMMARY:XTSC Misfits vs. Maxus 
DESCRIPTION:Maxus  vs. XTSC MisfitsMore info: #20
X-ALT-DESC;FMTTYPE=text/html:<!DOCTYPE HTML PUBLIC "-//W3C//DTD HTML 3.2//E
	N">\n<HTML>\n<HEAD>\n<TITLE></TITLE>\n</HEAD>\n<BODY>\n<h3>Maxus  vs. XTSC 
	Misfits</h3>More info: <a href="https://www.golnetwork.com/game/v/53394/">#
	20</a>\n\n</BODY>\n</HTML>
STATUS:CONFIRMED
CLASS:PUBLIC
URL:https://www.golnetwork.com/game/v/53394/
X-MICROSOFT-CDO-BUSYSTATUS:BUSY
X-MICROSOFT-CDO-IMPORTANCE:1
END:VEVENT
BEGIN:VEVENT
UID:g5e65@games.golnetwork.com
LOCATION:North Toronto - Field 1
GEO:43.7098022;-79.3963055
CREATED:20140703T154947Z
DTSTART:20140704T225500Z
DTEND:20140704T235000Z
DTSTAMP:20260420T175336Z
SUMMARY:Northlanders FC vs. The Six Shooters
DESCRIPTION:The Six Shooters vs. Northlanders FCMore info: #21
X-ALT-DESC;FMTTYPE=text/html:<!DOCTYPE HTML PUBLIC "-//W3C//DTD HTML 3.2//E
	N">\n<HTML>\n<HEAD>\n<TITLE></TITLE>\n</HEAD>\n<BODY>\n<h3>The Six Shooters
	 vs. Northlanders FC</h3>More info: <a href="https://www.golnetwork.com/gam
	e/v/53395/">#21</a>\n\n</BODY>\n</HTML>
STATUS:CONFIRMED
CLASS:PUBLIC
URL:https://www.golnetwork.com/game/v/53395/
X-MICROSOFT-CDO-BUSYSTATUS:BUSY
X-MICROSOFT-CDO-IMPORTANCE:1
END:VEVENT
BEGIN:VEVENT
UID:g5e67@games.golnetwork.com
LOCATION:North Toronto - Field 1
GEO:43.7098022;-79.3963055
CREATED:20140703T154958Z
DTSTART:20140704T235000Z
DTEND:20140705T004500Z
DTSTAMP:20260420T175336Z
SUMMARY:Unleash da Powa in da Showa vs. Talk Footy To Me
DESCRIPTION:Talk Footy To Me vs. Unleash da Powa in da ShowaMore info: #22
X-ALT-DESC;FMTTYPE=text/html:<!DOCTYPE HTML PUBLIC "-//W3C//DTD HTML 3.2//E
	N">\n<HTML>\n<HEAD>\n<TITLE></TITLE>\n</HEAD>\n<BODY>\n<h3>Talk Footy To Me
	 vs. Unleash da Powa in da Showa</h3>More info: <a href="https://www.golnet
	work.com/game/v/53396/">#22</a>\n\n</BODY>\n</HTML>
STATUS:CONFIRMED
CLASS:PUBLIC
URL:https://www.golnetwork.com/game/v/53396/
X-MICROSOFT-CDO-BUSYSTATUS:BUSY
X-MICROSOFT-CDO-IMPORTANCE:1
END:VEVENT
BEGIN:VEVENT
UID:g5cf0@games.golnetwork.com
LOCATION:North Toronto - Field 1
GEO:43.7098022;-79.3963055
CREATED:20140623T170224Z
DTSTART:20140711T222000Z
DTEND:20140711T231500Z
DTSTAMP:20260420T175336Z
SUMMARY:The Six Shooters vs. XTSC Misfits
DESCRIPTION:XTSC Misfits vs. The Six ShootersMore info: #38
X-ALT-DESC;FMTTYPE=text/html:<!DOCTYPE HTML PUBLIC "-//W3C//DTD HTML 3.2//E
	N">\n<HTML>\n<HEAD>\n<TITLE></TITLE>\n</HEAD>\n<BODY>\n<h3>XTSC Misfits vs.
	 The Six Shooters</h3>More info: <a href="https://www.golnetwork.com/game/v
	/52785/">#38</a>\n\n</BODY>\n</HTML>
STATUS:CONFIRMED
CLASS:PUBLIC
URL:https://www.golnetwork.com/game/v/52785/
X-MICROSOFT-CDO-BUSYSTATUS:BUSY
X-MICROSOFT-CDO-IMPORTANCE:1
END:VEVENT
BEGIN:VEVENT
UID:g5cf2@games.golnetwork.com
LOCATION:North Toronto - Field 2
GEO:43.7098022;-79.3963055
CREATED:20140623T170224Z
DTSTART:20140711T222000Z
DTEND:20140711T231500Z
DTSTAMP:20260420T175336Z
SUMMARY:Unleash da Powa in da Showa vs. Northlanders FC
DESCRIPTION:Northlanders FC vs. Unleash da Powa in da ShowaMore info: #39
X-ALT-DESC;FMTTYPE=text/html:<!DOCTYPE HTML PUBLIC "-//W3C//DTD HTML 3.2//E
	N">\n<HTML>\n<HEAD>\n<TITLE></TITLE>\n</HEAD>\n<BODY>\n<h3>Northlanders FC 
	vs. Unleash da Powa in da Showa</h3>More info: <a href="https://www.golnetw
	ork.com/game/v/52786/">#39</a>\n\n</BODY>\n</HTML>
STATUS:RESCHEDULED
CLASS:PUBLIC
URL:https://www.golnetwork.com/game/v/52786/
X-MICROSOFT-CDO-BUSYSTATUS:BUSY
X-MICROSOFT-CDO-IMPORTANCE:1
END:VEVENT
BEGIN:VEVENT
UID:g5cf4@games.golnetwork.com
LOCATION:North Toronto - Field 1
GEO:43.7098022;-79.3963055
CREATED:20140623T170224Z
DTSTART:20140711T231500Z
DTEND:20140712T001000Z
DTSTAMP:20260420T175336Z
SUMMARY:Talk Footy To Me vs. Maxus 
DESCRIPTION:Maxus  vs. Talk Footy To MeMore info: #40
X-ALT-DESC;FMTTYPE=text/html:<!DOCTYPE HTML PUBLIC "-//W3C//DTD HTML 3.2//E
	N">\n<HTML>\n<HEAD>\n<TITLE></TITLE>\n</HEAD>\n<BODY>\n<h3>Maxus  vs. Talk 
	Footy To Me</h3>More info: <a href="https://www.golnetwork.com/game/v/52787
	/">#40</a>\n\n</BODY>\n</HTML>
STATUS:CONFIRMED
CLASS:PUBLIC
URL:https://www.golnetwork.com/game/v/52787/
X-MICROSOFT-CDO-BUSYSTATUS:BUSY
X-MICROSOFT-CDO-IMPORTANCE:1
END:VEVENT
BEGIN:VEVENT
UID:g5cf6@games.golnetwork.com
LOCATION:North Toronto - Field 1
GEO:43.7098022;-79.3963055
CREATED:20140623T170224Z
DTSTART:20140718T222000Z
DTEND:20140718T231500Z
DTSTAMP:20260420T175336Z
SUMMARY:Maxus  vs. Unleash da Powa in da Showa
DESCRIPTION:Unleash da Powa in da Showa vs. Maxus More info: #94
X-ALT-DESC;FMTTYPE=text/html:<!DOCTYPE HTML PUBLIC "-//W3C//DTD HTML 3.2//E
	N">\n<HTML>\n<HEAD>\n<TITLE></TITLE>\n</HEAD>\n<BODY>\n<h3>Unleash da Powa 
	in da Showa vs. Maxus </h3>More info: <a href="https://www.golnetwork.com/g
	ame/v/52788/">#94</a>\n\n</BODY>\n</HTML>
STATUS:CONFIRMED
CLASS:PUBLIC
URL:https://www.golnetwork.com/game/v/52788/
X-MICROSOFT-CDO-BUSYSTATUS:BUSY
X-MICROSOFT-CDO-IMPORTANCE:1
END:VEVENT
BEGIN:VEVENT
UID:g5cf8@games.golnetwork.com
LOCATION:North Toronto - Field 2
GEO:43.7098022;-79.3963055
CREATED:20140623T170224Z
DTSTART:20140718T222000Z
DTEND:20140718T231500Z
DTSTAMP:20260420T175336Z
SUMMARY:XTSC Misfits vs. Northlanders FC
DESCRIPTION:Northlanders FC vs. XTSC MisfitsMore info: #95
X-ALT-DESC;FMTTYPE=text/html:<!DOCTYPE HTML PUBLIC "-//W3C//DTD HTML 3.2//E
	N">\n<HTML>\n<HEAD>\n<TITLE></TITLE>\n</HEAD>\n<BODY>\n<h3>Northlanders FC 
	vs. XTSC Misfits</h3>More info: <a href="https://www.golnetwork.com/game/v/
	52789/">#95</a>\n\n</BODY>\n</HTML>
STATUS:CONFIRMED
CLASS:PUBLIC
URL:https://www.golnetwork.com/game/v/52789/
X-MICROSOFT-CDO-BUSYSTATUS:BUSY
X-MICROSOFT-CDO-IMPORTANCE:1
END:VEVENT
BEGIN:VEVENT
UID:g5cfa@games.golnetwork.com
LOCATION:North Toronto - Field 1
GEO:43.7098022;-79.3963055
CREATED:20140623T170224Z
DTSTART:20140718T231500Z
DTEND:20140719T001000Z
DTSTAMP:20260420T175336Z
SUMMARY:The Six Shooters vs. Talk Footy To Me
DESCRIPTION:Talk Footy To Me vs. The Six ShootersMore info: #96
X-ALT-DESC;FMTTYPE=text/html:<!DOCTYPE HTML PUBLIC "-//W3C//DTD HTML 3.2//E
	N">\n<HTML>\n<HEAD>\n<TITLE></TITLE>\n</HEAD>\n<BODY>\n<h3>Talk Footy To Me
	 vs. The Six Shooters</h3>More info: <a href="https://www.golnetwork.com/ga
	me/v/52790/">#96</a>\n\n</BODY>\n</HTML>
STATUS:CONFIRMED
CLASS:PUBLIC
URL:https://www.golnetwork.com/game/v/52790/
X-MICROSOFT-CDO-BUSYSTATUS:BUSY
X-MICROSOFT-CDO-IMPORTANCE:1
END:VEVENT
BEGIN:VEVENT
UID:g5gfq@games.golnetwork.com
LOCATION:North Toronto - Field 2
GEO:43.7098022;-79.3963055
CREATED:20140714T223818Z
DTSTART:20140718T231500Z
DTEND:20140719T001500Z
DTSTAMP:20260420T175336Z
SUMMARY:Unleash da Powa in da Showa vs. Northlanders FC
DESCRIPTION:Northlanders FC vs. Unleash da Powa in da ShowaMore info: R#39
X-ALT-DESC;FMTTYPE=text/html:<!DOCTYPE HTML PUBLIC "-//W3C//DTD HTML 3.2//E
	N">\n<HTML>\n<HEAD>\n<TITLE></TITLE>\n</HEAD>\n<BODY>\n<h3>Northlanders FC 
	vs. Unleash da Powa in da Showa</h3>More info: <a href="https://www.golnetw
	ork.com/game/v/54256/">R#39</a>\n\n</BODY>\n</HTML>
STATUS:CONFIRMED
CLASS:PUBLIC
URL:https://www.golnetwork.com/game/v/54256/
X-MICROSOFT-CDO-BUSYSTATUS:BUSY
X-MICROSOFT-CDO-IMPORTANCE:1
END:VEVENT
BEGIN:VEVENT
UID:g5gg1@games.golnetwork.com
LOCATION:North Toronto - Field 1
GEO:43.7098022;-79.3963055
CREATED:20140714T224237Z
DTSTART:20140725T220000Z
DTEND:20140725T230000Z
DTSTAMP:20260420T175336Z
SUMMARY:XTSC Misfits vs. Unleash da Powa in da Showa
DESCRIPTION:Unleash da Powa in da Showa vs. XTSC MisfitsMore info: #151
X-ALT-DESC;FMTTYPE=text/html:<!DOCTYPE HTML PUBLIC "-//W3C//DTD HTML 3.2//E
	N">\n<HTML>\n<HEAD>\n<TITLE></TITLE>\n</HEAD>\n<BODY>\n<h3>Unleash da Powa 
	in da Showa vs. XTSC Misfits</h3>More info: <a href="https://www.golnetwork
	.com/game/v/54257/">#151</a>\n\n</BODY>\n</HTML>
STATUS:CONFIRMED
CLASS:PUBLIC
URL:https://www.golnetwork.com/game/v/54257/
X-MICROSOFT-CDO-BUSYSTATUS:BUSY
X-MICROSOFT-CDO-IMPORTANCE:1
END:VEVENT
BEGIN:VEVENT
UID:g5gg3@games.golnetwork.com
LOCATION:North Toronto - Field 1
GEO:43.7098022;-79.3963055
CREATED:20140714T224256Z
DTSTART:20140725T225500Z
DTEND:20140725T235500Z
DTSTAMP:20260420T175336Z
SUMMARY:The Six Shooters vs. Maxus 
DESCRIPTION:Maxus  vs. The Six ShootersMore info: #152
X-ALT-DESC;FMTTYPE=text/html:<!DOCTYPE HTML PUBLIC "-//W3C//DTD HTML 3.2//E
	N">\n<HTML>\n<HEAD>\n<TITLE></TITLE>\n</HEAD>\n<BODY>\n<h3>Maxus  vs. The S
	ix Shooters</h3>More info: <a href="https://www.golnetwork.com/game/v/54258
	/">#152</a>\n\n</BODY>\n</HTML>
STATUS:CONFIRMED
CLASS:PUBLIC
URL:https://www.golnetwork.com/game/v/54258/
X-MICROSOFT-CDO-BUSYSTATUS:BUSY
X-MICROSOFT-CDO-IMPORTANCE:1
END:VEVENT
BEGIN:VEVENT
UID:g5gg5@games.golnetwork.com
LOCATION:North Toronto - Field 1
GEO:43.7098022;-79.3963055
CREATED:20140714T224310Z
DTSTART:20140725T235000Z
DTEND:20140726T005000Z
DTSTAMP:20260420T175336Z
SUMMARY:Northlanders FC vs. Talk Footy To Me
DESCRIPTION:Talk Footy To Me vs. Northlanders FCMore info: #153
X-ALT-DESC;FMTTYPE=text/html:<!DOCTYPE HTML PUBLIC "-//W3C//DTD HTML 3.2//E
	N">\n<HTML>\n<HEAD>\n<TITLE></TITLE>\n</HEAD>\n<BODY>\n<h3>Talk Footy To Me
	 vs. Northlanders FC</h3>More info: <a href="https://www.golnetwork.com/gam
	e/v/54259/">#153</a>\n\n</BODY>\n</HTML>
STATUS:CONFIRMED
CLASS:PUBLIC
URL:https://www.golnetwork.com/game/v/54259/
X-MICROSOFT-CDO-BUSYSTATUS:BUSY
X-MICROSOFT-CDO-IMPORTANCE:1
END:VEVENT
BEGIN:VEVENT
UID:g5cfi@games.golnetwork.com
LOCATION:North Toronto - Field 1
GEO:43.7098022;-79.3963055
CREATED:20140623T170224Z
DTSTART:20140801T222000Z
DTEND:20140801T231500Z
DTSTAMP:20260420T175336Z
SUMMARY:Maxus  vs. Northlanders FC
DESCRIPTION:Northlanders FC vs. Maxus More info: #187
X-ALT-DESC;FMTTYPE=text/html:<!DOCTYPE HTML PUBLIC "-//W3C//DTD HTML 3.2//E
	N">\n<HTML>\n<HEAD>\n<TITLE></TITLE>\n</HEAD>\n<BODY>\n<h3>Northlanders FC 
	vs. Maxus </h3>More info: <a href="https://www.golnetwork.com/game/v/52794/
	">#187</a>\n\n</BODY>\n</HTML>
STATUS:CONFIRMED
CLASS:PUBLIC
URL:https://www.golnetwork.com/game/v/52794/
X-MICROSOFT-CDO-BUSYSTATUS:BUSY
X-MICROSOFT-CDO-IMPORTANCE:1
END:VEVENT
BEGIN:VEVENT
UID:g5cfk@games.golnetwork.com
LOCATION:North Toronto - Field 2
GEO:43.7098022;-79.3963055
CREATED:20140623T170224Z
DTSTART:20140801T222000Z
DTEND:20140801T231500Z
DTSTAMP:20260420T175336Z
SUMMARY:XTSC Misfits vs. The Six Shooters
DESCRIPTION:The Six Shooters vs. XTSC MisfitsMore info: #188
X-ALT-DESC;FMTTYPE=text/html:<!DOCTYPE HTML PUBLIC "-//W3C//DTD HTML 3.2//E
	N">\n<HTML>\n<HEAD>\n<TITLE></TITLE>\n</HEAD>\n<BODY>\n<h3>The Six Shooters
	 vs. XTSC Misfits</h3>More info: <a href="https://www.golnetwork.com/game/v
	/52795/">#188</a>\n\n</BODY>\n</HTML>
STATUS:CONFIRMED
CLASS:PUBLIC
URL:https://www.golnetwork.com/game/v/52795/
X-MICROSOFT-CDO-BUSYSTATUS:BUSY
X-MICROSOFT-CDO-IMPORTANCE:1
END:VEVENT
BEGIN:VEVENT
UID:g5cfm@games.golnetwork.com
LOCATION:North Toronto - Field 1
GEO:43.7098022;-79.3963055
CREATED:20140623T170224Z
DTSTART:20140801T231500Z
DTEND:20140802T001000Z
DTSTAMP:20260420T175336Z
SUMMARY:Unleash da Powa in da Showa vs. Talk Footy To Me
DESCRIPTION:Talk Footy To Me vs. Unleash da Powa in da ShowaMore info: #189
X-ALT-DESC;FMTTYPE=text/html:<!DOCTYPE HTML PUBLIC "-//W3C//DTD HTML 3.2//E
	N">\n<HTML>\n<HEAD>\n<TITLE></TITLE>\n</HEAD>\n<BODY>\n<h3>Talk Footy To Me
	 vs. Unleash da Powa in da Showa</h3>More info: <a href="https://www.golnet
	work.com/game/v/52796/">#189</a>\n\n</BODY>\n</HTML>
STATUS:CONFIRMED
CLASS:PUBLIC
URL:https://www.golnetwork.com/game/v/52796/
X-MICROSOFT-CDO-BUSYSTATUS:BUSY
X-MICROSOFT-CDO-IMPORTANCE:1
END:VEVENT
BEGIN:VEVENT
UID:g5gg7@games.golnetwork.com
LOCATION:North Toronto - Field 2
GEO:43.7098022;-79.3963055
CREATED:20140714T224441Z
DTSTART:20140801T231500Z
DTEND:20140802T001500Z
DTSTAMP:20260420T175336Z
SUMMARY:Maxus  vs. The Six Shooters
DESCRIPTION:The Six Shooters vs. Maxus More info: #190
X-ALT-DESC;FMTTYPE=text/html:<!DOCTYPE HTML PUBLIC "-//W3C//DTD HTML 3.2//E
	N">\n<HTML>\n<HEAD>\n<TITLE></TITLE>\n</HEAD>\n<BODY>\n<h3>The Six Shooters
	 vs. Maxus </h3>More info: <a href="https://www.golnetwork.com/game/v/54260
	/">#190</a>\n\n</BODY>\n</HTML>
STATUS:CONFIRMED
CLASS:PUBLIC
URL:https://www.golnetwork.com/game/v/54260/
X-MICROSOFT-CDO-BUSYSTATUS:BUSY
X-MICROSOFT-CDO-IMPORTANCE:1
END:VEVENT
BEGIN:VEVENT
UID:g5cfo@games.golnetwork.com
LOCATION:North Toronto - Field 1
GEO:43.7098022;-79.3963055
CREATED:20140623T170224Z
DTSTART:20140808T222000Z
DTEND:20140808T231500Z
DTSTAMP:20260420T175336Z
SUMMARY:XTSC Misfits vs. Unleash da Powa in da Showa
DESCRIPTION:Unleash da Powa in da Showa vs. XTSC MisfitsMore info: #228
X-ALT-DESC;FMTTYPE=text/html:<!DOCTYPE HTML PUBLIC "-//W3C//DTD HTML 3.2//E
	N">\n<HTML>\n<HEAD>\n<TITLE></TITLE>\n</HEAD>\n<BODY>\n<h3>Unleash da Powa 
	in da Showa vs. XTSC Misfits</h3>More info: <a href="https://www.golnetwork
	.com/game/v/52797/">#228</a>\n\n</BODY>\n</HTML>
STATUS:CONFIRMED
CLASS:PUBLIC
URL:https://www.golnetwork.com/game/v/52797/
X-MICROSOFT-CDO-BUSYSTATUS:BUSY
X-MICROSOFT-CDO-IMPORTANCE:1
END:VEVENT
BEGIN:VEVENT
UID:g5cg1@games.golnetwork.com
LOCATION:North Toronto - Field 1
GEO:43.7098022;-79.3963055
CREATED:20140623T170224Z
DTSTART:20140808T231500Z
DTEND:20140809T001000Z
DTSTAMP:20260420T175336Z
SUMMARY:Talk Footy To Me vs. Northlanders FC
DESCRIPTION:Northlanders FC vs. Talk Footy To MeMore info: #229
X-ALT-DESC;FMTTYPE=text/html:<!DOCTYPE HTML PUBLIC "-//W3C//DTD HTML 3.2//E
	N">\n<HTML>\n<HEAD>\n<TITLE></TITLE>\n</HEAD>\n<BODY>\n<h3>Northlanders FC 
	vs. Talk Footy To Me</h3>More info: <a href="https://www.golnetwork.com/gam
	e/v/52799/">#229</a>\n\n</BODY>\n</HTML>
STATUS:CONFIRMED
CLASS:PUBLIC
URL:https://www.golnetwork.com/game/v/52799/
X-MICROSOFT-CDO-BUSYSTATUS:BUSY
X-MICROSOFT-CDO-IMPORTANCE:1
END:VEVENT
BEGIN:VEVENT
UID:g5cg3@games.golnetwork.com
LOCATION:North Toronto - Field 1
GEO:43.7098022;-79.3963055
CREATED:20140623T170224Z
DTSTART:20140815T222000Z
DTEND:20140815T231500Z
DTSTAMP:20260420T175336Z
SUMMARY:XTSC Misfits vs. Northlanders FC
DESCRIPTION:Northlanders FC vs. XTSC MisfitsMore info: #283
X-ALT-DESC;FMTTYPE=text/html:<!DOCTYPE HTML PUBLIC "-//W3C//DTD HTML 3.2//E
	N">\n<HTML>\n<HEAD>\n<TITLE></TITLE>\n</HEAD>\n<BODY>\n<h3>Northlanders FC 
	vs. XTSC Misfits</h3>More info: <a href="https://www.golnetwork.com/game/v/
	52800/">#283</a>\n\n</BODY>\n</HTML>
STATUS:CONFIRMED
CLASS:PUBLIC
URL:https://www.golnetwork.com/game/v/52800/
X-MICROSOFT-CDO-BUSYSTATUS:BUSY
X-MICROSOFT-CDO-IMPORTANCE:1
END:VEVENT
BEGIN:VEVENT
UID:g5cg5@games.golnetwork.com
LOCATION:North Toronto - Field 2
GEO:43.7098022;-79.3963055
CREATED:20140623T170224Z
DTSTART:20140815T222000Z
DTEND:20140815T231500Z
DTSTAMP:20260420T175336Z
SUMMARY:Maxus  vs. Unleash da Powa in da Showa
DESCRIPTION:Unleash da Powa in da Showa vs. Maxus More info: #284
X-ALT-DESC;FMTTYPE=text/html:<!DOCTYPE HTML PUBLIC "-//W3C//DTD HTML 3.2//E
	N">\n<HTML>\n<HEAD>\n<TITLE></TITLE>\n</HEAD>\n<BODY>\n<h3>Unleash da Powa 
	in da Showa vs. Maxus </h3>More info: <a href="https://www.golnetwork.com/g
	ame/v/52801/">#284</a>\n\n</BODY>\n</HTML>
STATUS:CONFIRMED
CLASS:PUBLIC
URL:https://www.golnetwork.com/game/v/52801/
X-MICROSOFT-CDO-BUSYSTATUS:BUSY
X-MICROSOFT-CDO-IMPORTANCE:1
END:VEVENT
BEGIN:VEVENT
UID:g5cg7@games.golnetwork.com
LOCATION:North Toronto - Field 1
GEO:43.7098022;-79.3963055
CREATED:20140623T170224Z
DTSTART:20140815T231500Z
DTEND:20140816T001000Z
DTSTAMP:20260420T175336Z
SUMMARY:Talk Footy To Me vs. The Six Shooters
DESCRIPTION:The Six Shooters vs. Talk Footy To MeMore info: #286
X-ALT-DESC;FMTTYPE=text/html:<!DOCTYPE HTML PUBLIC "-//W3C//DTD HTML 3.2//E
	N">\n<HTML>\n<HEAD>\n<TITLE></TITLE>\n</HEAD>\n<BODY>\n<h3>The Six Shooters
	 vs. Talk Footy To Me</h3>More info: <a href="https://www.golnetwork.com/ga
	me/v/52802/">#286</a>\n\n</BODY>\n</HTML>
STATUS:CONFIRMED
CLASS:PUBLIC
URL:https://www.golnetwork.com/game/v/52802/
X-MICROSOFT-CDO-BUSYSTATUS:BUSY
X-MICROSOFT-CDO-IMPORTANCE:1
END:VEVENT
BEGIN:VEVENT
UID:g5hjp@games.golnetwork.com
LOCATION:North Toronto - Field 2
GEO:43.7098022;-79.3963055
CREATED:20140806T175011Z
DTSTART:20140815T231500Z
DTEND:20140816T001500Z
DTSTAMP:20260420T175336Z
SUMMARY:Maxus  vs. Northlanders FC
DESCRIPTION:Northlanders FC vs. Maxus More info: #287
X-ALT-DESC;FMTTYPE=text/html:<!DOCTYPE HTML PUBLIC "-//W3C//DTD HTML 3.2//E
	N">\n<HTML>\n<HEAD>\n<TITLE></TITLE>\n</HEAD>\n<BODY>\n<h3>Northlanders FC 
	vs. Maxus </h3>More info: <a href="https://www.golnetwork.com/game/v/54674/
	">#287</a>\n\n</BODY>\n</HTML>
STATUS:CONFIRMED
CLASS:PUBLIC
URL:https://www.golnetwork.com/game/v/54674/
X-MICROSOFT-CDO-BUSYSTATUS:BUSY
X-MICROSOFT-CDO-IMPORTANCE:1
END:VEVENT
BEGIN:VEVENT
UID:g5cg9@games.golnetwork.com
LOCATION:North Toronto - Field 1
GEO:43.7098022;-79.3963055
CREATED:20140623T170224Z
DTSTART:20140822T222000Z
DTEND:20140822T231500Z
DTSTAMP:20260420T175336Z
SUMMARY:Maxus  vs. The Six Shooters
DESCRIPTION:The Six Shooters vs. Maxus More info: #348
X-ALT-DESC;FMTTYPE=text/html:<!DOCTYPE HTML PUBLIC "-//W3C//DTD HTML 3.2//E
	N">\n<HTML>\n<HEAD>\n<TITLE></TITLE>\n</HEAD>\n<BODY>\n<h3>The Six Shooters
	 vs. Maxus </h3>More info: <a href="https://www.golnetwork.com/game/v/52803
	/">#348</a>\n\n</BODY>\n</HTML>
STATUS:CONFIRMED
CLASS:PUBLIC
URL:https://www.golnetwork.com/game/v/52803/
X-MICROSOFT-CDO-BUSYSTATUS:BUSY
X-MICROSOFT-CDO-IMPORTANCE:1
END:VEVENT
BEGIN:VEVENT
UID:g5cgd@games.golnetwork.com
LOCATION:North Toronto - Field 1
GEO:43.7098022;-79.3963055
CREATED:20140623T170224Z
DTSTART:20140822T231500Z
DTEND:20140823T001000Z
DTSTAMP:20260420T175336Z
SUMMARY:XTSC Misfits vs. Talk Footy To Me
DESCRIPTION:Talk Footy To Me vs. XTSC MisfitsMore info: #350
X-ALT-DESC;FMTTYPE=text/html:<!DOCTYPE HTML PUBLIC "-//W3C//DTD HTML 3.2//E
	N">\n<HTML>\n<HEAD>\n<TITLE></TITLE>\n</HEAD>\n<BODY>\n<h3>Talk Footy To Me
	 vs. XTSC Misfits</h3>More info: <a href="https://www.golnetwork.com/game/v
	/52805/">#350</a>\n\n</BODY>\n</HTML>
STATUS:CONFIRMED
CLASS:PUBLIC
URL:https://www.golnetwork.com/game/v/52805/
X-MICROSOFT-CDO-BUSYSTATUS:BUSY
X-MICROSOFT-CDO-IMPORTANCE:1
END:VEVENT
END:VCALENDAR
