BEGIN:VCALENDAR
PRODID:-//gdesolutions.com//MV Framework 1.0.0.1607 Calendar//EN
VERSION:2.0
METHOD:PUBLISH
CALSCALE:GREGORIAN
BEGIN:VEVENT
UID:g5ec7@games.golnetwork.com
LOCATION:Lamport Stadium - Field 1
GEO:43.6390028;-79.4232104
CREATED:20140707T183436Z
DTSTART:20140713T210000Z
DTEND:20140713T220000Z
DTSTAMP:20260425T235729Z
SUMMARY: Joe's Schmoes  vs. Gareth Bale FC
DESCRIPTION:Gareth Bale FC vs.  Joe's Schmoes More info: #45
X-ALT-DESC;FMTTYPE=text/html:<!DOCTYPE HTML PUBLIC "-//W3C//DTD HTML 3.2//E
	N">\n<HTML>\n<HEAD>\n<TITLE></TITLE>\n</HEAD>\n<BODY>\n<h3>Gareth Bale FC v
	s.  Joe's Schmoes </h3>More info: <a href="https://www.golnetwork.com/game/
	v/53477/">#45</a>\n\n</BODY>\n</HTML>
STATUS:CONFIRMED
CLASS:PUBLIC
URL:https://www.golnetwork.com/game/v/53477/
X-MICROSOFT-CDO-BUSYSTATUS:BUSY
X-MICROSOFT-CDO-IMPORTANCE:1
END:VEVENT
BEGIN:VEVENT
UID:g5ec9@games.golnetwork.com
LOCATION:Lamport Stadium - Field 1
GEO:43.6390028;-79.4232104
CREATED:20140707T183436Z
DTSTART:20140713T220000Z
DTEND:20140713T230000Z
DTSTAMP:20260425T235729Z
SUMMARY:Game of Throw-Ins vs. XTSC Penalty Box Heroes
DESCRIPTION:XTSC Penalty Box Heroes vs. Game of Throw-InsMore info: #50
X-ALT-DESC;FMTTYPE=text/html:<!DOCTYPE HTML PUBLIC "-//W3C//DTD HTML 3.2//E
	N">\n<HTML>\n<HEAD>\n<TITLE></TITLE>\n</HEAD>\n<BODY>\n<h3>XTSC Penalty Box
	 Heroes vs. Game of Throw-Ins</h3>More info: <a href="https://www.golnetwor
	k.com/game/v/53478/">#50</a>\n\n</BODY>\n</HTML>
STATUS:CONFIRMED
CLASS:PUBLIC
URL:https://www.golnetwork.com/game/v/53478/
X-MICROSOFT-CDO-BUSYSTATUS:BUSY
X-MICROSOFT-CDO-IMPORTANCE:1
END:VEVENT
BEGIN:VEVENT
UID:g5ecb@games.golnetwork.com
LOCATION:Lamport Stadium - Field 1
GEO:43.6390028;-79.4232104
CREATED:20140707T183436Z
DTSTART:20140713T230000Z
DTEND:20140714T000000Z
DTSTAMP:20260425T235729Z
SUMMARY:Loose Eggz  vs. Honey Badgers
DESCRIPTION:Honey Badgers vs. Loose Eggz More info: #52
X-ALT-DESC;FMTTYPE=text/html:<!DOCTYPE HTML PUBLIC "-//W3C//DTD HTML 3.2//E
	N">\n<HTML>\n<HEAD>\n<TITLE></TITLE>\n</HEAD>\n<BODY>\n<h3>Honey Badgers vs
	. Loose Eggz </h3>More info: <a href="https://www.golnetwork.com/game/v/534
	79/">#52</a>\n\n</BODY>\n</HTML>
STATUS:CONFIRMED
CLASS:PUBLIC
URL:https://www.golnetwork.com/game/v/53479/
X-MICROSOFT-CDO-BUSYSTATUS:BUSY
X-MICROSOFT-CDO-IMPORTANCE:1
END:VEVENT
BEGIN:VEVENT
UID:g5ecd@games.golnetwork.com
LOCATION:Lamport Stadium - Field 1
GEO:43.6390028;-79.4232104
CREATED:20140707T183436Z
DTSTART:20140714T000000Z
DTEND:20140714T010000Z
DTSTAMP:20260425T235729Z
SUMMARY:Brazil Without Neymar vs. Boogie Time United
DESCRIPTION:Boogie Time United vs. Brazil Without NeymarMore info: #54
X-ALT-DESC;FMTTYPE=text/html:<!DOCTYPE HTML PUBLIC "-//W3C//DTD HTML 3.2//E
	N">\n<HTML>\n<HEAD>\n<TITLE></TITLE>\n</HEAD>\n<BODY>\n<h3>Boogie Time Unit
	ed vs. Brazil Without Neymar</h3>More info: <a href="https://www.golnetwork
	.com/game/v/53480/">#54</a>\n\n</BODY>\n</HTML>
STATUS:CONFIRMED
CLASS:PUBLIC
URL:https://www.golnetwork.com/game/v/53480/
X-MICROSOFT-CDO-BUSYSTATUS:BUSY
X-MICROSOFT-CDO-IMPORTANCE:1
END:VEVENT
BEGIN:VEVENT
UID:g5ecf@games.golnetwork.com
LOCATION:Lamport Stadium - Field 1
GEO:43.6390028;-79.4232104
CREATED:20140707T183436Z
DTSTART:20140720T210000Z
DTEND:20140720T220000Z
DTSTAMP:20260425T235729Z
SUMMARY:Brazil Without Neymar vs. XTSC Penalty Box Heroes
DESCRIPTION:XTSC Penalty Box Heroes vs. Brazil Without NeymarMore info: #10
	2
X-ALT-DESC;FMTTYPE=text/html:<!DOCTYPE HTML PUBLIC "-//W3C//DTD HTML 3.2//E
	N">\n<HTML>\n<HEAD>\n<TITLE></TITLE>\n</HEAD>\n<BODY>\n<h3>XTSC Penalty Box
	 Heroes vs. Brazil Without Neymar</h3>More info: <a href="https://www.golne
	twork.com/game/v/53481/">#102</a>\n\n</BODY>\n</HTML>
STATUS:CONFIRMED
CLASS:PUBLIC
URL:https://www.golnetwork.com/game/v/53481/
X-MICROSOFT-CDO-BUSYSTATUS:BUSY
X-MICROSOFT-CDO-IMPORTANCE:1
END:VEVENT
BEGIN:VEVENT
UID:g5ech@games.golnetwork.com
LOCATION:Lamport Stadium - Field 1
GEO:43.6390028;-79.4232104
CREATED:20140707T183436Z
DTSTART:20140720T220000Z
DTEND:20140720T230000Z
DTSTAMP:20260425T235729Z
SUMMARY:Boogie Time United vs. Honey Badgers
DESCRIPTION:Honey Badgers vs. Boogie Time UnitedMore info: #106
X-ALT-DESC;FMTTYPE=text/html:<!DOCTYPE HTML PUBLIC "-//W3C//DTD HTML 3.2//E
	N">\n<HTML>\n<HEAD>\n<TITLE></TITLE>\n</HEAD>\n<BODY>\n<h3>Honey Badgers vs
	. Boogie Time United</h3>More info: <a href="https://www.golnetwork.com/gam
	e/v/53482/">#106</a>\n\n</BODY>\n</HTML>
STATUS:CONFIRMED
CLASS:PUBLIC
URL:https://www.golnetwork.com/game/v/53482/
X-MICROSOFT-CDO-BUSYSTATUS:BUSY
X-MICROSOFT-CDO-IMPORTANCE:1
END:VEVENT
BEGIN:VEVENT
UID:g5ecj@games.golnetwork.com
LOCATION:Lamport Stadium - Field 1
GEO:43.6390028;-79.4232104
CREATED:20140707T183436Z
DTSTART:20140720T230000Z
DTEND:20140721T000000Z
DTSTAMP:20260425T235729Z
SUMMARY:Game of Throw-Ins vs.  Joe's Schmoes 
DESCRIPTION: Joe's Schmoes  vs. Game of Throw-InsMore info: #109
X-ALT-DESC;FMTTYPE=text/html:<!DOCTYPE HTML PUBLIC "-//W3C//DTD HTML 3.2//E
	N">\n<HTML>\n<HEAD>\n<TITLE></TITLE>\n</HEAD>\n<BODY>\n<h3> Joe's Schmoes  
	vs. Game of Throw-Ins</h3>More info: <a href="https://www.golnetwork.com/ga
	me/v/53483/">#109</a>\n\n</BODY>\n</HTML>
STATUS:CONFIRMED
CLASS:PUBLIC
URL:https://www.golnetwork.com/game/v/53483/
X-MICROSOFT-CDO-BUSYSTATUS:BUSY
X-MICROSOFT-CDO-IMPORTANCE:1
END:VEVENT
BEGIN:VEVENT
UID:g5ecl@games.golnetwork.com
LOCATION:Lamport Stadium - Field 1
GEO:43.6390028;-79.4232104
CREATED:20140707T183436Z
DTSTART:20140721T000000Z
DTEND:20140721T010000Z
DTSTAMP:20260425T235729Z
SUMMARY:Loose Eggz  vs. Gareth Bale FC
DESCRIPTION:Gareth Bale FC vs. Loose Eggz More info: #111
X-ALT-DESC;FMTTYPE=text/html:<!DOCTYPE HTML PUBLIC "-//W3C//DTD HTML 3.2//E
	N">\n<HTML>\n<HEAD>\n<TITLE></TITLE>\n</HEAD>\n<BODY>\n<h3>Gareth Bale FC v
	s. Loose Eggz </h3>More info: <a href="https://www.golnetwork.com/game/v/53
	484/">#111</a>\n\n</BODY>\n</HTML>
STATUS:CONFIRMED
CLASS:PUBLIC
URL:https://www.golnetwork.com/game/v/53484/
X-MICROSOFT-CDO-BUSYSTATUS:BUSY
X-MICROSOFT-CDO-IMPORTANCE:1
END:VEVENT
BEGIN:VEVENT
UID:g5edc@games.golnetwork.com
LOCATION:Lamport Stadium - Field 1
GEO:43.6390028;-79.4232104
CREATED:20140707T183436Z
DTSTART:20140810T210000Z
DTEND:20140810T220000Z
DTSTAMP:20260425T235729Z
SUMMARY:Gareth Bale FC vs. Game of Throw-Ins
DESCRIPTION:Game of Throw-Ins vs. Gareth Bale FCMore info: #234
X-ALT-DESC;FMTTYPE=text/html:<!DOCTYPE HTML PUBLIC "-//W3C//DTD HTML 3.2//E
	N">\n<HTML>\n<HEAD>\n<TITLE></TITLE>\n</HEAD>\n<BODY>\n<h3>Game of Throw-In
	s vs. Gareth Bale FC</h3>More info: <a href="https://www.golnetwork.com/gam
	e/v/53493/">#234</a>\n\n</BODY>\n</HTML>
STATUS:CONFIRMED
CLASS:PUBLIC
URL:https://www.golnetwork.com/game/v/53493/
X-MICROSOFT-CDO-BUSYSTATUS:BUSY
X-MICROSOFT-CDO-IMPORTANCE:1
END:VEVENT
BEGIN:VEVENT
UID:g5ede@games.golnetwork.com
LOCATION:Lamport Stadium - Field 1
GEO:43.6390028;-79.4232104
CREATED:20140707T183436Z
DTSTART:20140810T220000Z
DTEND:20140810T230000Z
DTSTAMP:20260425T235729Z
SUMMARY:Honey Badgers vs. Brazil Without Neymar
DESCRIPTION:Brazil Without Neymar vs. Honey BadgersMore info: #238
X-ALT-DESC;FMTTYPE=text/html:<!DOCTYPE HTML PUBLIC "-//W3C//DTD HTML 3.2//E
	N">\n<HTML>\n<HEAD>\n<TITLE></TITLE>\n</HEAD>\n<BODY>\n<h3>Brazil Without N
	eymar vs. Honey Badgers</h3>More info: <a href="https://www.golnetwork.com/
	game/v/53494/">#238</a>\n\n</BODY>\n</HTML>
STATUS:CONFIRMED
CLASS:PUBLIC
URL:https://www.golnetwork.com/game/v/53494/
X-MICROSOFT-CDO-BUSYSTATUS:BUSY
X-MICROSOFT-CDO-IMPORTANCE:1
END:VEVENT
BEGIN:VEVENT
UID:g5edg@games.golnetwork.com
LOCATION:Lamport Stadium - Field 1
GEO:43.6390028;-79.4232104
CREATED:20140707T183436Z
DTSTART:20140810T230000Z
DTEND:20140811T000000Z
DTSTAMP:20260425T235729Z
SUMMARY: Joe's Schmoes  vs. Boogie Time United
DESCRIPTION:Boogie Time United vs.  Joe's Schmoes More info: #241
X-ALT-DESC;FMTTYPE=text/html:<!DOCTYPE HTML PUBLIC "-//W3C//DTD HTML 3.2//E
	N">\n<HTML>\n<HEAD>\n<TITLE></TITLE>\n</HEAD>\n<BODY>\n<h3>Boogie Time Unit
	ed vs.  Joe's Schmoes </h3>More info: <a href="https://www.golnetwork.com/g
	ame/v/53495/">#241</a>\n\n</BODY>\n</HTML>
STATUS:CONFIRMED
CLASS:PUBLIC
URL:https://www.golnetwork.com/game/v/53495/
X-MICROSOFT-CDO-BUSYSTATUS:BUSY
X-MICROSOFT-CDO-IMPORTANCE:1
END:VEVENT
BEGIN:VEVENT
UID:g5edi@games.golnetwork.com
LOCATION:Lamport Stadium - Field 1
GEO:43.6390028;-79.4232104
CREATED:20140707T183436Z
DTSTART:20140811T000000Z
DTEND:20140811T010000Z
DTSTAMP:20260425T235729Z
SUMMARY:XTSC Penalty Box Heroes vs. Loose Eggz 
DESCRIPTION:Loose Eggz  vs. XTSC Penalty Box HeroesMore info: #243
X-ALT-DESC;FMTTYPE=text/html:<!DOCTYPE HTML PUBLIC "-//W3C//DTD HTML 3.2//E
	N">\n<HTML>\n<HEAD>\n<TITLE></TITLE>\n</HEAD>\n<BODY>\n<h3>Loose Eggz  vs. 
	XTSC Penalty Box Heroes</h3>More info: <a href="https://www.golnetwork.com/
	game/v/53496/">#243</a>\n\n</BODY>\n</HTML>
STATUS:CONFIRMED
CLASS:PUBLIC
URL:https://www.golnetwork.com/game/v/53496/
X-MICROSOFT-CDO-BUSYSTATUS:BUSY
X-MICROSOFT-CDO-IMPORTANCE:1
END:VEVENT
BEGIN:VEVENT
UID:g5edk@games.golnetwork.com
LOCATION:Lamport Stadium - Field 1
GEO:43.6390028;-79.4232104
CREATED:20140707T183436Z
DTSTART:20140817T210000Z
DTEND:20140817T220000Z
DTSTAMP:20260425T235729Z
SUMMARY:Game of Throw-Ins vs. Loose Eggz 
DESCRIPTION:Loose Eggz  vs. Game of Throw-InsMore info: #296
X-ALT-DESC;FMTTYPE=text/html:<!DOCTYPE HTML PUBLIC "-//W3C//DTD HTML 3.2//E
	N">\n<HTML>\n<HEAD>\n<TITLE></TITLE>\n</HEAD>\n<BODY>\n<h3>Loose Eggz  vs. 
	Game of Throw-Ins</h3>More info: <a href="https://www.golnetwork.com/game/v
	/53497/">#296</a>\n\n</BODY>\n</HTML>
STATUS:CONFIRMED
CLASS:PUBLIC
URL:https://www.golnetwork.com/game/v/53497/
X-MICROSOFT-CDO-BUSYSTATUS:BUSY
X-MICROSOFT-CDO-IMPORTANCE:1
END:VEVENT
BEGIN:VEVENT
UID:g5edm@games.golnetwork.com
LOCATION:Lamport Stadium - Field 1
GEO:43.6390028;-79.4232104
CREATED:20140707T183436Z
DTSTART:20140817T220000Z
DTEND:20140817T230000Z
DTSTAMP:20260425T235729Z
SUMMARY:XTSC Penalty Box Heroes vs. Boogie Time United
DESCRIPTION:Boogie Time United vs. XTSC Penalty Box HeroesMore info: #300
X-ALT-DESC;FMTTYPE=text/html:<!DOCTYPE HTML PUBLIC "-//W3C//DTD HTML 3.2//E
	N">\n<HTML>\n<HEAD>\n<TITLE></TITLE>\n</HEAD>\n<BODY>\n<h3>Boogie Time Unit
	ed vs. XTSC Penalty Box Heroes</h3>More info: <a href="https://www.golnetwo
	rk.com/game/v/53498/">#300</a>\n\n</BODY>\n</HTML>
STATUS:CONFIRMED
CLASS:PUBLIC
URL:https://www.golnetwork.com/game/v/53498/
X-MICROSOFT-CDO-BUSYSTATUS:BUSY
X-MICROSOFT-CDO-IMPORTANCE:1
END:VEVENT
BEGIN:VEVENT
UID:g5edo@games.golnetwork.com
LOCATION:Lamport Stadium - Field 1
GEO:43.6390028;-79.4232104
CREATED:20140707T183436Z
DTSTART:20140817T230000Z
DTEND:20140818T000000Z
DTSTAMP:20260425T235729Z
SUMMARY:Gareth Bale FC vs. Brazil Without Neymar
DESCRIPTION:Brazil Without Neymar vs. Gareth Bale FCMore info: #307
X-ALT-DESC;FMTTYPE=text/html:<!DOCTYPE HTML PUBLIC "-//W3C//DTD HTML 3.2//E
	N">\n<HTML>\n<HEAD>\n<TITLE></TITLE>\n</HEAD>\n<BODY>\n<h3>Brazil Without N
	eymar vs. Gareth Bale FC</h3>More info: <a href="https://www.golnetwork.com
	/game/v/53499/">#307</a>\n\n</BODY>\n</HTML>
STATUS:CONFIRMED
CLASS:PUBLIC
URL:https://www.golnetwork.com/game/v/53499/
X-MICROSOFT-CDO-BUSYSTATUS:BUSY
X-MICROSOFT-CDO-IMPORTANCE:1
END:VEVENT
BEGIN:VEVENT
UID:g5edq@games.golnetwork.com
LOCATION:Lamport Stadium - Field 1
GEO:43.6390028;-79.4232104
CREATED:20140707T183436Z
DTSTART:20140818T000000Z
DTEND:20140818T010000Z
DTSTAMP:20260425T235729Z
SUMMARY:Honey Badgers vs.  Joe's Schmoes 
DESCRIPTION: Joe's Schmoes  vs. Honey BadgersMore info: #312
X-ALT-DESC;FMTTYPE=text/html:<!DOCTYPE HTML PUBLIC "-//W3C//DTD HTML 3.2//E
	N">\n<HTML>\n<HEAD>\n<TITLE></TITLE>\n</HEAD>\n<BODY>\n<h3> Joe's Schmoes  
	vs. Honey Badgers</h3>More info: <a href="https://www.golnetwork.com/game/v
	/53500/">#312</a>\n\n</BODY>\n</HTML>
STATUS:CONFIRMED
CLASS:PUBLIC
URL:https://www.golnetwork.com/game/v/53500/
X-MICROSOFT-CDO-BUSYSTATUS:BUSY
X-MICROSOFT-CDO-IMPORTANCE:1
END:VEVENT
BEGIN:VEVENT
UID:g5ee1@games.golnetwork.com
LOCATION:Lamport Stadium - Field 1
GEO:43.6390028;-79.4232104
CREATED:20140707T183436Z
DTSTART:20140824T210000Z
DTEND:20140824T220000Z
DTSTAMP:20260425T235729Z
SUMMARY:Gareth Bale FC vs. Honey Badgers
DESCRIPTION:Honey Badgers vs. Gareth Bale FCMore info: #359
X-ALT-DESC;FMTTYPE=text/html:<!DOCTYPE HTML PUBLIC "-//W3C//DTD HTML 3.2//E
	N">\n<HTML>\n<HEAD>\n<TITLE></TITLE>\n</HEAD>\n<BODY>\n<h3>Honey Badgers vs
	. Gareth Bale FC</h3>More info: <a href="https://www.golnetwork.com/game/v/
	53501/">#359</a>\n\n</BODY>\n</HTML>
STATUS:CONFIRMED
CLASS:PUBLIC
URL:https://www.golnetwork.com/game/v/53501/
X-MICROSOFT-CDO-BUSYSTATUS:BUSY
X-MICROSOFT-CDO-IMPORTANCE:1
END:VEVENT
BEGIN:VEVENT
UID:g5ee3@games.golnetwork.com
LOCATION:Lamport Stadium - Field 1
GEO:43.6390028;-79.4232104
CREATED:20140707T183436Z
DTSTART:20140824T220000Z
DTEND:20140824T230000Z
DTSTAMP:20260425T235729Z
SUMMARY:Loose Eggz  vs. Brazil Without Neymar
DESCRIPTION:Brazil Without Neymar vs. Loose Eggz More info: #363
X-ALT-DESC;FMTTYPE=text/html:<!DOCTYPE HTML PUBLIC "-//W3C//DTD HTML 3.2//E
	N">\n<HTML>\n<HEAD>\n<TITLE></TITLE>\n</HEAD>\n<BODY>\n<h3>Brazil Without N
	eymar vs. Loose Eggz </h3>More info: <a href="https://www.golnetwork.com/ga
	me/v/53502/">#363</a>\n\n</BODY>\n</HTML>
STATUS:CONFIRMED
CLASS:PUBLIC
URL:https://www.golnetwork.com/game/v/53502/
X-MICROSOFT-CDO-BUSYSTATUS:BUSY
X-MICROSOFT-CDO-IMPORTANCE:1
END:VEVENT
BEGIN:VEVENT
UID:g5ee5@games.golnetwork.com
LOCATION:Lamport Stadium - Field 1
GEO:43.6390028;-79.4232104
CREATED:20140707T183436Z
DTSTART:20140824T230000Z
DTEND:20140825T000000Z
DTSTAMP:20260425T235729Z
SUMMARY:Game of Throw-Ins vs. Boogie Time United
DESCRIPTION:Boogie Time United vs. Game of Throw-InsMore info: #370
X-ALT-DESC;FMTTYPE=text/html:<!DOCTYPE HTML PUBLIC "-//W3C//DTD HTML 3.2//E
	N">\n<HTML>\n<HEAD>\n<TITLE></TITLE>\n</HEAD>\n<BODY>\n<h3>Boogie Time Unit
	ed vs. Game of Throw-Ins</h3>More info: <a href="https://www.golnetwork.com
	/game/v/53503/">#370</a>\n\n</BODY>\n</HTML>
STATUS:CONFIRMED
CLASS:PUBLIC
URL:https://www.golnetwork.com/game/v/53503/
X-MICROSOFT-CDO-BUSYSTATUS:BUSY
X-MICROSOFT-CDO-IMPORTANCE:1
END:VEVENT
BEGIN:VEVENT
UID:g5ee7@games.golnetwork.com
LOCATION:Lamport Stadium - Field 1
GEO:43.6390028;-79.4232104
CREATED:20140707T183436Z
DTSTART:20140825T000000Z
DTEND:20140825T010000Z
DTSTAMP:20260425T235729Z
SUMMARY:XTSC Penalty Box Heroes vs.  Joe's Schmoes 
DESCRIPTION: Joe's Schmoes  vs. XTSC Penalty Box HeroesMore info: #375
X-ALT-DESC;FMTTYPE=text/html:<!DOCTYPE HTML PUBLIC "-//W3C//DTD HTML 3.2//E
	N">\n<HTML>\n<HEAD>\n<TITLE></TITLE>\n</HEAD>\n<BODY>\n<h3> Joe's Schmoes  
	vs. XTSC Penalty Box Heroes</h3>More info: <a href="https://www.golnetwork.
	com/game/v/53504/">#375</a>\n\n</BODY>\n</HTML>
STATUS:CONFIRMED
CLASS:PUBLIC
URL:https://www.golnetwork.com/game/v/53504/
X-MICROSOFT-CDO-BUSYSTATUS:BUSY
X-MICROSOFT-CDO-IMPORTANCE:1
END:VEVENT
BEGIN:VEVENT
UID:g5eeh@games.golnetwork.com
LOCATION:Lamport Stadium - Field 1
GEO:43.6390028;-79.4232104
CREATED:20140707T183436Z
DTSTART:20140907T210000Z
DTEND:20140907T220000Z
DTSTAMP:20260425T235729Z
SUMMARY:Honey Badgers vs. Game of Throw-Ins
DESCRIPTION:Game of Throw-Ins vs. Honey BadgersMore info: #437
X-ALT-DESC;FMTTYPE=text/html:<!DOCTYPE HTML PUBLIC "-//W3C//DTD HTML 3.2//E
	N">\n<HTML>\n<HEAD>\n<TITLE></TITLE>\n</HEAD>\n<BODY>\n<h3>Game of Throw-In
	s vs. Honey Badgers</h3>More info: <a href="https://www.golnetwork.com/game
	/v/53509/">#437</a>\n\n</BODY>\n</HTML>
STATUS:CONFIRMED
CLASS:PUBLIC
URL:https://www.golnetwork.com/game/v/53509/
X-MICROSOFT-CDO-BUSYSTATUS:BUSY
X-MICROSOFT-CDO-IMPORTANCE:1
END:VEVENT
BEGIN:VEVENT
UID:g5eej@games.golnetwork.com
LOCATION:Lamport Stadium - Field 1
GEO:43.6390028;-79.4232104
CREATED:20140707T183436Z
DTSTART:20140907T220000Z
DTEND:20140907T230000Z
DTSTAMP:20260425T235729Z
SUMMARY:Boogie Time United vs. Loose Eggz 
DESCRIPTION:Loose Eggz  vs. Boogie Time UnitedMore info: #439
X-ALT-DESC;FMTTYPE=text/html:<!DOCTYPE HTML PUBLIC "-//W3C//DTD HTML 3.2//E
	N">\n<HTML>\n<HEAD>\n<TITLE></TITLE>\n</HEAD>\n<BODY>\n<h3>Loose Eggz  vs. 
	Boogie Time United</h3>More info: <a href="https://www.golnetwork.com/game/
	v/53510/">#439</a>\n\n</BODY>\n</HTML>
STATUS:CONFIRMED
CLASS:PUBLIC
URL:https://www.golnetwork.com/game/v/53510/
X-MICROSOFT-CDO-BUSYSTATUS:BUSY
X-MICROSOFT-CDO-IMPORTANCE:1
END:VEVENT
BEGIN:VEVENT
UID:g5eel@games.golnetwork.com
LOCATION:Lamport Stadium - Field 1
GEO:43.6390028;-79.4232104
CREATED:20140707T183436Z
DTSTART:20140907T230000Z
DTEND:20140908T000000Z
DTSTAMP:20260425T235729Z
SUMMARY:XTSC Penalty Box Heroes vs. Gareth Bale FC
DESCRIPTION:Gareth Bale FC vs. XTSC Penalty Box HeroesMore info: #444
X-ALT-DESC;FMTTYPE=text/html:<!DOCTYPE HTML PUBLIC "-//W3C//DTD HTML 3.2//E
	N">\n<HTML>\n<HEAD>\n<TITLE></TITLE>\n</HEAD>\n<BODY>\n<h3>Gareth Bale FC v
	s. XTSC Penalty Box Heroes</h3>More info: <a href="https://www.golnetwork.c
	om/game/v/53511/">#444</a>\n\n</BODY>\n</HTML>
STATUS:CONFIRMED
CLASS:PUBLIC
URL:https://www.golnetwork.com/game/v/53511/
X-MICROSOFT-CDO-BUSYSTATUS:BUSY
X-MICROSOFT-CDO-IMPORTANCE:1
END:VEVENT
BEGIN:VEVENT
UID:g5een@games.golnetwork.com
LOCATION:Lamport Stadium - Field 1
GEO:43.6390028;-79.4232104
CREATED:20140707T183436Z
DTSTART:20140908T000000Z
DTEND:20140908T010000Z
DTSTAMP:20260425T235729Z
SUMMARY:Brazil Without Neymar vs.  Joe's Schmoes 
DESCRIPTION: Joe's Schmoes  vs. Brazil Without NeymarMore info: #449
X-ALT-DESC;FMTTYPE=text/html:<!DOCTYPE HTML PUBLIC "-//W3C//DTD HTML 3.2//E
	N">\n<HTML>\n<HEAD>\n<TITLE></TITLE>\n</HEAD>\n<BODY>\n<h3> Joe's Schmoes  
	vs. Brazil Without Neymar</h3>More info: <a href="https://www.golnetwork.co
	m/game/v/53512/">#449</a>\n\n</BODY>\n</HTML>
STATUS:CONFIRMED
CLASS:PUBLIC
URL:https://www.golnetwork.com/game/v/53512/
X-MICROSOFT-CDO-BUSYSTATUS:BUSY
X-MICROSOFT-CDO-IMPORTANCE:1
END:VEVENT
BEGIN:VEVENT
UID:g5eep@games.golnetwork.com
LOCATION:Lamport Stadium - Field 1
GEO:43.6390028;-79.4232104
CREATED:20140707T183727Z
DTSTART:20140914T210000Z
DTEND:20140914T220000Z
DTSTAMP:20260425T235729Z
SUMMARY:Boogie Time United vs. Gareth Bale FC
DESCRIPTION:Gareth Bale FC vs. Boogie Time UnitedMore info: #478
X-ALT-DESC;FMTTYPE=text/html:<!DOCTYPE HTML PUBLIC "-//W3C//DTD HTML 3.2//E
	N">\n<HTML>\n<HEAD>\n<TITLE></TITLE>\n</HEAD>\n<BODY>\n<h3>Gareth Bale FC v
	s. Boogie Time United</h3>More info: <a href="https://www.golnetwork.com/ga
	me/v/53513/">#478</a>\n\n</BODY>\n</HTML>
STATUS:CONFIRMED
CLASS:PUBLIC
URL:https://www.golnetwork.com/game/v/53513/
X-MICROSOFT-CDO-BUSYSTATUS:BUSY
X-MICROSOFT-CDO-IMPORTANCE:1
END:VEVENT
BEGIN:VEVENT
UID:g5ef0@games.golnetwork.com
LOCATION:Lamport Stadium - Field 1
GEO:43.6390028;-79.4232104
CREATED:20140707T183739Z
DTSTART:20140914T220000Z
DTEND:20140914T230000Z
DTSTAMP:20260425T235729Z
SUMMARY:Brazil Without Neymar vs. Game of Throw-Ins
DESCRIPTION:Game of Throw-Ins vs. Brazil Without NeymarMore info: #480
X-ALT-DESC;FMTTYPE=text/html:<!DOCTYPE HTML PUBLIC "-//W3C//DTD HTML 3.2//E
	N">\n<HTML>\n<HEAD>\n<TITLE></TITLE>\n</HEAD>\n<BODY>\n<h3>Game of Throw-In
	s vs. Brazil Without Neymar</h3>More info: <a href="https://www.golnetwork.
	com/game/v/53514/">#480</a>\n\n</BODY>\n</HTML>
STATUS:CONFIRMED
CLASS:PUBLIC
URL:https://www.golnetwork.com/game/v/53514/
X-MICROSOFT-CDO-BUSYSTATUS:BUSY
X-MICROSOFT-CDO-IMPORTANCE:1
END:VEVENT
BEGIN:VEVENT
UID:g5ef2@games.golnetwork.com
LOCATION:Lamport Stadium - Field 1
GEO:43.6390028;-79.4232104
CREATED:20140707T183749Z
DTSTART:20140914T230000Z
DTEND:20140915T000000Z
DTSTAMP:20260425T235729Z
SUMMARY: Joe's Schmoes  vs. Loose Eggz 
DESCRIPTION:Loose Eggz  vs.  Joe's Schmoes More info: #485
X-ALT-DESC;FMTTYPE=text/html:<!DOCTYPE HTML PUBLIC "-//W3C//DTD HTML 3.2//E
	N">\n<HTML>\n<HEAD>\n<TITLE></TITLE>\n</HEAD>\n<BODY>\n<h3>Loose Eggz  vs. 
	 Joe's Schmoes </h3>More info: <a href="https://www.golnetwork.com/game/v/5
	3515/">#485</a>\n\n</BODY>\n</HTML>
STATUS:CONFIRMED
CLASS:PUBLIC
URL:https://www.golnetwork.com/game/v/53515/
X-MICROSOFT-CDO-BUSYSTATUS:BUSY
X-MICROSOFT-CDO-IMPORTANCE:1
END:VEVENT
BEGIN:VEVENT
UID:g5ef4@games.golnetwork.com
LOCATION:Lamport Stadium - Field 1
GEO:43.6390028;-79.4232104
CREATED:20140707T183801Z
DTSTART:20140915T000000Z
DTEND:20140915T010000Z
DTSTAMP:20260425T235729Z
SUMMARY:Honey Badgers vs. XTSC Penalty Box Heroes
DESCRIPTION:XTSC Penalty Box Heroes vs. Honey BadgersMore info: #490
X-ALT-DESC;FMTTYPE=text/html:<!DOCTYPE HTML PUBLIC "-//W3C//DTD HTML 3.2//E
	N">\n<HTML>\n<HEAD>\n<TITLE></TITLE>\n</HEAD>\n<BODY>\n<h3>XTSC Penalty Box
	 Heroes vs. Honey Badgers</h3>More info: <a href="https://www.golnetwork.co
	m/game/v/53516/">#490</a>\n\n</BODY>\n</HTML>
STATUS:CONFIRMED
CLASS:PUBLIC
URL:https://www.golnetwork.com/game/v/53516/
X-MICROSOFT-CDO-BUSYSTATUS:BUSY
X-MICROSOFT-CDO-IMPORTANCE:1
END:VEVENT
BEGIN:VEVENT
UID:g5ef6@games.golnetwork.com
LOCATION:Lamport Stadium - Field 1
GEO:43.6390028;-79.4232104
CREATED:20140707T183837Z
DTSTART:20140921T210000Z
DTEND:20140921T220000Z
DTSTAMP:20260425T235729Z
SUMMARY:Loose Eggz  vs. Brazil Without Neymar
DESCRIPTION:Brazil Without Neymar vs. Loose Eggz More info: #503
X-ALT-DESC;FMTTYPE=text/html:<!DOCTYPE HTML PUBLIC "-//W3C//DTD HTML 3.2//E
	N">\n<HTML>\n<HEAD>\n<TITLE></TITLE>\n</HEAD>\n<BODY>\n<h3>Brazil Without N
	eymar vs. Loose Eggz </h3>More info: <a href="https://www.golnetwork.com/ga
	me/v/53517/">#503</a>\n\n</BODY>\n</HTML>
STATUS:CONFIRMED
CLASS:PUBLIC
URL:https://www.golnetwork.com/game/v/53517/
X-MICROSOFT-CDO-BUSYSTATUS:BUSY
X-MICROSOFT-CDO-IMPORTANCE:1
END:VEVENT
BEGIN:VEVENT
UID:g5ef8@games.golnetwork.com
LOCATION:Lamport Stadium - Field 1
GEO:43.6390028;-79.4232104
CREATED:20140707T183840Z
DTSTART:20140921T220000Z
DTEND:20140921T230000Z
DTSTAMP:20260425T235729Z
SUMMARY:Game of Throw-Ins vs.  Joe's Schmoes 
DESCRIPTION: Joe's Schmoes  vs. Game of Throw-InsMore info: #505
X-ALT-DESC;FMTTYPE=text/html:<!DOCTYPE HTML PUBLIC "-//W3C//DTD HTML 3.2//E
	N">\n<HTML>\n<HEAD>\n<TITLE></TITLE>\n</HEAD>\n<BODY>\n<h3> Joe's Schmoes  
	vs. Game of Throw-Ins</h3>More info: <a href="https://www.golnetwork.com/ga
	me/v/53518/">#505</a>\n\n</BODY>\n</HTML>
STATUS:CONFIRMED
CLASS:PUBLIC
URL:https://www.golnetwork.com/game/v/53518/
X-MICROSOFT-CDO-BUSYSTATUS:BUSY
X-MICROSOFT-CDO-IMPORTANCE:1
END:VEVENT
BEGIN:VEVENT
UID:g5efa@games.golnetwork.com
LOCATION:Lamport Stadium - Field 1
GEO:43.6390028;-79.4232104
CREATED:20140707T183843Z
DTSTART:20140921T230000Z
DTEND:20140922T000000Z
DTSTAMP:20260425T235729Z
SUMMARY:Gareth Bale FC vs. Boogie Time United
DESCRIPTION:Boogie Time United vs. Gareth Bale FCMore info: #510
X-ALT-DESC;FMTTYPE=text/html:<!DOCTYPE HTML PUBLIC "-//W3C//DTD HTML 3.2//E
	N">\n<HTML>\n<HEAD>\n<TITLE></TITLE>\n</HEAD>\n<BODY>\n<h3>Boogie Time Unit
	ed vs. Gareth Bale FC</h3>More info: <a href="https://www.golnetwork.com/ga
	me/v/53519/">#510</a>\n\n</BODY>\n</HTML>
STATUS:CONFIRMED
CLASS:PUBLIC
URL:https://www.golnetwork.com/game/v/53519/
X-MICROSOFT-CDO-BUSYSTATUS:BUSY
X-MICROSOFT-CDO-IMPORTANCE:1
END:VEVENT
BEGIN:VEVENT
UID:g5efc@games.golnetwork.com
LOCATION:Lamport Stadium - Field 1
GEO:43.6390028;-79.4232104
CREATED:20140707T183846Z
DTSTART:20140922T000000Z
DTEND:20140922T010000Z
DTSTAMP:20260425T235729Z
SUMMARY:XTSC Penalty Box Heroes vs. Honey Badgers
DESCRIPTION:Honey Badgers vs. XTSC Penalty Box HeroesMore info: #515
X-ALT-DESC;FMTTYPE=text/html:<!DOCTYPE HTML PUBLIC "-//W3C//DTD HTML 3.2//E
	N">\n<HTML>\n<HEAD>\n<TITLE></TITLE>\n</HEAD>\n<BODY>\n<h3>Honey Badgers vs
	. XTSC Penalty Box Heroes</h3>More info: <a href="https://www.golnetwork.co
	m/game/v/53520/">#515</a>\n\n</BODY>\n</HTML>
STATUS:CONFIRMED
CLASS:PUBLIC
URL:https://www.golnetwork.com/game/v/53520/
X-MICROSOFT-CDO-BUSYSTATUS:BUSY
X-MICROSOFT-CDO-IMPORTANCE:1
END:VEVENT
BEGIN:VEVENT
UID:g5efk@games.golnetwork.com
LOCATION:Lamport Stadium - Field 1
GEO:43.6390028;-79.4232104
CREATED:20140707T183900Z
DTSTART:20140928T210000Z
DTEND:20140928T220000Z
DTSTAMP:20260425T235729Z
SUMMARY:Brazil Without Neymar vs. Honey Badgers
DESCRIPTION:Honey Badgers vs. Brazil Without NeymarMore info: #527
X-ALT-DESC;FMTTYPE=text/html:<!DOCTYPE HTML PUBLIC "-//W3C//DTD HTML 3.2//E
	N">\n<HTML>\n<HEAD>\n<TITLE></TITLE>\n</HEAD>\n<BODY>\n<h3>Honey Badgers vs
	. Brazil Without Neymar</h3>More info: <a href="https://www.golnetwork.com/
	game/v/53524/">#527</a>\n\n</BODY>\n</HTML>
STATUS:CONFIRMED
CLASS:PUBLIC
URL:https://www.golnetwork.com/game/v/53524/
X-MICROSOFT-CDO-BUSYSTATUS:BUSY
X-MICROSOFT-CDO-IMPORTANCE:1
END:VEVENT
BEGIN:VEVENT
UID:g5efi@games.golnetwork.com
LOCATION:Lamport Stadium - Field 1
GEO:43.6390028;-79.4232104
CREATED:20140707T183857Z
DTSTART:20140928T220000Z
DTEND:20140928T230000Z
DTSTAMP:20260425T235729Z
SUMMARY:Loose Eggz  vs. XTSC Penalty Box Heroes
DESCRIPTION:XTSC Penalty Box Heroes vs. Loose Eggz More info: #529
X-ALT-DESC;FMTTYPE=text/html:<!DOCTYPE HTML PUBLIC "-//W3C//DTD HTML 3.2//E
	N">\n<HTML>\n<HEAD>\n<TITLE></TITLE>\n</HEAD>\n<BODY>\n<h3>XTSC Penalty Box
	 Heroes vs. Loose Eggz </h3>More info: <a href="https://www.golnetwork.com/
	game/v/53523/">#529</a>\n\n</BODY>\n</HTML>
STATUS:CONFIRMED
CLASS:PUBLIC
URL:https://www.golnetwork.com/game/v/53523/
X-MICROSOFT-CDO-BUSYSTATUS:BUSY
X-MICROSOFT-CDO-IMPORTANCE:1
END:VEVENT
BEGIN:VEVENT
UID:g5efe@games.golnetwork.com
LOCATION:Lamport Stadium - Field 2
GEO:43.6390028;-79.4232104
CREATED:20140707T183852Z
DTSTART:20140928T230000Z
DTEND:20140929T000000Z
DTSTAMP:20260425T235729Z
SUMMARY:Game of Throw-Ins vs. Boogie Time United
DESCRIPTION:Boogie Time United vs. Game of Throw-InsMore info: #532
X-ALT-DESC;FMTTYPE=text/html:<!DOCTYPE HTML PUBLIC "-//W3C//DTD HTML 3.2//E
	N">\n<HTML>\n<HEAD>\n<TITLE></TITLE>\n</HEAD>\n<BODY>\n<h3>Boogie Time Unit
	ed vs. Game of Throw-Ins</h3>More info: <a href="https://www.golnetwork.com
	/game/v/53521/">#532</a>\n\n</BODY>\n</HTML>
STATUS:CONFIRMED
CLASS:PUBLIC
URL:https://www.golnetwork.com/game/v/53521/
X-MICROSOFT-CDO-BUSYSTATUS:BUSY
X-MICROSOFT-CDO-IMPORTANCE:1
END:VEVENT
BEGIN:VEVENT
UID:g5efg@games.golnetwork.com
LOCATION:Lamport Stadium - Field 3
GEO:43.6390028;-79.4232104
CREATED:20140707T183855Z
DTSTART:20140928T230000Z
DTEND:20140929T000000Z
DTSTAMP:20260425T235729Z
SUMMARY:Gareth Bale FC vs.  Joe's Schmoes 
DESCRIPTION: Joe's Schmoes  vs. Gareth Bale FCMore info: #533
X-ALT-DESC;FMTTYPE=text/html:<!DOCTYPE HTML PUBLIC "-//W3C//DTD HTML 3.2//E
	N">\n<HTML>\n<HEAD>\n<TITLE></TITLE>\n</HEAD>\n<BODY>\n<h3> Joe's Schmoes  
	vs. Gareth Bale FC</h3>More info: <a href="https://www.golnetwork.com/game/
	v/53522/">#533</a>\n\n</BODY>\n</HTML>
STATUS:CONFIRMED
CLASS:PUBLIC
URL:https://www.golnetwork.com/game/v/53522/
X-MICROSOFT-CDO-BUSYSTATUS:BUSY
X-MICROSOFT-CDO-IMPORTANCE:1
END:VEVENT
END:VCALENDAR
