BEGIN:VCALENDAR
PRODID:-//gdesolutions.com//MV Framework 1.0.0.1607 Calendar//EN
VERSION:2.0
METHOD:PUBLISH
CALSCALE:GREGORIAN
BEGIN:VEVENT
UID:g5poq@games.golnetwork.com
LOCATION:Central Technical School
GEO:43.6637272;-79.4087613
CREATED:20140923T184807Z
DTSTART:20140929T223000Z
DTEND:20140929T233000Z
DTSTAMP:20260422T141354Z
SUMMARY:Team United vs. Jerk Sauce
DESCRIPTION:Jerk Sauce vs. Team UnitedMore info: #38
X-ALT-DESC;FMTTYPE=text/html:<!DOCTYPE HTML PUBLIC "-//W3C//DTD HTML 3.2//E
	N">\n<HTML>\n<HEAD>\n<TITLE></TITLE>\n</HEAD>\n<BODY>\n<h3>Jerk Sauce vs. T
	eam United</h3>More info: <a href="https://www.golnetwork.com/game/v/57658/
	">#38</a>\n\n</BODY>\n</HTML>
STATUS:CONFIRMED
CLASS:PUBLIC
URL:https://www.golnetwork.com/game/v/57658/
X-MICROSOFT-CDO-BUSYSTATUS:BUSY
X-MICROSOFT-CDO-IMPORTANCE:1
END:VEVENT
BEGIN:VEVENT
UID:g5pp1@games.golnetwork.com
LOCATION:Central Technical School
GEO:43.6637272;-79.4087613
CREATED:20140923T184807Z
DTSTART:20140929T233000Z
DTEND:20140930T003000Z
DTSTAMP:20260422T141354Z
SUMMARY:Gravy Train vs. The Home Team
DESCRIPTION:The Home Team vs. Gravy TrainMore info: #40
X-ALT-DESC;FMTTYPE=text/html:<!DOCTYPE HTML PUBLIC "-//W3C//DTD HTML 3.2//E
	N">\n<HTML>\n<HEAD>\n<TITLE></TITLE>\n</HEAD>\n<BODY>\n<h3>The Home Team vs
	. Gravy Train</h3>More info: <a href="https://www.golnetwork.com/game/v/576
	59/">#40</a>\n\n</BODY>\n</HTML>
STATUS:CONFIRMED
CLASS:PUBLIC
URL:https://www.golnetwork.com/game/v/57659/
X-MICROSOFT-CDO-BUSYSTATUS:BUSY
X-MICROSOFT-CDO-IMPORTANCE:1
END:VEVENT
BEGIN:VEVENT
UID:g5pp3@games.golnetwork.com
LOCATION:Central Technical School
GEO:43.6637272;-79.4087613
CREATED:20140923T184807Z
DTSTART:20140930T003000Z
DTEND:20140930T013000Z
DTSTAMP:20260422T141354Z
SUMMARY:Victorious Secret V2.0 vs. XTSC Monday Madness
DESCRIPTION:XTSC Monday Madness vs. Victorious Secret V2.0More info: #42
X-ALT-DESC;FMTTYPE=text/html:<!DOCTYPE HTML PUBLIC "-//W3C//DTD HTML 3.2//E
	N">\n<HTML>\n<HEAD>\n<TITLE></TITLE>\n</HEAD>\n<BODY>\n<h3>XTSC Monday Madn
	ess vs. Victorious Secret V2.0</h3>More info: <a href="https://www.golnetwo
	rk.com/game/v/57660/">#42</a>\n\n</BODY>\n</HTML>
STATUS:CONFIRMED
CLASS:PUBLIC
URL:https://www.golnetwork.com/game/v/57660/
X-MICROSOFT-CDO-BUSYSTATUS:BUSY
X-MICROSOFT-CDO-IMPORTANCE:1
END:VEVENT
BEGIN:VEVENT
UID:g5pp5@games.golnetwork.com
LOCATION:Central Technical School
GEO:43.6637272;-79.4087613
CREATED:20140923T184807Z
DTSTART:20141006T223000Z
DTEND:20141006T233000Z
DTSTAMP:20260422T141354Z
SUMMARY:XTSC Monday Madness vs. The Home Team
DESCRIPTION:The Home Team vs. XTSC Monday MadnessMore info: #57
X-ALT-DESC;FMTTYPE=text/html:<!DOCTYPE HTML PUBLIC "-//W3C//DTD HTML 3.2//E
	N">\n<HTML>\n<HEAD>\n<TITLE></TITLE>\n</HEAD>\n<BODY>\n<h3>The Home Team vs
	. XTSC Monday Madness</h3>More info: <a href="https://www.golnetwork.com/ga
	me/v/57661/">#57</a>\n\n</BODY>\n</HTML>
STATUS:CONFIRMED
CLASS:PUBLIC
URL:https://www.golnetwork.com/game/v/57661/
X-MICROSOFT-CDO-BUSYSTATUS:BUSY
X-MICROSOFT-CDO-IMPORTANCE:1
END:VEVENT
BEGIN:VEVENT
UID:g5pp7@games.golnetwork.com
LOCATION:Central Technical School
GEO:43.6637272;-79.4087613
CREATED:20140923T184807Z
DTSTART:20141006T233000Z
DTEND:20141007T003000Z
DTSTAMP:20260422T141354Z
SUMMARY:Victorious Secret V2.0 vs. Jerk Sauce
DESCRIPTION:Jerk Sauce vs. Victorious Secret V2.0More info: #59
X-ALT-DESC;FMTTYPE=text/html:<!DOCTYPE HTML PUBLIC "-//W3C//DTD HTML 3.2//E
	N">\n<HTML>\n<HEAD>\n<TITLE></TITLE>\n</HEAD>\n<BODY>\n<h3>Jerk Sauce vs. V
	ictorious Secret V2.0</h3>More info: <a href="https://www.golnetwork.com/ga
	me/v/57662/">#59</a>\n\n</BODY>\n</HTML>
STATUS:CONFIRMED
CLASS:PUBLIC
URL:https://www.golnetwork.com/game/v/57662/
X-MICROSOFT-CDO-BUSYSTATUS:BUSY
X-MICROSOFT-CDO-IMPORTANCE:1
END:VEVENT
BEGIN:VEVENT
UID:g5pp9@games.golnetwork.com
LOCATION:Central Technical School
GEO:43.6637272;-79.4087613
CREATED:20140923T184807Z
DTSTART:20141007T003000Z
DTEND:20141007T013000Z
DTSTAMP:20260422T141354Z
SUMMARY:Gravy Train vs. Team United
DESCRIPTION:Team United vs. Gravy TrainMore info: #61
X-ALT-DESC;FMTTYPE=text/html:<!DOCTYPE HTML PUBLIC "-//W3C//DTD HTML 3.2//E
	N">\n<HTML>\n<HEAD>\n<TITLE></TITLE>\n</HEAD>\n<BODY>\n<h3>Team United vs. 
	Gravy Train</h3>More info: <a href="https://www.golnetwork.com/game/v/57663
	/">#61</a>\n\n</BODY>\n</HTML>
STATUS:CONFIRMED
CLASS:PUBLIC
URL:https://www.golnetwork.com/game/v/57663/
X-MICROSOFT-CDO-BUSYSTATUS:BUSY
X-MICROSOFT-CDO-IMPORTANCE:1
END:VEVENT
BEGIN:VEVENT
UID:g5ppb@games.golnetwork.com
LOCATION:Central Technical School
GEO:43.6637272;-79.4087613
CREATED:20140923T184807Z
DTSTART:20141020T223000Z
DTEND:20141020T233000Z
DTSTAMP:20260422T141354Z
SUMMARY:Jerk Sauce vs. Gravy Train
DESCRIPTION:Gravy Train vs. Jerk SauceMore info: #87
X-ALT-DESC;FMTTYPE=text/html:<!DOCTYPE HTML PUBLIC "-//W3C//DTD HTML 3.2//E
	N">\n<HTML>\n<HEAD>\n<TITLE></TITLE>\n</HEAD>\n<BODY>\n<h3>Gravy Train vs. 
	Jerk Sauce</h3>More info: <a href="https://www.golnetwork.com/game/v/57664/
	">#87</a>\n\n</BODY>\n</HTML>
STATUS:CONFIRMED
CLASS:PUBLIC
URL:https://www.golnetwork.com/game/v/57664/
X-MICROSOFT-CDO-BUSYSTATUS:BUSY
X-MICROSOFT-CDO-IMPORTANCE:1
END:VEVENT
BEGIN:VEVENT
UID:g5ppd@games.golnetwork.com
LOCATION:Central Technical School
GEO:43.6637272;-79.4087613
CREATED:20140923T184807Z
DTSTART:20141020T233000Z
DTEND:20141021T003000Z
DTSTAMP:20260422T141354Z
SUMMARY:XTSC Monday Madness vs. Team United
DESCRIPTION:Team United vs. XTSC Monday MadnessMore info: #88
X-ALT-DESC;FMTTYPE=text/html:<!DOCTYPE HTML PUBLIC "-//W3C//DTD HTML 3.2//E
	N">\n<HTML>\n<HEAD>\n<TITLE></TITLE>\n</HEAD>\n<BODY>\n<h3>Team United vs. 
	XTSC Monday Madness</h3>More info: <a href="https://www.golnetwork.com/game
	/v/57665/">#88</a>\n\n</BODY>\n</HTML>
STATUS:CONFIRMED
CLASS:PUBLIC
URL:https://www.golnetwork.com/game/v/57665/
X-MICROSOFT-CDO-BUSYSTATUS:BUSY
X-MICROSOFT-CDO-IMPORTANCE:1
END:VEVENT
BEGIN:VEVENT
UID:g5ppf@games.golnetwork.com
LOCATION:Central Technical School
GEO:43.6637272;-79.4087613
CREATED:20140923T184807Z
DTSTART:20141021T003000Z
DTEND:20141021T013000Z
DTSTAMP:20260422T141354Z
SUMMARY:The Home Team vs. Victorious Secret V2.0
DESCRIPTION:Victorious Secret V2.0 vs. The Home TeamMore info: #89
X-ALT-DESC;FMTTYPE=text/html:<!DOCTYPE HTML PUBLIC "-//W3C//DTD HTML 3.2//E
	N">\n<HTML>\n<HEAD>\n<TITLE></TITLE>\n</HEAD>\n<BODY>\n<h3>Victorious Secre
	t V2.0 vs. The Home Team</h3>More info: <a href="https://www.golnetwork.com
	/game/v/57666/">#89</a>\n\n</BODY>\n</HTML>
STATUS:CONFIRMED
CLASS:PUBLIC
URL:https://www.golnetwork.com/game/v/57666/
X-MICROSOFT-CDO-BUSYSTATUS:BUSY
X-MICROSOFT-CDO-IMPORTANCE:1
END:VEVENT
BEGIN:VEVENT
UID:g5pph@games.golnetwork.com
LOCATION:Central Technical School
GEO:43.6637272;-79.4087613
CREATED:20140923T184807Z
DTSTART:20141027T223000Z
DTEND:20141027T233000Z
DTSTAMP:20260422T141354Z
SUMMARY:Team United vs. The Home Team
DESCRIPTION:The Home Team vs. Team UnitedMore info: #101
X-ALT-DESC;FMTTYPE=text/html:<!DOCTYPE HTML PUBLIC "-//W3C//DTD HTML 3.2//E
	N">\n<HTML>\n<HEAD>\n<TITLE></TITLE>\n</HEAD>\n<BODY>\n<h3>The Home Team vs
	. Team United</h3>More info: <a href="https://www.golnetwork.com/game/v/576
	67/">#101</a>\n\n</BODY>\n</HTML>
STATUS:CONFIRMED
CLASS:PUBLIC
URL:https://www.golnetwork.com/game/v/57667/
X-MICROSOFT-CDO-BUSYSTATUS:BUSY
X-MICROSOFT-CDO-IMPORTANCE:1
END:VEVENT
BEGIN:VEVENT
UID:g5ppj@games.golnetwork.com
LOCATION:Central Technical School
GEO:43.6637272;-79.4087613
CREATED:20140923T184807Z
DTSTART:20141027T233000Z
DTEND:20141028T003000Z
DTSTAMP:20260422T141354Z
SUMMARY:Gravy Train vs. Victorious Secret V2.0
DESCRIPTION:Victorious Secret V2.0 vs. Gravy TrainMore info: #103
X-ALT-DESC;FMTTYPE=text/html:<!DOCTYPE HTML PUBLIC "-//W3C//DTD HTML 3.2//E
	N">\n<HTML>\n<HEAD>\n<TITLE></TITLE>\n</HEAD>\n<BODY>\n<h3>Victorious Secre
	t V2.0 vs. Gravy Train</h3>More info: <a href="https://www.golnetwork.com/g
	ame/v/57668/">#103</a>\n\n</BODY>\n</HTML>
STATUS:CONFIRMED
CLASS:PUBLIC
URL:https://www.golnetwork.com/game/v/57668/
X-MICROSOFT-CDO-BUSYSTATUS:BUSY
X-MICROSOFT-CDO-IMPORTANCE:1
END:VEVENT
BEGIN:VEVENT
UID:g5ppl@games.golnetwork.com
LOCATION:Central Technical School
GEO:43.6637272;-79.4087613
CREATED:20140923T184807Z
DTSTART:20141028T003000Z
DTEND:20141028T013000Z
DTSTAMP:20260422T141354Z
SUMMARY:Jerk Sauce vs. XTSC Monday Madness
DESCRIPTION:XTSC Monday Madness vs. Jerk SauceMore info: #105
X-ALT-DESC;FMTTYPE=text/html:<!DOCTYPE HTML PUBLIC "-//W3C//DTD HTML 3.2//E
	N">\n<HTML>\n<HEAD>\n<TITLE></TITLE>\n</HEAD>\n<BODY>\n<h3>XTSC Monday Madn
	ess vs. Jerk Sauce</h3>More info: <a href="https://www.golnetwork.com/game/
	v/57669/">#105</a>\n\n</BODY>\n</HTML>
STATUS:CONFIRMED
CLASS:PUBLIC
URL:https://www.golnetwork.com/game/v/57669/
X-MICROSOFT-CDO-BUSYSTATUS:BUSY
X-MICROSOFT-CDO-IMPORTANCE:1
END:VEVENT
BEGIN:VEVENT
UID:g5ppn@games.golnetwork.com
LOCATION:Central Technical School
GEO:43.6637272;-79.4087613
CREATED:20140923T184807Z
DTSTART:20141103T233000Z
DTEND:20141104T003000Z
DTSTAMP:20260422T141354Z
SUMMARY:Gravy Train vs. XTSC Monday Madness
DESCRIPTION:XTSC Monday Madness vs. Gravy TrainMore info: #118
X-ALT-DESC;FMTTYPE=text/html:<!DOCTYPE HTML PUBLIC "-//W3C//DTD HTML 3.2//E
	N">\n<HTML>\n<HEAD>\n<TITLE></TITLE>\n</HEAD>\n<BODY>\n<h3>XTSC Monday Madn
	ess vs. Gravy Train</h3>More info: <a href="https://www.golnetwork.com/game
	/v/57670/">#118</a>\n\n</BODY>\n</HTML>
STATUS:CONFIRMED
CLASS:PUBLIC
URL:https://www.golnetwork.com/game/v/57670/
X-MICROSOFT-CDO-BUSYSTATUS:BUSY
X-MICROSOFT-CDO-IMPORTANCE:1
END:VEVENT
BEGIN:VEVENT
UID:g5ppp@games.golnetwork.com
LOCATION:Central Technical School
GEO:43.6637272;-79.4087613
CREATED:20140923T184807Z
DTSTART:20141104T003000Z
DTEND:20141104T013000Z
DTSTAMP:20260422T141354Z
SUMMARY:Jerk Sauce vs. Team United
DESCRIPTION:Team United vs. Jerk SauceMore info: #120
X-ALT-DESC;FMTTYPE=text/html:<!DOCTYPE HTML PUBLIC "-//W3C//DTD HTML 3.2//E
	N">\n<HTML>\n<HEAD>\n<TITLE></TITLE>\n</HEAD>\n<BODY>\n<h3>Team United vs. 
	Jerk Sauce</h3>More info: <a href="https://www.golnetwork.com/game/v/57671/
	">#120</a>\n\n</BODY>\n</HTML>
STATUS:CONFIRMED
CLASS:PUBLIC
URL:https://www.golnetwork.com/game/v/57671/
X-MICROSOFT-CDO-BUSYSTATUS:BUSY
X-MICROSOFT-CDO-IMPORTANCE:1
END:VEVENT
BEGIN:VEVENT
UID:g5pq0@games.golnetwork.com
LOCATION:Central Technical School
GEO:43.6637272;-79.4087613
CREATED:20140923T184807Z
DTSTART:20141104T013000Z
DTEND:20141104T023000Z
DTSTAMP:20260422T141354Z
SUMMARY:Victorious Secret V2.0 vs. The Home Team
DESCRIPTION:The Home Team vs. Victorious Secret V2.0More info: #122
X-ALT-DESC;FMTTYPE=text/html:<!DOCTYPE HTML PUBLIC "-//W3C//DTD HTML 3.2//E
	N">\n<HTML>\n<HEAD>\n<TITLE></TITLE>\n</HEAD>\n<BODY>\n<h3>The Home Team vs
	. Victorious Secret V2.0</h3>More info: <a href="https://www.golnetwork.com
	/game/v/57672/">#122</a>\n\n</BODY>\n</HTML>
STATUS:CONFIRMED
CLASS:PUBLIC
URL:https://www.golnetwork.com/game/v/57672/
X-MICROSOFT-CDO-BUSYSTATUS:BUSY
X-MICROSOFT-CDO-IMPORTANCE:1
END:VEVENT
BEGIN:VEVENT
UID:g5pq2@games.golnetwork.com
LOCATION:Central Technical School
GEO:43.6637272;-79.4087613
CREATED:20140923T184807Z
DTSTART:20141110T233000Z
DTEND:20141111T003000Z
DTSTAMP:20260422T141354Z
SUMMARY:Victorious Secret V2.0 vs. Team United
DESCRIPTION:Team United vs. Victorious Secret V2.0More info: #134
X-ALT-DESC;FMTTYPE=text/html:<!DOCTYPE HTML PUBLIC "-//W3C//DTD HTML 3.2//E
	N">\n<HTML>\n<HEAD>\n<TITLE></TITLE>\n</HEAD>\n<BODY>\n<h3>Team United vs. 
	Victorious Secret V2.0</h3>More info: <a href="https://www.golnetwork.com/g
	ame/v/57673/">#134</a>\n\n</BODY>\n</HTML>
STATUS:CONFIRMED
CLASS:PUBLIC
URL:https://www.golnetwork.com/game/v/57673/
X-MICROSOFT-CDO-BUSYSTATUS:BUSY
X-MICROSOFT-CDO-IMPORTANCE:1
END:VEVENT
BEGIN:VEVENT
UID:g5pq4@games.golnetwork.com
LOCATION:Central Technical School
GEO:43.6637272;-79.4087613
CREATED:20140923T184807Z
DTSTART:20141111T003000Z
DTEND:20141111T013000Z
DTSTAMP:20260422T141354Z
SUMMARY:The Home Team vs. XTSC Monday Madness
DESCRIPTION:XTSC Monday Madness vs. The Home TeamMore info: #136
X-ALT-DESC;FMTTYPE=text/html:<!DOCTYPE HTML PUBLIC "-//W3C//DTD HTML 3.2//E
	N">\n<HTML>\n<HEAD>\n<TITLE></TITLE>\n</HEAD>\n<BODY>\n<h3>XTSC Monday Madn
	ess vs. The Home Team</h3>More info: <a href="https://www.golnetwork.com/ga
	me/v/57674/">#136</a>\n\n</BODY>\n</HTML>
STATUS:CONFIRMED
CLASS:PUBLIC
URL:https://www.golnetwork.com/game/v/57674/
X-MICROSOFT-CDO-BUSYSTATUS:BUSY
X-MICROSOFT-CDO-IMPORTANCE:1
END:VEVENT
BEGIN:VEVENT
UID:g5pq6@games.golnetwork.com
LOCATION:Central Technical School
GEO:43.6637272;-79.4087613
CREATED:20140923T184807Z
DTSTART:20141111T013000Z
DTEND:20141111T023000Z
DTSTAMP:20260422T141354Z
SUMMARY:Jerk Sauce vs. Gravy Train
DESCRIPTION:Gravy Train vs. Jerk SauceMore info: #138
X-ALT-DESC;FMTTYPE=text/html:<!DOCTYPE HTML PUBLIC "-//W3C//DTD HTML 3.2//E
	N">\n<HTML>\n<HEAD>\n<TITLE></TITLE>\n</HEAD>\n<BODY>\n<h3>Gravy Train vs. 
	Jerk Sauce</h3>More info: <a href="https://www.golnetwork.com/game/v/57675/
	">#138</a>\n\n</BODY>\n</HTML>
STATUS:CONFIRMED
CLASS:PUBLIC
URL:https://www.golnetwork.com/game/v/57675/
X-MICROSOFT-CDO-BUSYSTATUS:BUSY
X-MICROSOFT-CDO-IMPORTANCE:1
END:VEVENT
BEGIN:VEVENT
UID:g5pq8@games.golnetwork.com
LOCATION:Central Technical School
GEO:43.6637272;-79.4087613
CREATED:20140923T184807Z
DTSTART:20141117T233000Z
DTEND:20141118T003000Z
DTSTAMP:20260422T141354Z
SUMMARY:Jerk Sauce vs. Victorious Secret V2.0
DESCRIPTION:Victorious Secret V2.0 vs. Jerk SauceMore info: #150
X-ALT-DESC;FMTTYPE=text/html:<!DOCTYPE HTML PUBLIC "-//W3C//DTD HTML 3.2//E
	N">\n<HTML>\n<HEAD>\n<TITLE></TITLE>\n</HEAD>\n<BODY>\n<h3>Victorious Secre
	t V2.0 vs. Jerk Sauce</h3>More info: <a href="https://www.golnetwork.com/ga
	me/v/57676/">#150</a>\n\n</BODY>\n</HTML>
STATUS:CONFIRMED
CLASS:PUBLIC
URL:https://www.golnetwork.com/game/v/57676/
X-MICROSOFT-CDO-BUSYSTATUS:BUSY
X-MICROSOFT-CDO-IMPORTANCE:1
END:VEVENT
BEGIN:VEVENT
UID:g5pqa@games.golnetwork.com
LOCATION:Central Technical School
GEO:43.6637272;-79.4087613
CREATED:20140923T184807Z
DTSTART:20141118T003000Z
DTEND:20141118T013000Z
DTSTAMP:20260422T141354Z
SUMMARY:The Home Team vs. Gravy Train
DESCRIPTION:Gravy Train vs. The Home TeamMore info: #152
X-ALT-DESC;FMTTYPE=text/html:<!DOCTYPE HTML PUBLIC "-//W3C//DTD HTML 3.2//E
	N">\n<HTML>\n<HEAD>\n<TITLE></TITLE>\n</HEAD>\n<BODY>\n<h3>Gravy Train vs. 
	The Home Team</h3>More info: <a href="https://www.golnetwork.com/game/v/576
	77/">#152</a>\n\n</BODY>\n</HTML>
STATUS:CONFIRMED
CLASS:PUBLIC
URL:https://www.golnetwork.com/game/v/57677/
X-MICROSOFT-CDO-BUSYSTATUS:BUSY
X-MICROSOFT-CDO-IMPORTANCE:1
END:VEVENT
BEGIN:VEVENT
UID:g5pqc@games.golnetwork.com
LOCATION:Central Technical School
GEO:43.6637272;-79.4087613
CREATED:20140923T184807Z
DTSTART:20141118T013000Z
DTEND:20141118T023000Z
DTSTAMP:20260422T141354Z
SUMMARY:XTSC Monday Madness vs. Team United
DESCRIPTION:Team United vs. XTSC Monday MadnessMore info: #154
X-ALT-DESC;FMTTYPE=text/html:<!DOCTYPE HTML PUBLIC "-//W3C//DTD HTML 3.2//E
	N">\n<HTML>\n<HEAD>\n<TITLE></TITLE>\n</HEAD>\n<BODY>\n<h3>Team United vs. 
	XTSC Monday Madness</h3>More info: <a href="https://www.golnetwork.com/game
	/v/57678/">#154</a>\n\n</BODY>\n</HTML>
STATUS:CONFIRMED
CLASS:PUBLIC
URL:https://www.golnetwork.com/game/v/57678/
X-MICROSOFT-CDO-BUSYSTATUS:BUSY
X-MICROSOFT-CDO-IMPORTANCE:1
END:VEVENT
BEGIN:VEVENT
UID:g5pqe@games.golnetwork.com
LOCATION:Central Technical School
GEO:43.6637272;-79.4087613
CREATED:20140923T184807Z
DTSTART:20141124T233000Z
DTEND:20141125T003000Z
DTSTAMP:20260422T141354Z
SUMMARY:Team United vs. Gravy Train
DESCRIPTION:Gravy Train vs. Team UnitedMore info: #163
X-ALT-DESC;FMTTYPE=text/html:<!DOCTYPE HTML PUBLIC "-//W3C//DTD HTML 3.2//E
	N">\n<HTML>\n<HEAD>\n<TITLE></TITLE>\n</HEAD>\n<BODY>\n<h3>Gravy Train vs. 
	Team United</h3>More info: <a href="https://www.golnetwork.com/game/v/57679
	/">#163</a>\n\n</BODY>\n</HTML>
STATUS:CONFIRMED
CLASS:PUBLIC
URL:https://www.golnetwork.com/game/v/57679/
X-MICROSOFT-CDO-BUSYSTATUS:BUSY
X-MICROSOFT-CDO-IMPORTANCE:1
END:VEVENT
BEGIN:VEVENT
UID:g5pqg@games.golnetwork.com
LOCATION:Central Technical School
GEO:43.6637272;-79.4087613
CREATED:20140923T184807Z
DTSTART:20141125T003000Z
DTEND:20141125T013000Z
DTSTAMP:20260422T141354Z
SUMMARY:XTSC Monday Madness vs. Victorious Secret V2.0
DESCRIPTION:Victorious Secret V2.0 vs. XTSC Monday MadnessMore info: #165
X-ALT-DESC;FMTTYPE=text/html:<!DOCTYPE HTML PUBLIC "-//W3C//DTD HTML 3.2//E
	N">\n<HTML>\n<HEAD>\n<TITLE></TITLE>\n</HEAD>\n<BODY>\n<h3>Victorious Secre
	t V2.0 vs. XTSC Monday Madness</h3>More info: <a href="https://www.golnetwo
	rk.com/game/v/57680/">#165</a>\n\n</BODY>\n</HTML>
STATUS:CONFIRMED
CLASS:PUBLIC
URL:https://www.golnetwork.com/game/v/57680/
X-MICROSOFT-CDO-BUSYSTATUS:BUSY
X-MICROSOFT-CDO-IMPORTANCE:1
END:VEVENT
BEGIN:VEVENT
UID:g5pqi@games.golnetwork.com
LOCATION:Central Technical School
GEO:43.6637272;-79.4087613
CREATED:20140923T184807Z
DTSTART:20141125T013000Z
DTEND:20141125T023000Z
DTSTAMP:20260422T141354Z
SUMMARY:The Home Team vs. Jerk Sauce
DESCRIPTION:Jerk Sauce vs. The Home TeamMore info: #167
X-ALT-DESC;FMTTYPE=text/html:<!DOCTYPE HTML PUBLIC "-//W3C//DTD HTML 3.2//E
	N">\n<HTML>\n<HEAD>\n<TITLE></TITLE>\n</HEAD>\n<BODY>\n<h3>Jerk Sauce vs. T
	he Home Team</h3>More info: <a href="https://www.golnetwork.com/game/v/5768
	1/">#167</a>\n\n</BODY>\n</HTML>
STATUS:CONFIRMED
CLASS:PUBLIC
URL:https://www.golnetwork.com/game/v/57681/
X-MICROSOFT-CDO-BUSYSTATUS:BUSY
X-MICROSOFT-CDO-IMPORTANCE:1
END:VEVENT
BEGIN:VEVENT
UID:g5pqk@games.golnetwork.com
LOCATION:Central Technical School
GEO:43.6637272;-79.4087613
CREATED:20140923T184807Z
DTSTART:20141201T233000Z
DTEND:20141202T003000Z
DTSTAMP:20260422T141354Z
SUMMARY:XTSC Monday Madness vs. The Home Team
DESCRIPTION:The Home Team vs. XTSC Monday MadnessMore info: #179
X-ALT-DESC;FMTTYPE=text/html:<!DOCTYPE HTML PUBLIC "-//W3C//DTD HTML 3.2//E
	N">\n<HTML>\n<HEAD>\n<TITLE></TITLE>\n</HEAD>\n<BODY>\n<h3>The Home Team vs
	. XTSC Monday Madness</h3>More info: <a href="https://www.golnetwork.com/ga
	me/v/57682/">#179</a>\n\n</BODY>\n</HTML>
STATUS:CONFIRMED
CLASS:PUBLIC
URL:https://www.golnetwork.com/game/v/57682/
X-MICROSOFT-CDO-BUSYSTATUS:BUSY
X-MICROSOFT-CDO-IMPORTANCE:1
END:VEVENT
BEGIN:VEVENT
UID:g5pqm@games.golnetwork.com
LOCATION:Central Technical School
GEO:43.6637272;-79.4087613
CREATED:20140923T184807Z
DTSTART:20141202T003000Z
DTEND:20141202T013000Z
DTSTAMP:20260422T141354Z
SUMMARY:Team United vs. Gravy Train
DESCRIPTION:Gravy Train vs. Team UnitedMore info: #181
X-ALT-DESC;FMTTYPE=text/html:<!DOCTYPE HTML PUBLIC "-//W3C//DTD HTML 3.2//E
	N">\n<HTML>\n<HEAD>\n<TITLE></TITLE>\n</HEAD>\n<BODY>\n<h3>Gravy Train vs. 
	Team United</h3>More info: <a href="https://www.golnetwork.com/game/v/57683
	/">#181</a>\n\n</BODY>\n</HTML>
STATUS:CONFIRMED
CLASS:PUBLIC
URL:https://www.golnetwork.com/game/v/57683/
X-MICROSOFT-CDO-BUSYSTATUS:BUSY
X-MICROSOFT-CDO-IMPORTANCE:1
END:VEVENT
BEGIN:VEVENT
UID:g5pqo@games.golnetwork.com
LOCATION:Central Technical School
GEO:43.6637272;-79.4087613
CREATED:20140923T184807Z
DTSTART:20141202T013000Z
DTEND:20141202T023000Z
DTSTAMP:20260422T141354Z
SUMMARY:Victorious Secret V2.0 vs. Jerk Sauce
DESCRIPTION:Jerk Sauce vs. Victorious Secret V2.0More info: #183
X-ALT-DESC;FMTTYPE=text/html:<!DOCTYPE HTML PUBLIC "-//W3C//DTD HTML 3.2//E
	N">\n<HTML>\n<HEAD>\n<TITLE></TITLE>\n</HEAD>\n<BODY>\n<h3>Jerk Sauce vs. V
	ictorious Secret V2.0</h3>More info: <a href="https://www.golnetwork.com/ga
	me/v/57684/">#183</a>\n\n</BODY>\n</HTML>
STATUS:CONFIRMED
CLASS:PUBLIC
URL:https://www.golnetwork.com/game/v/57684/
X-MICROSOFT-CDO-BUSYSTATUS:BUSY
X-MICROSOFT-CDO-IMPORTANCE:1
END:VEVENT
BEGIN:VEVENT
UID:g5pqq@games.golnetwork.com
LOCATION:Central Technical School
GEO:43.6637272;-79.4087613
CREATED:20140923T184807Z
DTSTART:20141208T233000Z
DTEND:20141209T003000Z
DTSTAMP:20260422T141354Z
SUMMARY:XTSC Monday Madness vs. Victorious Secret V2.0
DESCRIPTION:Victorious Secret V2.0 vs. XTSC Monday MadnessMore info: #195
X-ALT-DESC;FMTTYPE=text/html:<!DOCTYPE HTML PUBLIC "-//W3C//DTD HTML 3.2//E
	N">\n<HTML>\n<HEAD>\n<TITLE></TITLE>\n</HEAD>\n<BODY>\n<h3>Victorious Secre
	t V2.0 vs. XTSC Monday Madness</h3>More info: <a href="https://www.golnetwo
	rk.com/game/v/57685/">#195</a>\n\n</BODY>\n</HTML>
STATUS:CONFIRMED
CLASS:PUBLIC
URL:https://www.golnetwork.com/game/v/57685/
X-MICROSOFT-CDO-BUSYSTATUS:BUSY
X-MICROSOFT-CDO-IMPORTANCE:1
END:VEVENT
BEGIN:VEVENT
UID:g5q01@games.golnetwork.com
LOCATION:Central Technical School
GEO:43.6637272;-79.4087613
CREATED:20140923T184807Z
DTSTART:20141209T003000Z
DTEND:20141209T013000Z
DTSTAMP:20260422T141354Z
SUMMARY:Jerk Sauce vs. Team United
DESCRIPTION:Team United vs. Jerk SauceMore info: #197
X-ALT-DESC;FMTTYPE=text/html:<!DOCTYPE HTML PUBLIC "-//W3C//DTD HTML 3.2//E
	N">\n<HTML>\n<HEAD>\n<TITLE></TITLE>\n</HEAD>\n<BODY>\n<h3>Team United vs. 
	Jerk Sauce</h3>More info: <a href="https://www.golnetwork.com/game/v/57686/
	">#197</a>\n\n</BODY>\n</HTML>
STATUS:CONFIRMED
CLASS:PUBLIC
URL:https://www.golnetwork.com/game/v/57686/
X-MICROSOFT-CDO-BUSYSTATUS:BUSY
X-MICROSOFT-CDO-IMPORTANCE:1
END:VEVENT
BEGIN:VEVENT
UID:g5q03@games.golnetwork.com
LOCATION:Central Technical School
GEO:43.6637272;-79.4087613
CREATED:20140923T184807Z
DTSTART:20141209T013000Z
DTEND:20141209T023000Z
DTSTAMP:20260422T141354Z
SUMMARY:The Home Team vs. Gravy Train
DESCRIPTION:Gravy Train vs. The Home TeamMore info: #199
X-ALT-DESC;FMTTYPE=text/html:<!DOCTYPE HTML PUBLIC "-//W3C//DTD HTML 3.2//E
	N">\n<HTML>\n<HEAD>\n<TITLE></TITLE>\n</HEAD>\n<BODY>\n<h3>Gravy Train vs. 
	The Home Team</h3>More info: <a href="https://www.golnetwork.com/game/v/576
	87/">#199</a>\n\n</BODY>\n</HTML>
STATUS:CONFIRMED
CLASS:PUBLIC
URL:https://www.golnetwork.com/game/v/57687/
X-MICROSOFT-CDO-BUSYSTATUS:BUSY
X-MICROSOFT-CDO-IMPORTANCE:1
END:VEVENT
END:VCALENDAR
