BEGIN:VCALENDAR
PRODID:-//gdesolutions.com//MV Framework 1.0.0.1607 Calendar//EN
VERSION:2.0
METHOD:PUBLISH
CALSCALE:GREGORIAN
BEGIN:VEVENT
UID:g5nj3@games.golnetwork.com
LOCATION:Monarch Park
GEO:45.10662;-94.578209
CREATED:20140916T205637Z
DTSTART:20140923T223000Z
DTEND:20140923T233000Z
DTSTAMP:20260421T052501Z
SUMMARY:Lazy Pandas vs. Black & Drunken Samba
DESCRIPTION:Black & Drunken Samba vs. Lazy PandasMore info: #32
X-ALT-DESC;FMTTYPE=text/html:<!DOCTYPE HTML PUBLIC "-//W3C//DTD HTML 3.2//E
	N">\n<HTML>\n<HEAD>\n<TITLE></TITLE>\n</HEAD>\n<BODY>\n<h3>Black & Drunken 
	Samba vs. Lazy Pandas</h3>More info: <a href="https://www.golnetwork.com/ga
	me/v/56850/">#32</a>\n\n</BODY>\n</HTML>
STATUS:CONFIRMED
CLASS:PUBLIC
URL:https://www.golnetwork.com/game/v/56850/
X-MICROSOFT-CDO-BUSYSTATUS:BUSY
X-MICROSOFT-CDO-IMPORTANCE:1
END:VEVENT
BEGIN:VEVENT
UID:g5nj5@games.golnetwork.com
LOCATION:Monarch Park
GEO:45.10662;-94.578209
CREATED:20140916T205637Z
DTSTART:20140923T233000Z
DTEND:20140924T003000Z
DTSTAMP:20260421T052501Z
SUMMARY:Blue Balls vs. Cunning Stunts
DESCRIPTION:Cunning Stunts vs. Blue BallsMore info: #33
X-ALT-DESC;FMTTYPE=text/html:<!DOCTYPE HTML PUBLIC "-//W3C//DTD HTML 3.2//E
	N">\n<HTML>\n<HEAD>\n<TITLE></TITLE>\n</HEAD>\n<BODY>\n<h3>Cunning Stunts v
	s. Blue Balls</h3>More info: <a href="https://www.golnetwork.com/game/v/568
	51/">#33</a>\n\n</BODY>\n</HTML>
STATUS:CONFIRMED
CLASS:PUBLIC
URL:https://www.golnetwork.com/game/v/56851/
X-MICROSOFT-CDO-BUSYSTATUS:BUSY
X-MICROSOFT-CDO-IMPORTANCE:1
END:VEVENT
BEGIN:VEVENT
UID:g5nj7@games.golnetwork.com
LOCATION:Monarch Park
GEO:45.10662;-94.578209
CREATED:20140916T205637Z
DTSTART:20140924T003000Z
DTEND:20140924T013000Z
DTSTAMP:20260421T052501Z
SUMMARY:Big Chune vs. Dirt Squirrel
DESCRIPTION:Dirt Squirrel vs. Big ChuneMore info: #34
X-ALT-DESC;FMTTYPE=text/html:<!DOCTYPE HTML PUBLIC "-//W3C//DTD HTML 3.2//E
	N">\n<HTML>\n<HEAD>\n<TITLE></TITLE>\n</HEAD>\n<BODY>\n<h3>Dirt Squirrel vs
	. Big Chune</h3>More info: <a href="https://www.golnetwork.com/game/v/56852
	/">#34</a>\n\n</BODY>\n</HTML>
STATUS:CONFIRMED
CLASS:PUBLIC
URL:https://www.golnetwork.com/game/v/56852/
X-MICROSOFT-CDO-BUSYSTATUS:BUSY
X-MICROSOFT-CDO-IMPORTANCE:1
END:VEVENT
BEGIN:VEVENT
UID:g5nj9@games.golnetwork.com
LOCATION:Monarch Park
GEO:45.10662;-94.578209
CREATED:20140916T205637Z
DTSTART:20140930T222000Z
DTEND:20140930T232000Z
DTSTAMP:20260421T052501Z
SUMMARY:Dirt Squirrel vs. Cunning Stunts
DESCRIPTION:Cunning Stunts vs. Dirt SquirrelMore info: #46
X-ALT-DESC;FMTTYPE=text/html:<!DOCTYPE HTML PUBLIC "-//W3C//DTD HTML 3.2//E
	N">\n<HTML>\n<HEAD>\n<TITLE></TITLE>\n</HEAD>\n<BODY>\n<h3>Cunning Stunts v
	s. Dirt Squirrel</h3>More info: <a href="https://www.golnetwork.com/game/v/
	56853/">#46</a>\n\n</BODY>\n</HTML>
STATUS:CONFIRMED
CLASS:PUBLIC
URL:https://www.golnetwork.com/game/v/56853/
X-MICROSOFT-CDO-BUSYSTATUS:BUSY
X-MICROSOFT-CDO-IMPORTANCE:1
END:VEVENT
BEGIN:VEVENT
UID:g5njb@games.golnetwork.com
LOCATION:Monarch Park
GEO:45.10662;-94.578209
CREATED:20140916T205637Z
DTSTART:20140930T233000Z
DTEND:20141001T003000Z
DTSTAMP:20260421T052501Z
SUMMARY:Big Chune vs. Black & Drunken Samba
DESCRIPTION:Black & Drunken Samba vs. Big ChuneMore info: #47
X-ALT-DESC;FMTTYPE=text/html:<!DOCTYPE HTML PUBLIC "-//W3C//DTD HTML 3.2//E
	N">\n<HTML>\n<HEAD>\n<TITLE></TITLE>\n</HEAD>\n<BODY>\n<h3>Black & Drunken 
	Samba vs. Big Chune</h3>More info: <a href="https://www.golnetwork.com/game
	/v/56854/">#47</a>\n\n</BODY>\n</HTML>
STATUS:CONFIRMED
CLASS:PUBLIC
URL:https://www.golnetwork.com/game/v/56854/
X-MICROSOFT-CDO-BUSYSTATUS:BUSY
X-MICROSOFT-CDO-IMPORTANCE:1
END:VEVENT
BEGIN:VEVENT
UID:g5njd@games.golnetwork.com
LOCATION:Monarch Park
GEO:45.10662;-94.578209
CREATED:20140916T205637Z
DTSTART:20141001T004000Z
DTEND:20141001T014000Z
DTSTAMP:20260421T052501Z
SUMMARY:Blue Balls vs. Lazy Pandas
DESCRIPTION:Lazy Pandas vs. Blue BallsMore info: #48
X-ALT-DESC;FMTTYPE=text/html:<!DOCTYPE HTML PUBLIC "-//W3C//DTD HTML 3.2//E
	N">\n<HTML>\n<HEAD>\n<TITLE></TITLE>\n</HEAD>\n<BODY>\n<h3>Lazy Pandas vs. 
	Blue Balls</h3>More info: <a href="https://www.golnetwork.com/game/v/56855/
	">#48</a>\n\n</BODY>\n</HTML>
STATUS:CONFIRMED
CLASS:PUBLIC
URL:https://www.golnetwork.com/game/v/56855/
X-MICROSOFT-CDO-BUSYSTATUS:BUSY
X-MICROSOFT-CDO-IMPORTANCE:1
END:VEVENT
BEGIN:VEVENT
UID:g5njf@games.golnetwork.com
LOCATION:Monarch Park
GEO:45.10662;-94.578209
CREATED:20140916T205637Z
DTSTART:20141007T222000Z
DTEND:20141007T232000Z
DTSTAMP:20260421T052501Z
SUMMARY:Lazy Pandas vs. Big Chune
DESCRIPTION:Big Chune vs. Lazy PandasMore info: #65
X-ALT-DESC;FMTTYPE=text/html:<!DOCTYPE HTML PUBLIC "-//W3C//DTD HTML 3.2//E
	N">\n<HTML>\n<HEAD>\n<TITLE></TITLE>\n</HEAD>\n<BODY>\n<h3>Big Chune vs. La
	zy Pandas</h3>More info: <a href="https://www.golnetwork.com/game/v/56856/"
	>#65</a>\n\n</BODY>\n</HTML>
STATUS:CONFIRMED
CLASS:PUBLIC
URL:https://www.golnetwork.com/game/v/56856/
X-MICROSOFT-CDO-BUSYSTATUS:BUSY
X-MICROSOFT-CDO-IMPORTANCE:1
END:VEVENT
BEGIN:VEVENT
UID:g5njh@games.golnetwork.com
LOCATION:Monarch Park
GEO:45.10662;-94.578209
CREATED:20140916T205637Z
DTSTART:20141007T233000Z
DTEND:20141008T003000Z
DTSTAMP:20260421T052501Z
SUMMARY:Dirt Squirrel vs. Blue Balls
DESCRIPTION:Blue Balls vs. Dirt SquirrelMore info: #66
X-ALT-DESC;FMTTYPE=text/html:<!DOCTYPE HTML PUBLIC "-//W3C//DTD HTML 3.2//E
	N">\n<HTML>\n<HEAD>\n<TITLE></TITLE>\n</HEAD>\n<BODY>\n<h3>Blue Balls vs. D
	irt Squirrel</h3>More info: <a href="https://www.golnetwork.com/game/v/5685
	7/">#66</a>\n\n</BODY>\n</HTML>
STATUS:CONFIRMED
CLASS:PUBLIC
URL:https://www.golnetwork.com/game/v/56857/
X-MICROSOFT-CDO-BUSYSTATUS:BUSY
X-MICROSOFT-CDO-IMPORTANCE:1
END:VEVENT
BEGIN:VEVENT
UID:g5njj@games.golnetwork.com
LOCATION:Monarch Park
GEO:45.10662;-94.578209
CREATED:20140916T205637Z
DTSTART:20141008T004000Z
DTEND:20141008T014000Z
DTSTAMP:20260421T052501Z
SUMMARY:Cunning Stunts vs. Black & Drunken Samba
DESCRIPTION:Black & Drunken Samba vs. Cunning StuntsMore info: #67
X-ALT-DESC;FMTTYPE=text/html:<!DOCTYPE HTML PUBLIC "-//W3C//DTD HTML 3.2//E
	N">\n<HTML>\n<HEAD>\n<TITLE></TITLE>\n</HEAD>\n<BODY>\n<h3>Black & Drunken 
	Samba vs. Cunning Stunts</h3>More info: <a href="https://www.golnetwork.com
	/game/v/56858/">#67</a>\n\n</BODY>\n</HTML>
STATUS:CONFIRMED
CLASS:PUBLIC
URL:https://www.golnetwork.com/game/v/56858/
X-MICROSOFT-CDO-BUSYSTATUS:BUSY
X-MICROSOFT-CDO-IMPORTANCE:1
END:VEVENT
BEGIN:VEVENT
UID:g5njl@games.golnetwork.com
LOCATION:Monarch Park
GEO:45.10662;-94.578209
CREATED:20140916T205637Z
DTSTART:20141014T222000Z
DTEND:20141014T232000Z
DTSTAMP:20260421T052501Z
SUMMARY:Cunning Stunts vs. Big Chune
DESCRIPTION:Big Chune vs. Cunning StuntsMore info: #77
X-ALT-DESC;FMTTYPE=text/html:<!DOCTYPE HTML PUBLIC "-//W3C//DTD HTML 3.2//E
	N">\n<HTML>\n<HEAD>\n<TITLE></TITLE>\n</HEAD>\n<BODY>\n<h3>Big Chune vs. Cu
	nning Stunts</h3>More info: <a href="https://www.golnetwork.com/game/v/5685
	9/">#77</a>\n\n</BODY>\n</HTML>
STATUS:CONFIRMED
CLASS:PUBLIC
URL:https://www.golnetwork.com/game/v/56859/
X-MICROSOFT-CDO-BUSYSTATUS:BUSY
X-MICROSOFT-CDO-IMPORTANCE:1
END:VEVENT
BEGIN:VEVENT
UID:g5njn@games.golnetwork.com
LOCATION:Monarch Park
GEO:45.10662;-94.578209
CREATED:20140916T205637Z
DTSTART:20141014T233000Z
DTEND:20141015T003000Z
DTSTAMP:20260421T052501Z
SUMMARY:Dirt Squirrel vs. Lazy Pandas
DESCRIPTION:Lazy Pandas vs. Dirt SquirrelMore info: #78
X-ALT-DESC;FMTTYPE=text/html:<!DOCTYPE HTML PUBLIC "-//W3C//DTD HTML 3.2//E
	N">\n<HTML>\n<HEAD>\n<TITLE></TITLE>\n</HEAD>\n<BODY>\n<h3>Lazy Pandas vs. 
	Dirt Squirrel</h3>More info: <a href="https://www.golnetwork.com/game/v/568
	60/">#78</a>\n\n</BODY>\n</HTML>
STATUS:CONFIRMED
CLASS:PUBLIC
URL:https://www.golnetwork.com/game/v/56860/
X-MICROSOFT-CDO-BUSYSTATUS:BUSY
X-MICROSOFT-CDO-IMPORTANCE:1
END:VEVENT
BEGIN:VEVENT
UID:g5njp@games.golnetwork.com
LOCATION:Monarch Park
GEO:45.10662;-94.578209
CREATED:20140916T205637Z
DTSTART:20141015T004000Z
DTEND:20141015T014000Z
DTSTAMP:20260421T052501Z
SUMMARY:Black & Drunken Samba vs. Blue Balls
DESCRIPTION:Blue Balls vs. Black & Drunken SambaMore info: #79
X-ALT-DESC;FMTTYPE=text/html:<!DOCTYPE HTML PUBLIC "-//W3C//DTD HTML 3.2//E
	N">\n<HTML>\n<HEAD>\n<TITLE></TITLE>\n</HEAD>\n<BODY>\n<h3>Blue Balls vs. B
	lack & Drunken Samba</h3>More info: <a href="https://www.golnetwork.com/gam
	e/v/56861/">#79</a>\n\n</BODY>\n</HTML>
STATUS:CONFIRMED
CLASS:PUBLIC
URL:https://www.golnetwork.com/game/v/56861/
X-MICROSOFT-CDO-BUSYSTATUS:BUSY
X-MICROSOFT-CDO-IMPORTANCE:1
END:VEVENT
BEGIN:VEVENT
UID:g5nk0@games.golnetwork.com
LOCATION:Monarch Park
GEO:45.10662;-94.578209
CREATED:20140916T205637Z
DTSTART:20141021T222000Z
DTEND:20141021T232000Z
DTSTAMP:20260421T052501Z
SUMMARY:Black & Drunken Samba vs. Dirt Squirrel
DESCRIPTION:Dirt Squirrel vs. Black & Drunken SambaMore info: #92
X-ALT-DESC;FMTTYPE=text/html:<!DOCTYPE HTML PUBLIC "-//W3C//DTD HTML 3.2//E
	N">\n<HTML>\n<HEAD>\n<TITLE></TITLE>\n</HEAD>\n<BODY>\n<h3>Dirt Squirrel vs
	. Black & Drunken Samba</h3>More info: <a href="https://www.golnetwork.com/
	game/v/56862/">#92</a>\n\n</BODY>\n</HTML>
STATUS:CONFIRMED
CLASS:PUBLIC
URL:https://www.golnetwork.com/game/v/56862/
X-MICROSOFT-CDO-BUSYSTATUS:BUSY
X-MICROSOFT-CDO-IMPORTANCE:1
END:VEVENT
BEGIN:VEVENT
UID:g5nk2@games.golnetwork.com
LOCATION:Monarch Park
GEO:45.10662;-94.578209
CREATED:20140916T205637Z
DTSTART:20141021T233000Z
DTEND:20141022T003000Z
DTSTAMP:20260421T052501Z
SUMMARY:Blue Balls vs. Big Chune
DESCRIPTION:Big Chune vs. Blue BallsMore info: #93
X-ALT-DESC;FMTTYPE=text/html:<!DOCTYPE HTML PUBLIC "-//W3C//DTD HTML 3.2//E
	N">\n<HTML>\n<HEAD>\n<TITLE></TITLE>\n</HEAD>\n<BODY>\n<h3>Big Chune vs. Bl
	ue Balls</h3>More info: <a href="https://www.golnetwork.com/game/v/56863/">
	#93</a>\n\n</BODY>\n</HTML>
STATUS:CONFIRMED
CLASS:PUBLIC
URL:https://www.golnetwork.com/game/v/56863/
X-MICROSOFT-CDO-BUSYSTATUS:BUSY
X-MICROSOFT-CDO-IMPORTANCE:1
END:VEVENT
BEGIN:VEVENT
UID:g5nk4@games.golnetwork.com
LOCATION:Monarch Park
GEO:45.10662;-94.578209
CREATED:20140916T205637Z
DTSTART:20141022T004000Z
DTEND:20141022T014000Z
DTSTAMP:20260421T052501Z
SUMMARY:Lazy Pandas vs. Cunning Stunts
DESCRIPTION:Cunning Stunts vs. Lazy PandasMore info: #94
X-ALT-DESC;FMTTYPE=text/html:<!DOCTYPE HTML PUBLIC "-//W3C//DTD HTML 3.2//E
	N">\n<HTML>\n<HEAD>\n<TITLE></TITLE>\n</HEAD>\n<BODY>\n<h3>Cunning Stunts v
	s. Lazy Pandas</h3>More info: <a href="https://www.golnetwork.com/game/v/56
	864/">#94</a>\n\n</BODY>\n</HTML>
STATUS:CONFIRMED
CLASS:PUBLIC
URL:https://www.golnetwork.com/game/v/56864/
X-MICROSOFT-CDO-BUSYSTATUS:BUSY
X-MICROSOFT-CDO-IMPORTANCE:1
END:VEVENT
BEGIN:VEVENT
UID:g5nki@games.golnetwork.com
LOCATION:Monarch Park
GEO:45.10662;-94.578209
CREATED:20140916T205637Z
DTSTART:20141028T222000Z
DTEND:20141028T232000Z
DTSTAMP:20260421T052501Z
SUMMARY:Big Chune vs. Cunning Stunts
DESCRIPTION:Cunning Stunts vs. Big ChuneMore info: #109
X-ALT-DESC;FMTTYPE=text/html:<!DOCTYPE HTML PUBLIC "-//W3C//DTD HTML 3.2//E
	N">\n<HTML>\n<HEAD>\n<TITLE></TITLE>\n</HEAD>\n<BODY>\n<h3>Cunning Stunts v
	s. Big Chune</h3>More info: <a href="https://www.golnetwork.com/game/v/5687
	1/">#109</a>\n\n</BODY>\n</HTML>
STATUS:CONFIRMED
CLASS:PUBLIC
URL:https://www.golnetwork.com/game/v/56871/
X-MICROSOFT-CDO-BUSYSTATUS:BUSY
X-MICROSOFT-CDO-IMPORTANCE:1
END:VEVENT
BEGIN:VEVENT
UID:g5nkk@games.golnetwork.com
LOCATION:Monarch Park
GEO:45.10662;-94.578209
CREATED:20140916T205637Z
DTSTART:20141028T233000Z
DTEND:20141029T003000Z
DTSTAMP:20260421T052501Z
SUMMARY:Lazy Pandas vs. Black & Drunken Samba
DESCRIPTION:Black & Drunken Samba vs. Lazy PandasMore info: #110
X-ALT-DESC;FMTTYPE=text/html:<!DOCTYPE HTML PUBLIC "-//W3C//DTD HTML 3.2//E
	N">\n<HTML>\n<HEAD>\n<TITLE></TITLE>\n</HEAD>\n<BODY>\n<h3>Black & Drunken 
	Samba vs. Lazy Pandas</h3>More info: <a href="https://www.golnetwork.com/ga
	me/v/56872/">#110</a>\n\n</BODY>\n</HTML>
STATUS:CONFIRMED
CLASS:PUBLIC
URL:https://www.golnetwork.com/game/v/56872/
X-MICROSOFT-CDO-BUSYSTATUS:BUSY
X-MICROSOFT-CDO-IMPORTANCE:1
END:VEVENT
BEGIN:VEVENT
UID:g5nka@games.golnetwork.com
LOCATION:Monarch Park
GEO:45.10662;-94.578209
CREATED:20140916T205637Z
DTSTART:20141029T004000Z
DTEND:20141029T014000Z
DTSTAMP:20260421T052501Z
SUMMARY:Blue Balls vs. Dirt Squirrel
DESCRIPTION:Dirt Squirrel vs. Blue BallsMore info: #111
X-ALT-DESC;FMTTYPE=text/html:<!DOCTYPE HTML PUBLIC "-//W3C//DTD HTML 3.2//E
	N">\n<HTML>\n<HEAD>\n<TITLE></TITLE>\n</HEAD>\n<BODY>\n<h3>Dirt Squirrel vs
	. Blue Balls</h3>More info: <a href="https://www.golnetwork.com/game/v/5686
	7/">#111</a>\n\n</BODY>\n</HTML>
STATUS:CONFIRMED
CLASS:PUBLIC
URL:https://www.golnetwork.com/game/v/56867/
X-MICROSOFT-CDO-BUSYSTATUS:BUSY
X-MICROSOFT-CDO-IMPORTANCE:1
END:VEVENT
BEGIN:VEVENT
UID:g5nkc@games.golnetwork.com
LOCATION:Monarch Park
GEO:45.10662;-94.578209
CREATED:20140916T205637Z
DTSTART:20141104T232000Z
DTEND:20141105T002000Z
DTSTAMP:20260421T052501Z
SUMMARY:Cunning Stunts vs. Dirt Squirrel
DESCRIPTION:Dirt Squirrel vs. Cunning StuntsMore info: #124
X-ALT-DESC;FMTTYPE=text/html:<!DOCTYPE HTML PUBLIC "-//W3C//DTD HTML 3.2//E
	N">\n<HTML>\n<HEAD>\n<TITLE></TITLE>\n</HEAD>\n<BODY>\n<h3>Dirt Squirrel vs
	. Cunning Stunts</h3>More info: <a href="https://www.golnetwork.com/game/v/
	56868/">#124</a>\n\n</BODY>\n</HTML>
STATUS:CONFIRMED
CLASS:PUBLIC
URL:https://www.golnetwork.com/game/v/56868/
X-MICROSOFT-CDO-BUSYSTATUS:BUSY
X-MICROSOFT-CDO-IMPORTANCE:1
END:VEVENT
BEGIN:VEVENT
UID:g5nke@games.golnetwork.com
LOCATION:Monarch Park
GEO:45.10662;-94.578209
CREATED:20140916T205637Z
DTSTART:20141105T003000Z
DTEND:20141105T013000Z
DTSTAMP:20260421T052501Z
SUMMARY:Black & Drunken Samba vs. Big Chune
DESCRIPTION:Big Chune vs. Black & Drunken SambaMore info: #125
X-ALT-DESC;FMTTYPE=text/html:<!DOCTYPE HTML PUBLIC "-//W3C//DTD HTML 3.2//E
	N">\n<HTML>\n<HEAD>\n<TITLE></TITLE>\n</HEAD>\n<BODY>\n<h3>Big Chune vs. Bl
	ack & Drunken Samba</h3>More info: <a href="https://www.golnetwork.com/game
	/v/56869/">#125</a>\n\n</BODY>\n</HTML>
STATUS:CONFIRMED
CLASS:PUBLIC
URL:https://www.golnetwork.com/game/v/56869/
X-MICROSOFT-CDO-BUSYSTATUS:BUSY
X-MICROSOFT-CDO-IMPORTANCE:1
END:VEVENT
BEGIN:VEVENT
UID:g5nkg@games.golnetwork.com
LOCATION:Monarch Park
GEO:45.10662;-94.578209
CREATED:20140916T205637Z
DTSTART:20141105T014000Z
DTEND:20141105T024000Z
DTSTAMP:20260421T052501Z
SUMMARY:Lazy Pandas vs. Blue Balls
DESCRIPTION:Blue Balls vs. Lazy PandasMore info: #126
X-ALT-DESC;FMTTYPE=text/html:<!DOCTYPE HTML PUBLIC "-//W3C//DTD HTML 3.2//E
	N">\n<HTML>\n<HEAD>\n<TITLE></TITLE>\n</HEAD>\n<BODY>\n<h3>Blue Balls vs. L
	azy Pandas</h3>More info: <a href="https://www.golnetwork.com/game/v/56870/
	">#126</a>\n\n</BODY>\n</HTML>
STATUS:CONFIRMED
CLASS:PUBLIC
URL:https://www.golnetwork.com/game/v/56870/
X-MICROSOFT-CDO-BUSYSTATUS:BUSY
X-MICROSOFT-CDO-IMPORTANCE:1
END:VEVENT
BEGIN:VEVENT
UID:g5nk6@games.golnetwork.com
LOCATION:Monarch Park
GEO:45.10662;-94.578209
CREATED:20140916T205637Z
DTSTART:20141111T232000Z
DTEND:20141112T002000Z
DTSTAMP:20260421T052501Z
SUMMARY:Black & Drunken Samba vs. Blue Balls
DESCRIPTION:Blue Balls vs. Black & Drunken SambaMore info: #140
X-ALT-DESC;FMTTYPE=text/html:<!DOCTYPE HTML PUBLIC "-//W3C//DTD HTML 3.2//E
	N">\n<HTML>\n<HEAD>\n<TITLE></TITLE>\n</HEAD>\n<BODY>\n<h3>Blue Balls vs. B
	lack & Drunken Samba</h3>More info: <a href="https://www.golnetwork.com/gam
	e/v/56865/">#140</a>\n\n</BODY>\n</HTML>
STATUS:CONFIRMED
CLASS:PUBLIC
URL:https://www.golnetwork.com/game/v/56865/
X-MICROSOFT-CDO-BUSYSTATUS:BUSY
X-MICROSOFT-CDO-IMPORTANCE:1
END:VEVENT
BEGIN:VEVENT
UID:g5nk8@games.golnetwork.com
LOCATION:Monarch Park
GEO:45.10662;-94.578209
CREATED:20140916T205637Z
DTSTART:20141112T003000Z
DTEND:20141112T013000Z
DTSTAMP:20260421T052501Z
SUMMARY:Lazy Pandas vs. Cunning Stunts
DESCRIPTION:Cunning Stunts vs. Lazy PandasMore info: #141
X-ALT-DESC;FMTTYPE=text/html:<!DOCTYPE HTML PUBLIC "-//W3C//DTD HTML 3.2//E
	N">\n<HTML>\n<HEAD>\n<TITLE></TITLE>\n</HEAD>\n<BODY>\n<h3>Cunning Stunts v
	s. Lazy Pandas</h3>More info: <a href="https://www.golnetwork.com/game/v/56
	866/">#141</a>\n\n</BODY>\n</HTML>
STATUS:CONFIRMED
CLASS:PUBLIC
URL:https://www.golnetwork.com/game/v/56866/
X-MICROSOFT-CDO-BUSYSTATUS:BUSY
X-MICROSOFT-CDO-IMPORTANCE:1
END:VEVENT
BEGIN:VEVENT
UID:g5nkm@games.golnetwork.com
LOCATION:Monarch Park
GEO:45.10662;-94.578209
CREATED:20140916T205637Z
DTSTART:20141112T014000Z
DTEND:20141112T024000Z
DTSTAMP:20260421T052501Z
SUMMARY:Big Chune vs. Dirt Squirrel
DESCRIPTION:Dirt Squirrel vs. Big ChuneMore info: #142
X-ALT-DESC;FMTTYPE=text/html:<!DOCTYPE HTML PUBLIC "-//W3C//DTD HTML 3.2//E
	N">\n<HTML>\n<HEAD>\n<TITLE></TITLE>\n</HEAD>\n<BODY>\n<h3>Dirt Squirrel vs
	. Big Chune</h3>More info: <a href="https://www.golnetwork.com/game/v/56873
	/">#142</a>\n\n</BODY>\n</HTML>
STATUS:CONFIRMED
CLASS:PUBLIC
URL:https://www.golnetwork.com/game/v/56873/
X-MICROSOFT-CDO-BUSYSTATUS:BUSY
X-MICROSOFT-CDO-IMPORTANCE:1
END:VEVENT
BEGIN:VEVENT
UID:g5nl1@games.golnetwork.com
LOCATION:Monarch Park
GEO:45.10662;-94.578209
CREATED:20140916T205637Z
DTSTART:20141118T232000Z
DTEND:20141119T002000Z
DTSTAMP:20260421T052501Z
SUMMARY:Cunning Stunts vs. Blue Balls
DESCRIPTION:Blue Balls vs. Cunning StuntsMore info: #156
X-ALT-DESC;FMTTYPE=text/html:<!DOCTYPE HTML PUBLIC "-//W3C//DTD HTML 3.2//E
	N">\n<HTML>\n<HEAD>\n<TITLE></TITLE>\n</HEAD>\n<BODY>\n<h3>Blue Balls vs. C
	unning Stunts</h3>More info: <a href="https://www.golnetwork.com/game/v/568
	76/">#156</a>\n\n</BODY>\n</HTML>
STATUS:CONFIRMED
CLASS:PUBLIC
URL:https://www.golnetwork.com/game/v/56876/
X-MICROSOFT-CDO-BUSYSTATUS:BUSY
X-MICROSOFT-CDO-IMPORTANCE:1
END:VEVENT
BEGIN:VEVENT
UID:g5nko@games.golnetwork.com
LOCATION:Monarch Park
GEO:45.10662;-94.578209
CREATED:20140916T205637Z
DTSTART:20141119T003000Z
DTEND:20141119T013000Z
DTSTAMP:20260421T052501Z
SUMMARY:Lazy Pandas vs. Big Chune
DESCRIPTION:Big Chune vs. Lazy PandasMore info: #157
X-ALT-DESC;FMTTYPE=text/html:<!DOCTYPE HTML PUBLIC "-//W3C//DTD HTML 3.2//E
	N">\n<HTML>\n<HEAD>\n<TITLE></TITLE>\n</HEAD>\n<BODY>\n<h3>Big Chune vs. La
	zy Pandas</h3>More info: <a href="https://www.golnetwork.com/game/v/56874/"
	>#157</a>\n\n</BODY>\n</HTML>
STATUS:CONFIRMED
CLASS:PUBLIC
URL:https://www.golnetwork.com/game/v/56874/
X-MICROSOFT-CDO-BUSYSTATUS:BUSY
X-MICROSOFT-CDO-IMPORTANCE:1
END:VEVENT
BEGIN:VEVENT
UID:g5nkq@games.golnetwork.com
LOCATION:Monarch Park
GEO:45.10662;-94.578209
CREATED:20140916T205637Z
DTSTART:20141119T014000Z
DTEND:20141119T024000Z
DTSTAMP:20260421T052501Z
SUMMARY:Dirt Squirrel vs. Black & Drunken Samba
DESCRIPTION:Black & Drunken Samba vs. Dirt SquirrelMore info: #158
X-ALT-DESC;FMTTYPE=text/html:<!DOCTYPE HTML PUBLIC "-//W3C//DTD HTML 3.2//E
	N">\n<HTML>\n<HEAD>\n<TITLE></TITLE>\n</HEAD>\n<BODY>\n<h3>Black & Drunken 
	Samba vs. Dirt Squirrel</h3>More info: <a href="https://www.golnetwork.com/
	game/v/56875/">#158</a>\n\n</BODY>\n</HTML>
STATUS:CONFIRMED
CLASS:PUBLIC
URL:https://www.golnetwork.com/game/v/56875/
X-MICROSOFT-CDO-BUSYSTATUS:BUSY
X-MICROSOFT-CDO-IMPORTANCE:1
END:VEVENT
BEGIN:VEVENT
UID:g5nl3@games.golnetwork.com
LOCATION:Monarch Park
GEO:45.10662;-94.578209
CREATED:20140916T205637Z
DTSTART:20141125T232000Z
DTEND:20141126T002000Z
DTSTAMP:20260421T052501Z
SUMMARY:Dirt Squirrel vs. Lazy Pandas
DESCRIPTION:Lazy Pandas vs. Dirt SquirrelMore info: #169
X-ALT-DESC;FMTTYPE=text/html:<!DOCTYPE HTML PUBLIC "-//W3C//DTD HTML 3.2//E
	N">\n<HTML>\n<HEAD>\n<TITLE></TITLE>\n</HEAD>\n<BODY>\n<h3>Lazy Pandas vs. 
	Dirt Squirrel</h3>More info: <a href="https://www.golnetwork.com/game/v/568
	77/">#169</a>\n\n</BODY>\n</HTML>
STATUS:CONFIRMED
CLASS:PUBLIC
URL:https://www.golnetwork.com/game/v/56877/
X-MICROSOFT-CDO-BUSYSTATUS:BUSY
X-MICROSOFT-CDO-IMPORTANCE:1
END:VEVENT
BEGIN:VEVENT
UID:g5nl5@games.golnetwork.com
LOCATION:Monarch Park
GEO:45.10662;-94.578209
CREATED:20140916T205637Z
DTSTART:20141126T003000Z
DTEND:20141126T013000Z
DTSTAMP:20260421T052501Z
SUMMARY:Big Chune vs. Blue Balls
DESCRIPTION:Blue Balls vs. Big ChuneMore info: #170
X-ALT-DESC;FMTTYPE=text/html:<!DOCTYPE HTML PUBLIC "-//W3C//DTD HTML 3.2//E
	N">\n<HTML>\n<HEAD>\n<TITLE></TITLE>\n</HEAD>\n<BODY>\n<h3>Blue Balls vs. B
	ig Chune</h3>More info: <a href="https://www.golnetwork.com/game/v/56878/">
	#170</a>\n\n</BODY>\n</HTML>
STATUS:CONFIRMED
CLASS:PUBLIC
URL:https://www.golnetwork.com/game/v/56878/
X-MICROSOFT-CDO-BUSYSTATUS:BUSY
X-MICROSOFT-CDO-IMPORTANCE:1
END:VEVENT
BEGIN:VEVENT
UID:g5nl7@games.golnetwork.com
LOCATION:Monarch Park
GEO:45.10662;-94.578209
CREATED:20140916T205637Z
DTSTART:20141126T014000Z
DTEND:20141126T024000Z
DTSTAMP:20260421T052501Z
SUMMARY:Black & Drunken Samba vs. Cunning Stunts
DESCRIPTION:Cunning Stunts vs. Black & Drunken SambaMore info: #171
X-ALT-DESC;FMTTYPE=text/html:<!DOCTYPE HTML PUBLIC "-//W3C//DTD HTML 3.2//E
	N">\n<HTML>\n<HEAD>\n<TITLE></TITLE>\n</HEAD>\n<BODY>\n<h3>Cunning Stunts v
	s. Black & Drunken Samba</h3>More info: <a href="https://www.golnetwork.com
	/game/v/56879/">#171</a>\n\n</BODY>\n</HTML>
STATUS:CONFIRMED
CLASS:PUBLIC
URL:https://www.golnetwork.com/game/v/56879/
X-MICROSOFT-CDO-BUSYSTATUS:BUSY
X-MICROSOFT-CDO-IMPORTANCE:1
END:VEVENT
BEGIN:VEVENT
UID:g5nl9@games.golnetwork.com
LOCATION:Monarch Park
GEO:45.10662;-94.578209
CREATED:20140916T205637Z
DTSTART:20141202T232000Z
DTEND:20141203T002000Z
DTSTAMP:20260421T052501Z
SUMMARY:Cunning Stunts vs. Lazy Pandas
DESCRIPTION:Lazy Pandas vs. Cunning StuntsMore info: #185
X-ALT-DESC;FMTTYPE=text/html:<!DOCTYPE HTML PUBLIC "-//W3C//DTD HTML 3.2//E
	N">\n<HTML>\n<HEAD>\n<TITLE></TITLE>\n</HEAD>\n<BODY>\n<h3>Lazy Pandas vs. 
	Cunning Stunts</h3>More info: <a href="https://www.golnetwork.com/game/v/56
	880/">#185</a>\n\n</BODY>\n</HTML>
STATUS:CONFIRMED
CLASS:PUBLIC
URL:https://www.golnetwork.com/game/v/56880/
X-MICROSOFT-CDO-BUSYSTATUS:BUSY
X-MICROSOFT-CDO-IMPORTANCE:1
END:VEVENT
BEGIN:VEVENT
UID:g5nlb@games.golnetwork.com
LOCATION:Monarch Park
GEO:45.10662;-94.578209
CREATED:20140916T205637Z
DTSTART:20141203T003000Z
DTEND:20141203T013000Z
DTSTAMP:20260421T052501Z
SUMMARY:Big Chune vs. Black & Drunken Samba
DESCRIPTION:Black & Drunken Samba vs. Big ChuneMore info: #186
X-ALT-DESC;FMTTYPE=text/html:<!DOCTYPE HTML PUBLIC "-//W3C//DTD HTML 3.2//E
	N">\n<HTML>\n<HEAD>\n<TITLE></TITLE>\n</HEAD>\n<BODY>\n<h3>Black & Drunken 
	Samba vs. Big Chune</h3>More info: <a href="https://www.golnetwork.com/game
	/v/56881/">#186</a>\n\n</BODY>\n</HTML>
STATUS:CONFIRMED
CLASS:PUBLIC
URL:https://www.golnetwork.com/game/v/56881/
X-MICROSOFT-CDO-BUSYSTATUS:BUSY
X-MICROSOFT-CDO-IMPORTANCE:1
END:VEVENT
BEGIN:VEVENT
UID:g5nld@games.golnetwork.com
LOCATION:Monarch Park
GEO:45.10662;-94.578209
CREATED:20140916T205637Z
DTSTART:20141203T014000Z
DTEND:20141203T024000Z
DTSTAMP:20260421T052501Z
SUMMARY:Blue Balls vs. Dirt Squirrel
DESCRIPTION:Dirt Squirrel vs. Blue BallsMore info: #187
X-ALT-DESC;FMTTYPE=text/html:<!DOCTYPE HTML PUBLIC "-//W3C//DTD HTML 3.2//E
	N">\n<HTML>\n<HEAD>\n<TITLE></TITLE>\n</HEAD>\n<BODY>\n<h3>Dirt Squirrel vs
	. Blue Balls</h3>More info: <a href="https://www.golnetwork.com/game/v/5688
	2/">#187</a>\n\n</BODY>\n</HTML>
STATUS:CONFIRMED
CLASS:PUBLIC
URL:https://www.golnetwork.com/game/v/56882/
X-MICROSOFT-CDO-BUSYSTATUS:BUSY
X-MICROSOFT-CDO-IMPORTANCE:1
END:VEVENT
BEGIN:VEVENT
UID:g5nlf@games.golnetwork.com
LOCATION:Monarch Park
GEO:45.10662;-94.578209
CREATED:20140916T205637Z
DTSTART:20141209T232000Z
DTEND:20141210T002000Z
DTSTAMP:20260421T052501Z
SUMMARY:Blue Balls vs. Cunning Stunts
DESCRIPTION:Cunning Stunts vs. Blue BallsMore info: #201
X-ALT-DESC;FMTTYPE=text/html:<!DOCTYPE HTML PUBLIC "-//W3C//DTD HTML 3.2//E
	N">\n<HTML>\n<HEAD>\n<TITLE></TITLE>\n</HEAD>\n<BODY>\n<h3>Cunning Stunts v
	s. Blue Balls</h3>More info: <a href="https://www.golnetwork.com/game/v/568
	83/">#201</a>\n\n</BODY>\n</HTML>
STATUS:CONFIRMED
CLASS:PUBLIC
URL:https://www.golnetwork.com/game/v/56883/
X-MICROSOFT-CDO-BUSYSTATUS:BUSY
X-MICROSOFT-CDO-IMPORTANCE:1
END:VEVENT
BEGIN:VEVENT
UID:g5nlh@games.golnetwork.com
LOCATION:Monarch Park
GEO:45.10662;-94.578209
CREATED:20140916T205637Z
DTSTART:20141210T003000Z
DTEND:20141210T013000Z
DTSTAMP:20260421T052501Z
SUMMARY:Dirt Squirrel vs. Black & Drunken Samba
DESCRIPTION:Black & Drunken Samba vs. Dirt SquirrelMore info: #202
X-ALT-DESC;FMTTYPE=text/html:<!DOCTYPE HTML PUBLIC "-//W3C//DTD HTML 3.2//E
	N">\n<HTML>\n<HEAD>\n<TITLE></TITLE>\n</HEAD>\n<BODY>\n<h3>Black & Drunken 
	Samba vs. Dirt Squirrel</h3>More info: <a href="https://www.golnetwork.com/
	game/v/56884/">#202</a>\n\n</BODY>\n</HTML>
STATUS:CONFIRMED
CLASS:PUBLIC
URL:https://www.golnetwork.com/game/v/56884/
X-MICROSOFT-CDO-BUSYSTATUS:BUSY
X-MICROSOFT-CDO-IMPORTANCE:1
END:VEVENT
BEGIN:VEVENT
UID:g5nlj@games.golnetwork.com
LOCATION:Monarch Park
GEO:45.10662;-94.578209
CREATED:20140916T205637Z
DTSTART:20141210T014000Z
DTEND:20141210T024000Z
DTSTAMP:20260421T052501Z
SUMMARY:Lazy Pandas vs. Big Chune
DESCRIPTION:Big Chune vs. Lazy PandasMore info: #203
X-ALT-DESC;FMTTYPE=text/html:<!DOCTYPE HTML PUBLIC "-//W3C//DTD HTML 3.2//E
	N">\n<HTML>\n<HEAD>\n<TITLE></TITLE>\n</HEAD>\n<BODY>\n<h3>Big Chune vs. La
	zy Pandas</h3>More info: <a href="https://www.golnetwork.com/game/v/56885/"
	>#203</a>\n\n</BODY>\n</HTML>
STATUS:CONFIRMED
CLASS:PUBLIC
URL:https://www.golnetwork.com/game/v/56885/
X-MICROSOFT-CDO-BUSYSTATUS:BUSY
X-MICROSOFT-CDO-IMPORTANCE:1
END:VEVENT
END:VCALENDAR
