BEGIN:VCALENDAR
PRODID:-//gdesolutions.com//MV Framework 1.0.0.1607 Calendar//EN
VERSION:2.0
METHOD:PUBLISH
CALSCALE:GREGORIAN
BEGIN:VEVENT
UID:g5q0p@games.golnetwork.com
LOCATION:Bickford/West End Alternative
GEO:43.662764;-79.4202341
CREATED:20140924T140731Z
DTSTART:20141001T223000Z
DTEND:20141001T233000Z
DTSTAMP:20260422T084848Z
SUMMARY:The Slums vs.  Man Chest Hair United
DESCRIPTION: Man Chest Hair United vs. The SlumsMore info: #49
X-ALT-DESC;FMTTYPE=text/html:<!DOCTYPE HTML PUBLIC "-//W3C//DTD HTML 3.2//E
	N">\n<HTML>\n<HEAD>\n<TITLE></TITLE>\n</HEAD>\n<BODY>\n<h3> Man Chest Hair 
	United vs. The Slums</h3>More info: <a href="https://www.golnetwork.com/gam
	e/v/57698/">#49</a>\n\n</BODY>\n</HTML>
STATUS:CONFIRMED
CLASS:PUBLIC
URL:https://www.golnetwork.com/game/v/57698/
X-MICROSOFT-CDO-BUSYSTATUS:BUSY
X-MICROSOFT-CDO-IMPORTANCE:1
END:VEVENT
BEGIN:VEVENT
UID:g5q10@games.golnetwork.com
LOCATION:Bickford/West End Alternative
GEO:43.662764;-79.4202341
CREATED:20140924T140731Z
DTSTART:20141001T233000Z
DTEND:20141002T003000Z
DTSTAMP:20260422T084848Z
SUMMARY:Code White vs. Midnight Marauders
DESCRIPTION:Midnight Marauders vs. Code WhiteMore info: #50
X-ALT-DESC;FMTTYPE=text/html:<!DOCTYPE HTML PUBLIC "-//W3C//DTD HTML 3.2//E
	N">\n<HTML>\n<HEAD>\n<TITLE></TITLE>\n</HEAD>\n<BODY>\n<h3>Midnight Maraude
	rs vs. Code White</h3>More info: <a href="https://www.golnetwork.com/game/v
	/57699/">#50</a>\n\n</BODY>\n</HTML>
STATUS:CONFIRMED
CLASS:PUBLIC
URL:https://www.golnetwork.com/game/v/57699/
X-MICROSOFT-CDO-BUSYSTATUS:BUSY
X-MICROSOFT-CDO-IMPORTANCE:1
END:VEVENT
BEGIN:VEVENT
UID:g5q12@games.golnetwork.com
LOCATION:Bickford/West End Alternative
GEO:43.662764;-79.4202341
CREATED:20140924T140731Z
DTSTART:20141002T003000Z
DTEND:20141002T013000Z
DTSTAMP:20260422T084848Z
SUMMARY:Team Booku vs. XTSC Rebels
DESCRIPTION:XTSC Rebels vs. Team BookuMore info: #51
X-ALT-DESC;FMTTYPE=text/html:<!DOCTYPE HTML PUBLIC "-//W3C//DTD HTML 3.2//E
	N">\n<HTML>\n<HEAD>\n<TITLE></TITLE>\n</HEAD>\n<BODY>\n<h3>XTSC Rebels vs. 
	Team Booku</h3>More info: <a href="https://www.golnetwork.com/game/v/57700/
	">#51</a>\n\n</BODY>\n</HTML>
STATUS:CONFIRMED
CLASS:PUBLIC
URL:https://www.golnetwork.com/game/v/57700/
X-MICROSOFT-CDO-BUSYSTATUS:BUSY
X-MICROSOFT-CDO-IMPORTANCE:1
END:VEVENT
BEGIN:VEVENT
UID:g5q16@games.golnetwork.com
LOCATION:Bickford/West End Alternative
GEO:43.662764;-79.4202341
CREATED:20140924T140731Z
DTSTART:20141008T223000Z
DTEND:20141008T233000Z
DTSTAMP:20260422T084848Z
SUMMARY:XTSC Rebels vs. Midnight Marauders
DESCRIPTION:Midnight Marauders vs. XTSC RebelsMore info: #68
X-ALT-DESC;FMTTYPE=text/html:<!DOCTYPE HTML PUBLIC "-//W3C//DTD HTML 3.2//E
	N">\n<HTML>\n<HEAD>\n<TITLE></TITLE>\n</HEAD>\n<BODY>\n<h3>Midnight Maraude
	rs vs. XTSC Rebels</h3>More info: <a href="https://www.golnetwork.com/game/
	v/57702/">#68</a>\n\n</BODY>\n</HTML>
STATUS:CONFIRMED
CLASS:PUBLIC
URL:https://www.golnetwork.com/game/v/57702/
X-MICROSOFT-CDO-BUSYSTATUS:BUSY
X-MICROSOFT-CDO-IMPORTANCE:1
END:VEVENT
BEGIN:VEVENT
UID:g5q14@games.golnetwork.com
LOCATION:Bickford/West End Alternative
GEO:43.662764;-79.4202341
CREATED:20140924T140731Z
DTSTART:20141008T233000Z
DTEND:20141009T003000Z
DTSTAMP:20260422T084848Z
SUMMARY:Team Booku vs.  Man Chest Hair United
DESCRIPTION: Man Chest Hair United vs. Team BookuMore info: #69
X-ALT-DESC;FMTTYPE=text/html:<!DOCTYPE HTML PUBLIC "-//W3C//DTD HTML 3.2//E
	N">\n<HTML>\n<HEAD>\n<TITLE></TITLE>\n</HEAD>\n<BODY>\n<h3> Man Chest Hair 
	United vs. Team Booku</h3>More info: <a href="https://www.golnetwork.com/ga
	me/v/57701/">#69</a>\n\n</BODY>\n</HTML>
STATUS:CONFIRMED
CLASS:PUBLIC
URL:https://www.golnetwork.com/game/v/57701/
X-MICROSOFT-CDO-BUSYSTATUS:BUSY
X-MICROSOFT-CDO-IMPORTANCE:1
END:VEVENT
BEGIN:VEVENT
UID:g5q18@games.golnetwork.com
LOCATION:Bickford/West End Alternative
GEO:43.662764;-79.4202341
CREATED:20140924T140731Z
DTSTART:20141009T003000Z
DTEND:20141009T013000Z
DTSTAMP:20260422T084848Z
SUMMARY:Code White vs. The Slums
DESCRIPTION:The Slums vs. Code WhiteMore info: #70
X-ALT-DESC;FMTTYPE=text/html:<!DOCTYPE HTML PUBLIC "-//W3C//DTD HTML 3.2//E
	N">\n<HTML>\n<HEAD>\n<TITLE></TITLE>\n</HEAD>\n<BODY>\n<h3>The Slums vs. Co
	de White</h3>More info: <a href="https://www.golnetwork.com/game/v/57703/">
	#70</a>\n\n</BODY>\n</HTML>
STATUS:CONFIRMED
CLASS:PUBLIC
URL:https://www.golnetwork.com/game/v/57703/
X-MICROSOFT-CDO-BUSYSTATUS:BUSY
X-MICROSOFT-CDO-IMPORTANCE:1
END:VEVENT
BEGIN:VEVENT
UID:g5q1c@games.golnetwork.com
LOCATION:Bickford/West End Alternative
GEO:43.662764;-79.4202341
CREATED:20140924T140731Z
DTSTART:20141015T223000Z
DTEND:20141015T233000Z
DTSTAMP:20260422T084848Z
SUMMARY:The Slums vs. Team Booku
DESCRIPTION:Team Booku vs. The SlumsMore info: #80
X-ALT-DESC;FMTTYPE=text/html:<!DOCTYPE HTML PUBLIC "-//W3C//DTD HTML 3.2//E
	N">\n<HTML>\n<HEAD>\n<TITLE></TITLE>\n</HEAD>\n<BODY>\n<h3>Team Booku vs. T
	he Slums</h3>More info: <a href="https://www.golnetwork.com/game/v/57705/">
	#80</a>\n\n</BODY>\n</HTML>
STATUS:CONFIRMED
CLASS:PUBLIC
URL:https://www.golnetwork.com/game/v/57705/
X-MICROSOFT-CDO-BUSYSTATUS:BUSY
X-MICROSOFT-CDO-IMPORTANCE:1
END:VEVENT
BEGIN:VEVENT
UID:g5q1a@games.golnetwork.com
LOCATION:Bickford/West End Alternative
GEO:43.662764;-79.4202341
CREATED:20140924T140731Z
DTSTART:20141015T233000Z
DTEND:20141016T003000Z
DTSTAMP:20260422T084848Z
SUMMARY:XTSC Rebels vs. Code White
DESCRIPTION:Code White vs. XTSC RebelsMore info: #81
X-ALT-DESC;FMTTYPE=text/html:<!DOCTYPE HTML PUBLIC "-//W3C//DTD HTML 3.2//E
	N">\n<HTML>\n<HEAD>\n<TITLE></TITLE>\n</HEAD>\n<BODY>\n<h3>Code White vs. X
	TSC Rebels</h3>More info: <a href="https://www.golnetwork.com/game/v/57704/
	">#81</a>\n\n</BODY>\n</HTML>
STATUS:CONFIRMED
CLASS:PUBLIC
URL:https://www.golnetwork.com/game/v/57704/
X-MICROSOFT-CDO-BUSYSTATUS:BUSY
X-MICROSOFT-CDO-IMPORTANCE:1
END:VEVENT
BEGIN:VEVENT
UID:g5q1e@games.golnetwork.com
LOCATION:Bickford/West End Alternative
GEO:43.662764;-79.4202341
CREATED:20140924T140731Z
DTSTART:20141016T003000Z
DTEND:20141016T013000Z
DTSTAMP:20260422T084848Z
SUMMARY:Midnight Marauders vs.  Man Chest Hair United
DESCRIPTION: Man Chest Hair United vs. Midnight MaraudersMore info: #82
X-ALT-DESC;FMTTYPE=text/html:<!DOCTYPE HTML PUBLIC "-//W3C//DTD HTML 3.2//E
	N">\n<HTML>\n<HEAD>\n<TITLE></TITLE>\n</HEAD>\n<BODY>\n<h3> Man Chest Hair 
	United vs. Midnight Marauders</h3>More info: <a href="https://www.golnetwor
	k.com/game/v/57706/">#82</a>\n\n</BODY>\n</HTML>
STATUS:CONFIRMED
CLASS:PUBLIC
URL:https://www.golnetwork.com/game/v/57706/
X-MICROSOFT-CDO-BUSYSTATUS:BUSY
X-MICROSOFT-CDO-IMPORTANCE:1
END:VEVENT
BEGIN:VEVENT
UID:g5q1k@games.golnetwork.com
LOCATION:Bickford/West End Alternative
GEO:43.662764;-79.4202341
CREATED:20140924T140731Z
DTSTART:20141022T223000Z
DTEND:20141022T233000Z
DTSTAMP:20260422T084848Z
SUMMARY: Man Chest Hair United vs. Code White
DESCRIPTION:Code White vs.  Man Chest Hair UnitedMore info: #95
X-ALT-DESC;FMTTYPE=text/html:<!DOCTYPE HTML PUBLIC "-//W3C//DTD HTML 3.2//E
	N">\n<HTML>\n<HEAD>\n<TITLE></TITLE>\n</HEAD>\n<BODY>\n<h3>Code White vs.  
	Man Chest Hair United</h3>More info: <a href="https://www.golnetwork.com/ga
	me/v/57709/">#95</a>\n\n</BODY>\n</HTML>
STATUS:CONFIRMED
CLASS:PUBLIC
URL:https://www.golnetwork.com/game/v/57709/
X-MICROSOFT-CDO-BUSYSTATUS:BUSY
X-MICROSOFT-CDO-IMPORTANCE:1
END:VEVENT
BEGIN:VEVENT
UID:g5q1i@games.golnetwork.com
LOCATION:Bickford/West End Alternative
GEO:43.662764;-79.4202341
CREATED:20140924T140731Z
DTSTART:20141022T233000Z
DTEND:20141023T003000Z
DTSTAMP:20260422T084848Z
SUMMARY:Midnight Marauders vs. Team Booku
DESCRIPTION:Team Booku vs. Midnight MaraudersMore info: #96
X-ALT-DESC;FMTTYPE=text/html:<!DOCTYPE HTML PUBLIC "-//W3C//DTD HTML 3.2//E
	N">\n<HTML>\n<HEAD>\n<TITLE></TITLE>\n</HEAD>\n<BODY>\n<h3>Team Booku vs. M
	idnight Marauders</h3>More info: <a href="https://www.golnetwork.com/game/v
	/57708/">#96</a>\n\n</BODY>\n</HTML>
STATUS:CONFIRMED
CLASS:PUBLIC
URL:https://www.golnetwork.com/game/v/57708/
X-MICROSOFT-CDO-BUSYSTATUS:BUSY
X-MICROSOFT-CDO-IMPORTANCE:1
END:VEVENT
BEGIN:VEVENT
UID:g5q1g@games.golnetwork.com
LOCATION:Bickford/West End Alternative
GEO:43.662764;-79.4202341
CREATED:20140924T140731Z
DTSTART:20141023T003000Z
DTEND:20141023T013000Z
DTSTAMP:20260422T084848Z
SUMMARY:XTSC Rebels vs. The Slums
DESCRIPTION:The Slums vs. XTSC RebelsMore info: #97
X-ALT-DESC;FMTTYPE=text/html:<!DOCTYPE HTML PUBLIC "-//W3C//DTD HTML 3.2//E
	N">\n<HTML>\n<HEAD>\n<TITLE></TITLE>\n</HEAD>\n<BODY>\n<h3>The Slums vs. XT
	SC Rebels</h3>More info: <a href="https://www.golnetwork.com/game/v/57707/"
	>#97</a>\n\n</BODY>\n</HTML>
STATUS:CONFIRMED
CLASS:PUBLIC
URL:https://www.golnetwork.com/game/v/57707/
X-MICROSOFT-CDO-BUSYSTATUS:BUSY
X-MICROSOFT-CDO-IMPORTANCE:1
END:VEVENT
BEGIN:VEVENT
UID:g5q1m@games.golnetwork.com
LOCATION:Bickford/West End Alternative
GEO:43.662764;-79.4202341
CREATED:20140924T140731Z
DTSTART:20141029T223000Z
DTEND:20141029T233000Z
DTSTAMP:20260422T084848Z
SUMMARY:Code White vs. Team Booku
DESCRIPTION:Team Booku vs. Code WhiteMore info: #112
X-ALT-DESC;FMTTYPE=text/html:<!DOCTYPE HTML PUBLIC "-//W3C//DTD HTML 3.2//E
	N">\n<HTML>\n<HEAD>\n<TITLE></TITLE>\n</HEAD>\n<BODY>\n<h3>Team Booku vs. C
	ode White</h3>More info: <a href="https://www.golnetwork.com/game/v/57710/"
	>#112</a>\n\n</BODY>\n</HTML>
STATUS:CONFIRMED
CLASS:PUBLIC
URL:https://www.golnetwork.com/game/v/57710/
X-MICROSOFT-CDO-BUSYSTATUS:BUSY
X-MICROSOFT-CDO-IMPORTANCE:1
END:VEVENT
BEGIN:VEVENT
UID:g5q1o@games.golnetwork.com
LOCATION:Bickford/West End Alternative
GEO:43.662764;-79.4202341
CREATED:20140924T140731Z
DTSTART:20141029T233000Z
DTEND:20141030T003000Z
DTSTAMP:20260422T084848Z
SUMMARY: Man Chest Hair United vs. XTSC Rebels
DESCRIPTION:XTSC Rebels vs.  Man Chest Hair UnitedMore info: #113
X-ALT-DESC;FMTTYPE=text/html:<!DOCTYPE HTML PUBLIC "-//W3C//DTD HTML 3.2//E
	N">\n<HTML>\n<HEAD>\n<TITLE></TITLE>\n</HEAD>\n<BODY>\n<h3>XTSC Rebels vs. 
	 Man Chest Hair United</h3>More info: <a href="https://www.golnetwork.com/g
	ame/v/57711/">#113</a>\n\n</BODY>\n</HTML>
STATUS:CONFIRMED
CLASS:PUBLIC
URL:https://www.golnetwork.com/game/v/57711/
X-MICROSOFT-CDO-BUSYSTATUS:BUSY
X-MICROSOFT-CDO-IMPORTANCE:1
END:VEVENT
BEGIN:VEVENT
UID:g5q1q@games.golnetwork.com
LOCATION:Bickford/West End Alternative
GEO:43.662764;-79.4202341
CREATED:20140924T140731Z
DTSTART:20141030T003000Z
DTEND:20141030T013000Z
DTSTAMP:20260422T084848Z
SUMMARY:The Slums vs. Midnight Marauders
DESCRIPTION:Midnight Marauders vs. The SlumsMore info: #114
X-ALT-DESC;FMTTYPE=text/html:<!DOCTYPE HTML PUBLIC "-//W3C//DTD HTML 3.2//E
	N">\n<HTML>\n<HEAD>\n<TITLE></TITLE>\n</HEAD>\n<BODY>\n<h3>Midnight Maraude
	rs vs. The Slums</h3>More info: <a href="https://www.golnetwork.com/game/v/
	57712/">#114</a>\n\n</BODY>\n</HTML>
STATUS:CONFIRMED
CLASS:PUBLIC
URL:https://www.golnetwork.com/game/v/57712/
X-MICROSOFT-CDO-BUSYSTATUS:BUSY
X-MICROSOFT-CDO-IMPORTANCE:1
END:VEVENT
BEGIN:VEVENT
UID:g5q23@games.golnetwork.com
LOCATION:Bickford/West End Alternative
GEO:43.662764;-79.4202341
CREATED:20140924T140731Z
DTSTART:20141105T233000Z
DTEND:20141106T003000Z
DTSTAMP:20260422T084848Z
SUMMARY:The Slums vs. XTSC Rebels
DESCRIPTION:XTSC Rebels vs. The SlumsMore info: #127
X-ALT-DESC;FMTTYPE=text/html:<!DOCTYPE HTML PUBLIC "-//W3C//DTD HTML 3.2//E
	N">\n<HTML>\n<HEAD>\n<TITLE></TITLE>\n</HEAD>\n<BODY>\n<h3>XTSC Rebels vs. 
	The Slums</h3>More info: <a href="https://www.golnetwork.com/game/v/57714/"
	>#127</a>\n\n</BODY>\n</HTML>
STATUS:CONFIRMED
CLASS:PUBLIC
URL:https://www.golnetwork.com/game/v/57714/
X-MICROSOFT-CDO-BUSYSTATUS:BUSY
X-MICROSOFT-CDO-IMPORTANCE:1
END:VEVENT
BEGIN:VEVENT
UID:g5q21@games.golnetwork.com
LOCATION:Bickford/West End Alternative
GEO:43.662764;-79.4202341
CREATED:20140924T140731Z
DTSTART:20141106T003000Z
DTEND:20141106T013000Z
DTSTAMP:20260422T084848Z
SUMMARY: Man Chest Hair United vs. Midnight Marauders
DESCRIPTION:Midnight Marauders vs.  Man Chest Hair UnitedMore info: #128
X-ALT-DESC;FMTTYPE=text/html:<!DOCTYPE HTML PUBLIC "-//W3C//DTD HTML 3.2//E
	N">\n<HTML>\n<HEAD>\n<TITLE></TITLE>\n</HEAD>\n<BODY>\n<h3>Midnight Maraude
	rs vs.  Man Chest Hair United</h3>More info: <a href="https://www.golnetwor
	k.com/game/v/57713/">#128</a>\n\n</BODY>\n</HTML>
STATUS:CONFIRMED
CLASS:PUBLIC
URL:https://www.golnetwork.com/game/v/57713/
X-MICROSOFT-CDO-BUSYSTATUS:BUSY
X-MICROSOFT-CDO-IMPORTANCE:1
END:VEVENT
BEGIN:VEVENT
UID:g5q25@games.golnetwork.com
LOCATION:Bickford/West End Alternative
GEO:43.662764;-79.4202341
CREATED:20140924T140731Z
DTSTART:20141106T013000Z
DTEND:20141106T023000Z
DTSTAMP:20260422T084848Z
SUMMARY:Team Booku vs. Code White
DESCRIPTION:Code White vs. Team BookuMore info: #129
X-ALT-DESC;FMTTYPE=text/html:<!DOCTYPE HTML PUBLIC "-//W3C//DTD HTML 3.2//E
	N">\n<HTML>\n<HEAD>\n<TITLE></TITLE>\n</HEAD>\n<BODY>\n<h3>Code White vs. T
	eam Booku</h3>More info: <a href="https://www.golnetwork.com/game/v/57715/"
	>#129</a>\n\n</BODY>\n</HTML>
STATUS:CONFIRMED
CLASS:PUBLIC
URL:https://www.golnetwork.com/game/v/57715/
X-MICROSOFT-CDO-BUSYSTATUS:BUSY
X-MICROSOFT-CDO-IMPORTANCE:1
END:VEVENT
BEGIN:VEVENT
UID:g5q2b@games.golnetwork.com
LOCATION:Bickford/West End Alternative
GEO:43.662764;-79.4202341
CREATED:20140924T140731Z
DTSTART:20141112T233000Z
DTEND:20141113T003000Z
DTSTAMP:20260422T084848Z
SUMMARY:Midnight Marauders vs. XTSC Rebels
DESCRIPTION:XTSC Rebels vs. Midnight MaraudersMore info: #143
X-ALT-DESC;FMTTYPE=text/html:<!DOCTYPE HTML PUBLIC "-//W3C//DTD HTML 3.2//E
	N">\n<HTML>\n<HEAD>\n<TITLE></TITLE>\n</HEAD>\n<BODY>\n<h3>XTSC Rebels vs. 
	Midnight Marauders</h3>More info: <a href="https://www.golnetwork.com/game/
	v/57718/">#143</a>\n\n</BODY>\n</HTML>
STATUS:CONFIRMED
CLASS:PUBLIC
URL:https://www.golnetwork.com/game/v/57718/
X-MICROSOFT-CDO-BUSYSTATUS:BUSY
X-MICROSOFT-CDO-IMPORTANCE:1
END:VEVENT
BEGIN:VEVENT
UID:g5q27@games.golnetwork.com
LOCATION:Bickford/West End Alternative
GEO:43.662764;-79.4202341
CREATED:20140924T140731Z
DTSTART:20141113T003000Z
DTEND:20141113T013000Z
DTSTAMP:20260422T084848Z
SUMMARY:The Slums vs. Team Booku
DESCRIPTION:Team Booku vs. The SlumsMore info: #144
X-ALT-DESC;FMTTYPE=text/html:<!DOCTYPE HTML PUBLIC "-//W3C//DTD HTML 3.2//E
	N">\n<HTML>\n<HEAD>\n<TITLE></TITLE>\n</HEAD>\n<BODY>\n<h3>Team Booku vs. T
	he Slums</h3>More info: <a href="https://www.golnetwork.com/game/v/57716/">
	#144</a>\n\n</BODY>\n</HTML>
STATUS:CONFIRMED
CLASS:PUBLIC
URL:https://www.golnetwork.com/game/v/57716/
X-MICROSOFT-CDO-BUSYSTATUS:BUSY
X-MICROSOFT-CDO-IMPORTANCE:1
END:VEVENT
BEGIN:VEVENT
UID:g5q29@games.golnetwork.com
LOCATION:Bickford/West End Alternative
GEO:43.662764;-79.4202341
CREATED:20140924T140731Z
DTSTART:20141113T013000Z
DTEND:20141113T023000Z
DTSTAMP:20260422T084848Z
SUMMARY: Man Chest Hair United vs. Code White
DESCRIPTION:Code White vs.  Man Chest Hair UnitedMore info: #145
X-ALT-DESC;FMTTYPE=text/html:<!DOCTYPE HTML PUBLIC "-//W3C//DTD HTML 3.2//E
	N">\n<HTML>\n<HEAD>\n<TITLE></TITLE>\n</HEAD>\n<BODY>\n<h3>Code White vs.  
	Man Chest Hair United</h3>More info: <a href="https://www.golnetwork.com/ga
	me/v/57717/">#145</a>\n\n</BODY>\n</HTML>
STATUS:CONFIRMED
CLASS:PUBLIC
URL:https://www.golnetwork.com/game/v/57717/
X-MICROSOFT-CDO-BUSYSTATUS:BUSY
X-MICROSOFT-CDO-IMPORTANCE:1
END:VEVENT
BEGIN:VEVENT
UID:g5q2h@games.golnetwork.com
LOCATION:Bickford/West End Alternative
GEO:43.662764;-79.4202341
CREATED:20140924T140731Z
DTSTART:20141119T233000Z
DTEND:20141120T003000Z
DTSTAMP:20260422T084848Z
SUMMARY:Team Booku vs.  Man Chest Hair United
DESCRIPTION: Man Chest Hair United vs. Team BookuMore info: #159
X-ALT-DESC;FMTTYPE=text/html:<!DOCTYPE HTML PUBLIC "-//W3C//DTD HTML 3.2//E
	N">\n<HTML>\n<HEAD>\n<TITLE></TITLE>\n</HEAD>\n<BODY>\n<h3> Man Chest Hair 
	United vs. Team Booku</h3>More info: <a href="https://www.golnetwork.com/ga
	me/v/57721/">#159</a>\n\n</BODY>\n</HTML>
STATUS:CONFIRMED
CLASS:PUBLIC
URL:https://www.golnetwork.com/game/v/57721/
X-MICROSOFT-CDO-BUSYSTATUS:BUSY
X-MICROSOFT-CDO-IMPORTANCE:1
END:VEVENT
BEGIN:VEVENT
UID:g5q2f@games.golnetwork.com
LOCATION:Bickford/West End Alternative
GEO:43.662764;-79.4202341
CREATED:20140924T140731Z
DTSTART:20141120T003000Z
DTEND:20141120T013000Z
DTSTAMP:20260422T084848Z
SUMMARY:Midnight Marauders vs. The Slums
DESCRIPTION:The Slums vs. Midnight MaraudersMore info: #160
X-ALT-DESC;FMTTYPE=text/html:<!DOCTYPE HTML PUBLIC "-//W3C//DTD HTML 3.2//E
	N">\n<HTML>\n<HEAD>\n<TITLE></TITLE>\n</HEAD>\n<BODY>\n<h3>The Slums vs. Mi
	dnight Marauders</h3>More info: <a href="https://www.golnetwork.com/game/v/
	57720/">#160</a>\n\n</BODY>\n</HTML>
STATUS:CONFIRMED
CLASS:PUBLIC
URL:https://www.golnetwork.com/game/v/57720/
X-MICROSOFT-CDO-BUSYSTATUS:BUSY
X-MICROSOFT-CDO-IMPORTANCE:1
END:VEVENT
BEGIN:VEVENT
UID:g5q2d@games.golnetwork.com
LOCATION:Bickford/West End Alternative
GEO:43.662764;-79.4202341
CREATED:20140924T140731Z
DTSTART:20141120T013000Z
DTEND:20141120T023000Z
DTSTAMP:20260422T084848Z
SUMMARY:XTSC Rebels vs. Code White
DESCRIPTION:Code White vs. XTSC RebelsMore info: #161
X-ALT-DESC;FMTTYPE=text/html:<!DOCTYPE HTML PUBLIC "-//W3C//DTD HTML 3.2//E
	N">\n<HTML>\n<HEAD>\n<TITLE></TITLE>\n</HEAD>\n<BODY>\n<h3>Code White vs. X
	TSC Rebels</h3>More info: <a href="https://www.golnetwork.com/game/v/57719/
	">#161</a>\n\n</BODY>\n</HTML>
STATUS:CONFIRMED
CLASS:PUBLIC
URL:https://www.golnetwork.com/game/v/57719/
X-MICROSOFT-CDO-BUSYSTATUS:BUSY
X-MICROSOFT-CDO-IMPORTANCE:1
END:VEVENT
BEGIN:VEVENT
UID:g5q2j@games.golnetwork.com
LOCATION:Bickford/West End Alternative
GEO:43.662764;-79.4202341
CREATED:20140924T140731Z
DTSTART:20141126T233000Z
DTEND:20141127T003000Z
DTSTAMP:20260422T084848Z
SUMMARY: Man Chest Hair United vs. XTSC Rebels
DESCRIPTION:XTSC Rebels vs.  Man Chest Hair UnitedMore info: #172
X-ALT-DESC;FMTTYPE=text/html:<!DOCTYPE HTML PUBLIC "-//W3C//DTD HTML 3.2//E
	N">\n<HTML>\n<HEAD>\n<TITLE></TITLE>\n</HEAD>\n<BODY>\n<h3>XTSC Rebels vs. 
	 Man Chest Hair United</h3>More info: <a href="https://www.golnetwork.com/g
	ame/v/57722/">#172</a>\n\n</BODY>\n</HTML>
STATUS:CONFIRMED
CLASS:PUBLIC
URL:https://www.golnetwork.com/game/v/57722/
X-MICROSOFT-CDO-BUSYSTATUS:BUSY
X-MICROSOFT-CDO-IMPORTANCE:1
END:VEVENT
BEGIN:VEVENT
UID:g5q2l@games.golnetwork.com
LOCATION:Bickford/West End Alternative
GEO:43.662764;-79.4202341
CREATED:20140924T140731Z
DTSTART:20141127T003000Z
DTEND:20141127T013000Z
DTSTAMP:20260422T084848Z
SUMMARY:The Slums vs. Midnight Marauders
DESCRIPTION:Midnight Marauders vs. The SlumsMore info: #173
X-ALT-DESC;FMTTYPE=text/html:<!DOCTYPE HTML PUBLIC "-//W3C//DTD HTML 3.2//E
	N">\n<HTML>\n<HEAD>\n<TITLE></TITLE>\n</HEAD>\n<BODY>\n<h3>Midnight Maraude
	rs vs. The Slums</h3>More info: <a href="https://www.golnetwork.com/game/v/
	57723/">#173</a>\n\n</BODY>\n</HTML>
STATUS:CONFIRMED
CLASS:PUBLIC
URL:https://www.golnetwork.com/game/v/57723/
X-MICROSOFT-CDO-BUSYSTATUS:BUSY
X-MICROSOFT-CDO-IMPORTANCE:1
END:VEVENT
BEGIN:VEVENT
UID:g5q2n@games.golnetwork.com
LOCATION:Bickford/West End Alternative
GEO:43.662764;-79.4202341
CREATED:20140924T140731Z
DTSTART:20141127T013000Z
DTEND:20141127T023000Z
DTSTAMP:20260422T084848Z
SUMMARY:Team Booku vs. Code White
DESCRIPTION:Code White vs. Team BookuMore info: #174
X-ALT-DESC;FMTTYPE=text/html:<!DOCTYPE HTML PUBLIC "-//W3C//DTD HTML 3.2//E
	N">\n<HTML>\n<HEAD>\n<TITLE></TITLE>\n</HEAD>\n<BODY>\n<h3>Code White vs. T
	eam Booku</h3>More info: <a href="https://www.golnetwork.com/game/v/57724/"
	>#174</a>\n\n</BODY>\n</HTML>
STATUS:CONFIRMED
CLASS:PUBLIC
URL:https://www.golnetwork.com/game/v/57724/
X-MICROSOFT-CDO-BUSYSTATUS:BUSY
X-MICROSOFT-CDO-IMPORTANCE:1
END:VEVENT
BEGIN:VEVENT
UID:g5q2p@games.golnetwork.com
LOCATION:Bickford/West End Alternative
GEO:43.662764;-79.4202341
CREATED:20140924T140731Z
DTSTART:20141203T233000Z
DTEND:20141204T003000Z
DTSTAMP:20260422T084848Z
SUMMARY:Team Booku vs.  Man Chest Hair United
DESCRIPTION: Man Chest Hair United vs. Team BookuMore info: #188
X-ALT-DESC;FMTTYPE=text/html:<!DOCTYPE HTML PUBLIC "-//W3C//DTD HTML 3.2//E
	N">\n<HTML>\n<HEAD>\n<TITLE></TITLE>\n</HEAD>\n<BODY>\n<h3> Man Chest Hair 
	United vs. Team Booku</h3>More info: <a href="https://www.golnetwork.com/ga
	me/v/57725/">#188</a>\n\n</BODY>\n</HTML>
STATUS:CONFIRMED
CLASS:PUBLIC
URL:https://www.golnetwork.com/game/v/57725/
X-MICROSOFT-CDO-BUSYSTATUS:BUSY
X-MICROSOFT-CDO-IMPORTANCE:1
END:VEVENT
BEGIN:VEVENT
UID:g5q30@games.golnetwork.com
LOCATION:Bickford/West End Alternative
GEO:43.662764;-79.4202341
CREATED:20140924T140731Z
DTSTART:20141204T003000Z
DTEND:20141204T013000Z
DTSTAMP:20260422T084848Z
SUMMARY:Code White vs. Midnight Marauders
DESCRIPTION:Midnight Marauders vs. Code WhiteMore info: #189
X-ALT-DESC;FMTTYPE=text/html:<!DOCTYPE HTML PUBLIC "-//W3C//DTD HTML 3.2//E
	N">\n<HTML>\n<HEAD>\n<TITLE></TITLE>\n</HEAD>\n<BODY>\n<h3>Midnight Maraude
	rs vs. Code White</h3>More info: <a href="https://www.golnetwork.com/game/v
	/57726/">#189</a>\n\n</BODY>\n</HTML>
STATUS:CONFIRMED
CLASS:PUBLIC
URL:https://www.golnetwork.com/game/v/57726/
X-MICROSOFT-CDO-BUSYSTATUS:BUSY
X-MICROSOFT-CDO-IMPORTANCE:1
END:VEVENT
BEGIN:VEVENT
UID:g5q32@games.golnetwork.com
LOCATION:Bickford/West End Alternative
GEO:43.662764;-79.4202341
CREATED:20140924T140731Z
DTSTART:20141204T013000Z
DTEND:20141204T023000Z
DTSTAMP:20260422T084848Z
SUMMARY:XTSC Rebels vs. The Slums
DESCRIPTION:The Slums vs. XTSC RebelsMore info: #190
X-ALT-DESC;FMTTYPE=text/html:<!DOCTYPE HTML PUBLIC "-//W3C//DTD HTML 3.2//E
	N">\n<HTML>\n<HEAD>\n<TITLE></TITLE>\n</HEAD>\n<BODY>\n<h3>The Slums vs. XT
	SC Rebels</h3>More info: <a href="https://www.golnetwork.com/game/v/57727/"
	>#190</a>\n\n</BODY>\n</HTML>
STATUS:CONFIRMED
CLASS:PUBLIC
URL:https://www.golnetwork.com/game/v/57727/
X-MICROSOFT-CDO-BUSYSTATUS:BUSY
X-MICROSOFT-CDO-IMPORTANCE:1
END:VEVENT
END:VCALENDAR
