BEGIN:VCALENDAR
PRODID:-//gdesolutions.com//MV Framework 1.0.0.1607 Calendar//EN
VERSION:2.0
METHOD:PUBLISH
CALSCALE:GREGORIAN
BEGIN:VEVENT
UID:g5qli@games.golnetwork.com
LOCATION:multisports #1
GEO:45.5120231;-73.5596361
CREATED:20140929T180334Z
DTSTART:20140930T013000Z
DTEND:20140930T022500Z
DTSTAMP:20260420T095302Z
SUMMARY:LES ORANGES vs. UNTOUCHABLE
DESCRIPTION:UNTOUCHABLE vs. LES ORANGESMore info: #2
X-ALT-DESC;FMTTYPE=text/html:<!DOCTYPE HTML PUBLIC "-//W3C//DTD HTML 3.2//E
	N">\n<HTML>\n<HEAD>\n<TITLE></TITLE>\n</HEAD>\n<BODY>\n<h3>UNTOUCHABLE vs. 
	LES ORANGES</h3>More info: <a href="https://www.golnetwork.com/game/v/57978
	/">#2</a>\n\n</BODY>\n</HTML>
STATUS:CONFIRMED
CLASS:PUBLIC
URL:https://www.golnetwork.com/game/v/57978/
X-MICROSOFT-CDO-BUSYSTATUS:BUSY
X-MICROSOFT-CDO-IMPORTANCE:1
END:VEVENT
BEGIN:VEVENT
UID:g5qlm@games.golnetwork.com
LOCATION:multisports #2
GEO:45.5120231;-73.5596361
CREATED:20140929T180419Z
DTSTART:20140930T013000Z
DTEND:20140930T022500Z
DTSTAMP:20260420T095302Z
SUMMARY:ULTRAS vs. RAINMAKERZ
DESCRIPTION:RAINMAKERZ vs. ULTRASMore info: #3
X-ALT-DESC;FMTTYPE=text/html:<!DOCTYPE HTML PUBLIC "-//W3C//DTD HTML 3.2//E
	N">\n<HTML>\n<HEAD>\n<TITLE></TITLE>\n</HEAD>\n<BODY>\n<h3>RAINMAKERZ vs. U
	LTRAS</h3>More info: <a href="https://www.golnetwork.com/game/v/57980/">#3<
	/a>\n\n</BODY>\n</HTML>
STATUS:CONFIRMED
CLASS:PUBLIC
URL:https://www.golnetwork.com/game/v/57980/
X-MICROSOFT-CDO-BUSYSTATUS:BUSY
X-MICROSOFT-CDO-IMPORTANCE:1
END:VEVENT
BEGIN:VEVENT
UID:g5qlo@games.golnetwork.com
LOCATION:multisports #3
GEO:45.5120231;-73.5596361
CREATED:20140929T180434Z
DTSTART:20140930T013000Z
DTEND:20140930T022500Z
DTSTAMP:20260420T095302Z
SUMMARY:WARRIORS vs. LAKERS
DESCRIPTION:LAKERS vs. WARRIORSMore info: #5
X-ALT-DESC;FMTTYPE=text/html:<!DOCTYPE HTML PUBLIC "-//W3C//DTD HTML 3.2//E
	N">\n<HTML>\n<HEAD>\n<TITLE></TITLE>\n</HEAD>\n<BODY>\n<h3>LAKERS vs. WARRI
	ORS</h3>More info: <a href="https://www.golnetwork.com/game/v/57981/">#5</a
	>\n\n</BODY>\n</HTML>
STATUS:CONFIRMED
CLASS:PUBLIC
URL:https://www.golnetwork.com/game/v/57981/
X-MICROSOFT-CDO-BUSYSTATUS:BUSY
X-MICROSOFT-CDO-IMPORTANCE:1
END:VEVENT
BEGIN:VEVENT
UID:g5qlq@games.golnetwork.com
LOCATION:multisports #1
GEO:45.5120231;-73.5596361
CREATED:20140929T180503Z
DTSTART:20141007T013000Z
DTEND:20141007T022500Z
DTSTAMP:20260420T095302Z
SUMMARY:RAINMAKERZ vs. LAKERS
DESCRIPTION:LAKERS vs. RAINMAKERZMore info: #7
X-ALT-DESC;FMTTYPE=text/html:<!DOCTYPE HTML PUBLIC "-//W3C//DTD HTML 3.2//E
	N">\n<HTML>\n<HEAD>\n<TITLE></TITLE>\n</HEAD>\n<BODY>\n<h3>LAKERS vs. RAINM
	AKERZ</h3>More info: <a href="https://www.golnetwork.com/game/v/57982/">#7<
	/a>\n\n</BODY>\n</HTML>
STATUS:CONFIRMED
CLASS:PUBLIC
URL:https://www.golnetwork.com/game/v/57982/
X-MICROSOFT-CDO-BUSYSTATUS:BUSY
X-MICROSOFT-CDO-IMPORTANCE:1
END:VEVENT
BEGIN:VEVENT
UID:g5qm1@games.golnetwork.com
LOCATION:multisports #2
GEO:45.5120231;-73.5596361
CREATED:20140929T180512Z
DTSTART:20141007T013000Z
DTEND:20141007T022500Z
DTSTAMP:20260420T095302Z
SUMMARY:WARRIORS vs. UNTOUCHABLE
DESCRIPTION:UNTOUCHABLE vs. WARRIORSMore info: #8
X-ALT-DESC;FMTTYPE=text/html:<!DOCTYPE HTML PUBLIC "-//W3C//DTD HTML 3.2//E
	N">\n<HTML>\n<HEAD>\n<TITLE></TITLE>\n</HEAD>\n<BODY>\n<h3>UNTOUCHABLE vs. 
	WARRIORS</h3>More info: <a href="https://www.golnetwork.com/game/v/57983/">
	#8</a>\n\n</BODY>\n</HTML>
STATUS:CONFIRMED
CLASS:PUBLIC
URL:https://www.golnetwork.com/game/v/57983/
X-MICROSOFT-CDO-BUSYSTATUS:BUSY
X-MICROSOFT-CDO-IMPORTANCE:1
END:VEVENT
BEGIN:VEVENT
UID:g5qm3@games.golnetwork.com
LOCATION:multisports #3
GEO:45.5120231;-73.5596361
CREATED:20140929T180522Z
DTSTART:20141007T013000Z
DTEND:20141007T022500Z
DTSTAMP:20260420T095302Z
SUMMARY:ULTRAS vs. LES ORANGES
DESCRIPTION:LES ORANGES vs. ULTRASMore info: #10
X-ALT-DESC;FMTTYPE=text/html:<!DOCTYPE HTML PUBLIC "-//W3C//DTD HTML 3.2//E
	N">\n<HTML>\n<HEAD>\n<TITLE></TITLE>\n</HEAD>\n<BODY>\n<h3>LES ORANGES vs. 
	ULTRAS</h3>More info: <a href="https://www.golnetwork.com/game/v/57984/">#1
	0</a>\n\n</BODY>\n</HTML>
STATUS:CONFIRMED
CLASS:PUBLIC
URL:https://www.golnetwork.com/game/v/57984/
X-MICROSOFT-CDO-BUSYSTATUS:BUSY
X-MICROSOFT-CDO-IMPORTANCE:1
END:VEVENT
BEGIN:VEVENT
UID:g5qm5@games.golnetwork.com
LOCATION:multisports #1
GEO:45.5120231;-73.5596361
CREATED:20140929T180536Z
DTSTART:20141021T013000Z
DTEND:20141021T022500Z
DTSTAMP:20260420T095302Z
SUMMARY:WARRIORS vs. RAINMAKERZ
DESCRIPTION:RAINMAKERZ vs. WARRIORSMore info: #12
X-ALT-DESC;FMTTYPE=text/html:<!DOCTYPE HTML PUBLIC "-//W3C//DTD HTML 3.2//E
	N">\n<HTML>\n<HEAD>\n<TITLE></TITLE>\n</HEAD>\n<BODY>\n<h3>RAINMAKERZ vs. W
	ARRIORS</h3>More info: <a href="https://www.golnetwork.com/game/v/57985/">#
	12</a>\n\n</BODY>\n</HTML>
STATUS:CONFIRMED
CLASS:PUBLIC
URL:https://www.golnetwork.com/game/v/57985/
X-MICROSOFT-CDO-BUSYSTATUS:BUSY
X-MICROSOFT-CDO-IMPORTANCE:1
END:VEVENT
BEGIN:VEVENT
UID:g5qm7@games.golnetwork.com
LOCATION:multisports #2
GEO:45.5120231;-73.5596361
CREATED:20140929T180545Z
DTSTART:20141021T013000Z
DTEND:20141021T022500Z
DTSTAMP:20260420T095302Z
SUMMARY:LAKERS vs. LES ORANGES
DESCRIPTION:LES ORANGES vs. LAKERSMore info: #13
X-ALT-DESC;FMTTYPE=text/html:<!DOCTYPE HTML PUBLIC "-//W3C//DTD HTML 3.2//E
	N">\n<HTML>\n<HEAD>\n<TITLE></TITLE>\n</HEAD>\n<BODY>\n<h3>LES ORANGES vs. 
	LAKERS</h3>More info: <a href="https://www.golnetwork.com/game/v/57986/">#1
	3</a>\n\n</BODY>\n</HTML>
STATUS:CONFIRMED
CLASS:PUBLIC
URL:https://www.golnetwork.com/game/v/57986/
X-MICROSOFT-CDO-BUSYSTATUS:BUSY
X-MICROSOFT-CDO-IMPORTANCE:1
END:VEVENT
BEGIN:VEVENT
UID:g5qm9@games.golnetwork.com
LOCATION:multisports #3
GEO:45.5120231;-73.5596361
CREATED:20140929T180555Z
DTSTART:20141021T013000Z
DTEND:20141021T022500Z
DTSTAMP:20260420T095302Z
SUMMARY:ULTRAS vs. UNTOUCHABLE
DESCRIPTION:UNTOUCHABLE vs. ULTRASMore info: #15
X-ALT-DESC;FMTTYPE=text/html:<!DOCTYPE HTML PUBLIC "-//W3C//DTD HTML 3.2//E
	N">\n<HTML>\n<HEAD>\n<TITLE></TITLE>\n</HEAD>\n<BODY>\n<h3>UNTOUCHABLE vs. 
	ULTRAS</h3>More info: <a href="https://www.golnetwork.com/game/v/57987/">#1
	5</a>\n\n</BODY>\n</HTML>
STATUS:CONFIRMED
CLASS:PUBLIC
URL:https://www.golnetwork.com/game/v/57987/
X-MICROSOFT-CDO-BUSYSTATUS:BUSY
X-MICROSOFT-CDO-IMPORTANCE:1
END:VEVENT
BEGIN:VEVENT
UID:g5qmd@games.golnetwork.com
LOCATION:gymnase CS-R020
GEO:45.5120231;-73.5596361
CREATED:20140929T180622Z
DTSTART:20141028T001500Z
DTEND:20141028T011000Z
DTSTAMP:20260420T095302Z
SUMMARY:ULTRAS vs. LAKERS
DESCRIPTION:LAKERS vs. ULTRASMore info: #16
X-ALT-DESC;FMTTYPE=text/html:<!DOCTYPE HTML PUBLIC "-//W3C//DTD HTML 3.2//E
	N">\n<HTML>\n<HEAD>\n<TITLE></TITLE>\n</HEAD>\n<BODY>\n<h3>LAKERS vs. ULTRA
	S</h3>More info: <a href="https://www.golnetwork.com/game/v/57989/">#16</a>
	\n\n</BODY>\n</HTML>
STATUS:CONFIRMED
CLASS:PUBLIC
URL:https://www.golnetwork.com/game/v/57989/
X-MICROSOFT-CDO-BUSYSTATUS:BUSY
X-MICROSOFT-CDO-IMPORTANCE:1
END:VEVENT
BEGIN:VEVENT
UID:g5qmb@games.golnetwork.com
LOCATION:multisports #1
GEO:45.5120231;-73.5596361
CREATED:20140929T180611Z
DTSTART:20141028T013000Z
DTEND:20141028T022500Z
DTSTAMP:20260420T095302Z
SUMMARY:RAINMAKERZ vs. UNTOUCHABLE
DESCRIPTION:UNTOUCHABLE vs. RAINMAKERZMore info: #17
X-ALT-DESC;FMTTYPE=text/html:<!DOCTYPE HTML PUBLIC "-//W3C//DTD HTML 3.2//E
	N">\n<HTML>\n<HEAD>\n<TITLE></TITLE>\n</HEAD>\n<BODY>\n<h3>UNTOUCHABLE vs. 
	RAINMAKERZ</h3>More info: <a href="https://www.golnetwork.com/game/v/57988/
	">#17</a>\n\n</BODY>\n</HTML>
STATUS:CONFIRMED
CLASS:PUBLIC
URL:https://www.golnetwork.com/game/v/57988/
X-MICROSOFT-CDO-BUSYSTATUS:BUSY
X-MICROSOFT-CDO-IMPORTANCE:1
END:VEVENT
BEGIN:VEVENT
UID:g5qmf@games.golnetwork.com
LOCATION:gymnase CS-R020
GEO:45.5120231;-73.5596361
CREATED:20140929T180636Z
DTSTART:20141028T013000Z
DTEND:20141028T022500Z
DTSTAMP:20260420T095302Z
SUMMARY:WARRIORS vs. LES ORANGES
DESCRIPTION:LES ORANGES vs. WARRIORSMore info: #19
X-ALT-DESC;FMTTYPE=text/html:<!DOCTYPE HTML PUBLIC "-//W3C//DTD HTML 3.2//E
	N">\n<HTML>\n<HEAD>\n<TITLE></TITLE>\n</HEAD>\n<BODY>\n<h3>LES ORANGES vs. 
	WARRIORS</h3>More info: <a href="https://www.golnetwork.com/game/v/57990/">
	#19</a>\n\n</BODY>\n</HTML>
STATUS:CONFIRMED
CLASS:PUBLIC
URL:https://www.golnetwork.com/game/v/57990/
X-MICROSOFT-CDO-BUSYSTATUS:BUSY
X-MICROSOFT-CDO-IMPORTANCE:1
END:VEVENT
BEGIN:VEVENT
UID:g5qmj@games.golnetwork.com
LOCATION:gymnase CS-R020
GEO:45.5120231;-73.5596361
CREATED:20140929T180711Z
DTSTART:20141104T011500Z
DTEND:20141104T021000Z
DTSTAMP:20260420T095302Z
SUMMARY:RAINMAKERZ vs. LES ORANGES
DESCRIPTION:LES ORANGES vs. RAINMAKERZMore info: #21
X-ALT-DESC;FMTTYPE=text/html:<!DOCTYPE HTML PUBLIC "-//W3C//DTD HTML 3.2//E
	N">\n<HTML>\n<HEAD>\n<TITLE></TITLE>\n</HEAD>\n<BODY>\n<h3>LES ORANGES vs. 
	RAINMAKERZ</h3>More info: <a href="https://www.golnetwork.com/game/v/57992/
	">#21</a>\n\n</BODY>\n</HTML>
STATUS:CONFIRMED
CLASS:PUBLIC
URL:https://www.golnetwork.com/game/v/57992/
X-MICROSOFT-CDO-BUSYSTATUS:BUSY
X-MICROSOFT-CDO-IMPORTANCE:1
END:VEVENT
BEGIN:VEVENT
UID:g5qmh@games.golnetwork.com
LOCATION:multisports #1
GEO:45.5120231;-73.5596361
CREATED:20140929T180656Z
DTSTART:20141104T023000Z
DTEND:20141104T032500Z
DTSTAMP:20260420T095302Z
SUMMARY:WARRIORS vs. ULTRAS
DESCRIPTION:ULTRAS vs. WARRIORSMore info: #22
X-ALT-DESC;FMTTYPE=text/html:<!DOCTYPE HTML PUBLIC "-//W3C//DTD HTML 3.2//E
	N">\n<HTML>\n<HEAD>\n<TITLE></TITLE>\n</HEAD>\n<BODY>\n<h3>ULTRAS vs. WARRI
	ORS</h3>More info: <a href="https://www.golnetwork.com/game/v/57991/">#22</
	a>\n\n</BODY>\n</HTML>
STATUS:CONFIRMED
CLASS:PUBLIC
URL:https://www.golnetwork.com/game/v/57991/
X-MICROSOFT-CDO-BUSYSTATUS:BUSY
X-MICROSOFT-CDO-IMPORTANCE:1
END:VEVENT
BEGIN:VEVENT
UID:g5qml@games.golnetwork.com
LOCATION:gymnase CS-R020
GEO:45.5120231;-73.5596361
CREATED:20140929T180721Z
DTSTART:20141104T023000Z
DTEND:20141104T032500Z
DTSTAMP:20260420T095302Z
SUMMARY:LAKERS vs. UNTOUCHABLE
DESCRIPTION:UNTOUCHABLE vs. LAKERSMore info: #24
X-ALT-DESC;FMTTYPE=text/html:<!DOCTYPE HTML PUBLIC "-//W3C//DTD HTML 3.2//E
	N">\n<HTML>\n<HEAD>\n<TITLE></TITLE>\n</HEAD>\n<BODY>\n<h3>UNTOUCHABLE vs. 
	LAKERS</h3>More info: <a href="https://www.golnetwork.com/game/v/57993/">#2
	4</a>\n\n</BODY>\n</HTML>
STATUS:CONFIRMED
CLASS:PUBLIC
URL:https://www.golnetwork.com/game/v/57993/
X-MICROSOFT-CDO-BUSYSTATUS:BUSY
X-MICROSOFT-CDO-IMPORTANCE:1
END:VEVENT
BEGIN:VEVENT
UID:g5qmp@games.golnetwork.com
LOCATION:gymnase CS-R020
GEO:45.5120231;-73.5596361
CREATED:20140929T180745Z
DTSTART:20141111T011500Z
DTEND:20141111T021000Z
DTSTAMP:20260420T095302Z
SUMMARY:WARRIORS vs. UNTOUCHABLE
DESCRIPTION:UNTOUCHABLE vs. WARRIORSMore info: #26
X-ALT-DESC;FMTTYPE=text/html:<!DOCTYPE HTML PUBLIC "-//W3C//DTD HTML 3.2//E
	N">\n<HTML>\n<HEAD>\n<TITLE></TITLE>\n</HEAD>\n<BODY>\n<h3>UNTOUCHABLE vs. 
	WARRIORS</h3>More info: <a href="https://www.golnetwork.com/game/v/57995/">
	#26</a>\n\n</BODY>\n</HTML>
STATUS:CONFIRMED
CLASS:PUBLIC
URL:https://www.golnetwork.com/game/v/57995/
X-MICROSOFT-CDO-BUSYSTATUS:BUSY
X-MICROSOFT-CDO-IMPORTANCE:1
END:VEVENT
BEGIN:VEVENT
UID:g5qmn@games.golnetwork.com
LOCATION:multisports #1
GEO:45.5120231;-73.5596361
CREATED:20140929T180732Z
DTSTART:20141111T023000Z
DTEND:20141111T032500Z
DTSTAMP:20260420T095302Z
SUMMARY:RAINMAKERZ vs. LAKERS
DESCRIPTION:LAKERS vs. RAINMAKERZMore info: #27
X-ALT-DESC;FMTTYPE=text/html:<!DOCTYPE HTML PUBLIC "-//W3C//DTD HTML 3.2//E
	N">\n<HTML>\n<HEAD>\n<TITLE></TITLE>\n</HEAD>\n<BODY>\n<h3>LAKERS vs. RAINM
	AKERZ</h3>More info: <a href="https://www.golnetwork.com/game/v/57994/">#27
	</a>\n\n</BODY>\n</HTML>
STATUS:CONFIRMED
CLASS:PUBLIC
URL:https://www.golnetwork.com/game/v/57994/
X-MICROSOFT-CDO-BUSYSTATUS:BUSY
X-MICROSOFT-CDO-IMPORTANCE:1
END:VEVENT
BEGIN:VEVENT
UID:g5qn0@games.golnetwork.com
LOCATION:gymnase CS-R020
GEO:45.5120231;-73.5596361
CREATED:20140929T180802Z
DTSTART:20141111T023000Z
DTEND:20141111T032500Z
DTSTAMP:20260420T095302Z
SUMMARY:ULTRAS vs. LES ORANGES
DESCRIPTION:LES ORANGES vs. ULTRASMore info: #29
X-ALT-DESC;FMTTYPE=text/html:<!DOCTYPE HTML PUBLIC "-//W3C//DTD HTML 3.2//E
	N">\n<HTML>\n<HEAD>\n<TITLE></TITLE>\n</HEAD>\n<BODY>\n<h3>LES ORANGES vs. 
	ULTRAS</h3>More info: <a href="https://www.golnetwork.com/game/v/57996/">#2
	9</a>\n\n</BODY>\n</HTML>
STATUS:CONFIRMED
CLASS:PUBLIC
URL:https://www.golnetwork.com/game/v/57996/
X-MICROSOFT-CDO-BUSYSTATUS:BUSY
X-MICROSOFT-CDO-IMPORTANCE:1
END:VEVENT
BEGIN:VEVENT
UID:g5qn2@games.golnetwork.com
LOCATION:multisports #1
GEO:45.5120231;-73.5596361
CREATED:20140929T180819Z
DTSTART:20141118T023000Z
DTEND:20141118T032500Z
DTSTAMP:20260420T095302Z
SUMMARY:ULTRAS vs. RAINMAKERZ
DESCRIPTION:RAINMAKERZ vs. ULTRASMore info: #32
X-ALT-DESC;FMTTYPE=text/html:<!DOCTYPE HTML PUBLIC "-//W3C//DTD HTML 3.2//E
	N">\n<HTML>\n<HEAD>\n<TITLE></TITLE>\n</HEAD>\n<BODY>\n<h3>RAINMAKERZ vs. U
	LTRAS</h3>More info: <a href="https://www.golnetwork.com/game/v/57997/">#32
	</a>\n\n</BODY>\n</HTML>
STATUS:CONFIRMED
CLASS:PUBLIC
URL:https://www.golnetwork.com/game/v/57997/
X-MICROSOFT-CDO-BUSYSTATUS:BUSY
X-MICROSOFT-CDO-IMPORTANCE:1
END:VEVENT
BEGIN:VEVENT
UID:g5qn4@games.golnetwork.com
LOCATION:multisports #2
GEO:45.5120231;-73.5596361
CREATED:20140929T180829Z
DTSTART:20141118T023000Z
DTEND:20141118T032500Z
DTSTAMP:20260420T095302Z
SUMMARY:WARRIORS vs. LAKERS
DESCRIPTION:LAKERS vs. WARRIORSMore info: #33
X-ALT-DESC;FMTTYPE=text/html:<!DOCTYPE HTML PUBLIC "-//W3C//DTD HTML 3.2//E
	N">\n<HTML>\n<HEAD>\n<TITLE></TITLE>\n</HEAD>\n<BODY>\n<h3>LAKERS vs. WARRI
	ORS</h3>More info: <a href="https://www.golnetwork.com/game/v/57998/">#33</
	a>\n\n</BODY>\n</HTML>
STATUS:CONFIRMED
CLASS:PUBLIC
URL:https://www.golnetwork.com/game/v/57998/
X-MICROSOFT-CDO-BUSYSTATUS:BUSY
X-MICROSOFT-CDO-IMPORTANCE:1
END:VEVENT
BEGIN:VEVENT
UID:g5qn6@games.golnetwork.com
LOCATION:multisports #3
GEO:45.5120231;-73.5596361
CREATED:20140929T180837Z
DTSTART:20141118T023000Z
DTEND:20141118T032500Z
DTSTAMP:20260420T095302Z
SUMMARY:LES ORANGES vs. UNTOUCHABLE
DESCRIPTION:UNTOUCHABLE vs. LES ORANGESMore info: #35
X-ALT-DESC;FMTTYPE=text/html:<!DOCTYPE HTML PUBLIC "-//W3C//DTD HTML 3.2//E
	N">\n<HTML>\n<HEAD>\n<TITLE></TITLE>\n</HEAD>\n<BODY>\n<h3>UNTOUCHABLE vs. 
	LES ORANGES</h3>More info: <a href="https://www.golnetwork.com/game/v/57999
	/">#35</a>\n\n</BODY>\n</HTML>
STATUS:CONFIRMED
CLASS:PUBLIC
URL:https://www.golnetwork.com/game/v/57999/
X-MICROSOFT-CDO-BUSYSTATUS:BUSY
X-MICROSOFT-CDO-IMPORTANCE:1
END:VEVENT
BEGIN:VEVENT
UID:g5qn8@games.golnetwork.com
LOCATION:multisports #1
GEO:45.5120231;-73.5596361
CREATED:20140929T180852Z
DTSTART:20141125T023000Z
DTEND:20141125T032500Z
DTSTAMP:20260420T095302Z
SUMMARY:ULTRAS vs. UNTOUCHABLE
DESCRIPTION:UNTOUCHABLE vs. ULTRASMore info: #37
X-ALT-DESC;FMTTYPE=text/html:<!DOCTYPE HTML PUBLIC "-//W3C//DTD HTML 3.2//E
	N">\n<HTML>\n<HEAD>\n<TITLE></TITLE>\n</HEAD>\n<BODY>\n<h3>UNTOUCHABLE vs. 
	ULTRAS</h3>More info: <a href="https://www.golnetwork.com/game/v/58000/">#3
	7</a>\n\n</BODY>\n</HTML>
STATUS:CONFIRMED
CLASS:PUBLIC
URL:https://www.golnetwork.com/game/v/58000/
X-MICROSOFT-CDO-BUSYSTATUS:BUSY
X-MICROSOFT-CDO-IMPORTANCE:1
END:VEVENT
BEGIN:VEVENT
UID:g5qna@games.golnetwork.com
LOCATION:multisports #2
GEO:45.5120231;-73.5596361
CREATED:20140929T180903Z
DTSTART:20141125T023000Z
DTEND:20141125T032500Z
DTSTAMP:20260420T095302Z
SUMMARY:WARRIORS vs. RAINMAKERZ
DESCRIPTION:RAINMAKERZ vs. WARRIORSMore info: #38
X-ALT-DESC;FMTTYPE=text/html:<!DOCTYPE HTML PUBLIC "-//W3C//DTD HTML 3.2//E
	N">\n<HTML>\n<HEAD>\n<TITLE></TITLE>\n</HEAD>\n<BODY>\n<h3>RAINMAKERZ vs. W
	ARRIORS</h3>More info: <a href="https://www.golnetwork.com/game/v/58001/">#
	38</a>\n\n</BODY>\n</HTML>
STATUS:CONFIRMED
CLASS:PUBLIC
URL:https://www.golnetwork.com/game/v/58001/
X-MICROSOFT-CDO-BUSYSTATUS:BUSY
X-MICROSOFT-CDO-IMPORTANCE:1
END:VEVENT
BEGIN:VEVENT
UID:g5qnc@games.golnetwork.com
LOCATION:multisports #3
GEO:45.5120231;-73.5596361
CREATED:20140929T180912Z
DTSTART:20141125T023000Z
DTEND:20141125T032500Z
DTSTAMP:20260420T095302Z
SUMMARY:LAKERS vs. LES ORANGES
DESCRIPTION:LES ORANGES vs. LAKERSMore info: #40
X-ALT-DESC;FMTTYPE=text/html:<!DOCTYPE HTML PUBLIC "-//W3C//DTD HTML 3.2//E
	N">\n<HTML>\n<HEAD>\n<TITLE></TITLE>\n</HEAD>\n<BODY>\n<h3>LES ORANGES vs. 
	LAKERS</h3>More info: <a href="https://www.golnetwork.com/game/v/58002/">#4
	0</a>\n\n</BODY>\n</HTML>
STATUS:CONFIRMED
CLASS:PUBLIC
URL:https://www.golnetwork.com/game/v/58002/
X-MICROSOFT-CDO-BUSYSTATUS:BUSY
X-MICROSOFT-CDO-IMPORTANCE:1
END:VEVENT
END:VCALENDAR
