BEGIN:VCALENDAR
PRODID:-//gdesolutions.com//MV Framework 1.0.0.1607 Calendar//EN
VERSION:2.0
METHOD:PUBLISH
CALSCALE:GREGORIAN
BEGIN:VEVENT
UID:g614n@games.golnetwork.com
LOCATION:Ben Weider #1
GEO:45.488223;-73.634105
CREATED:20141005T203753Z
DTSTART:20150312T003000Z
DTEND:20150312T013000Z
DTSTAMP:20260420T091809Z
SUMMARY:SHEIN vs. BEN BRITH
DESCRIPTION:BEN BRITH vs. SHEINMore info: #114
X-ALT-DESC;FMTTYPE=text/html:<!DOCTYPE HTML PUBLIC "-//W3C//DTD HTML 3.2//E
	N">\n<HTML>\n<HEAD>\n<TITLE></TITLE>\n</HEAD>\n<BODY>\n<h3>BEN BRITH vs. SH
	EIN</h3>More info: <a href="https://www.golnetwork.com/game/v/58480/">#114<
	/a>\n\n</BODY>\n</HTML>
STATUS:CONFIRMED
CLASS:PUBLIC
URL:https://www.golnetwork.com/game/v/58480/
X-MICROSOFT-CDO-BUSYSTATUS:BUSY
X-MICROSOFT-CDO-IMPORTANCE:1
END:VEVENT
BEGIN:VEVENT
UID:g614l@games.golnetwork.com
LOCATION:Ben Weider #1
GEO:45.488223;-73.634105
CREATED:20141005T203753Z
DTSTART:20150312T003000Z
DTEND:20150312T013000Z
DTSTAMP:20260420T091809Z
SUMMARY:GOLD vs. SZWARCOK
DESCRIPTION:SZWARCOK vs. GOLDMore info: #115
X-ALT-DESC;FMTTYPE=text/html:<!DOCTYPE HTML PUBLIC "-//W3C//DTD HTML 3.2//E
	N">\n<HTML>\n<HEAD>\n<TITLE></TITLE>\n</HEAD>\n<BODY>\n<h3>SZWARCOK vs. GOL
	D</h3>More info: <a href="https://www.golnetwork.com/game/v/58479/">#115</a
	>\n\n</BODY>\n</HTML>
STATUS:CONFIRMED
CLASS:PUBLIC
URL:https://www.golnetwork.com/game/v/58479/
X-MICROSOFT-CDO-BUSYSTATUS:BUSY
X-MICROSOFT-CDO-IMPORTANCE:1
END:VEVENT
BEGIN:VEVENT
UID:g614p@games.golnetwork.com
LOCATION:Ben Weider #1
GEO:45.488223;-73.634105
CREATED:20141005T203753Z
DTSTART:20150312T013000Z
DTEND:20150312T023000Z
DTSTAMP:20260420T091809Z
SUMMARY:FRUCHTERMANN vs. DDO
DESCRIPTION:DDO vs. FRUCHTERMANNMore info: #117
X-ALT-DESC;FMTTYPE=text/html:<!DOCTYPE HTML PUBLIC "-//W3C//DTD HTML 3.2//E
	N">\n<HTML>\n<HEAD>\n<TITLE></TITLE>\n</HEAD>\n<BODY>\n<h3>DDO vs. FRUCHTER
	MANN</h3>More info: <a href="https://www.golnetwork.com/game/v/58481/">#117
	</a>\n\n</BODY>\n</HTML>
STATUS:CONFIRMED
CLASS:PUBLIC
URL:https://www.golnetwork.com/game/v/58481/
X-MICROSOFT-CDO-BUSYSTATUS:BUSY
X-MICROSOFT-CDO-IMPORTANCE:1
END:VEVENT
BEGIN:VEVENT
UID:g6150@games.golnetwork.com
LOCATION:Ben Weider #1
GEO:45.488223;-73.634105
CREATED:20141005T203753Z
DTSTART:20150312T013000Z
DTEND:20150312T023000Z
DTSTAMP:20260420T091809Z
SUMMARY:LACKMAN vs. BERALL
DESCRIPTION:BERALL vs. LACKMANMore info: #118
X-ALT-DESC;FMTTYPE=text/html:<!DOCTYPE HTML PUBLIC "-//W3C//DTD HTML 3.2//E
	N">\n<HTML>\n<HEAD>\n<TITLE></TITLE>\n</HEAD>\n<BODY>\n<h3>BERALL vs. LACKM
	AN</h3>More info: <a href="https://www.golnetwork.com/game/v/58482/">#118</
	a>\n\n</BODY>\n</HTML>
STATUS:CONFIRMED
CLASS:PUBLIC
URL:https://www.golnetwork.com/game/v/58482/
X-MICROSOFT-CDO-BUSYSTATUS:BUSY
X-MICROSOFT-CDO-IMPORTANCE:1
END:VEVENT
BEGIN:VEVENT
UID:g6154@games.golnetwork.com
LOCATION:Bialik - Court #1
GEO:45.4792109;-73.6584172
CREATED:20141005T203753Z
DTSTART:20150318T231500Z
DTEND:20150319T001500Z
DTSTAMP:20260420T091809Z
SUMMARY:SZWARCOK vs. DDO
DESCRIPTION:DDO vs. SZWARCOKMore info: #119
X-ALT-DESC;FMTTYPE=text/html:<!DOCTYPE HTML PUBLIC "-//W3C//DTD HTML 3.2//E
	N">\n<HTML>\n<HEAD>\n<TITLE></TITLE>\n</HEAD>\n<BODY>\n<h3>DDO vs. SZWARCOK
	</h3>More info: <a href="https://www.golnetwork.com/game/v/58484/">#119</a>
	\n\n</BODY>\n</HTML>
STATUS:CONFIRMED
CLASS:PUBLIC
URL:https://www.golnetwork.com/game/v/58484/
X-MICROSOFT-CDO-BUSYSTATUS:BUSY
X-MICROSOFT-CDO-IMPORTANCE:1
END:VEVENT
BEGIN:VEVENT
UID:g6152@games.golnetwork.com
LOCATION:Bialik - Court #1
GEO:45.4792109;-73.6584172
CREATED:20141005T203753Z
DTSTART:20150319T003000Z
DTEND:20150319T013000Z
DTSTAMP:20260420T091809Z
SUMMARY:BERALL vs. BEN BRITH
DESCRIPTION:BEN BRITH vs. BERALLMore info: #120
X-ALT-DESC;FMTTYPE=text/html:<!DOCTYPE HTML PUBLIC "-//W3C//DTD HTML 3.2//E
	N">\n<HTML>\n<HEAD>\n<TITLE></TITLE>\n</HEAD>\n<BODY>\n<h3>BEN BRITH vs. BE
	RALL</h3>More info: <a href="https://www.golnetwork.com/game/v/58483/">#120
	</a>\n\n</BODY>\n</HTML>
STATUS:CONFIRMED
CLASS:PUBLIC
URL:https://www.golnetwork.com/game/v/58483/
X-MICROSOFT-CDO-BUSYSTATUS:BUSY
X-MICROSOFT-CDO-IMPORTANCE:1
END:VEVENT
BEGIN:VEVENT
UID:g6156@games.golnetwork.com
LOCATION:Bialik - Court #1
GEO:45.4792109;-73.6584172
CREATED:20141005T203753Z
DTSTART:20150402T003000Z
DTEND:20150402T013000Z
DTSTAMP:20260420T091809Z
SUMMARY:SZWARCOK vs. BEN BRITH
DESCRIPTION:BEN BRITH vs. SZWARCOKMore info: #124
X-ALT-DESC;FMTTYPE=text/html:<!DOCTYPE HTML PUBLIC "-//W3C//DTD HTML 3.2//E
	N">\n<HTML>\n<HEAD>\n<TITLE></TITLE>\n</HEAD>\n<BODY>\n<h3>BEN BRITH vs. SZ
	WARCOK</h3>More info: <a href="https://www.golnetwork.com/game/v/58485/">#1
	24</a>\n\n</BODY>\n</HTML>
STATUS:CONFIRMED
CLASS:PUBLIC
URL:https://www.golnetwork.com/game/v/58485/
X-MICROSOFT-CDO-BUSYSTATUS:BUSY
X-MICROSOFT-CDO-IMPORTANCE:1
END:VEVENT
END:VCALENDAR
