BEGIN:VCALENDAR
PRODID:-//gdesolutions.com//MV Framework 1.0.0.1607 Calendar//EN
VERSION:2.0
METHOD:PUBLISH
CALSCALE:GREGORIAN
BEGIN:VEVENT
UID:g6a00@games.golnetwork.com
LOCATION:Louis Riel #2
GEO:45.4410208;-75.5715394
CREATED:20141121T182859Z
DTSTART:20141128T010000Z
DTEND:20141128T015000Z
DTSTAMP:20260425T221218Z
SUMMARY:Cornerstone FC vs. Foot Loose FC
DESCRIPTION:Foot Loose FC vs. Cornerstone FCMore info: #162
X-ALT-DESC;FMTTYPE=text/html:<!DOCTYPE HTML PUBLIC "-//W3C//DTD HTML 3.2//E
	N">\n<HTML>\n<HEAD>\n<TITLE></TITLE>\n</HEAD>\n<BODY>\n<h3>Foot Loose FC vs
	. Cornerstone FC</h3>More info: <a href="https://www.golnetwork.com/game/v/
	61695/">#162</a>\n\n</BODY>\n</HTML>
STATUS:CONFIRMED
CLASS:PUBLIC
URL:https://www.golnetwork.com/game/v/61695/
X-MICROSOFT-CDO-BUSYSTATUS:BUSY
X-MICROSOFT-CDO-IMPORTANCE:1
END:VEVENT
BEGIN:VEVENT
UID:g6a04@games.golnetwork.com
LOCATION:Louis Riel #1
GEO:45.4410208;-75.5715394
CREATED:20141121T183011Z
DTSTART:20141128T020000Z
DTEND:20141128T025000Z
DTSTAMP:20260425T221218Z
SUMMARY:JFC vs. Arsenanal FC
DESCRIPTION:Arsenanal FC vs. JFCMore info: #166
X-ALT-DESC;FMTTYPE=text/html:<!DOCTYPE HTML PUBLIC "-//W3C//DTD HTML 3.2//E
	N">\n<HTML>\n<HEAD>\n<TITLE></TITLE>\n</HEAD>\n<BODY>\n<h3>Arsenanal FC vs.
	 JFC</h3>More info: <a href="https://www.golnetwork.com/game/v/61697/">#166
	</a>\n\n</BODY>\n</HTML>
STATUS:CONFIRMED
CLASS:PUBLIC
URL:https://www.golnetwork.com/game/v/61697/
X-MICROSOFT-CDO-BUSYSTATUS:BUSY
X-MICROSOFT-CDO-IMPORTANCE:1
END:VEVENT
BEGIN:VEVENT
UID:g6a06@games.golnetwork.com
LOCATION:Louis Riel #1
GEO:45.4410208;-75.5715394
CREATED:20141121T183557Z
DTSTART:20141128T030000Z
DTEND:20141128T035000Z
DTSTAMP:20260425T221218Z
SUMMARY:Missile-toe vs. Death before Decaf
DESCRIPTION:Death before Decaf vs. Missile-toeMore info: #171
X-ALT-DESC;FMTTYPE=text/html:<!DOCTYPE HTML PUBLIC "-//W3C//DTD HTML 3.2//E
	N">\n<HTML>\n<HEAD>\n<TITLE></TITLE>\n</HEAD>\n<BODY>\n<h3>Death before Dec
	af vs. Missile-toe</h3>More info: <a href="https://www.golnetwork.com/game/
	v/61698/">#171</a>\n\n</BODY>\n</HTML>
STATUS:CONFIRMED
CLASS:PUBLIC
URL:https://www.golnetwork.com/game/v/61698/
X-MICROSOFT-CDO-BUSYSTATUS:BUSY
X-MICROSOFT-CDO-IMPORTANCE:1
END:VEVENT
BEGIN:VEVENT
UID:g6a02@games.golnetwork.com
LOCATION:Louis Riel #1
GEO:45.4410208;-75.5715394
CREATED:20141121T182939Z
DTSTART:20141128T040000Z
DTEND:20141128T045000Z
DTSTAMP:20260425T221218Z
SUMMARY:Team Doug vs. Fm FC
DESCRIPTION:Fm FC vs. Team DougMore info: #175
X-ALT-DESC;FMTTYPE=text/html:<!DOCTYPE HTML PUBLIC "-//W3C//DTD HTML 3.2//E
	N">\n<HTML>\n<HEAD>\n<TITLE></TITLE>\n</HEAD>\n<BODY>\n<h3>Fm FC vs. Team D
	oug</h3>More info: <a href="https://www.golnetwork.com/game/v/61696/">#175<
	/a>\n\n</BODY>\n</HTML>
STATUS:CONFIRMED
CLASS:PUBLIC
URL:https://www.golnetwork.com/game/v/61696/
X-MICROSOFT-CDO-BUSYSTATUS:BUSY
X-MICROSOFT-CDO-IMPORTANCE:1
END:VEVENT
BEGIN:VEVENT
UID:g6aa2@games.golnetwork.com
LOCATION:Louis Riel #2
GEO:45.4410208;-75.5715394
CREATED:20141201T000638Z
DTSTART:20141205T010000Z
DTEND:20141205T015000Z
DTSTAMP:20260425T221218Z
SUMMARY:Missile-toe vs. Fm FC
DESCRIPTION:Fm FC vs. Missile-toeMore info: #179
X-ALT-DESC;FMTTYPE=text/html:<!DOCTYPE HTML PUBLIC "-//W3C//DTD HTML 3.2//E
	N">\n<HTML>\n<HEAD>\n<TITLE></TITLE>\n</HEAD>\n<BODY>\n<h3>Fm FC vs. Missil
	e-toe</h3>More info: <a href="https://www.golnetwork.com/game/v/61831/">#17
	9</a>\n\n</BODY>\n</HTML>
STATUS:CONFIRMED
CLASS:PUBLIC
URL:https://www.golnetwork.com/game/v/61831/
X-MICROSOFT-CDO-BUSYSTATUS:BUSY
X-MICROSOFT-CDO-IMPORTANCE:1
END:VEVENT
BEGIN:VEVENT
UID:g6a9p@games.golnetwork.com
LOCATION:Louis Riel #1
GEO:45.4410208;-75.5715394
CREATED:20141201T000505Z
DTSTART:20141205T020000Z
DTEND:20141205T025000Z
DTSTAMP:20260425T221218Z
SUMMARY:Arsenanal FC vs. Death before Decaf
DESCRIPTION:Death before Decaf vs. Arsenanal FCMore info: #183
X-ALT-DESC;FMTTYPE=text/html:<!DOCTYPE HTML PUBLIC "-//W3C//DTD HTML 3.2//E
	N">\n<HTML>\n<HEAD>\n<TITLE></TITLE>\n</HEAD>\n<BODY>\n<h3>Death before Dec
	af vs. Arsenanal FC</h3>More info: <a href="https://www.golnetwork.com/game
	/v/61829/">#183</a>\n\n</BODY>\n</HTML>
STATUS:CONFIRMED
CLASS:PUBLIC
URL:https://www.golnetwork.com/game/v/61829/
X-MICROSOFT-CDO-BUSYSTATUS:BUSY
X-MICROSOFT-CDO-IMPORTANCE:1
END:VEVENT
BEGIN:VEVENT
UID:g6aa4@games.golnetwork.com
LOCATION:Louis Riel #1
GEO:45.4410208;-75.5715394
CREATED:20141201T000712Z
DTSTART:20141205T030000Z
DTEND:20141205T035000Z
DTSTAMP:20260425T221218Z
SUMMARY:JFC vs. Cornerstone FC
DESCRIPTION:Cornerstone FC vs. JFCMore info: #187
X-ALT-DESC;FMTTYPE=text/html:<!DOCTYPE HTML PUBLIC "-//W3C//DTD HTML 3.2//E
	N">\n<HTML>\n<HEAD>\n<TITLE></TITLE>\n</HEAD>\n<BODY>\n<h3>Cornerstone FC v
	s. JFC</h3>More info: <a href="https://www.golnetwork.com/game/v/61832/">#1
	87</a>\n\n</BODY>\n</HTML>
STATUS:CONFIRMED
CLASS:PUBLIC
URL:https://www.golnetwork.com/game/v/61832/
X-MICROSOFT-CDO-BUSYSTATUS:BUSY
X-MICROSOFT-CDO-IMPORTANCE:1
END:VEVENT
BEGIN:VEVENT
UID:g6amc@games.golnetwork.com
LOCATION:Louis Riel #3
GEO:45.4410208;-75.5715394
CREATED:20141207T173817Z
DTSTART:20141212T000000Z
DTEND:20141212T005000Z
DTSTAMP:20260425T221218Z
SUMMARY:Foot Loose FC vs. Team Doug
DESCRIPTION:Team Doug vs. Foot Loose FCMore info: #195
X-ALT-DESC;FMTTYPE=text/html:<!DOCTYPE HTML PUBLIC "-//W3C//DTD HTML 3.2//E
	N">\n<HTML>\n<HEAD>\n<TITLE></TITLE>\n</HEAD>\n<BODY>\n<h3>Team Doug vs. Fo
	ot Loose FC</h3>More info: <a href="https://www.golnetwork.com/game/v/61998
	/">#195</a>\n\n</BODY>\n</HTML>
STATUS:CONFIRMED
CLASS:PUBLIC
URL:https://www.golnetwork.com/game/v/61998/
X-MICROSOFT-CDO-BUSYSTATUS:BUSY
X-MICROSOFT-CDO-IMPORTANCE:1
END:VEVENT
BEGIN:VEVENT
UID:g6ame@games.golnetwork.com
LOCATION:Louis Riel #1
GEO:45.4410208;-75.5715394
CREATED:20141207T173855Z
DTSTART:20141212T020000Z
DTEND:20141212T025000Z
DTSTAMP:20260425T221218Z
SUMMARY:Foot Loose FC vs. Death before Decaf
DESCRIPTION:Death before Decaf vs. Foot Loose FCMore info: #200
X-ALT-DESC;FMTTYPE=text/html:<!DOCTYPE HTML PUBLIC "-//W3C//DTD HTML 3.2//E
	N">\n<HTML>\n<HEAD>\n<TITLE></TITLE>\n</HEAD>\n<BODY>\n<h3>Death before Dec
	af vs. Foot Loose FC</h3>More info: <a href="https://www.golnetwork.com/gam
	e/v/61999/">#200</a>\n\n</BODY>\n</HTML>
STATUS:CONFIRMED
CLASS:PUBLIC
URL:https://www.golnetwork.com/game/v/61999/
X-MICROSOFT-CDO-BUSYSTATUS:BUSY
X-MICROSOFT-CDO-IMPORTANCE:1
END:VEVENT
BEGIN:VEVENT
UID:g6aqg@games.golnetwork.com
LOCATION:Louis Riel #1
GEO:45.4410208;-75.5715394
CREATED:20141212T201134Z
DTSTART:20141212T030000Z
DTEND:20141212T035000Z
DTSTAMP:20260425T221218Z
SUMMARY:Team Doug vs. Arsenanal FC
DESCRIPTION:Arsenanal FC vs. Team DougMore info: #205
X-ALT-DESC;FMTTYPE=text/html:<!DOCTYPE HTML PUBLIC "-//W3C//DTD HTML 3.2//E
	N">\n<HTML>\n<HEAD>\n<TITLE></TITLE>\n</HEAD>\n<BODY>\n<h3>Arsenanal FC vs.
	 Team Doug</h3>More info: <a href="https://www.golnetwork.com/game/v/62054/
	">#205</a>\n\n</BODY>\n</HTML>
STATUS:CONFIRMED
CLASS:PUBLIC
URL:https://www.golnetwork.com/game/v/62054/
X-MICROSOFT-CDO-BUSYSTATUS:BUSY
X-MICROSOFT-CDO-IMPORTANCE:1
END:VEVENT
BEGIN:VEVENT
UID:g6anj@games.golnetwork.com
LOCATION:Louis Riel #2
GEO:45.4410208;-75.5715394
CREATED:20141207T174613Z
DTSTART:20141212T030000Z
DTEND:20141212T035000Z
DTSTAMP:20260425T221218Z
SUMMARY:Missile-toe vs. JFC
DESCRIPTION:JFC vs. Missile-toeMore info: #206
X-ALT-DESC;FMTTYPE=text/html:<!DOCTYPE HTML PUBLIC "-//W3C//DTD HTML 3.2//E
	N">\n<HTML>\n<HEAD>\n<TITLE></TITLE>\n</HEAD>\n<BODY>\n<h3>JFC vs. Missile-
	toe</h3>More info: <a href="https://www.golnetwork.com/game/v/62015/">#206<
	/a>\n\n</BODY>\n</HTML>
STATUS:CONFIRMED
CLASS:PUBLIC
URL:https://www.golnetwork.com/game/v/62015/
X-MICROSOFT-CDO-BUSYSTATUS:BUSY
X-MICROSOFT-CDO-IMPORTANCE:1
END:VEVENT
BEGIN:VEVENT
UID:g6and@games.golnetwork.com
LOCATION:Louis Riel #1
GEO:45.4410208;-75.5715394
CREATED:20141207T174457Z
DTSTART:20141212T040000Z
DTEND:20141212T045000Z
DTSTAMP:20260425T221218Z
SUMMARY:Cornerstone FC vs. Fm FC
DESCRIPTION:Fm FC vs. Cornerstone FCMore info: #211
X-ALT-DESC;FMTTYPE=text/html:<!DOCTYPE HTML PUBLIC "-//W3C//DTD HTML 3.2//E
	N">\n<HTML>\n<HEAD>\n<TITLE></TITLE>\n</HEAD>\n<BODY>\n<h3>Fm FC vs. Corner
	stone FC</h3>More info: <a href="https://www.golnetwork.com/game/v/62012/">
	#211</a>\n\n</BODY>\n</HTML>
STATUS:CONFIRMED
CLASS:PUBLIC
URL:https://www.golnetwork.com/game/v/62012/
X-MICROSOFT-CDO-BUSYSTATUS:BUSY
X-MICROSOFT-CDO-IMPORTANCE:1
END:VEVENT
END:VCALENDAR
