BEGIN:VCALENDAR
PRODID:-//gdesolutions.com//MV Framework 1.0.0.1607 Calendar//EN
VERSION:2.0
METHOD:PUBLISH
CALSCALE:GREGORIAN
BEGIN:VEVENT
UID:g6a9b@games.golnetwork.com
LOCATION:Ottawa Technical Secondary School Main Gym
GEO:45.4284404;-75.6469115
CREATED:20141130T220156Z
DTSTART:20141204T000000Z
DTEND:20141204T005000Z
DTSTAMP:20260421T221320Z
SUMMARY:Missile-toe vs. Ottawa United
DESCRIPTION:Ottawa United vs. Missile-toeMore info: #30
X-ALT-DESC;FMTTYPE=text/html:<!DOCTYPE HTML PUBLIC "-//W3C//DTD HTML 3.2//E
	N">\n<HTML>\n<HEAD>\n<TITLE></TITLE>\n</HEAD>\n<BODY>\n<h3>Ottawa United vs
	. Missile-toe</h3>More info: <a href="https://www.golnetwork.com/game/v/618
	22/">#30</a>\n\n</BODY>\n</HTML>
STATUS:CONFIRMED
CLASS:PUBLIC
URL:https://www.golnetwork.com/game/v/61822/
X-MICROSOFT-CDO-BUSYSTATUS:BUSY
X-MICROSOFT-CDO-IMPORTANCE:1
END:VEVENT
BEGIN:VEVENT
UID:g6a97@games.golnetwork.com
LOCATION:Annexe Trille Des Bois
GEO:45.4395952;-75.6706817
CREATED:20141130T220112Z
DTSTART:20141204T004500Z
DTEND:20141204T013500Z
DTSTAMP:20260421T221320Z
SUMMARY:Ball Busters vs. citymediacreation.com
DESCRIPTION:citymediacreation.com vs. Ball BustersMore info: #31
X-ALT-DESC;FMTTYPE=text/html:<!DOCTYPE HTML PUBLIC "-//W3C//DTD HTML 3.2//E
	N">\n<HTML>\n<HEAD>\n<TITLE></TITLE>\n</HEAD>\n<BODY>\n<h3>citymediacreatio
	n.com vs. Ball Busters</h3>More info: <a href="https://www.golnetwork.com/g
	ame/v/61820/">#31</a>\n\n</BODY>\n</HTML>
STATUS:CONFIRMED
CLASS:PUBLIC
URL:https://www.golnetwork.com/game/v/61820/
X-MICROSOFT-CDO-BUSYSTATUS:BUSY
X-MICROSOFT-CDO-IMPORTANCE:1
END:VEVENT
BEGIN:VEVENT
UID:g6a9d@games.golnetwork.com
LOCATION:Sainte-Marie Gym
GEO:45.4310527;-75.5662234
CREATED:20141130T220215Z
DTSTART:20141204T010000Z
DTEND:20141204T015000Z
DTSTAMP:20260421T221320Z
SUMMARY:The Ballers vs. Hesham's Team
DESCRIPTION:Hesham's Team vs. The BallersMore info: #32
X-ALT-DESC;FMTTYPE=text/html:<!DOCTYPE HTML PUBLIC "-//W3C//DTD HTML 3.2//E
	N">\n<HTML>\n<HEAD>\n<TITLE></TITLE>\n</HEAD>\n<BODY>\n<h3>Hesham's Team vs
	. The Ballers</h3>More info: <a href="https://www.golnetwork.com/game/v/618
	23/">#32</a>\n\n</BODY>\n</HTML>
STATUS:CONFIRMED
CLASS:PUBLIC
URL:https://www.golnetwork.com/game/v/61823/
X-MICROSOFT-CDO-BUSYSTATUS:BUSY
X-MICROSOFT-CDO-IMPORTANCE:1
END:VEVENT
BEGIN:VEVENT
UID:g6a99@games.golnetwork.com
LOCATION:Annexe Trille Des Bois
GEO:45.4395952;-75.6706817
CREATED:20141130T220135Z
DTSTART:20141204T014500Z
DTEND:20141204T023500Z
DTSTAMP:20260421T221320Z
SUMMARY:Green Machine vs. Jalapeno Hotties
DESCRIPTION:Jalapeno Hotties vs. Green MachineMore info: #33
X-ALT-DESC;FMTTYPE=text/html:<!DOCTYPE HTML PUBLIC "-//W3C//DTD HTML 3.2//E
	N">\n<HTML>\n<HEAD>\n<TITLE></TITLE>\n</HEAD>\n<BODY>\n<h3>Jalapeno Hotties
	 vs. Green Machine</h3>More info: <a href="https://www.golnetwork.com/game/
	v/61821/">#33</a>\n\n</BODY>\n</HTML>
STATUS:CONFIRMED
CLASS:PUBLIC
URL:https://www.golnetwork.com/game/v/61821/
X-MICROSOFT-CDO-BUSYSTATUS:BUSY
X-MICROSOFT-CDO-IMPORTANCE:1
END:VEVENT
BEGIN:VEVENT
UID:g6a9f@games.golnetwork.com
LOCATION:Annexe Trille Des Bois
GEO:45.4395952;-75.6706817
CREATED:20141130T220237Z
DTSTART:20141204T024500Z
DTEND:20141204T033500Z
DTSTAMP:20260421T221320Z
SUMMARY:Green Machine vs. Jalapeno Hotties
DESCRIPTION:Jalapeno Hotties vs. Green MachineMore info: #34
X-ALT-DESC;FMTTYPE=text/html:<!DOCTYPE HTML PUBLIC "-//W3C//DTD HTML 3.2//E
	N">\n<HTML>\n<HEAD>\n<TITLE></TITLE>\n</HEAD>\n<BODY>\n<h3>Jalapeno Hotties
	 vs. Green Machine</h3>More info: <a href="https://www.golnetwork.com/game/
	v/61824/">#34</a>\n\n</BODY>\n</HTML>
STATUS:CONFIRMED
CLASS:PUBLIC
URL:https://www.golnetwork.com/game/v/61824/
X-MICROSOFT-CDO-BUSYSTATUS:BUSY
X-MICROSOFT-CDO-IMPORTANCE:1
END:VEVENT
BEGIN:VEVENT
UID:g6am2@games.golnetwork.com
LOCATION:Ottawa Technical Secondary School Main Gym
GEO:45.4284404;-75.6469115
CREATED:20141206T180451Z
DTSTART:20141211T000000Z
DTEND:20141211T005000Z
DTSTAMP:20260421T221320Z
SUMMARY:The Ballers vs. Ottawa United
DESCRIPTION:Ottawa United vs. The BallersMore info: #35
X-ALT-DESC;FMTTYPE=text/html:<!DOCTYPE HTML PUBLIC "-//W3C//DTD HTML 3.2//E
	N">\n<HTML>\n<HEAD>\n<TITLE></TITLE>\n</HEAD>\n<BODY>\n<h3>Ottawa United vs
	. The Ballers</h3>More info: <a href="https://www.golnetwork.com/game/v/619
	93/">#35</a>\n\n</BODY>\n</HTML>
STATUS:CONFIRMED
CLASS:PUBLIC
URL:https://www.golnetwork.com/game/v/61993/
X-MICROSOFT-CDO-BUSYSTATUS:BUSY
X-MICROSOFT-CDO-IMPORTANCE:1
END:VEVENT
BEGIN:VEVENT
UID:g6am4@games.golnetwork.com
LOCATION:Annexe Trille Des Bois
GEO:45.4395952;-75.6706817
CREATED:20141206T180511Z
DTSTART:20141211T004500Z
DTEND:20141211T013500Z
DTSTAMP:20260421T221320Z
SUMMARY:Jalapeno Hotties vs. citymediacreation.com
DESCRIPTION:citymediacreation.com vs. Jalapeno HottiesMore info: #36
X-ALT-DESC;FMTTYPE=text/html:<!DOCTYPE HTML PUBLIC "-//W3C//DTD HTML 3.2//E
	N">\n<HTML>\n<HEAD>\n<TITLE></TITLE>\n</HEAD>\n<BODY>\n<h3>citymediacreatio
	n.com vs. Jalapeno Hotties</h3>More info: <a href="https://www.golnetwork.c
	om/game/v/61994/">#36</a>\n\n</BODY>\n</HTML>
STATUS:CONFIRMED
CLASS:PUBLIC
URL:https://www.golnetwork.com/game/v/61994/
X-MICROSOFT-CDO-BUSYSTATUS:BUSY
X-MICROSOFT-CDO-IMPORTANCE:1
END:VEVENT
BEGIN:VEVENT
UID:g6am8@games.golnetwork.com
LOCATION:Montfort
GEO:45.440619;-75.6304143
CREATED:20141206T180632Z
DTSTART:20141211T013000Z
DTEND:20141211T022000Z
DTSTAMP:20260421T221320Z
SUMMARY:Hesham's Team vs. Missile-toe
DESCRIPTION:Missile-toe vs. Hesham's TeamMore info: #37
X-ALT-DESC;FMTTYPE=text/html:<!DOCTYPE HTML PUBLIC "-//W3C//DTD HTML 3.2//E
	N">\n<HTML>\n<HEAD>\n<TITLE></TITLE>\n</HEAD>\n<BODY>\n<h3>Missile-toe vs. 
	Hesham's Team</h3>More info: <a href="https://www.golnetwork.com/game/v/619
	96/">#37</a>\n\n</BODY>\n</HTML>
STATUS:CONFIRMED
CLASS:PUBLIC
URL:https://www.golnetwork.com/game/v/61996/
X-MICROSOFT-CDO-BUSYSTATUS:BUSY
X-MICROSOFT-CDO-IMPORTANCE:1
END:VEVENT
BEGIN:VEVENT
UID:g6am6@games.golnetwork.com
LOCATION:Annexe Trille Des Bois
GEO:45.4395952;-75.6706817
CREATED:20141206T180622Z
DTSTART:20141211T014500Z
DTEND:20141211T023500Z
DTSTAMP:20260421T221320Z
SUMMARY:Green Machine vs. Ball Busters
DESCRIPTION:Ball Busters vs. Green MachineMore info: #38
X-ALT-DESC;FMTTYPE=text/html:<!DOCTYPE HTML PUBLIC "-//W3C//DTD HTML 3.2//E
	N">\n<HTML>\n<HEAD>\n<TITLE></TITLE>\n</HEAD>\n<BODY>\n<h3>Ball Busters vs.
	 Green Machine</h3>More info: <a href="https://www.golnetwork.com/game/v/61
	995/">#38</a>\n\n</BODY>\n</HTML>
STATUS:CONFIRMED
CLASS:PUBLIC
URL:https://www.golnetwork.com/game/v/61995/
X-MICROSOFT-CDO-BUSYSTATUS:BUSY
X-MICROSOFT-CDO-IMPORTANCE:1
END:VEVENT
BEGIN:VEVENT
UID:g6ama@games.golnetwork.com
LOCATION:Annexe Trille Des Bois
GEO:45.4395952;-75.6706817
CREATED:20141206T180651Z
DTSTART:20141211T024500Z
DTEND:20141211T033500Z
DTSTAMP:20260421T221320Z
SUMMARY:Missile-toe vs. Green Machine
DESCRIPTION:Green Machine vs. Missile-toeMore info: #39
X-ALT-DESC;FMTTYPE=text/html:<!DOCTYPE HTML PUBLIC "-//W3C//DTD HTML 3.2//E
	N">\n<HTML>\n<HEAD>\n<TITLE></TITLE>\n</HEAD>\n<BODY>\n<h3>Green Machine vs
	. Missile-toe</h3>More info: <a href="https://www.golnetwork.com/game/v/619
	97/">#39</a>\n\n</BODY>\n</HTML>
STATUS:CONFIRMED
CLASS:PUBLIC
URL:https://www.golnetwork.com/game/v/61997/
X-MICROSOFT-CDO-BUSYSTATUS:BUSY
X-MICROSOFT-CDO-IMPORTANCE:1
END:VEVENT
BEGIN:VEVENT
UID:g6b0p@games.golnetwork.com
LOCATION:Ottawa Technical Secondary School Main Gym
GEO:45.4284404;-75.6469115
CREATED:20141215T055711Z
DTSTART:20141218T000000Z
DTEND:20141218T005000Z
DTSTAMP:20260421T221320Z
SUMMARY:Jalapeno Hotties vs. Ottawa United
DESCRIPTION:Ottawa United vs. Jalapeno HottiesMore info: #40
X-ALT-DESC;FMTTYPE=text/html:<!DOCTYPE HTML PUBLIC "-//W3C//DTD HTML 3.2//E
	N">\n<HTML>\n<HEAD>\n<TITLE></TITLE>\n</HEAD>\n<BODY>\n<h3>Ottawa United vs
	. Jalapeno Hotties</h3>More info: <a href="https://www.golnetwork.com/game/
	v/62072/">#40</a>\n\n</BODY>\n</HTML>
STATUS:CONFIRMED
CLASS:PUBLIC
URL:https://www.golnetwork.com/game/v/62072/
X-MICROSOFT-CDO-BUSYSTATUS:BUSY
X-MICROSOFT-CDO-IMPORTANCE:1
END:VEVENT
BEGIN:VEVENT
UID:g6b10@games.golnetwork.com
LOCATION:Annexe Trille Des Bois
GEO:45.4395952;-75.6706817
CREATED:20141215T055725Z
DTSTART:20141218T004500Z
DTEND:20141218T013500Z
DTSTAMP:20260421T221320Z
SUMMARY:Missile-toe vs. Ball Busters
DESCRIPTION:Ball Busters vs. Missile-toeMore info: #41
X-ALT-DESC;FMTTYPE=text/html:<!DOCTYPE HTML PUBLIC "-//W3C//DTD HTML 3.2//E
	N">\n<HTML>\n<HEAD>\n<TITLE></TITLE>\n</HEAD>\n<BODY>\n<h3>Ball Busters vs.
	 Missile-toe</h3>More info: <a href="https://www.golnetwork.com/game/v/6207
	3/">#41</a>\n\n</BODY>\n</HTML>
STATUS:CONFIRMED
CLASS:PUBLIC
URL:https://www.golnetwork.com/game/v/62073/
X-MICROSOFT-CDO-BUSYSTATUS:BUSY
X-MICROSOFT-CDO-IMPORTANCE:1
END:VEVENT
BEGIN:VEVENT
UID:g6b12@games.golnetwork.com
LOCATION:Montfort
GEO:45.440619;-75.6304143
CREATED:20141215T055741Z
DTSTART:20141218T013000Z
DTEND:20141218T022000Z
DTSTAMP:20260421T221320Z
SUMMARY:Hesham's Team vs. Green Machine
DESCRIPTION:Green Machine vs. Hesham's TeamMore info: #42
X-ALT-DESC;FMTTYPE=text/html:<!DOCTYPE HTML PUBLIC "-//W3C//DTD HTML 3.2//E
	N">\n<HTML>\n<HEAD>\n<TITLE></TITLE>\n</HEAD>\n<BODY>\n<h3>Green Machine vs
	. Hesham's Team</h3>More info: <a href="https://www.golnetwork.com/game/v/6
	2074/">#42</a>\n\n</BODY>\n</HTML>
STATUS:CONFIRMED
CLASS:PUBLIC
URL:https://www.golnetwork.com/game/v/62074/
X-MICROSOFT-CDO-BUSYSTATUS:BUSY
X-MICROSOFT-CDO-IMPORTANCE:1
END:VEVENT
BEGIN:VEVENT
UID:g6b0n@games.golnetwork.com
LOCATION:Annexe Trille Des Bois
GEO:45.4395952;-75.6706817
CREATED:20141215T055709Z
DTSTART:20141218T014500Z
DTEND:20141218T023500Z
DTSTAMP:20260421T221320Z
SUMMARY:citymediacreation.com vs. The Ballers
DESCRIPTION:The Ballers vs. citymediacreation.comMore info: #43
X-ALT-DESC;FMTTYPE=text/html:<!DOCTYPE HTML PUBLIC "-//W3C//DTD HTML 3.2//E
	N">\n<HTML>\n<HEAD>\n<TITLE></TITLE>\n</HEAD>\n<BODY>\n<h3>The Ballers vs. 
	citymediacreation.com</h3>More info: <a href="https://www.golnetwork.com/ga
	me/v/62071/">#43</a>\n\n</BODY>\n</HTML>
STATUS:CONFIRMED
CLASS:PUBLIC
URL:https://www.golnetwork.com/game/v/62071/
X-MICROSOFT-CDO-BUSYSTATUS:BUSY
X-MICROSOFT-CDO-IMPORTANCE:1
END:VEVENT
END:VCALENDAR
