BEGIN:VCALENDAR
PRODID:-//gdesolutions.com//MV Framework 1.0.0.1607 Calendar//EN
VERSION:2.0
METHOD:PUBLISH
CALSCALE:GREGORIAN
BEGIN:VEVENT
UID:g6bo7@games.golnetwork.com
LOCATION:Branchaud Briere Field #1
GEO:45.4982732;-75.6421544
CREATED:20150103T215839Z
DTSTART:20150109T000000Z
DTEND:20150109T005000Z
DTSTAMP:20260420T145440Z
SUMMARY:Nunchuk Spiders vs. Real Ale Madrid
DESCRIPTION:Real Ale Madrid vs. Nunchuk SpidersMore info: #13
X-ALT-DESC;FMTTYPE=text/html:<!DOCTYPE HTML PUBLIC "-//W3C//DTD HTML 3.2//E
	N">\n<HTML>\n<HEAD>\n<TITLE></TITLE>\n</HEAD>\n<BODY>\n<h3>Real Ale Madrid 
	vs. Nunchuk Spiders</h3>More info: <a href="https://www.golnetwork.com/game
	/v/62387/">#13</a>\n\n</BODY>\n</HTML>
STATUS:CONFIRMED
CLASS:PUBLIC
URL:https://www.golnetwork.com/game/v/62387/
X-MICROSOFT-CDO-BUSYSTATUS:BUSY
X-MICROSOFT-CDO-IMPORTANCE:1
END:VEVENT
BEGIN:VEVENT
UID:g6c13@games.golnetwork.com
LOCATION:Branchaud Briere Field #1
GEO:45.4982732;-75.6421544
CREATED:20150105T082252Z
DTSTART:20150109T010000Z
DTEND:20150109T015000Z
DTSTAMP:20260420T145440Z
SUMMARY:Fusion vs. Strikers FC
DESCRIPTION:Strikers FC vs. FusionMore info: #5
X-ALT-DESC;FMTTYPE=text/html:<!DOCTYPE HTML PUBLIC "-//W3C//DTD HTML 3.2//E
	N">\n<HTML>\n<HEAD>\n<TITLE></TITLE>\n</HEAD>\n<BODY>\n<h3>Strikers FC vs. 
	Fusion</h3>More info: <a href="https://www.golnetwork.com/game/v/62439/">#5
	</a>\n\n</BODY>\n</HTML>
STATUS:CONFIRMED
CLASS:PUBLIC
URL:https://www.golnetwork.com/game/v/62439/
X-MICROSOFT-CDO-BUSYSTATUS:BUSY
X-MICROSOFT-CDO-IMPORTANCE:1
END:VEVENT
BEGIN:VEVENT
UID:g6bni@games.golnetwork.com
LOCATION:Louis Riel #1
GEO:45.4410208;-75.5715394
CREATED:20150103T215838Z
DTSTART:20150109T020000Z
DTEND:20150109T025000Z
DTSTAMP:20260420T145440Z
SUMMARY:FC AA vs. Manchesthair United
DESCRIPTION:Manchesthair United vs. FC AAMore info: #4
X-ALT-DESC;FMTTYPE=text/html:<!DOCTYPE HTML PUBLIC "-//W3C//DTD HTML 3.2//E
	N">\n<HTML>\n<HEAD>\n<TITLE></TITLE>\n</HEAD>\n<BODY>\n<h3>Manchesthair Uni
	ted vs. FC AA</h3>More info: <a href="https://www.golnetwork.com/game/v/623
	79/">#4</a>\n\n</BODY>\n</HTML>
STATUS:CONFIRMED
CLASS:PUBLIC
URL:https://www.golnetwork.com/game/v/62379/
X-MICROSOFT-CDO-BUSYSTATUS:BUSY
X-MICROSOFT-CDO-IMPORTANCE:1
END:VEVENT
BEGIN:VEVENT
UID:g6bno@games.golnetwork.com
LOCATION:Louis Riel #1
GEO:45.4410208;-75.5715394
CREATED:20150103T215838Z
DTSTART:20150109T030000Z
DTEND:20150109T035000Z
DTSTAMP:20260420T145440Z
SUMMARY:Hannibal Suarez vs. Ineedasub FC
DESCRIPTION:Ineedasub FC vs. Hannibal SuarezMore info: #7
X-ALT-DESC;FMTTYPE=text/html:<!DOCTYPE HTML PUBLIC "-//W3C//DTD HTML 3.2//E
	N">\n<HTML>\n<HEAD>\n<TITLE></TITLE>\n</HEAD>\n<BODY>\n<h3>Ineedasub FC vs.
	 Hannibal Suarez</h3>More info: <a href="https://www.golnetwork.com/game/v/
	62382/">#7</a>\n\n</BODY>\n</HTML>
STATUS:CONFIRMED
CLASS:PUBLIC
URL:https://www.golnetwork.com/game/v/62382/
X-MICROSOFT-CDO-BUSYSTATUS:BUSY
X-MICROSOFT-CDO-IMPORTANCE:1
END:VEVENT
BEGIN:VEVENT
UID:g6bo3@games.golnetwork.com
LOCATION:Louis Riel #1
GEO:45.4410208;-75.5715394
CREATED:20150103T215839Z
DTSTART:20150109T040000Z
DTEND:20150109T045000Z
DTSTAMP:20260420T145440Z
SUMMARY:50 Shades of Pink vs. Where's Josh
DESCRIPTION:Where's Josh vs. 50 Shades of PinkMore info: #10
X-ALT-DESC;FMTTYPE=text/html:<!DOCTYPE HTML PUBLIC "-//W3C//DTD HTML 3.2//E
	N">\n<HTML>\n<HEAD>\n<TITLE></TITLE>\n</HEAD>\n<BODY>\n<h3>Where's Josh vs.
	 50 Shades of Pink</h3>More info: <a href="https://www.golnetwork.com/game/
	v/62385/">#10</a>\n\n</BODY>\n</HTML>
STATUS:CONFIRMED
CLASS:PUBLIC
URL:https://www.golnetwork.com/game/v/62385/
X-MICROSOFT-CDO-BUSYSTATUS:BUSY
X-MICROSOFT-CDO-IMPORTANCE:1
END:VEVENT
BEGIN:VEVENT
UID:g6bpq@games.golnetwork.com
LOCATION:Louis Riel #3
GEO:45.4410208;-75.5715394
CREATED:20150104T181310Z
DTSTART:20150109T040000Z
DTEND:20150109T045000Z
DTSTAMP:20260420T145440Z
SUMMARY:Dynamo FC vs. UpRise FC
DESCRIPTION:UpRise FC vs. Dynamo FCMore info: #16
X-ALT-DESC;FMTTYPE=text/html:<!DOCTYPE HTML PUBLIC "-//W3C//DTD HTML 3.2//E
	N">\n<HTML>\n<HEAD>\n<TITLE></TITLE>\n</HEAD>\n<BODY>\n<h3>UpRise FC vs. Dy
	namo FC</h3>More info: <a href="https://www.golnetwork.com/game/v/62410/">#
	16</a>\n\n</BODY>\n</HTML>
STATUS:CONFIRMED
CLASS:PUBLIC
URL:https://www.golnetwork.com/game/v/62410/
X-MICROSOFT-CDO-BUSYSTATUS:BUSY
X-MICROSOFT-CDO-IMPORTANCE:1
END:VEVENT
BEGIN:VEVENT
UID:g6f92@games.golnetwork.com
LOCATION:Louis Riel #3
GEO:45.4410208;-75.5715394
CREATED:20150112T061950Z
DTSTART:20150116T000000Z
DTEND:20150116T005000Z
DTSTAMP:20260420T145440Z
SUMMARY:Where's Josh vs. UpRise FC
DESCRIPTION:UpRise FC vs. Where's JoshMore info: #1
X-ALT-DESC;FMTTYPE=text/html:<!DOCTYPE HTML PUBLIC "-//W3C//DTD HTML 3.2//E
	N">\n<HTML>\n<HEAD>\n<TITLE></TITLE>\n</HEAD>\n<BODY>\n<h3>UpRise FC vs. Wh
	ere's Josh</h3>More info: <a href="https://www.golnetwork.com/game/v/63640/
	">#1</a>\n\n</BODY>\n</HTML>
STATUS:CONFIRMED
CLASS:PUBLIC
URL:https://www.golnetwork.com/game/v/63640/
X-MICROSOFT-CDO-BUSYSTATUS:BUSY
X-MICROSOFT-CDO-IMPORTANCE:1
END:VEVENT
BEGIN:VEVENT
UID:g6f9a@games.golnetwork.com
LOCATION:Louis Riel #2
GEO:45.4410208;-75.5715394
CREATED:20150112T061950Z
DTSTART:20150116T020000Z
DTEND:20150116T025000Z
DTSTAMP:20260420T145440Z
SUMMARY:50 Shades of Pink vs. Hannibal Suarez
DESCRIPTION:Hannibal Suarez vs. 50 Shades of PinkMore info: #5
X-ALT-DESC;FMTTYPE=text/html:<!DOCTYPE HTML PUBLIC "-//W3C//DTD HTML 3.2//E
	N">\n<HTML>\n<HEAD>\n<TITLE></TITLE>\n</HEAD>\n<BODY>\n<h3>Hannibal Suarez 
	vs. 50 Shades of Pink</h3>More info: <a href="https://www.golnetwork.com/ga
	me/v/63644/">#5</a>\n\n</BODY>\n</HTML>
STATUS:CONFIRMED
CLASS:PUBLIC
URL:https://www.golnetwork.com/game/v/63644/
X-MICROSOFT-CDO-BUSYSTATUS:BUSY
X-MICROSOFT-CDO-IMPORTANCE:1
END:VEVENT
BEGIN:VEVENT
UID:g6fa1@games.golnetwork.com
LOCATION:Branchaud Briere Field #1
GEO:45.4982732;-75.6421544
CREATED:20150112T061952Z
DTSTART:20150116T020000Z
DTEND:20150116T025000Z
DTSTAMP:20260420T145440Z
SUMMARY:Strikers FC vs. Real Ale Madrid
DESCRIPTION:Real Ale Madrid vs. Strikers FCMore info: #15
X-ALT-DESC;FMTTYPE=text/html:<!DOCTYPE HTML PUBLIC "-//W3C//DTD HTML 3.2//E
	N">\n<HTML>\n<HEAD>\n<TITLE></TITLE>\n</HEAD>\n<BODY>\n<h3>Real Ale Madrid 
	vs. Strikers FC</h3>More info: <a href="https://www.golnetwork.com/game/v/6
	3653/">#15</a>\n\n</BODY>\n</HTML>
STATUS:CONFIRMED
CLASS:PUBLIC
URL:https://www.golnetwork.com/game/v/63653/
X-MICROSOFT-CDO-BUSYSTATUS:BUSY
X-MICROSOFT-CDO-IMPORTANCE:1
END:VEVENT
BEGIN:VEVENT
UID:g6f9g@games.golnetwork.com
LOCATION:Louis Riel #2
GEO:45.4410208;-75.5715394
CREATED:20150112T061951Z
DTSTART:20150116T030000Z
DTEND:20150116T035000Z
DTSTAMP:20260420T145440Z
SUMMARY:Dynamo FC vs. FC AA
DESCRIPTION:FC AA vs. Dynamo FCMore info: #8
X-ALT-DESC;FMTTYPE=text/html:<!DOCTYPE HTML PUBLIC "-//W3C//DTD HTML 3.2//E
	N">\n<HTML>\n<HEAD>\n<TITLE></TITLE>\n</HEAD>\n<BODY>\n<h3>FC AA vs. Dynamo
	 FC</h3>More info: <a href="https://www.golnetwork.com/game/v/63647/">#8</a
	>\n\n</BODY>\n</HTML>
STATUS:CONFIRMED
CLASS:PUBLIC
URL:https://www.golnetwork.com/game/v/63647/
X-MICROSOFT-CDO-BUSYSTATUS:BUSY
X-MICROSOFT-CDO-IMPORTANCE:1
END:VEVENT
BEGIN:VEVENT
UID:g6fa9@games.golnetwork.com
LOCATION:Branchaud Briere Field #1
GEO:45.4982732;-75.6421544
CREATED:20150112T201541Z
DTSTART:20150116T030000Z
DTEND:20150116T035000Z
DTSTAMP:20260420T145440Z
SUMMARY:Money is not an issue vs. Nunchuk Spiders
DESCRIPTION:Nunchuk Spiders vs. Money is not an issueMore info: #29
X-ALT-DESC;FMTTYPE=text/html:<!DOCTYPE HTML PUBLIC "-//W3C//DTD HTML 3.2//E
	N">\n<HTML>\n<HEAD>\n<TITLE></TITLE>\n</HEAD>\n<BODY>\n<h3>Nunchuk Spiders 
	vs. Money is not an issue</h3>More info: <a href="https://www.golnetwork.co
	m/game/v/63657/">#29</a>\n\n</BODY>\n</HTML>
STATUS:CONFIRMED
CLASS:PUBLIC
URL:https://www.golnetwork.com/game/v/63657/
X-MICROSOFT-CDO-BUSYSTATUS:BUSY
X-MICROSOFT-CDO-IMPORTANCE:1
END:VEVENT
BEGIN:VEVENT
UID:g6gjj@games.golnetwork.com
LOCATION:Louis Riel #3
GEO:45.4410208;-75.5715394
CREATED:20150119T050055Z
DTSTART:20150123T000000Z
DTEND:20150123T005000Z
DTSTAMP:20260420T145440Z
SUMMARY:Dynamo FC vs. Hannibal Suarez
DESCRIPTION:Hannibal Suarez vs. Dynamo FCMore info: #1
X-ALT-DESC;FMTTYPE=text/html:<!DOCTYPE HTML PUBLIC "-//W3C//DTD HTML 3.2//E
	N">\n<HTML>\n<HEAD>\n<TITLE></TITLE>\n</HEAD>\n<BODY>\n<h3>Hannibal Suarez 
	vs. Dynamo FC</h3>More info: <a href="https://www.golnetwork.com/game/v/641
	48/">#1</a>\n\n</BODY>\n</HTML>
STATUS:CONFIRMED
CLASS:PUBLIC
URL:https://www.golnetwork.com/game/v/64148/
X-MICROSOFT-CDO-BUSYSTATUS:BUSY
X-MICROSOFT-CDO-IMPORTANCE:1
END:VEVENT
BEGIN:VEVENT
UID:g6gjn@games.golnetwork.com
LOCATION:Louis Riel #3
GEO:45.4410208;-75.5715394
CREATED:20150119T050056Z
DTSTART:20150123T010000Z
DTEND:20150123T015000Z
DTSTAMP:20260420T145440Z
SUMMARY:Ineedasub FC vs. Where's Josh
DESCRIPTION:Where's Josh vs. Ineedasub FCMore info: #3
X-ALT-DESC;FMTTYPE=text/html:<!DOCTYPE HTML PUBLIC "-//W3C//DTD HTML 3.2//E
	N">\n<HTML>\n<HEAD>\n<TITLE></TITLE>\n</HEAD>\n<BODY>\n<h3>Where's Josh vs.
	 Ineedasub FC</h3>More info: <a href="https://www.golnetwork.com/game/v/641
	50/">#3</a>\n\n</BODY>\n</HTML>
STATUS:CONFIRMED
CLASS:PUBLIC
URL:https://www.golnetwork.com/game/v/64150/
X-MICROSOFT-CDO-BUSYSTATUS:BUSY
X-MICROSOFT-CDO-IMPORTANCE:1
END:VEVENT
BEGIN:VEVENT
UID:g6gk4@games.golnetwork.com
LOCATION:Louis Riel #1
GEO:45.4410208;-75.5715394
CREATED:20150119T050056Z
DTSTART:20150123T030000Z
DTEND:20150123T035000Z
DTSTAMP:20260420T145440Z
SUMMARY:50 Shades of Pink vs. Manchesthair United
DESCRIPTION:Manchesthair United vs. 50 Shades of PinkMore info: #7
X-ALT-DESC;FMTTYPE=text/html:<!DOCTYPE HTML PUBLIC "-//W3C//DTD HTML 3.2//E
	N">\n<HTML>\n<HEAD>\n<TITLE></TITLE>\n</HEAD>\n<BODY>\n<h3>Manchesthair Uni
	ted vs. 50 Shades of Pink</h3>More info: <a href="https://www.golnetwork.co
	m/game/v/64154/">#7</a>\n\n</BODY>\n</HTML>
STATUS:CONFIRMED
CLASS:PUBLIC
URL:https://www.golnetwork.com/game/v/64154/
X-MICROSOFT-CDO-BUSYSTATUS:BUSY
X-MICROSOFT-CDO-IMPORTANCE:1
END:VEVENT
BEGIN:VEVENT
UID:g6gkm@games.golnetwork.com
LOCATION:Branchaud Briere Field #1
GEO:45.4982732;-75.6421544
CREATED:20150119T050058Z
DTSTART:20150123T030000Z
DTEND:20150123T035000Z
DTSTAMP:20260420T145440Z
SUMMARY:Nunchuk Spiders vs. The Miseducation
DESCRIPTION:The Miseducation vs. Nunchuk SpidersMore info: #16
X-ALT-DESC;FMTTYPE=text/html:<!DOCTYPE HTML PUBLIC "-//W3C//DTD HTML 3.2//E
	N">\n<HTML>\n<HEAD>\n<TITLE></TITLE>\n</HEAD>\n<BODY>\n<h3>The Miseducation
	 vs. Nunchuk Spiders</h3>More info: <a href="https://www.golnetwork.com/gam
	e/v/64163/">#16</a>\n\n</BODY>\n</HTML>
STATUS:CONFIRMED
CLASS:PUBLIC
URL:https://www.golnetwork.com/game/v/64163/
X-MICROSOFT-CDO-BUSYSTATUS:BUSY
X-MICROSOFT-CDO-IMPORTANCE:1
END:VEVENT
BEGIN:VEVENT
UID:g6gke@games.golnetwork.com
LOCATION:Louis Riel #3
GEO:45.4410208;-75.5715394
CREATED:20150119T050057Z
DTSTART:20150123T040000Z
DTEND:20150123T045000Z
DTSTAMP:20260420T145440Z
SUMMARY:Real Ale Madrid vs. FC AA
DESCRIPTION:FC AA vs. Real Ale MadridMore info: #12
X-ALT-DESC;FMTTYPE=text/html:<!DOCTYPE HTML PUBLIC "-//W3C//DTD HTML 3.2//E
	N">\n<HTML>\n<HEAD>\n<TITLE></TITLE>\n</HEAD>\n<BODY>\n<h3>FC AA vs. Real A
	le Madrid</h3>More info: <a href="https://www.golnetwork.com/game/v/64159/"
	>#12</a>\n\n</BODY>\n</HTML>
STATUS:CONFIRMED
CLASS:PUBLIC
URL:https://www.golnetwork.com/game/v/64159/
X-MICROSOFT-CDO-BUSYSTATUS:BUSY
X-MICROSOFT-CDO-IMPORTANCE:1
END:VEVENT
BEGIN:VEVENT
UID:g6h34@games.golnetwork.com
LOCATION:Louis Riel #2
GEO:45.4410208;-75.5715394
CREATED:20150121T064136Z
DTSTART:20150130T010000Z
DTEND:20150130T015000Z
DTSTAMP:20260420T145440Z
SUMMARY:Hannibal Suarez vs. UpRise FC
DESCRIPTION:UpRise FC vs. Hannibal SuarezMore info: #2
X-ALT-DESC;FMTTYPE=text/html:<!DOCTYPE HTML PUBLIC "-//W3C//DTD HTML 3.2//E
	N">\n<HTML>\n<HEAD>\n<TITLE></TITLE>\n</HEAD>\n<BODY>\n<h3>UpRise FC vs. Ha
	nnibal Suarez</h3>More info: <a href="https://www.golnetwork.com/game/v/642
	89/">#2</a>\n\n</BODY>\n</HTML>
STATUS:CONFIRMED
CLASS:PUBLIC
URL:https://www.golnetwork.com/game/v/64289/
X-MICROSOFT-CDO-BUSYSTATUS:BUSY
X-MICROSOFT-CDO-IMPORTANCE:1
END:VEVENT
BEGIN:VEVENT
UID:g6h36@games.golnetwork.com
LOCATION:Louis Riel #3
GEO:45.4410208;-75.5715394
CREATED:20150121T064136Z
DTSTART:20150130T010000Z
DTEND:20150130T015000Z
DTSTAMP:20260420T145440Z
SUMMARY:50 Shades of Pink vs. FC AA
DESCRIPTION:FC AA vs. 50 Shades of PinkMore info: #3
X-ALT-DESC;FMTTYPE=text/html:<!DOCTYPE HTML PUBLIC "-//W3C//DTD HTML 3.2//E
	N">\n<HTML>\n<HEAD>\n<TITLE></TITLE>\n</HEAD>\n<BODY>\n<h3>FC AA vs. 50 Sha
	des of Pink</h3>More info: <a href="https://www.golnetwork.com/game/v/64290
	/">#3</a>\n\n</BODY>\n</HTML>
STATUS:CONFIRMED
CLASS:PUBLIC
URL:https://www.golnetwork.com/game/v/64290/
X-MICROSOFT-CDO-BUSYSTATUS:BUSY
X-MICROSOFT-CDO-IMPORTANCE:1
END:VEVENT
BEGIN:VEVENT
UID:g6h43@games.golnetwork.com
LOCATION:Branchaud Briere Field #1
GEO:45.4982732;-75.6421544
CREATED:20150121T064138Z
DTSTART:20150130T020000Z
DTEND:20150130T025000Z
DTSTAMP:20260420T145440Z
SUMMARY:Strikers FC vs. Manchesthair United
DESCRIPTION:Manchesthair United vs. Strikers FCMore info: #15
X-ALT-DESC;FMTTYPE=text/html:<!DOCTYPE HTML PUBLIC "-//W3C//DTD HTML 3.2//E
	N">\n<HTML>\n<HEAD>\n<TITLE></TITLE>\n</HEAD>\n<BODY>\n<h3>Manchesthair Uni
	ted vs. Strikers FC</h3>More info: <a href="https://www.golnetwork.com/game
	/v/64302/">#15</a>\n\n</BODY>\n</HTML>
STATUS:CONFIRMED
CLASS:PUBLIC
URL:https://www.golnetwork.com/game/v/64302/
X-MICROSOFT-CDO-BUSYSTATUS:BUSY
X-MICROSOFT-CDO-IMPORTANCE:1
END:VEVENT
BEGIN:VEVENT
UID:g6io2@games.golnetwork.com
LOCATION:Louis Riel #2
GEO:45.4410208;-75.5715394
CREATED:20150129T050827Z
DTSTART:20150130T030000Z
DTEND:20150130T035000Z
DTSTAMP:20260420T145440Z
SUMMARY:The All-Stars vs. Where's Josh
DESCRIPTION:Where's Josh vs. The All-StarsMore info: #59
X-ALT-DESC;FMTTYPE=text/html:<!DOCTYPE HTML PUBLIC "-//W3C//DTD HTML 3.2//E
	N">\n<HTML>\n<HEAD>\n<TITLE></TITLE>\n</HEAD>\n<BODY>\n<h3>Where's Josh vs.
	 The All-Stars</h3>More info: <a href="https://www.golnetwork.com/game/v/64
	936/">#59</a>\n\n</BODY>\n</HTML>
STATUS:CONFIRMED
CLASS:PUBLIC
URL:https://www.golnetwork.com/game/v/64936/
X-MICROSOFT-CDO-BUSYSTATUS:BUSY
X-MICROSOFT-CDO-IMPORTANCE:1
END:VEVENT
BEGIN:VEVENT
UID:g6io0@games.golnetwork.com
LOCATION:Louis Riel #3
GEO:45.4410208;-75.5715394
CREATED:20150129T050751Z
DTSTART:20150130T030000Z
DTEND:20150130T035000Z
DTSTAMP:20260420T145440Z
SUMMARY:Ineedasub FC vs. Real Ale Madrid
DESCRIPTION:Real Ale Madrid vs. Ineedasub FCMore info: #60
X-ALT-DESC;FMTTYPE=text/html:<!DOCTYPE HTML PUBLIC "-//W3C//DTD HTML 3.2//E
	N">\n<HTML>\n<HEAD>\n<TITLE></TITLE>\n</HEAD>\n<BODY>\n<h3>Real Ale Madrid 
	vs. Ineedasub FC</h3>More info: <a href="https://www.golnetwork.com/game/v/
	64935/">#60</a>\n\n</BODY>\n</HTML>
STATUS:CONFIRMED
CLASS:PUBLIC
URL:https://www.golnetwork.com/game/v/64935/
X-MICROSOFT-CDO-BUSYSTATUS:BUSY
X-MICROSOFT-CDO-IMPORTANCE:1
END:VEVENT
BEGIN:VEVENT
UID:g6h3m@games.golnetwork.com
LOCATION:Louis Riel #2
GEO:45.4410208;-75.5715394
CREATED:20150121T064138Z
DTSTART:20150130T040000Z
DTEND:20150130T045000Z
DTSTAMP:20260420T145440Z
SUMMARY:Dynamo FC vs. Nunchuk Spiders
DESCRIPTION:Nunchuk Spiders vs. Dynamo FCMore info: #11
X-ALT-DESC;FMTTYPE=text/html:<!DOCTYPE HTML PUBLIC "-//W3C//DTD HTML 3.2//E
	N">\n<HTML>\n<HEAD>\n<TITLE></TITLE>\n</HEAD>\n<BODY>\n<h3>Nunchuk Spiders 
	vs. Dynamo FC</h3>More info: <a href="https://www.golnetwork.com/game/v/642
	98/">#11</a>\n\n</BODY>\n</HTML>
STATUS:CONFIRMED
CLASS:PUBLIC
URL:https://www.golnetwork.com/game/v/64298/
X-MICROSOFT-CDO-BUSYSTATUS:BUSY
X-MICROSOFT-CDO-IMPORTANCE:1
END:VEVENT
BEGIN:VEVENT
UID:g6iqq@games.golnetwork.com
LOCATION:Louis Riel #3
GEO:45.4410208;-75.5715394
CREATED:20150130T222550Z
DTSTART:20150206T010000Z
DTEND:20150206T015000Z
DTSTAMP:20260420T145440Z
SUMMARY:Dynamo FC vs. Where's Josh
DESCRIPTION:Where's Josh vs. Dynamo FCMore info: #3
X-ALT-DESC;FMTTYPE=text/html:<!DOCTYPE HTML PUBLIC "-//W3C//DTD HTML 3.2//E
	N">\n<HTML>\n<HEAD>\n<TITLE></TITLE>\n</HEAD>\n<BODY>\n<h3>Where's Josh vs.
	 Dynamo FC</h3>More info: <a href="https://www.golnetwork.com/game/v/64975/
	">#3</a>\n\n</BODY>\n</HTML>
STATUS:CONFIRMED
CLASS:PUBLIC
URL:https://www.golnetwork.com/game/v/64975/
X-MICROSOFT-CDO-BUSYSTATUS:BUSY
X-MICROSOFT-CDO-IMPORTANCE:1
END:VEVENT
BEGIN:VEVENT
UID:g6j05@games.golnetwork.com
LOCATION:Louis Riel #3
GEO:45.4410208;-75.5715394
CREATED:20150130T222550Z
DTSTART:20150206T020000Z
DTEND:20150206T025000Z
DTSTAMP:20260420T145440Z
SUMMARY:Ineedasub FC vs. FC AA
DESCRIPTION:FC AA vs. Ineedasub FCMore info: #6
X-ALT-DESC;FMTTYPE=text/html:<!DOCTYPE HTML PUBLIC "-//W3C//DTD HTML 3.2//E
	N">\n<HTML>\n<HEAD>\n<TITLE></TITLE>\n</HEAD>\n<BODY>\n<h3>FC AA vs. Ineeda
	sub FC</h3>More info: <a href="https://www.golnetwork.com/game/v/64978/">#6
	</a>\n\n</BODY>\n</HTML>
STATUS:CONFIRMED
CLASS:PUBLIC
URL:https://www.golnetwork.com/game/v/64978/
X-MICROSOFT-CDO-BUSYSTATUS:BUSY
X-MICROSOFT-CDO-IMPORTANCE:1
END:VEVENT
BEGIN:VEVENT
UID:g6j0n@games.golnetwork.com
LOCATION:Branchaud Briere Field #1
GEO:45.4982732;-75.6421544
CREATED:20150130T222551Z
DTSTART:20150206T020000Z
DTEND:20150206T025000Z
DTSTAMP:20260420T145440Z
SUMMARY:Nunchuk Spiders vs. Manchesthair United
DESCRIPTION:Manchesthair United vs. Nunchuk SpidersMore info: #15
X-ALT-DESC;FMTTYPE=text/html:<!DOCTYPE HTML PUBLIC "-//W3C//DTD HTML 3.2//E
	N">\n<HTML>\n<HEAD>\n<TITLE></TITLE>\n</HEAD>\n<BODY>\n<h3>Manchesthair Uni
	ted vs. Nunchuk Spiders</h3>More info: <a href="https://www.golnetwork.com/
	game/v/64987/">#15</a>\n\n</BODY>\n</HTML>
STATUS:CONFIRMED
CLASS:PUBLIC
URL:https://www.golnetwork.com/game/v/64987/
X-MICROSOFT-CDO-BUSYSTATUS:BUSY
X-MICROSOFT-CDO-IMPORTANCE:1
END:VEVENT
BEGIN:VEVENT
UID:g6j0f@games.golnetwork.com
LOCATION:Louis Riel #2
GEO:45.4410208;-75.5715394
CREATED:20150130T222551Z
DTSTART:20150206T040000Z
DTEND:20150206T045000Z
DTSTAMP:20260420T145440Z
SUMMARY:Hannibal Suarez vs. Strikers FC
DESCRIPTION:Strikers FC vs. Hannibal SuarezMore info: #11
X-ALT-DESC;FMTTYPE=text/html:<!DOCTYPE HTML PUBLIC "-//W3C//DTD HTML 3.2//E
	N">\n<HTML>\n<HEAD>\n<TITLE></TITLE>\n</HEAD>\n<BODY>\n<h3>Strikers FC vs. 
	Hannibal Suarez</h3>More info: <a href="https://www.golnetwork.com/game/v/6
	4983/">#11</a>\n\n</BODY>\n</HTML>
STATUS:CONFIRMED
CLASS:PUBLIC
URL:https://www.golnetwork.com/game/v/64983/
X-MICROSOFT-CDO-BUSYSTATUS:BUSY
X-MICROSOFT-CDO-IMPORTANCE:1
END:VEVENT
BEGIN:VEVENT
UID:g6j0h@games.golnetwork.com
LOCATION:Louis Riel #3
GEO:45.4410208;-75.5715394
CREATED:20150130T222551Z
DTSTART:20150206T040000Z
DTEND:20150206T045000Z
DTSTAMP:20260420T145440Z
SUMMARY:50 Shades of Pink vs. UpRise FC
DESCRIPTION:UpRise FC vs. 50 Shades of PinkMore info: #12
X-ALT-DESC;FMTTYPE=text/html:<!DOCTYPE HTML PUBLIC "-//W3C//DTD HTML 3.2//E
	N">\n<HTML>\n<HEAD>\n<TITLE></TITLE>\n</HEAD>\n<BODY>\n<h3>UpRise FC vs. 50
	 Shades of Pink</h3>More info: <a href="https://www.golnetwork.com/game/v/6
	4984/">#12</a>\n\n</BODY>\n</HTML>
STATUS:CONFIRMED
CLASS:PUBLIC
URL:https://www.golnetwork.com/game/v/64984/
X-MICROSOFT-CDO-BUSYSTATUS:BUSY
X-MICROSOFT-CDO-IMPORTANCE:1
END:VEVENT
BEGIN:VEVENT
UID:g6j9q@games.golnetwork.com
LOCATION:Hornet's Nest #3
GEO:45.4428309;-75.575268
CREATED:20150207T022952Z
DTSTART:20150212T233000Z
DTEND:20150213T002000Z
DTSTAMP:20260420T145440Z
SUMMARY:Hannibal Suarez vs. Money is not an issue
DESCRIPTION:Money is not an issue vs. Hannibal SuarezMore info: #2
X-ALT-DESC;FMTTYPE=text/html:<!DOCTYPE HTML PUBLIC "-//W3C//DTD HTML 3.2//E
	N">\n<HTML>\n<HEAD>\n<TITLE></TITLE>\n</HEAD>\n<BODY>\n<h3>Money is not an 
	issue vs. Hannibal Suarez</h3>More info: <a href="https://www.golnetwork.co
	m/game/v/65110/">#2</a>\n\n</BODY>\n</HTML>
STATUS:CONFIRMED
CLASS:PUBLIC
URL:https://www.golnetwork.com/game/v/65110/
X-MICROSOFT-CDO-BUSYSTATUS:BUSY
X-MICROSOFT-CDO-IMPORTANCE:1
END:VEVENT
BEGIN:VEVENT
UID:g6jah@games.golnetwork.com
LOCATION:Louis Riel #3
GEO:45.4410208;-75.5715394
CREATED:20150207T022954Z
DTSTART:20150213T030000Z
DTEND:20150213T035000Z
DTSTAMP:20260420T145440Z
SUMMARY:UpRise FC vs. Strikers FC
DESCRIPTION:Strikers FC vs. UpRise FCMore info: #11
X-ALT-DESC;FMTTYPE=text/html:<!DOCTYPE HTML PUBLIC "-//W3C//DTD HTML 3.2//E
	N">\n<HTML>\n<HEAD>\n<TITLE></TITLE>\n</HEAD>\n<BODY>\n<h3>Strikers FC vs. 
	UpRise FC</h3>More info: <a href="https://www.golnetwork.com/game/v/65119/"
	>#11</a>\n\n</BODY>\n</HTML>
STATUS:CONFIRMED
CLASS:PUBLIC
URL:https://www.golnetwork.com/game/v/65119/
X-MICROSOFT-CDO-BUSYSTATUS:BUSY
X-MICROSOFT-CDO-IMPORTANCE:1
END:VEVENT
BEGIN:VEVENT
UID:g6jal@games.golnetwork.com
LOCATION:Louis Riel #2
GEO:45.4410208;-75.5715394
CREATED:20150207T022954Z
DTSTART:20150213T040000Z
DTEND:20150213T045000Z
DTSTAMP:20260420T145440Z
SUMMARY:Nunchuk Spiders vs. FC AA
DESCRIPTION:FC AA vs. Nunchuk SpidersMore info: #13
X-ALT-DESC;FMTTYPE=text/html:<!DOCTYPE HTML PUBLIC "-//W3C//DTD HTML 3.2//E
	N">\n<HTML>\n<HEAD>\n<TITLE></TITLE>\n</HEAD>\n<BODY>\n<h3>FC AA vs. Nunchu
	k Spiders</h3>More info: <a href="https://www.golnetwork.com/game/v/65121/"
	>#13</a>\n\n</BODY>\n</HTML>
STATUS:CONFIRMED
CLASS:PUBLIC
URL:https://www.golnetwork.com/game/v/65121/
X-MICROSOFT-CDO-BUSYSTATUS:BUSY
X-MICROSOFT-CDO-IMPORTANCE:1
END:VEVENT
BEGIN:VEVENT
UID:g6jq5@games.golnetwork.com
LOCATION:Louis Riel #3
GEO:45.4410208;-75.5715394
CREATED:20150214T034045Z
DTSTART:20150220T010000Z
DTEND:20150220T015000Z
DTSTAMP:20260420T145440Z
SUMMARY:Money is not an issue vs. Ineedasub FC
DESCRIPTION:Ineedasub FC vs. Money is not an issueMore info: #3
X-ALT-DESC;FMTTYPE=text/html:<!DOCTYPE HTML PUBLIC "-//W3C//DTD HTML 3.2//E
	N">\n<HTML>\n<HEAD>\n<TITLE></TITLE>\n</HEAD>\n<BODY>\n<h3>Ineedasub FC vs.
	 Money is not an issue</h3>More info: <a href="https://www.golnetwork.com/g
	ame/v/65329/">#3</a>\n\n</BODY>\n</HTML>
STATUS:CONFIRMED
CLASS:PUBLIC
URL:https://www.golnetwork.com/game/v/65329/
X-MICROSOFT-CDO-BUSYSTATUS:BUSY
X-MICROSOFT-CDO-IMPORTANCE:1
END:VEVENT
BEGIN:VEVENT
UID:g6k00@games.golnetwork.com
LOCATION:Branchaud Briere Field #1
GEO:45.4982732;-75.6421544
CREATED:20150214T034047Z
DTSTART:20150220T010000Z
DTEND:20150220T015000Z
DTSTAMP:20260420T145440Z
SUMMARY:Strikers FC vs. Manchesthair United
DESCRIPTION:Manchesthair United vs. Strikers FCMore info: #14
X-ALT-DESC;FMTTYPE=text/html:<!DOCTYPE HTML PUBLIC "-//W3C//DTD HTML 3.2//E
	N">\n<HTML>\n<HEAD>\n<TITLE></TITLE>\n</HEAD>\n<BODY>\n<h3>Manchesthair Uni
	ted vs. Strikers FC</h3>More info: <a href="https://www.golnetwork.com/game
	/v/65340/">#14</a>\n\n</BODY>\n</HTML>
STATUS:CONFIRMED
CLASS:PUBLIC
URL:https://www.golnetwork.com/game/v/65340/
X-MICROSOFT-CDO-BUSYSTATUS:BUSY
X-MICROSOFT-CDO-IMPORTANCE:1
END:VEVENT
BEGIN:VEVENT
UID:g6jq9@games.golnetwork.com
LOCATION:Louis Riel #2
GEO:45.4410208;-75.5715394
CREATED:20150214T034046Z
DTSTART:20150220T020000Z
DTEND:20150220T025000Z
DTSTAMP:20260420T145440Z
SUMMARY:Nunchuk Spiders vs. Where's Josh
DESCRIPTION:Where's Josh vs. Nunchuk SpidersMore info: #5
X-ALT-DESC;FMTTYPE=text/html:<!DOCTYPE HTML PUBLIC "-//W3C//DTD HTML 3.2//E
	N">\n<HTML>\n<HEAD>\n<TITLE></TITLE>\n</HEAD>\n<BODY>\n<h3>Where's Josh vs.
	 Nunchuk Spiders</h3>More info: <a href="https://www.golnetwork.com/game/v/
	65331/">#5</a>\n\n</BODY>\n</HTML>
STATUS:CONFIRMED
CLASS:PUBLIC
URL:https://www.golnetwork.com/game/v/65331/
X-MICROSOFT-CDO-BUSYSTATUS:BUSY
X-MICROSOFT-CDO-IMPORTANCE:1
END:VEVENT
BEGIN:VEVENT
UID:g6jqd@games.golnetwork.com
LOCATION:Louis Riel #1
GEO:45.4410208;-75.5715394
CREATED:20150214T034046Z
DTSTART:20150220T030000Z
DTEND:20150220T035000Z
DTSTAMP:20260420T145440Z
SUMMARY:Dynamo FC vs. FC AA
DESCRIPTION:FC AA vs. Dynamo FCMore info: #7
X-ALT-DESC;FMTTYPE=text/html:<!DOCTYPE HTML PUBLIC "-//W3C//DTD HTML 3.2//E
	N">\n<HTML>\n<HEAD>\n<TITLE></TITLE>\n</HEAD>\n<BODY>\n<h3>FC AA vs. Dynamo
	 FC</h3>More info: <a href="https://www.golnetwork.com/game/v/65333/">#7</a
	>\n\n</BODY>\n</HTML>
STATUS:CONFIRMED
CLASS:PUBLIC
URL:https://www.golnetwork.com/game/v/65333/
X-MICROSOFT-CDO-BUSYSTATUS:BUSY
X-MICROSOFT-CDO-IMPORTANCE:1
END:VEVENT
BEGIN:VEVENT
UID:g6jqf@games.golnetwork.com
LOCATION:Louis Riel #2
GEO:45.4410208;-75.5715394
CREATED:20150214T034046Z
DTSTART:20150220T030000Z
DTEND:20150220T035000Z
DTSTAMP:20260420T145440Z
SUMMARY:50 Shades of Pink vs. UpRise FC
DESCRIPTION:UpRise FC vs. 50 Shades of PinkMore info: #8
X-ALT-DESC;FMTTYPE=text/html:<!DOCTYPE HTML PUBLIC "-//W3C//DTD HTML 3.2//E
	N">\n<HTML>\n<HEAD>\n<TITLE></TITLE>\n</HEAD>\n<BODY>\n<h3>UpRise FC vs. 50
	 Shades of Pink</h3>More info: <a href="https://www.golnetwork.com/game/v/6
	5334/">#8</a>\n\n</BODY>\n</HTML>
STATUS:CONFIRMED
CLASS:PUBLIC
URL:https://www.golnetwork.com/game/v/65334/
X-MICROSOFT-CDO-BUSYSTATUS:BUSY
X-MICROSOFT-CDO-IMPORTANCE:1
END:VEVENT
BEGIN:VEVENT
UID:g6jqn@games.golnetwork.com
LOCATION:Louis Riel #3
GEO:45.4410208;-75.5715394
CREATED:20150214T034047Z
DTSTART:20150220T040000Z
DTEND:20150220T045000Z
DTSTAMP:20260420T145440Z
SUMMARY:Spartans FC vs. Hannibal Suarez
DESCRIPTION:Hannibal Suarez vs. Spartans FCMore info: #12
X-ALT-DESC;FMTTYPE=text/html:<!DOCTYPE HTML PUBLIC "-//W3C//DTD HTML 3.2//E
	N">\n<HTML>\n<HEAD>\n<TITLE></TITLE>\n</HEAD>\n<BODY>\n<h3>Hannibal Suarez 
	vs. Spartans FC</h3>More info: <a href="https://www.golnetwork.com/game/v/6
	5338/">#12</a>\n\n</BODY>\n</HTML>
STATUS:CONFIRMED
CLASS:PUBLIC
URL:https://www.golnetwork.com/game/v/65338/
X-MICROSOFT-CDO-BUSYSTATUS:BUSY
X-MICROSOFT-CDO-IMPORTANCE:1
END:VEVENT
BEGIN:VEVENT
UID:g6l0n@games.golnetwork.com
LOCATION:Branchaud Briere Field #1
GEO:45.4982732;-75.6421544
CREATED:20150307T213803Z
DTSTART:20150313T000000Z
DTEND:20150313T005000Z
DTSTAMP:20260420T145440Z
SUMMARY:Manchesthair United vs. Nunchuk Spiders
DESCRIPTION:Nunchuk Spiders vs. Manchesthair UnitedMore info: #153
X-ALT-DESC;FMTTYPE=text/html:<!DOCTYPE HTML PUBLIC "-//W3C//DTD HTML 3.2//E
	N">\n<HTML>\n<HEAD>\n<TITLE></TITLE>\n</HEAD>\n<BODY>\n<h3>Nunchuk Spiders 
	vs. Manchesthair United</h3>More info: <a href="https://www.golnetwork.com/
	game/v/65716/">#153</a>\n\n</BODY>\n</HTML>
STATUS:CONFIRMED
CLASS:PUBLIC
URL:https://www.golnetwork.com/game/v/65716/
X-MICROSOFT-CDO-BUSYSTATUS:BUSY
X-MICROSOFT-CDO-IMPORTANCE:1
END:VEVENT
BEGIN:VEVENT
UID:g6l07@games.golnetwork.com
LOCATION:Louis Riel #3
GEO:45.4410208;-75.5715394
CREATED:20150307T213332Z
DTSTART:20150313T013000Z
DTEND:20150313T022000Z
DTSTAMP:20260420T145440Z
SUMMARY:UpRise FC vs. Dynamo FC
DESCRIPTION:Dynamo FC vs. UpRise FCMore info: #11
X-ALT-DESC;FMTTYPE=text/html:<!DOCTYPE HTML PUBLIC "-//W3C//DTD HTML 3.2//E
	N">\n<HTML>\n<HEAD>\n<TITLE></TITLE>\n</HEAD>\n<BODY>\n<h3>Dynamo FC vs. Up
	Rise FC</h3>More info: <a href="https://www.golnetwork.com/game/v/65708/">#
	11</a>\n\n</BODY>\n</HTML>
STATUS:CONFIRMED
CLASS:PUBLIC
URL:https://www.golnetwork.com/game/v/65708/
X-MICROSOFT-CDO-BUSYSTATUS:BUSY
X-MICROSOFT-CDO-IMPORTANCE:1
END:VEVENT
BEGIN:VEVENT
UID:g6l0b@games.golnetwork.com
LOCATION:Louis Riel #3
GEO:45.4410208;-75.5715394
CREATED:20150307T213332Z
DTSTART:20150313T023000Z
DTEND:20150313T032000Z
DTSTAMP:20260420T145440Z
SUMMARY:The All-Stars vs. Hannibal Suarez
DESCRIPTION:Hannibal Suarez vs. The All-StarsMore info: #14
X-ALT-DESC;FMTTYPE=text/html:<!DOCTYPE HTML PUBLIC "-//W3C//DTD HTML 3.2//E
	N">\n<HTML>\n<HEAD>\n<TITLE></TITLE>\n</HEAD>\n<BODY>\n<h3>Hannibal Suarez 
	vs. The All-Stars</h3>More info: <a href="https://www.golnetwork.com/game/v
	/65710/">#14</a>\n\n</BODY>\n</HTML>
STATUS:CONFIRMED
CLASS:PUBLIC
URL:https://www.golnetwork.com/game/v/65710/
X-MICROSOFT-CDO-BUSYSTATUS:BUSY
X-MICROSOFT-CDO-IMPORTANCE:1
END:VEVENT
END:VCALENDAR
