BEGIN:VCALENDAR
PRODID:-//gdesolutions.com//MV Framework 1.0.0.1607 Calendar//EN
VERSION:2.0
METHOD:PUBLISH
CALSCALE:GREGORIAN
BEGIN:VEVENT
UID:g73hf@games.golnetwork.com
LOCATION:Hornet's Nest #1
GEO:45.4428309;-75.575268
CREATED:20150510T214920Z
DTSTART:20150514T230000Z
DTEND:20150514T235000Z
DTSTAMP:20260420T090440Z
SUMMARY:FC AA vs. Flamingos
DESCRIPTION:Flamingos vs. FC AAMore info: #107
X-ALT-DESC;FMTTYPE=text/html:<!DOCTYPE HTML PUBLIC "-//W3C//DTD HTML 3.2//E
	N">\n<HTML>\n<HEAD>\n<TITLE></TITLE>\n</HEAD>\n<BODY>\n<h3>Flamingos vs. FC
	 AA</h3>More info: <a href="https://www.golnetwork.com/game/v/69222/">#107<
	/a>\n\n</BODY>\n</HTML>
STATUS:CONFIRMED
CLASS:PUBLIC
URL:https://www.golnetwork.com/game/v/69222/
X-MICROSOFT-CDO-BUSYSTATUS:BUSY
X-MICROSOFT-CDO-IMPORTANCE:1
END:VEVENT
BEGIN:VEVENT
UID:g73hh@games.golnetwork.com
LOCATION:Hornet's Nest #1
GEO:45.4428309;-75.575268
CREATED:20150510T214753Z
DTSTART:20150515T000000Z
DTEND:20150515T005000Z
DTSTAMP:20260420T090440Z
SUMMARY:Spartans FC vs. Pas l'temps de niaser
DESCRIPTION:Pas l'temps de niaser vs. Spartans FCMore info: #111
X-ALT-DESC;FMTTYPE=text/html:<!DOCTYPE HTML PUBLIC "-//W3C//DTD HTML 3.2//E
	N">\n<HTML>\n<HEAD>\n<TITLE></TITLE>\n</HEAD>\n<BODY>\n<h3>Pas l'temps de n
	iaser vs. Spartans FC</h3>More info: <a href="https://www.golnetwork.com/ga
	me/v/69223/">#111</a>\n\n</BODY>\n</HTML>
STATUS:CONFIRMED
CLASS:PUBLIC
URL:https://www.golnetwork.com/game/v/69223/
X-MICROSOFT-CDO-BUSYSTATUS:BUSY
X-MICROSOFT-CDO-IMPORTANCE:1
END:VEVENT
BEGIN:VEVENT
UID:g74j2@games.golnetwork.com
LOCATION:Hornet's Nest #3
GEO:45.4428309;-75.575268
CREATED:20150517T183919Z
DTSTART:20150522T000000Z
DTEND:20150522T005000Z
DTSTAMP:20260420T090440Z
SUMMARY:Flamingos vs. Pas l'temps de niaser
DESCRIPTION:Pas l'temps de niaser vs. FlamingosMore info: #125
X-ALT-DESC;FMTTYPE=text/html:<!DOCTYPE HTML PUBLIC "-//W3C//DTD HTML 3.2//E
	N">\n<HTML>\n<HEAD>\n<TITLE></TITLE>\n</HEAD>\n<BODY>\n<h3>Pas l'temps de n
	iaser vs. Flamingos</h3>More info: <a href="https://www.golnetwork.com/game
	/v/69607/">#125</a>\n\n</BODY>\n</HTML>
STATUS:CONFIRMED
CLASS:PUBLIC
URL:https://www.golnetwork.com/game/v/69607/
X-MICROSOFT-CDO-BUSYSTATUS:BUSY
X-MICROSOFT-CDO-IMPORTANCE:1
END:VEVENT
END:VCALENDAR
