BEGIN:VCALENDAR
PRODID:-//gdesolutions.com//MV Framework 1.0.0.1607 Calendar//EN
VERSION:2.0
METHOD:PUBLISH
CALSCALE:GREGORIAN
BEGIN:VEVENT
UID:g6lcp@games.golnetwork.com
LOCATION:Louis Riel #1
GEO:45.4410208;-75.5715394
CREATED:20150316T183549Z
DTSTART:20150319T230000Z
DTEND:20150319T235000Z
DTSTAMP:20260421T175429Z
SUMMARY:Foot Loose FC vs. Missile-toe
DESCRIPTION:Missile-toe vs. Foot Loose FCMore info: #1
X-ALT-DESC;FMTTYPE=text/html:<!DOCTYPE HTML PUBLIC "-//W3C//DTD HTML 3.2//E
	N">\n<HTML>\n<HEAD>\n<TITLE></TITLE>\n</HEAD>\n<BODY>\n<h3>Missile-toe vs. 
	Foot Loose FC</h3>More info: <a href="https://www.golnetwork.com/game/v/658
	79/">#1</a>\n\n</BODY>\n</HTML>
STATUS:CONFIRMED
CLASS:PUBLIC
URL:https://www.golnetwork.com/game/v/65879/
X-MICROSOFT-CDO-BUSYSTATUS:BUSY
X-MICROSOFT-CDO-IMPORTANCE:1
END:VEVENT
BEGIN:VEVENT
UID:g6ldk@games.golnetwork.com
LOCATION:Louis Riel #1
GEO:45.4410208;-75.5715394
CREATED:20150316T183808Z
DTSTART:20150320T010000Z
DTEND:20150320T015000Z
DTSTAMP:20260421T175429Z
SUMMARY:Fm FC vs. Fusion
DESCRIPTION:Fusion vs. Fm FCMore info: #8
X-ALT-DESC;FMTTYPE=text/html:<!DOCTYPE HTML PUBLIC "-//W3C//DTD HTML 3.2//E
	N">\n<HTML>\n<HEAD>\n<TITLE></TITLE>\n</HEAD>\n<BODY>\n<h3>Fusion vs. Fm FC
	</h3>More info: <a href="https://www.golnetwork.com/game/v/65890/">#8</a>\n
	\n</BODY>\n</HTML>
STATUS:CONFIRMED
CLASS:PUBLIC
URL:https://www.golnetwork.com/game/v/65890/
X-MICROSOFT-CDO-BUSYSTATUS:BUSY
X-MICROSOFT-CDO-IMPORTANCE:1
END:VEVENT
BEGIN:VEVENT
UID:g6ldc@games.golnetwork.com
LOCATION:Louis Riel #1
GEO:45.4410208;-75.5715394
CREATED:20150316T183550Z
DTSTART:20150320T020000Z
DTEND:20150320T025000Z
DTSTAMP:20260421T175429Z
SUMMARY:Arsenanal FC vs. Cornerstone FC
DESCRIPTION:Cornerstone FC vs. Arsenanal FCMore info: #10
X-ALT-DESC;FMTTYPE=text/html:<!DOCTYPE HTML PUBLIC "-//W3C//DTD HTML 3.2//E
	N">\n<HTML>\n<HEAD>\n<TITLE></TITLE>\n</HEAD>\n<BODY>\n<h3>Cornerstone FC v
	s. Arsenanal FC</h3>More info: <a href="https://www.golnetwork.com/game/v/6
	5886/">#10</a>\n\n</BODY>\n</HTML>
STATUS:CONFIRMED
CLASS:PUBLIC
URL:https://www.golnetwork.com/game/v/65886/
X-MICROSOFT-CDO-BUSYSTATUS:BUSY
X-MICROSOFT-CDO-IMPORTANCE:1
END:VEVENT
BEGIN:VEVENT
UID:g6ldg@games.golnetwork.com
LOCATION:Louis Riel #2
GEO:45.4410208;-75.5715394
CREATED:20150316T183551Z
DTSTART:20150320T020000Z
DTEND:20150320T025000Z
DTSTAMP:20260421T175429Z
SUMMARY:Team Doug vs. Winded FC
DESCRIPTION:Winded FC vs. Team DougMore info: #12
X-ALT-DESC;FMTTYPE=text/html:<!DOCTYPE HTML PUBLIC "-//W3C//DTD HTML 3.2//E
	N">\n<HTML>\n<HEAD>\n<TITLE></TITLE>\n</HEAD>\n<BODY>\n<h3>Winded FC vs. Te
	am Doug</h3>More info: <a href="https://www.golnetwork.com/game/v/65888/">#
	12</a>\n\n</BODY>\n</HTML>
STATUS:CONFIRMED
CLASS:PUBLIC
URL:https://www.golnetwork.com/game/v/65888/
X-MICROSOFT-CDO-BUSYSTATUS:BUSY
X-MICROSOFT-CDO-IMPORTANCE:1
END:VEVENT
BEGIN:VEVENT
UID:g6lid@games.golnetwork.com
LOCATION:Louis Riel #1
GEO:45.4410208;-75.5715394
CREATED:20150319T070519Z
DTSTART:20150326T230000Z
DTEND:20150326T235000Z
DTSTAMP:20260421T175429Z
SUMMARY:Arsenanal FC vs. Fm FC
DESCRIPTION:Fm FC vs. Arsenanal FCMore info: #1
X-ALT-DESC;FMTTYPE=text/html:<!DOCTYPE HTML PUBLIC "-//W3C//DTD HTML 3.2//E
	N">\n<HTML>\n<HEAD>\n<TITLE></TITLE>\n</HEAD>\n<BODY>\n<h3>Fm FC vs. Arsena
	nal FC</h3>More info: <a href="https://www.golnetwork.com/game/v/65954/">#1
	</a>\n\n</BODY>\n</HTML>
STATUS:CONFIRMED
CLASS:PUBLIC
URL:https://www.golnetwork.com/game/v/65954/
X-MICROSOFT-CDO-BUSYSTATUS:BUSY
X-MICROSOFT-CDO-IMPORTANCE:1
END:VEVENT
BEGIN:VEVENT
UID:g6lij@games.golnetwork.com
LOCATION:Louis Riel #1
GEO:45.4410208;-75.5715394
CREATED:20150319T070519Z
DTSTART:20150327T000000Z
DTEND:20150327T005000Z
DTSTAMP:20260421T175429Z
SUMMARY:Cornerstone FC vs. Fusion
DESCRIPTION:Fusion vs. Cornerstone FCMore info: #4
X-ALT-DESC;FMTTYPE=text/html:<!DOCTYPE HTML PUBLIC "-//W3C//DTD HTML 3.2//E
	N">\n<HTML>\n<HEAD>\n<TITLE></TITLE>\n</HEAD>\n<BODY>\n<h3>Fusion vs. Corne
	rstone FC</h3>More info: <a href="https://www.golnetwork.com/game/v/65957/"
	>#4</a>\n\n</BODY>\n</HTML>
STATUS:CONFIRMED
CLASS:PUBLIC
URL:https://www.golnetwork.com/game/v/65957/
X-MICROSOFT-CDO-BUSYSTATUS:BUSY
X-MICROSOFT-CDO-IMPORTANCE:1
END:VEVENT
BEGIN:VEVENT
UID:g6lil@games.golnetwork.com
LOCATION:Louis Riel #2
GEO:45.4410208;-75.5715394
CREATED:20150319T070519Z
DTSTART:20150327T000000Z
DTEND:20150327T005000Z
DTSTAMP:20260421T175429Z
SUMMARY:Foot Loose FC vs. Winded FC
DESCRIPTION:Winded FC vs. Foot Loose FCMore info: #5
X-ALT-DESC;FMTTYPE=text/html:<!DOCTYPE HTML PUBLIC "-//W3C//DTD HTML 3.2//E
	N">\n<HTML>\n<HEAD>\n<TITLE></TITLE>\n</HEAD>\n<BODY>\n<h3>Winded FC vs. Fo
	ot Loose FC</h3>More info: <a href="https://www.golnetwork.com/game/v/65958
	/">#5</a>\n\n</BODY>\n</HTML>
STATUS:CONFIRMED
CLASS:PUBLIC
URL:https://www.golnetwork.com/game/v/65958/
X-MICROSOFT-CDO-BUSYSTATUS:BUSY
X-MICROSOFT-CDO-IMPORTANCE:1
END:VEVENT
BEGIN:VEVENT
UID:g6lip@games.golnetwork.com
LOCATION:Louis Riel #1
GEO:45.4410208;-75.5715394
CREATED:20150319T070519Z
DTSTART:20150327T010000Z
DTEND:20150327T015000Z
DTSTAMP:20260421T175429Z
SUMMARY:Team Doug vs. Missile-toe
DESCRIPTION:Missile-toe vs. Team DougMore info: #7
X-ALT-DESC;FMTTYPE=text/html:<!DOCTYPE HTML PUBLIC "-//W3C//DTD HTML 3.2//E
	N">\n<HTML>\n<HEAD>\n<TITLE></TITLE>\n</HEAD>\n<BODY>\n<h3>Missile-toe vs. 
	Team Doug</h3>More info: <a href="https://www.golnetwork.com/game/v/65960/"
	>#7</a>\n\n</BODY>\n</HTML>
STATUS:CONFIRMED
CLASS:PUBLIC
URL:https://www.golnetwork.com/game/v/65960/
X-MICROSOFT-CDO-BUSYSTATUS:BUSY
X-MICROSOFT-CDO-IMPORTANCE:1
END:VEVENT
BEGIN:VEVENT
UID:g6ljc@games.golnetwork.com
LOCATION:Louis Riel #1
GEO:45.4410208;-75.5715394
CREATED:20150319T070520Z
DTSTART:20150402T230000Z
DTEND:20150402T235000Z
DTSTAMP:20260421T175429Z
SUMMARY:Fusion vs. Team Doug
DESCRIPTION:Team Doug vs. FusionMore info: #14
X-ALT-DESC;FMTTYPE=text/html:<!DOCTYPE HTML PUBLIC "-//W3C//DTD HTML 3.2//E
	N">\n<HTML>\n<HEAD>\n<TITLE></TITLE>\n</HEAD>\n<BODY>\n<h3>Team Doug vs. Fu
	sion</h3>More info: <a href="https://www.golnetwork.com/game/v/65967/">#14<
	/a>\n\n</BODY>\n</HTML>
STATUS:CONFIRMED
CLASS:PUBLIC
URL:https://www.golnetwork.com/game/v/65967/
X-MICROSOFT-CDO-BUSYSTATUS:BUSY
X-MICROSOFT-CDO-IMPORTANCE:1
END:VEVENT
BEGIN:VEVENT
UID:g6lji@games.golnetwork.com
LOCATION:Louis Riel #1
GEO:45.4410208;-75.5715394
CREATED:20150319T070520Z
DTSTART:20150403T000000Z
DTEND:20150403T005000Z
DTSTAMP:20260421T175429Z
SUMMARY:Arsenanal FC vs. Missile-toe
DESCRIPTION:Missile-toe vs. Arsenanal FCMore info: #17
X-ALT-DESC;FMTTYPE=text/html:<!DOCTYPE HTML PUBLIC "-//W3C//DTD HTML 3.2//E
	N">\n<HTML>\n<HEAD>\n<TITLE></TITLE>\n</HEAD>\n<BODY>\n<h3>Missile-toe vs. 
	Arsenanal FC</h3>More info: <a href="https://www.golnetwork.com/game/v/6597
	0/">#17</a>\n\n</BODY>\n</HTML>
STATUS:CONFIRMED
CLASS:PUBLIC
URL:https://www.golnetwork.com/game/v/65970/
X-MICROSOFT-CDO-BUSYSTATUS:BUSY
X-MICROSOFT-CDO-IMPORTANCE:1
END:VEVENT
BEGIN:VEVENT
UID:g6ljo@games.golnetwork.com
LOCATION:Louis Riel #1
GEO:45.4410208;-75.5715394
CREATED:20150319T070520Z
DTSTART:20150403T010000Z
DTEND:20150403T015000Z
DTSTAMP:20260421T175429Z
SUMMARY:Cornerstone FC vs. Winded FC
DESCRIPTION:Winded FC vs. Cornerstone FCMore info: #20
X-ALT-DESC;FMTTYPE=text/html:<!DOCTYPE HTML PUBLIC "-//W3C//DTD HTML 3.2//E
	N">\n<HTML>\n<HEAD>\n<TITLE></TITLE>\n</HEAD>\n<BODY>\n<h3>Winded FC vs. Co
	rnerstone FC</h3>More info: <a href="https://www.golnetwork.com/game/v/6597
	3/">#20</a>\n\n</BODY>\n</HTML>
STATUS:CONFIRMED
CLASS:PUBLIC
URL:https://www.golnetwork.com/game/v/65973/
X-MICROSOFT-CDO-BUSYSTATUS:BUSY
X-MICROSOFT-CDO-IMPORTANCE:1
END:VEVENT
BEGIN:VEVENT
UID:g6lk3@games.golnetwork.com
LOCATION:Louis Riel #1
GEO:45.4410208;-75.5715394
CREATED:20150319T070521Z
DTSTART:20150403T020000Z
DTEND:20150403T025000Z
DTSTAMP:20260421T175429Z
SUMMARY:Fm FC vs. Foot Loose FC
DESCRIPTION:Foot Loose FC vs. Fm FCMore info: #23
X-ALT-DESC;FMTTYPE=text/html:<!DOCTYPE HTML PUBLIC "-//W3C//DTD HTML 3.2//E
	N">\n<HTML>\n<HEAD>\n<TITLE></TITLE>\n</HEAD>\n<BODY>\n<h3>Foot Loose FC vs
	. Fm FC</h3>More info: <a href="https://www.golnetwork.com/game/v/65976/">#
	23</a>\n\n</BODY>\n</HTML>
STATUS:CONFIRMED
CLASS:PUBLIC
URL:https://www.golnetwork.com/game/v/65976/
X-MICROSOFT-CDO-BUSYSTATUS:BUSY
X-MICROSOFT-CDO-IMPORTANCE:1
END:VEVENT
BEGIN:VEVENT
UID:g6lkj@games.golnetwork.com
LOCATION:Louis Riel #1
GEO:45.4410208;-75.5715394
CREATED:20150319T070521Z
DTSTART:20150409T230000Z
DTEND:20150409T235000Z
DTSTAMP:20260421T175429Z
SUMMARY:Fm FC vs. Missile-toe
DESCRIPTION:Missile-toe vs. Fm FCMore info: #31
X-ALT-DESC;FMTTYPE=text/html:<!DOCTYPE HTML PUBLIC "-//W3C//DTD HTML 3.2//E
	N">\n<HTML>\n<HEAD>\n<TITLE></TITLE>\n</HEAD>\n<BODY>\n<h3>Missile-toe vs. 
	Fm FC</h3>More info: <a href="https://www.golnetwork.com/game/v/65984/">#31
	</a>\n\n</BODY>\n</HTML>
STATUS:CONFIRMED
CLASS:PUBLIC
URL:https://www.golnetwork.com/game/v/65984/
X-MICROSOFT-CDO-BUSYSTATUS:BUSY
X-MICROSOFT-CDO-IMPORTANCE:1
END:VEVENT
BEGIN:VEVENT
UID:g6lkp@games.golnetwork.com
LOCATION:Louis Riel #1
GEO:45.4410208;-75.5715394
CREATED:20150319T070521Z
DTSTART:20150410T000000Z
DTEND:20150410T005000Z
DTSTAMP:20260421T175429Z
SUMMARY:Cornerstone FC vs. Team Doug
DESCRIPTION:Team Doug vs. Cornerstone FCMore info: #34
X-ALT-DESC;FMTTYPE=text/html:<!DOCTYPE HTML PUBLIC "-//W3C//DTD HTML 3.2//E
	N">\n<HTML>\n<HEAD>\n<TITLE></TITLE>\n</HEAD>\n<BODY>\n<h3>Team Doug vs. Co
	rnerstone FC</h3>More info: <a href="https://www.golnetwork.com/game/v/6598
	7/">#34</a>\n\n</BODY>\n</HTML>
STATUS:CONFIRMED
CLASS:PUBLIC
URL:https://www.golnetwork.com/game/v/65987/
X-MICROSOFT-CDO-BUSYSTATUS:BUSY
X-MICROSOFT-CDO-IMPORTANCE:1
END:VEVENT
BEGIN:VEVENT
UID:g6ll0@games.golnetwork.com
LOCATION:Louis Riel #2
GEO:45.4410208;-75.5715394
CREATED:20150319T070521Z
DTSTART:20150410T000000Z
DTEND:20150410T005000Z
DTSTAMP:20260421T175429Z
SUMMARY:Arsenanal FC vs. Foot Loose FC
DESCRIPTION:Foot Loose FC vs. Arsenanal FCMore info: #35
X-ALT-DESC;FMTTYPE=text/html:<!DOCTYPE HTML PUBLIC "-//W3C//DTD HTML 3.2//E
	N">\n<HTML>\n<HEAD>\n<TITLE></TITLE>\n</HEAD>\n<BODY>\n<h3>Foot Loose FC vs
	. Arsenanal FC</h3>More info: <a href="https://www.golnetwork.com/game/v/65
	988/">#35</a>\n\n</BODY>\n</HTML>
STATUS:CONFIRMED
CLASS:PUBLIC
URL:https://www.golnetwork.com/game/v/65988/
X-MICROSOFT-CDO-BUSYSTATUS:BUSY
X-MICROSOFT-CDO-IMPORTANCE:1
END:VEVENT
BEGIN:VEVENT
UID:g6ll2@games.golnetwork.com
LOCATION:Louis Riel #3
GEO:45.4410208;-75.5715394
CREATED:20150319T070521Z
DTSTART:20150410T003000Z
DTEND:20150410T012000Z
DTSTAMP:20260421T175429Z
SUMMARY:Fusion vs. Winded FC
DESCRIPTION:Winded FC vs. FusionMore info: #36
X-ALT-DESC;FMTTYPE=text/html:<!DOCTYPE HTML PUBLIC "-//W3C//DTD HTML 3.2//E
	N">\n<HTML>\n<HEAD>\n<TITLE></TITLE>\n</HEAD>\n<BODY>\n<h3>Winded FC vs. Fu
	sion</h3>More info: <a href="https://www.golnetwork.com/game/v/65989/">#36<
	/a>\n\n</BODY>\n</HTML>
STATUS:CONFIRMED
CLASS:PUBLIC
URL:https://www.golnetwork.com/game/v/65989/
X-MICROSOFT-CDO-BUSYSTATUS:BUSY
X-MICROSOFT-CDO-IMPORTANCE:1
END:VEVENT
BEGIN:VEVENT
UID:g6llg@games.golnetwork.com
LOCATION:Louis Riel #1
GEO:45.4410208;-75.5715394
CREATED:20150319T070522Z
DTSTART:20150416T230000Z
DTEND:20150416T235000Z
DTSTAMP:20260421T175429Z
SUMMARY:Fusion vs. Foot Loose FC
DESCRIPTION:Foot Loose FC vs. FusionMore info: #43
X-ALT-DESC;FMTTYPE=text/html:<!DOCTYPE HTML PUBLIC "-//W3C//DTD HTML 3.2//E
	N">\n<HTML>\n<HEAD>\n<TITLE></TITLE>\n</HEAD>\n<BODY>\n<h3>Foot Loose FC vs
	. Fusion</h3>More info: <a href="https://www.golnetwork.com/game/v/65996/">
	#43</a>\n\n</BODY>\n</HTML>
STATUS:CONFIRMED
CLASS:PUBLIC
URL:https://www.golnetwork.com/game/v/65996/
X-MICROSOFT-CDO-BUSYSTATUS:BUSY
X-MICROSOFT-CDO-IMPORTANCE:1
END:VEVENT
BEGIN:VEVENT
UID:g6llo@games.golnetwork.com
LOCATION:Louis Riel #2
GEO:45.4410208;-75.5715394
CREATED:20150319T070522Z
DTSTART:20150416T230000Z
DTEND:20150416T235000Z
DTSTAMP:20260421T175429Z
SUMMARY:Team Doug vs. Arsenanal FC
DESCRIPTION:Arsenanal FC vs. Team DougMore info: #47
X-ALT-DESC;FMTTYPE=text/html:<!DOCTYPE HTML PUBLIC "-//W3C//DTD HTML 3.2//E
	N">\n<HTML>\n<HEAD>\n<TITLE></TITLE>\n</HEAD>\n<BODY>\n<h3>Arsenanal FC vs.
	 Team Doug</h3>More info: <a href="https://www.golnetwork.com/game/v/66000/
	">#47</a>\n\n</BODY>\n</HTML>
STATUS:RESCHEDULED
CLASS:PUBLIC
URL:https://www.golnetwork.com/game/v/66000/
X-MICROSOFT-CDO-BUSYSTATUS:BUSY
X-MICROSOFT-CDO-IMPORTANCE:1
END:VEVENT
BEGIN:VEVENT
UID:g6llm@games.golnetwork.com
LOCATION:Louis Riel #1
GEO:45.4410208;-75.5715394
CREATED:20150319T070522Z
DTSTART:20150417T000000Z
DTEND:20150417T005000Z
DTSTAMP:20260421T175429Z
SUMMARY:Winded FC vs. Missile-toe
DESCRIPTION:Missile-toe vs. Winded FCMore info: #46
X-ALT-DESC;FMTTYPE=text/html:<!DOCTYPE HTML PUBLIC "-//W3C//DTD HTML 3.2//E
	N">\n<HTML>\n<HEAD>\n<TITLE></TITLE>\n</HEAD>\n<BODY>\n<h3>Missile-toe vs. 
	Winded FC</h3>More info: <a href="https://www.golnetwork.com/game/v/65999/"
	>#46</a>\n\n</BODY>\n</HTML>
STATUS:CONFIRMED
CLASS:PUBLIC
URL:https://www.golnetwork.com/game/v/65999/
X-MICROSOFT-CDO-BUSYSTATUS:BUSY
X-MICROSOFT-CDO-IMPORTANCE:1
END:VEVENT
BEGIN:VEVENT
UID:g6lm1@games.golnetwork.com
LOCATION:Louis Riel #2
GEO:45.4410208;-75.5715394
CREATED:20150319T070522Z
DTSTART:20150417T000000Z
DTEND:20150417T005000Z
DTSTAMP:20260421T175429Z
SUMMARY:Cornerstone FC vs. Fm FC
DESCRIPTION:Fm FC vs. Cornerstone FCMore info: #49
X-ALT-DESC;FMTTYPE=text/html:<!DOCTYPE HTML PUBLIC "-//W3C//DTD HTML 3.2//E
	N">\n<HTML>\n<HEAD>\n<TITLE></TITLE>\n</HEAD>\n<BODY>\n<h3>Fm FC vs. Corner
	stone FC</h3>More info: <a href="https://www.golnetwork.com/game/v/66002/">
	#49</a>\n\n</BODY>\n</HTML>
STATUS:RESCHEDULED
CLASS:PUBLIC
URL:https://www.golnetwork.com/game/v/66002/
X-MICROSOFT-CDO-BUSYSTATUS:BUSY
X-MICROSOFT-CDO-IMPORTANCE:1
END:VEVENT
BEGIN:VEVENT
UID:g6lmh@games.golnetwork.com
LOCATION:Louis Riel #1
GEO:45.4410208;-75.5715394
CREATED:20150319T070523Z
DTSTART:20150423T230000Z
DTEND:20150423T235000Z
DTSTAMP:20260421T175429Z
SUMMARY:Fm FC vs. Winded FC
DESCRIPTION:Winded FC vs. Fm FCMore info: #44
X-ALT-DESC;FMTTYPE=text/html:<!DOCTYPE HTML PUBLIC "-//W3C//DTD HTML 3.2//E
	N">\n<HTML>\n<HEAD>\n<TITLE></TITLE>\n</HEAD>\n<BODY>\n<h3>Winded FC vs. Fm
	 FC</h3>More info: <a href="https://www.golnetwork.com/game/v/66010/">#44</
	a>\n\n</BODY>\n</HTML>
STATUS:CONFIRMED
CLASS:PUBLIC
URL:https://www.golnetwork.com/game/v/66010/
X-MICROSOFT-CDO-BUSYSTATUS:BUSY
X-MICROSOFT-CDO-IMPORTANCE:1
END:VEVENT
BEGIN:VEVENT
UID:g6lmn@games.golnetwork.com
LOCATION:Louis Riel #1
GEO:45.4410208;-75.5715394
CREATED:20150319T070523Z
DTSTART:20150424T000000Z
DTEND:20150424T005000Z
DTSTAMP:20260421T175429Z
SUMMARY:Arsenanal FC vs. Fusion
DESCRIPTION:Fusion vs. Arsenanal FCMore info: #47
X-ALT-DESC;FMTTYPE=text/html:<!DOCTYPE HTML PUBLIC "-//W3C//DTD HTML 3.2//E
	N">\n<HTML>\n<HEAD>\n<TITLE></TITLE>\n</HEAD>\n<BODY>\n<h3>Fusion vs. Arsen
	anal FC</h3>More info: <a href="https://www.golnetwork.com/game/v/66013/">#
	47</a>\n\n</BODY>\n</HTML>
STATUS:CONFIRMED
CLASS:PUBLIC
URL:https://www.golnetwork.com/game/v/66013/
X-MICROSOFT-CDO-BUSYSTATUS:BUSY
X-MICROSOFT-CDO-IMPORTANCE:1
END:VEVENT
BEGIN:VEVENT
UID:g6ln2@games.golnetwork.com
LOCATION:Louis Riel #1
GEO:45.4410208;-75.5715394
CREATED:20150319T070523Z
DTSTART:20150424T010000Z
DTEND:20150424T015000Z
DTSTAMP:20260421T175429Z
SUMMARY:Team Doug vs. Foot Loose FC
DESCRIPTION:Foot Loose FC vs. Team DougMore info: #50
X-ALT-DESC;FMTTYPE=text/html:<!DOCTYPE HTML PUBLIC "-//W3C//DTD HTML 3.2//E
	N">\n<HTML>\n<HEAD>\n<TITLE></TITLE>\n</HEAD>\n<BODY>\n<h3>Foot Loose FC vs
	. Team Doug</h3>More info: <a href="https://www.golnetwork.com/game/v/66016
	/">#50</a>\n\n</BODY>\n</HTML>
STATUS:CONFIRMED
CLASS:PUBLIC
URL:https://www.golnetwork.com/game/v/66016/
X-MICROSOFT-CDO-BUSYSTATUS:BUSY
X-MICROSOFT-CDO-IMPORTANCE:1
END:VEVENT
BEGIN:VEVENT
UID:g6ln6@games.golnetwork.com
LOCATION:Louis Riel #3
GEO:45.4410208;-75.5715394
CREATED:20150319T070523Z
DTSTART:20150424T013000Z
DTEND:20150424T022000Z
DTSTAMP:20260421T175429Z
SUMMARY:Cornerstone FC vs. Missile-toe
DESCRIPTION:Missile-toe vs. Cornerstone FCMore info: #52
X-ALT-DESC;FMTTYPE=text/html:<!DOCTYPE HTML PUBLIC "-//W3C//DTD HTML 3.2//E
	N">\n<HTML>\n<HEAD>\n<TITLE></TITLE>\n</HEAD>\n<BODY>\n<h3>Missile-toe vs. 
	Cornerstone FC</h3>More info: <a href="https://www.golnetwork.com/game/v/66
	018/">#52</a>\n\n</BODY>\n</HTML>
STATUS:CONFIRMED
CLASS:PUBLIC
URL:https://www.golnetwork.com/game/v/66018/
X-MICROSOFT-CDO-BUSYSTATUS:BUSY
X-MICROSOFT-CDO-IMPORTANCE:1
END:VEVENT
BEGIN:VEVENT
UID:g6lnk@games.golnetwork.com
LOCATION:Louis Riel #1
GEO:45.4410208;-75.5715394
CREATED:20150319T070524Z
DTSTART:20150501T000000Z
DTEND:20150501T005000Z
DTSTAMP:20260421T175429Z
SUMMARY:Fm FC vs. Team Doug
DESCRIPTION:Team Doug vs. Fm FCMore info: #46
X-ALT-DESC;FMTTYPE=text/html:<!DOCTYPE HTML PUBLIC "-//W3C//DTD HTML 3.2//E
	N">\n<HTML>\n<HEAD>\n<TITLE></TITLE>\n</HEAD>\n<BODY>\n<h3>Team Doug vs. Fm
	 FC</h3>More info: <a href="https://www.golnetwork.com/game/v/66025/">#46</
	a>\n\n</BODY>\n</HTML>
STATUS:CONFIRMED
CLASS:PUBLIC
URL:https://www.golnetwork.com/game/v/66025/
X-MICROSOFT-CDO-BUSYSTATUS:BUSY
X-MICROSOFT-CDO-IMPORTANCE:1
END:VEVENT
BEGIN:VEVENT
UID:g6lnq@games.golnetwork.com
LOCATION:Louis Riel #2
GEO:45.4410208;-75.5715394
CREATED:20150319T070524Z
DTSTART:20150501T000000Z
DTEND:20150501T005000Z
DTSTAMP:20260421T175429Z
SUMMARY:Arsenanal FC vs. Winded FC
DESCRIPTION:Winded FC vs. Arsenanal FCMore info: #49
X-ALT-DESC;FMTTYPE=text/html:<!DOCTYPE HTML PUBLIC "-//W3C//DTD HTML 3.2//E
	N">\n<HTML>\n<HEAD>\n<TITLE></TITLE>\n</HEAD>\n<BODY>\n<h3>Winded FC vs. Ar
	senanal FC</h3>More info: <a href="https://www.golnetwork.com/game/v/66028/
	">#49</a>\n\n</BODY>\n</HTML>
STATUS:CONFIRMED
CLASS:PUBLIC
URL:https://www.golnetwork.com/game/v/66028/
X-MICROSOFT-CDO-BUSYSTATUS:BUSY
X-MICROSOFT-CDO-IMPORTANCE:1
END:VEVENT
BEGIN:VEVENT
UID:g6lo1@games.golnetwork.com
LOCATION:Louis Riel #1
GEO:45.4410208;-75.5715394
CREATED:20150319T070524Z
DTSTART:20150501T010000Z
DTEND:20150501T015000Z
DTSTAMP:20260421T175429Z
SUMMARY:Cornerstone FC vs. Foot Loose FC
DESCRIPTION:Foot Loose FC vs. Cornerstone FCMore info: #50
X-ALT-DESC;FMTTYPE=text/html:<!DOCTYPE HTML PUBLIC "-//W3C//DTD HTML 3.2//E
	N">\n<HTML>\n<HEAD>\n<TITLE></TITLE>\n</HEAD>\n<BODY>\n<h3>Foot Loose FC vs
	. Cornerstone FC</h3>More info: <a href="https://www.golnetwork.com/game/v/
	66029/">#50</a>\n\n</BODY>\n</HTML>
STATUS:CONFIRMED
CLASS:PUBLIC
URL:https://www.golnetwork.com/game/v/66029/
X-MICROSOFT-CDO-BUSYSTATUS:BUSY
X-MICROSOFT-CDO-IMPORTANCE:1
END:VEVENT
BEGIN:VEVENT
UID:g6lo5@games.golnetwork.com
LOCATION:Louis Riel #1
GEO:45.4410208;-75.5715394
CREATED:20150319T070524Z
DTSTART:20150501T020000Z
DTEND:20150501T025000Z
DTSTAMP:20260421T175429Z
SUMMARY:Fusion vs. Missile-toe
DESCRIPTION:Missile-toe vs. FusionMore info: #52
X-ALT-DESC;FMTTYPE=text/html:<!DOCTYPE HTML PUBLIC "-//W3C//DTD HTML 3.2//E
	N">\n<HTML>\n<HEAD>\n<TITLE></TITLE>\n</HEAD>\n<BODY>\n<h3>Missile-toe vs. 
	Fusion</h3>More info: <a href="https://www.golnetwork.com/game/v/66031/">#5
	2</a>\n\n</BODY>\n</HTML>
STATUS:CONFIRMED
CLASS:PUBLIC
URL:https://www.golnetwork.com/game/v/66031/
X-MICROSOFT-CDO-BUSYSTATUS:BUSY
X-MICROSOFT-CDO-IMPORTANCE:1
END:VEVENT
BEGIN:VEVENT
UID:g73ik@games.golnetwork.com
LOCATION:Louis Riel #2
GEO:45.4410208;-75.5715394
CREATED:20150510T215508Z
DTSTART:20150515T010000Z
DTEND:20150515T015000Z
DTSTAMP:20260421T175429Z
SUMMARY:Foot Loose FC vs. Fm FC
DESCRIPTION:Fm FC vs. Foot Loose FCMore info: #115
X-ALT-DESC;FMTTYPE=text/html:<!DOCTYPE HTML PUBLIC "-//W3C//DTD HTML 3.2//E
	N">\n<HTML>\n<HEAD>\n<TITLE></TITLE>\n</HEAD>\n<BODY>\n<h3>Fm FC vs. Foot L
	oose FC</h3>More info: <a href="https://www.golnetwork.com/game/v/69238/">#
	115</a>\n\n</BODY>\n</HTML>
STATUS:CONFIRMED
CLASS:PUBLIC
URL:https://www.golnetwork.com/game/v/69238/
X-MICROSOFT-CDO-BUSYSTATUS:BUSY
X-MICROSOFT-CDO-IMPORTANCE:1
END:VEVENT
BEGIN:VEVENT
UID:g73im@games.golnetwork.com
LOCATION:Louis Riel #3
GEO:45.4410208;-75.5715394
CREATED:20150510T215517Z
DTSTART:20150515T010000Z
DTEND:20150515T015000Z
DTSTAMP:20260421T175429Z
SUMMARY:Fusion vs. Cornerstone FC
DESCRIPTION:Cornerstone FC vs. FusionMore info: #116
X-ALT-DESC;FMTTYPE=text/html:<!DOCTYPE HTML PUBLIC "-//W3C//DTD HTML 3.2//E
	N">\n<HTML>\n<HEAD>\n<TITLE></TITLE>\n</HEAD>\n<BODY>\n<h3>Cornerstone FC v
	s. Fusion</h3>More info: <a href="https://www.golnetwork.com/game/v/69239/"
	>#116</a>\n\n</BODY>\n</HTML>
STATUS:CONFIRMED
CLASS:PUBLIC
URL:https://www.golnetwork.com/game/v/69239/
X-MICROSOFT-CDO-BUSYSTATUS:BUSY
X-MICROSOFT-CDO-IMPORTANCE:1
END:VEVENT
BEGIN:VEVENT
UID:g73ig@games.golnetwork.com
LOCATION:Hornet's Nest #2
GEO:45.4428309;-75.575268
CREATED:20150510T215443Z
DTSTART:20150515T010000Z
DTEND:20150515T015000Z
DTSTAMP:20260421T175429Z
SUMMARY:Team Doug vs. Arsenanal FC
DESCRIPTION:Arsenanal FC vs. Team DougMore info: R#47
X-ALT-DESC;FMTTYPE=text/html:<!DOCTYPE HTML PUBLIC "-//W3C//DTD HTML 3.2//E
	N">\n<HTML>\n<HEAD>\n<TITLE></TITLE>\n</HEAD>\n<BODY>\n<h3>Arsenanal FC vs.
	 Team Doug</h3>More info: <a href="https://www.golnetwork.com/game/v/69236/
	">R#47</a>\n\n</BODY>\n</HTML>
STATUS:CONFIRMED
CLASS:PUBLIC
URL:https://www.golnetwork.com/game/v/69236/
X-MICROSOFT-CDO-BUSYSTATUS:BUSY
X-MICROSOFT-CDO-IMPORTANCE:1
END:VEVENT
BEGIN:VEVENT
UID:g73ii@games.golnetwork.com
LOCATION:Louis Riel #1
GEO:45.4410208;-75.5715394
CREATED:20150510T215636Z
DTSTART:20150515T020000Z
DTEND:20150515T025000Z
DTSTAMP:20260421T175429Z
SUMMARY:Cornerstone FC vs. Fm FC
DESCRIPTION:Fm FC vs. Cornerstone FCMore info: R#49
X-ALT-DESC;FMTTYPE=text/html:<!DOCTYPE HTML PUBLIC "-//W3C//DTD HTML 3.2//E
	N">\n<HTML>\n<HEAD>\n<TITLE></TITLE>\n</HEAD>\n<BODY>\n<h3>Fm FC vs. Corner
	stone FC</h3>More info: <a href="https://www.golnetwork.com/game/v/69237/">
	R#49</a>\n\n</BODY>\n</HTML>
STATUS:CONFIRMED
CLASS:PUBLIC
URL:https://www.golnetwork.com/game/v/69237/
X-MICROSOFT-CDO-BUSYSTATUS:BUSY
X-MICROSOFT-CDO-IMPORTANCE:1
END:VEVENT
BEGIN:VEVENT
UID:g74j8@games.golnetwork.com
LOCATION:Hornet's Nest #2
GEO:45.4428309;-75.575268
CREATED:20150517T184024Z
DTSTART:20150522T000000Z
DTEND:20150522T005000Z
DTSTAMP:20260421T175429Z
SUMMARY:Foot Loose FC vs. Cornerstone FC
DESCRIPTION:Cornerstone FC vs. Foot Loose FCMore info: #124
X-ALT-DESC;FMTTYPE=text/html:<!DOCTYPE HTML PUBLIC "-//W3C//DTD HTML 3.2//E
	N">\n<HTML>\n<HEAD>\n<TITLE></TITLE>\n</HEAD>\n<BODY>\n<h3>Cornerstone FC v
	s. Foot Loose FC</h3>More info: <a href="https://www.golnetwork.com/game/v/
	69610/">#124</a>\n\n</BODY>\n</HTML>
STATUS:CONFIRMED
CLASS:PUBLIC
URL:https://www.golnetwork.com/game/v/69610/
X-MICROSOFT-CDO-BUSYSTATUS:BUSY
X-MICROSOFT-CDO-IMPORTANCE:1
END:VEVENT
BEGIN:VEVENT
UID:g74jc@games.golnetwork.com
LOCATION:Louis Riel #1
GEO:45.4410208;-75.5715394
CREATED:20150517T184050Z
DTSTART:20150522T010000Z
DTEND:20150522T015000Z
DTSTAMP:20260421T175429Z
SUMMARY:Winded FC vs. Missile-toe
DESCRIPTION:Missile-toe vs. Winded FCMore info: #126
X-ALT-DESC;FMTTYPE=text/html:<!DOCTYPE HTML PUBLIC "-//W3C//DTD HTML 3.2//E
	N">\n<HTML>\n<HEAD>\n<TITLE></TITLE>\n</HEAD>\n<BODY>\n<h3>Missile-toe vs. 
	Winded FC</h3>More info: <a href="https://www.golnetwork.com/game/v/69612/"
	>#126</a>\n\n</BODY>\n</HTML>
STATUS:CONFIRMED
CLASS:PUBLIC
URL:https://www.golnetwork.com/game/v/69612/
X-MICROSOFT-CDO-BUSYSTATUS:BUSY
X-MICROSOFT-CDO-IMPORTANCE:1
END:VEVENT
BEGIN:VEVENT
UID:g74ja@games.golnetwork.com
LOCATION:Louis Riel #2
GEO:45.4410208;-75.5715394
CREATED:20150517T184040Z
DTSTART:20150522T010000Z
DTEND:20150522T015000Z
DTSTAMP:20260421T175429Z
SUMMARY:Fm FC vs. Fusion
DESCRIPTION:Fusion vs. Fm FCMore info: #127
X-ALT-DESC;FMTTYPE=text/html:<!DOCTYPE HTML PUBLIC "-//W3C//DTD HTML 3.2//E
	N">\n<HTML>\n<HEAD>\n<TITLE></TITLE>\n</HEAD>\n<BODY>\n<h3>Fusion vs. Fm FC
	</h3>More info: <a href="https://www.golnetwork.com/game/v/69611/">#127</a>
	\n\n</BODY>\n</HTML>
STATUS:CONFIRMED
CLASS:PUBLIC
URL:https://www.golnetwork.com/game/v/69611/
X-MICROSOFT-CDO-BUSYSTATUS:BUSY
X-MICROSOFT-CDO-IMPORTANCE:1
END:VEVENT
END:VCALENDAR
