BEGIN:VCALENDAR
PRODID:-//gdesolutions.com//MV Framework 1.0.0.1607 Calendar//EN
VERSION:2.0
METHOD:PUBLISH
CALSCALE:GREGORIAN
BEGIN:VEVENT
UID:g6ld4@games.golnetwork.com
LOCATION:Louis Riel #2
GEO:45.4410208;-75.5715394
CREATED:20150316T183550Z
DTSTART:20150320T000000Z
DTEND:20150320T005000Z
DTSTAMP:20260421T015324Z
SUMMARY:Ineedasub FC vs. Money is not an issue
DESCRIPTION:Money is not an issue vs. Ineedasub FCMore info: #5
X-ALT-DESC;FMTTYPE=text/html:<!DOCTYPE HTML PUBLIC "-//W3C//DTD HTML 3.2//E
	N">\n<HTML>\n<HEAD>\n<TITLE></TITLE>\n</HEAD>\n<BODY>\n<h3>Money is not an 
	issue vs. Ineedasub FC</h3>More info: <a href="https://www.golnetwork.com/g
	ame/v/65882/">#5</a>\n\n</BODY>\n</HTML>
STATUS:CONFIRMED
CLASS:PUBLIC
URL:https://www.golnetwork.com/game/v/65882/
X-MICROSOFT-CDO-BUSYSTATUS:BUSY
X-MICROSOFT-CDO-IMPORTANCE:1
END:VEVENT
BEGIN:VEVENT
UID:g6lde@games.golnetwork.com
LOCATION:Louis Riel #3
GEO:45.4410208;-75.5715394
CREATED:20150316T183551Z
DTSTART:20150320T020000Z
DTEND:20150320T025000Z
DTSTAMP:20260421T015324Z
SUMMARY:UpRise FC vs. Strikers FC
DESCRIPTION:Strikers FC vs. UpRise FCMore info: #11
X-ALT-DESC;FMTTYPE=text/html:<!DOCTYPE HTML PUBLIC "-//W3C//DTD HTML 3.2//E
	N">\n<HTML>\n<HEAD>\n<TITLE></TITLE>\n</HEAD>\n<BODY>\n<h3>Strikers FC vs. 
	UpRise FC</h3>More info: <a href="https://www.golnetwork.com/game/v/65887/"
	>#11</a>\n\n</BODY>\n</HTML>
STATUS:CONFIRMED
CLASS:PUBLIC
URL:https://www.golnetwork.com/game/v/65887/
X-MICROSOFT-CDO-BUSYSTATUS:BUSY
X-MICROSOFT-CDO-IMPORTANCE:1
END:VEVENT
BEGIN:VEVENT
UID:g6lif@games.golnetwork.com
LOCATION:Louis Riel #2
GEO:45.4410208;-75.5715394
CREATED:20150319T070519Z
DTSTART:20150326T230000Z
DTEND:20150326T235000Z
DTSTAMP:20260421T015324Z
SUMMARY:Money is not an issue vs. UpRise FC
DESCRIPTION:UpRise FC vs. Money is not an issueMore info: #2
X-ALT-DESC;FMTTYPE=text/html:<!DOCTYPE HTML PUBLIC "-//W3C//DTD HTML 3.2//E
	N">\n<HTML>\n<HEAD>\n<TITLE></TITLE>\n</HEAD>\n<BODY>\n<h3>UpRise FC vs. Mo
	ney is not an issue</h3>More info: <a href="https://www.golnetwork.com/game
	/v/65955/">#2</a>\n\n</BODY>\n</HTML>
STATUS:CONFIRMED
CLASS:PUBLIC
URL:https://www.golnetwork.com/game/v/65955/
X-MICROSOFT-CDO-BUSYSTATUS:BUSY
X-MICROSOFT-CDO-IMPORTANCE:1
END:VEVENT
BEGIN:VEVENT
UID:g6lih@games.golnetwork.com
LOCATION:Louis Riel #3
GEO:45.4410208;-75.5715394
CREATED:20150319T070519Z
DTSTART:20150326T233000Z
DTEND:20150327T002000Z
DTSTAMP:20260421T015324Z
SUMMARY:Dynamo FC vs. Ineedasub FC
DESCRIPTION:Ineedasub FC vs. Dynamo FCMore info: #3
X-ALT-DESC;FMTTYPE=text/html:<!DOCTYPE HTML PUBLIC "-//W3C//DTD HTML 3.2//E
	N">\n<HTML>\n<HEAD>\n<TITLE></TITLE>\n</HEAD>\n<BODY>\n<h3>Ineedasub FC vs.
	 Dynamo FC</h3>More info: <a href="https://www.golnetwork.com/game/v/65956/
	">#3</a>\n\n</BODY>\n</HTML>
STATUS:CONFIRMED
CLASS:PUBLIC
URL:https://www.golnetwork.com/game/v/65956/
X-MICROSOFT-CDO-BUSYSTATUS:BUSY
X-MICROSOFT-CDO-IMPORTANCE:1
END:VEVENT
BEGIN:VEVENT
UID:g6ljg@games.golnetwork.com
LOCATION:Louis Riel #3
GEO:45.4410208;-75.5715394
CREATED:20150319T070520Z
DTSTART:20150402T233000Z
DTEND:20150403T002000Z
DTSTAMP:20260421T015324Z
SUMMARY:Dynamo FC vs. UpRise FC
DESCRIPTION:UpRise FC vs. Dynamo FCMore info: #16
X-ALT-DESC;FMTTYPE=text/html:<!DOCTYPE HTML PUBLIC "-//W3C//DTD HTML 3.2//E
	N">\n<HTML>\n<HEAD>\n<TITLE></TITLE>\n</HEAD>\n<BODY>\n<h3>UpRise FC vs. Dy
	namo FC</h3>More info: <a href="https://www.golnetwork.com/game/v/65969/">#
	16</a>\n\n</BODY>\n</HTML>
STATUS:CONFIRMED
CLASS:PUBLIC
URL:https://www.golnetwork.com/game/v/65969/
X-MICROSOFT-CDO-BUSYSTATUS:BUSY
X-MICROSOFT-CDO-IMPORTANCE:1
END:VEVENT
BEGIN:VEVENT
UID:g6ljk@games.golnetwork.com
LOCATION:Louis Riel #2
GEO:45.4410208;-75.5715394
CREATED:20150319T070520Z
DTSTART:20150403T000000Z
DTEND:20150403T005000Z
DTSTAMP:20260421T015324Z
SUMMARY:Money is not an issue vs. Strikers FC
DESCRIPTION:Strikers FC vs. Money is not an issueMore info: #18
X-ALT-DESC;FMTTYPE=text/html:<!DOCTYPE HTML PUBLIC "-//W3C//DTD HTML 3.2//E
	N">\n<HTML>\n<HEAD>\n<TITLE></TITLE>\n</HEAD>\n<BODY>\n<h3>Strikers FC vs. 
	Money is not an issue</h3>More info: <a href="https://www.golnetwork.com/ga
	me/v/65971/">#18</a>\n\n</BODY>\n</HTML>
STATUS:CONFIRMED
CLASS:PUBLIC
URL:https://www.golnetwork.com/game/v/65971/
X-MICROSOFT-CDO-BUSYSTATUS:BUSY
X-MICROSOFT-CDO-IMPORTANCE:1
END:VEVENT
BEGIN:VEVENT
UID:g6lkb@games.golnetwork.com
LOCATION:Hornet's Nest #1
GEO:45.4428309;-75.575268
CREATED:20150319T070521Z
DTSTART:20150409T230000Z
DTEND:20150409T235000Z
DTSTAMP:20260421T015324Z
SUMMARY:Flamingos vs. Ineedasub FC
DESCRIPTION:Ineedasub FC vs. FlamingosMore info: #27
X-ALT-DESC;FMTTYPE=text/html:<!DOCTYPE HTML PUBLIC "-//W3C//DTD HTML 3.2//E
	N">\n<HTML>\n<HEAD>\n<TITLE></TITLE>\n</HEAD>\n<BODY>\n<h3>Ineedasub FC vs.
	 Flamingos</h3>More info: <a href="https://www.golnetwork.com/game/v/65980/
	">#27</a>\n\n</BODY>\n</HTML>
STATUS:CONFIRMED
CLASS:PUBLIC
URL:https://www.golnetwork.com/game/v/65980/
X-MICROSOFT-CDO-BUSYSTATUS:BUSY
X-MICROSOFT-CDO-IMPORTANCE:1
END:VEVENT
BEGIN:VEVENT
UID:g6mcq@games.golnetwork.com
LOCATION:Hornet's Nest #1
GEO:45.4428309;-75.575268
CREATED:20150324T194625Z
DTSTART:20150410T000000Z
DTEND:20150410T005000Z
DTSTAMP:20260421T015324Z
SUMMARY:FC AA vs. UpRise FC
DESCRIPTION:UpRise FC vs. FC AAMore info: #45
X-ALT-DESC;FMTTYPE=text/html:<!DOCTYPE HTML PUBLIC "-//W3C//DTD HTML 3.2//E
	N">\n<HTML>\n<HEAD>\n<TITLE></TITLE>\n</HEAD>\n<BODY>\n<h3>UpRise FC vs. FC
	 AA</h3>More info: <a href="https://www.golnetwork.com/game/v/66244/">#45</
	a>\n\n</BODY>\n</HTML>
STATUS:CONFIRMED
CLASS:PUBLIC
URL:https://www.golnetwork.com/game/v/66244/
X-MICROSOFT-CDO-BUSYSTATUS:BUSY
X-MICROSOFT-CDO-IMPORTANCE:1
END:VEVENT
BEGIN:VEVENT
UID:g6lkf@games.golnetwork.com
LOCATION:Hornet's Nest #1
GEO:45.4428309;-75.575268
CREATED:20150319T070521Z
DTSTART:20150410T010000Z
DTEND:20150410T015000Z
DTSTAMP:20260421T015324Z
SUMMARY:Spartans FC vs. Dynamo FC
DESCRIPTION:Dynamo FC vs. Spartans FCMore info: #29
X-ALT-DESC;FMTTYPE=text/html:<!DOCTYPE HTML PUBLIC "-//W3C//DTD HTML 3.2//E
	N">\n<HTML>\n<HEAD>\n<TITLE></TITLE>\n</HEAD>\n<BODY>\n<h3>Dynamo FC vs. Sp
	artans FC</h3>More info: <a href="https://www.golnetwork.com/game/v/65982/"
	>#29</a>\n\n</BODY>\n</HTML>
STATUS:CONFIRMED
CLASS:PUBLIC
URL:https://www.golnetwork.com/game/v/65982/
X-MICROSOFT-CDO-BUSYSTATUS:BUSY
X-MICROSOFT-CDO-IMPORTANCE:1
END:VEVENT
BEGIN:VEVENT
UID:g6lle@games.golnetwork.com
LOCATION:Hornet's Nest #1
GEO:45.4428309;-75.575268
CREATED:20150319T070522Z
DTSTART:20150417T010000Z
DTEND:20150417T015000Z
DTSTAMP:20260421T015324Z
SUMMARY:Ineedasub FC vs. UpRise FC
DESCRIPTION:UpRise FC vs. Ineedasub FCMore info: #42
X-ALT-DESC;FMTTYPE=text/html:<!DOCTYPE HTML PUBLIC "-//W3C//DTD HTML 3.2//E
	N">\n<HTML>\n<HEAD>\n<TITLE></TITLE>\n</HEAD>\n<BODY>\n<h3>UpRise FC vs. In
	eedasub FC</h3>More info: <a href="https://www.golnetwork.com/game/v/65995/
	">#42</a>\n\n</BODY>\n</HTML>
STATUS:CONFIRMED
CLASS:PUBLIC
URL:https://www.golnetwork.com/game/v/65995/
X-MICROSOFT-CDO-BUSYSTATUS:BUSY
X-MICROSOFT-CDO-IMPORTANCE:1
END:VEVENT
BEGIN:VEVENT
UID:g6lm5@games.golnetwork.com
LOCATION:Louis Riel #3
GEO:45.4410208;-75.5715394
CREATED:20150319T070522Z
DTSTART:20150417T013000Z
DTEND:20150417T022000Z
DTSTAMP:20260421T015324Z
SUMMARY:Dynamo FC vs. Strikers FC
DESCRIPTION:Strikers FC vs. Dynamo FCMore info: #51
X-ALT-DESC;FMTTYPE=text/html:<!DOCTYPE HTML PUBLIC "-//W3C//DTD HTML 3.2//E
	N">\n<HTML>\n<HEAD>\n<TITLE></TITLE>\n</HEAD>\n<BODY>\n<h3>Strikers FC vs. 
	Dynamo FC</h3>More info: <a href="https://www.golnetwork.com/game/v/66004/"
	>#51</a>\n\n</BODY>\n</HTML>
STATUS:CONFIRMED
CLASS:PUBLIC
URL:https://www.golnetwork.com/game/v/66004/
X-MICROSOFT-CDO-BUSYSTATUS:BUSY
X-MICROSOFT-CDO-IMPORTANCE:1
END:VEVENT
BEGIN:VEVENT
UID:g6lm9@games.golnetwork.com
LOCATION:Hornet's Nest #1
GEO:45.4428309;-75.575268
CREATED:20150319T070523Z
DTSTART:20150423T230000Z
DTEND:20150423T235000Z
DTSTAMP:20260421T015324Z
SUMMARY:Spartans FC vs. Strikers FC
DESCRIPTION:Strikers FC vs. Spartans FCMore info: #40
X-ALT-DESC;FMTTYPE=text/html:<!DOCTYPE HTML PUBLIC "-//W3C//DTD HTML 3.2//E
	N">\n<HTML>\n<HEAD>\n<TITLE></TITLE>\n</HEAD>\n<BODY>\n<h3>Strikers FC vs. 
	Spartans FC</h3>More info: <a href="https://www.golnetwork.com/game/v/66006
	/">#40</a>\n\n</BODY>\n</HTML>
STATUS:CONFIRMED
CLASS:PUBLIC
URL:https://www.golnetwork.com/game/v/66006/
X-MICROSOFT-CDO-BUSYSTATUS:BUSY
X-MICROSOFT-CDO-IMPORTANCE:1
END:VEVENT
BEGIN:VEVENT
UID:g6lmb@games.golnetwork.com
LOCATION:Hornet's Nest #1
GEO:45.4428309;-75.575268
CREATED:20150319T070523Z
DTSTART:20150424T000000Z
DTEND:20150424T005000Z
DTSTAMP:20260421T015324Z
SUMMARY:Pas l'temps de niaser vs. Ineedasub FC
DESCRIPTION:Ineedasub FC vs. Pas l'temps de niaserMore info: #41
X-ALT-DESC;FMTTYPE=text/html:<!DOCTYPE HTML PUBLIC "-//W3C//DTD HTML 3.2//E
	N">\n<HTML>\n<HEAD>\n<TITLE></TITLE>\n</HEAD>\n<BODY>\n<h3>Ineedasub FC vs.
	 Pas l'temps de niaser</h3>More info: <a href="https://www.golnetwork.com/g
	ame/v/66007/">#41</a>\n\n</BODY>\n</HTML>
STATUS:CONFIRMED
CLASS:PUBLIC
URL:https://www.golnetwork.com/game/v/66007/
X-MICROSOFT-CDO-BUSYSTATUS:BUSY
X-MICROSOFT-CDO-IMPORTANCE:1
END:VEVENT
BEGIN:VEVENT
UID:g6lmd@games.golnetwork.com
LOCATION:Hornet's Nest #1
GEO:45.4428309;-75.575268
CREATED:20150319T070523Z
DTSTART:20150424T010000Z
DTEND:20150424T015000Z
DTSTAMP:20260421T015324Z
SUMMARY:FC AA vs. UpRise FC
DESCRIPTION:UpRise FC vs. FC AAMore info: #42
X-ALT-DESC;FMTTYPE=text/html:<!DOCTYPE HTML PUBLIC "-//W3C//DTD HTML 3.2//E
	N">\n<HTML>\n<HEAD>\n<TITLE></TITLE>\n</HEAD>\n<BODY>\n<h3>UpRise FC vs. FC
	 AA</h3>More info: <a href="https://www.golnetwork.com/game/v/66008/">#42</
	a>\n\n</BODY>\n</HTML>
STATUS:CONFIRMED
CLASS:PUBLIC
URL:https://www.golnetwork.com/game/v/66008/
X-MICROSOFT-CDO-BUSYSTATUS:BUSY
X-MICROSOFT-CDO-IMPORTANCE:1
END:VEVENT
BEGIN:VEVENT
UID:g6lmf@games.golnetwork.com
LOCATION:Hornet's Nest #1
GEO:45.4428309;-75.575268
CREATED:20150319T070523Z
DTSTART:20150424T020000Z
DTEND:20150424T025000Z
DTSTAMP:20260421T015324Z
SUMMARY:Flamingos vs. Dynamo FC
DESCRIPTION:Dynamo FC vs. FlamingosMore info: #43
X-ALT-DESC;FMTTYPE=text/html:<!DOCTYPE HTML PUBLIC "-//W3C//DTD HTML 3.2//E
	N">\n<HTML>\n<HEAD>\n<TITLE></TITLE>\n</HEAD>\n<BODY>\n<h3>Dynamo FC vs. Fl
	amingos</h3>More info: <a href="https://www.golnetwork.com/game/v/66009/">#
	43</a>\n\n</BODY>\n</HTML>
STATUS:CONFIRMED
CLASS:PUBLIC
URL:https://www.golnetwork.com/game/v/66009/
X-MICROSOFT-CDO-BUSYSTATUS:BUSY
X-MICROSOFT-CDO-IMPORTANCE:1
END:VEVENT
BEGIN:VEVENT
UID:g6ln8@games.golnetwork.com
LOCATION:Hornet's Nest #1
GEO:45.4428309;-75.575268
CREATED:20150319T070523Z
DTSTART:20150430T230000Z
DTEND:20150430T235000Z
DTSTAMP:20260421T015324Z
SUMMARY:Money is not an issue vs. Dynamo FC
DESCRIPTION:Dynamo FC vs. Money is not an issueMore info: #40
X-ALT-DESC;FMTTYPE=text/html:<!DOCTYPE HTML PUBLIC "-//W3C//DTD HTML 3.2//E
	N">\n<HTML>\n<HEAD>\n<TITLE></TITLE>\n</HEAD>\n<BODY>\n<h3>Dynamo FC vs. Mo
	ney is not an issue</h3>More info: <a href="https://www.golnetwork.com/game
	/v/66019/">#40</a>\n\n</BODY>\n</HTML>
STATUS:CONFIRMED
CLASS:PUBLIC
URL:https://www.golnetwork.com/game/v/66019/
X-MICROSOFT-CDO-BUSYSTATUS:BUSY
X-MICROSOFT-CDO-IMPORTANCE:1
END:VEVENT
BEGIN:VEVENT
UID:g6lnc@games.golnetwork.com
LOCATION:Hornet's Nest #1
GEO:45.4428309;-75.575268
CREATED:20150319T070523Z
DTSTART:20150501T010000Z
DTEND:20150501T015000Z
DTSTAMP:20260421T015324Z
SUMMARY:Strikers FC vs. Ineedasub FC
DESCRIPTION:Ineedasub FC vs. Strikers FCMore info: #42
X-ALT-DESC;FMTTYPE=text/html:<!DOCTYPE HTML PUBLIC "-//W3C//DTD HTML 3.2//E
	N">\n<HTML>\n<HEAD>\n<TITLE></TITLE>\n</HEAD>\n<BODY>\n<h3>Ineedasub FC vs.
	 Strikers FC</h3>More info: <a href="https://www.golnetwork.com/game/v/6602
	1/">#42</a>\n\n</BODY>\n</HTML>
STATUS:CONFIRMED
CLASS:PUBLIC
URL:https://www.golnetwork.com/game/v/66021/
X-MICROSOFT-CDO-BUSYSTATUS:BUSY
X-MICROSOFT-CDO-IMPORTANCE:1
END:VEVENT
BEGIN:VEVENT
UID:g74in@games.golnetwork.com
LOCATION:Hornet's Nest #1
GEO:45.4428309;-75.575268
CREATED:20150517T183937Z
DTSTART:20150521T230000Z
DTEND:20150521T235000Z
DTSTAMP:20260421T015324Z
SUMMARY:Ineedasub FC vs. Strikers FC
DESCRIPTION:Strikers FC vs. Ineedasub FCMore info: #120
X-ALT-DESC;FMTTYPE=text/html:<!DOCTYPE HTML PUBLIC "-//W3C//DTD HTML 3.2//E
	N">\n<HTML>\n<HEAD>\n<TITLE></TITLE>\n</HEAD>\n<BODY>\n<h3>Strikers FC vs. 
	Ineedasub FC</h3>More info: <a href="https://www.golnetwork.com/game/v/6960
	4/">#120</a>\n\n</BODY>\n</HTML>
STATUS:CONFIRMED
CLASS:PUBLIC
URL:https://www.golnetwork.com/game/v/69604/
X-MICROSOFT-CDO-BUSYSTATUS:BUSY
X-MICROSOFT-CDO-IMPORTANCE:1
END:VEVENT
END:VCALENDAR
