BEGIN:VCALENDAR
PRODID:-//gdesolutions.com//MV Framework 1.0.0.1607 Calendar//EN
VERSION:2.0
METHOD:PUBLISH
CALSCALE:GREGORIAN
BEGIN:VEVENT
UID:g6o3f@games.golnetwork.com
LOCATION:North Toronto - Field 3
GEO:43.7098022;-79.3963055
CREATED:20150420T194947Z
DTSTART:20150608T225500Z
DTEND:20150608T235500Z
DTSTAMP:20260422T091142Z
SUMMARY:Wildcats vs. Mortchester City
DESCRIPTION:Mortchester City vs. WildcatsMore info: #260
X-ALT-DESC;FMTTYPE=text/html:<!DOCTYPE HTML PUBLIC "-//W3C//DTD HTML 3.2//E
	N">\n<HTML>\n<HEAD>\n<TITLE></TITLE>\n</HEAD>\n<BODY>\n<h3>Mortchester City
	 vs. Wildcats</h3>More info: <a href="https://www.golnetwork.com/game/v/668
	46/">#260</a>\n\n</BODY>\n</HTML>
STATUS:CONFIRMED
CLASS:PUBLIC
URL:https://www.golnetwork.com/game/v/66846/
X-MICROSOFT-CDO-BUSYSTATUS:BUSY
X-MICROSOFT-CDO-IMPORTANCE:1
END:VEVENT
BEGIN:VEVENT
UID:g6o3d@games.golnetwork.com
LOCATION:North Toronto - Field 3
GEO:43.7098022;-79.3963055
CREATED:20150420T194947Z
DTSTART:20150608T235500Z
DTEND:20150609T005500Z
DTSTAMP:20260422T091142Z
SUMMARY:EFC vs. Samba
DESCRIPTION:Samba vs. EFCMore info: #263
X-ALT-DESC;FMTTYPE=text/html:<!DOCTYPE HTML PUBLIC "-//W3C//DTD HTML 3.2//E
	N">\n<HTML>\n<HEAD>\n<TITLE></TITLE>\n</HEAD>\n<BODY>\n<h3>Samba vs. EFC</h
	3>More info: <a href="https://www.golnetwork.com/game/v/66845/">#263</a>\n\
	n</BODY>\n</HTML>
STATUS:CONFIRMED
CLASS:PUBLIC
URL:https://www.golnetwork.com/game/v/66845/
X-MICROSOFT-CDO-BUSYSTATUS:BUSY
X-MICROSOFT-CDO-IMPORTANCE:1
END:VEVENT
BEGIN:VEVENT
UID:g6o3h@games.golnetwork.com
LOCATION:North Toronto - Field 3
GEO:43.7098022;-79.3963055
CREATED:20150420T194947Z
DTSTART:20150615T235500Z
DTEND:20150616T005500Z
DTSTAMP:20260422T091142Z
SUMMARY:Mortchester City vs. Samba
DESCRIPTION:Samba vs. Mortchester CityMore info: #318
X-ALT-DESC;FMTTYPE=text/html:<!DOCTYPE HTML PUBLIC "-//W3C//DTD HTML 3.2//E
	N">\n<HTML>\n<HEAD>\n<TITLE></TITLE>\n</HEAD>\n<BODY>\n<h3>Samba vs. Mortch
	ester City</h3>More info: <a href="https://www.golnetwork.com/game/v/66847/
	">#318</a>\n\n</BODY>\n</HTML>
STATUS:CONFIRMED
CLASS:PUBLIC
URL:https://www.golnetwork.com/game/v/66847/
X-MICROSOFT-CDO-BUSYSTATUS:BUSY
X-MICROSOFT-CDO-IMPORTANCE:1
END:VEVENT
END:VCALENDAR
