BEGIN:VCALENDAR
PRODID:-//gdesolutions.com//MV Framework 1.0.0.1607 Calendar//EN
VERSION:2.0
METHOD:PUBLISH
CALSCALE:GREGORIAN
BEGIN:VEVENT
UID:g738e@games.golnetwork.com
LOCATION:Cherry Beach East 3
CREATED:20150506T230140Z
DTSTART:20150513T010000Z
DTEND:20150513T020000Z
DTSTAMP:20260422T083534Z
SUMMARY:Galacticos FC vs. Billy Zane and the Walk-Offs
DESCRIPTION:Billy Zane and the Walk-Offs vs. Galacticos FCMore info: #79
X-ALT-DESC;FMTTYPE=text/html:<!DOCTYPE HTML PUBLIC "-//W3C//DTD HTML 3.2//E
	N">\n<HTML>\n<HEAD>\n<TITLE></TITLE>\n</HEAD>\n<BODY>\n<h3>Billy Zane and t
	he Walk-Offs vs. Galacticos FC</h3>More info: <a href="https://www.golnetwo
	rk.com/game/v/69100/">#79</a>\n\n</BODY>\n</HTML>
STATUS:CONFIRMED
CLASS:PUBLIC
URL:https://www.golnetwork.com/game/v/69100/
X-MICROSOFT-CDO-BUSYSTATUS:BUSY
X-MICROSOFT-CDO-IMPORTANCE:1
END:VEVENT
BEGIN:VEVENT
UID:g738g@games.golnetwork.com
LOCATION:Cherry Beach East 3
CREATED:20150506T230153Z
DTSTART:20150513T020000Z
DTEND:20150513T030000Z
DTSTAMP:20260422T083534Z
SUMMARY:SAS vs. Team Brazil
DESCRIPTION:Team Brazil vs. SASMore info: #82
X-ALT-DESC;FMTTYPE=text/html:<!DOCTYPE HTML PUBLIC "-//W3C//DTD HTML 3.2//E
	N">\n<HTML>\n<HEAD>\n<TITLE></TITLE>\n</HEAD>\n<BODY>\n<h3>Team Brazil vs. 
	SAS</h3>More info: <a href="https://www.golnetwork.com/game/v/69101/">#82</
	a>\n\n</BODY>\n</HTML>
STATUS:CONFIRMED
CLASS:PUBLIC
URL:https://www.golnetwork.com/game/v/69101/
X-MICROSOFT-CDO-BUSYSTATUS:BUSY
X-MICROSOFT-CDO-IMPORTANCE:1
END:VEVENT
BEGIN:VEVENT
UID:g738i@games.golnetwork.com
LOCATION:Cherry Beach East 2
CREATED:20150506T230209Z
DTSTART:20150513T030000Z
DTEND:20150513T040000Z
DTSTAMP:20260422T083534Z
SUMMARY:10 After vs. Brooklyn FC
DESCRIPTION:Brooklyn FC vs. 10 AfterMore info: #84
X-ALT-DESC;FMTTYPE=text/html:<!DOCTYPE HTML PUBLIC "-//W3C//DTD HTML 3.2//E
	N">\n<HTML>\n<HEAD>\n<TITLE></TITLE>\n</HEAD>\n<BODY>\n<h3>Brooklyn FC vs. 
	10 After</h3>More info: <a href="https://www.golnetwork.com/game/v/69102/">
	#84</a>\n\n</BODY>\n</HTML>
STATUS:CONFIRMED
CLASS:PUBLIC
URL:https://www.golnetwork.com/game/v/69102/
X-MICROSOFT-CDO-BUSYSTATUS:BUSY
X-MICROSOFT-CDO-IMPORTANCE:1
END:VEVENT
BEGIN:VEVENT
UID:g738k@games.golnetwork.com
LOCATION:Cherry Beach East 3
CREATED:20150506T230221Z
DTSTART:20150513T030000Z
DTEND:20150513T040000Z
DTSTAMP:20260422T083534Z
SUMMARY:TubeFC vs. Kognitive Knights FC
DESCRIPTION:Kognitive Knights FC vs. TubeFCMore info: #85
X-ALT-DESC;FMTTYPE=text/html:<!DOCTYPE HTML PUBLIC "-//W3C//DTD HTML 3.2//E
	N">\n<HTML>\n<HEAD>\n<TITLE></TITLE>\n</HEAD>\n<BODY>\n<h3>Kognitive Knight
	s FC vs. TubeFC</h3>More info: <a href="https://www.golnetwork.com/game/v/6
	9103/">#85</a>\n\n</BODY>\n</HTML>
STATUS:CONFIRMED
CLASS:PUBLIC
URL:https://www.golnetwork.com/game/v/69103/
X-MICROSOFT-CDO-BUSYSTATUS:BUSY
X-MICROSOFT-CDO-IMPORTANCE:1
END:VEVENT
BEGIN:VEVENT
UID:g738m@games.golnetwork.com
LOCATION:Cherry Beach East 2
CREATED:20150506T230311Z
DTSTART:20150520T010000Z
DTEND:20150520T020000Z
DTSTAMP:20260422T083534Z
SUMMARY:Team Brazil vs. 10 After
DESCRIPTION:10 After vs. Team BrazilMore info: #115
X-ALT-DESC;FMTTYPE=text/html:<!DOCTYPE HTML PUBLIC "-//W3C//DTD HTML 3.2//E
	N">\n<HTML>\n<HEAD>\n<TITLE></TITLE>\n</HEAD>\n<BODY>\n<h3>10 After vs. Tea
	m Brazil</h3>More info: <a href="https://www.golnetwork.com/game/v/69104/">
	#115</a>\n\n</BODY>\n</HTML>
STATUS:CONFIRMED
CLASS:PUBLIC
URL:https://www.golnetwork.com/game/v/69104/
X-MICROSOFT-CDO-BUSYSTATUS:BUSY
X-MICROSOFT-CDO-IMPORTANCE:1
END:VEVENT
BEGIN:VEVENT
UID:g738o@games.golnetwork.com
LOCATION:Cherry Beach East 3
CREATED:20150506T230323Z
DTSTART:20150520T010000Z
DTEND:20150520T020000Z
DTSTAMP:20260422T083534Z
SUMMARY:SAS vs. Kognitive Knights FC
DESCRIPTION:Kognitive Knights FC vs. SASMore info: #116
X-ALT-DESC;FMTTYPE=text/html:<!DOCTYPE HTML PUBLIC "-//W3C//DTD HTML 3.2//E
	N">\n<HTML>\n<HEAD>\n<TITLE></TITLE>\n</HEAD>\n<BODY>\n<h3>Kognitive Knight
	s FC vs. SAS</h3>More info: <a href="https://www.golnetwork.com/game/v/6910
	5/">#116</a>\n\n</BODY>\n</HTML>
STATUS:CONFIRMED
CLASS:PUBLIC
URL:https://www.golnetwork.com/game/v/69105/
X-MICROSOFT-CDO-BUSYSTATUS:BUSY
X-MICROSOFT-CDO-IMPORTANCE:1
END:VEVENT
BEGIN:VEVENT
UID:g738q@games.golnetwork.com
LOCATION:Cherry Beach East 3
CREATED:20150506T230336Z
DTSTART:20150520T020000Z
DTEND:20150520T030000Z
DTSTAMP:20260422T083534Z
SUMMARY:Brooklyn FC vs. Billy Zane and the Walk-Offs
DESCRIPTION:Billy Zane and the Walk-Offs vs. Brooklyn FCMore info: #119
X-ALT-DESC;FMTTYPE=text/html:<!DOCTYPE HTML PUBLIC "-//W3C//DTD HTML 3.2//E
	N">\n<HTML>\n<HEAD>\n<TITLE></TITLE>\n</HEAD>\n<BODY>\n<h3>Billy Zane and t
	he Walk-Offs vs. Brooklyn FC</h3>More info: <a href="https://www.golnetwork
	.com/game/v/69106/">#119</a>\n\n</BODY>\n</HTML>
STATUS:CONFIRMED
CLASS:PUBLIC
URL:https://www.golnetwork.com/game/v/69106/
X-MICROSOFT-CDO-BUSYSTATUS:BUSY
X-MICROSOFT-CDO-IMPORTANCE:1
END:VEVENT
BEGIN:VEVENT
UID:g7391@games.golnetwork.com
LOCATION:Cherry Beach East 3
CREATED:20150506T230353Z
DTSTART:20150520T030000Z
DTEND:20150520T040000Z
DTSTAMP:20260422T083534Z
SUMMARY:TubeFC vs. Galacticos FC
DESCRIPTION:Galacticos FC vs. TubeFCMore info: #122
X-ALT-DESC;FMTTYPE=text/html:<!DOCTYPE HTML PUBLIC "-//W3C//DTD HTML 3.2//E
	N">\n<HTML>\n<HEAD>\n<TITLE></TITLE>\n</HEAD>\n<BODY>\n<h3>Galacticos FC vs
	. TubeFC</h3>More info: <a href="https://www.golnetwork.com/game/v/69107/">
	#122</a>\n\n</BODY>\n</HTML>
STATUS:CONFIRMED
CLASS:PUBLIC
URL:https://www.golnetwork.com/game/v/69107/
X-MICROSOFT-CDO-BUSYSTATUS:BUSY
X-MICROSOFT-CDO-IMPORTANCE:1
END:VEVENT
BEGIN:VEVENT
UID:g7393@games.golnetwork.com
LOCATION:Cherry Beach East 3
CREATED:20150506T230415Z
DTSTART:20150527T010000Z
DTEND:20150527T020000Z
DTSTAMP:20260422T083534Z
SUMMARY:Team Brazil vs. Brooklyn FC
DESCRIPTION:Brooklyn FC vs. Team BrazilMore info: #156
X-ALT-DESC;FMTTYPE=text/html:<!DOCTYPE HTML PUBLIC "-//W3C//DTD HTML 3.2//E
	N">\n<HTML>\n<HEAD>\n<TITLE></TITLE>\n</HEAD>\n<BODY>\n<h3>Brooklyn FC vs. 
	Team Brazil</h3>More info: <a href="https://www.golnetwork.com/game/v/69108
	/">#156</a>\n\n</BODY>\n</HTML>
STATUS:CONFIRMED
CLASS:PUBLIC
URL:https://www.golnetwork.com/game/v/69108/
X-MICROSOFT-CDO-BUSYSTATUS:BUSY
X-MICROSOFT-CDO-IMPORTANCE:1
END:VEVENT
BEGIN:VEVENT
UID:g7395@games.golnetwork.com
LOCATION:Cherry Beach East 2
CREATED:20150506T230450Z
DTSTART:20150527T020000Z
DTEND:20150527T030000Z
DTSTAMP:20260422T083534Z
SUMMARY:TubeFC vs. SAS
DESCRIPTION:SAS vs. TubeFCMore info: #158
X-ALT-DESC;FMTTYPE=text/html:<!DOCTYPE HTML PUBLIC "-//W3C//DTD HTML 3.2//E
	N">\n<HTML>\n<HEAD>\n<TITLE></TITLE>\n</HEAD>\n<BODY>\n<h3>SAS vs. TubeFC</
	h3>More info: <a href="https://www.golnetwork.com/game/v/69109/">#158</a>\n
	\n</BODY>\n</HTML>
STATUS:CONFIRMED
CLASS:PUBLIC
URL:https://www.golnetwork.com/game/v/69109/
X-MICROSOFT-CDO-BUSYSTATUS:BUSY
X-MICROSOFT-CDO-IMPORTANCE:1
END:VEVENT
BEGIN:VEVENT
UID:g7397@games.golnetwork.com
LOCATION:Cherry Beach East 3
CREATED:20150506T230506Z
DTSTART:20150527T020000Z
DTEND:20150527T030000Z
DTSTAMP:20260422T083534Z
SUMMARY:Kognitive Knights FC vs. Galacticos FC
DESCRIPTION:Galacticos FC vs. Kognitive Knights FCMore info: #159
X-ALT-DESC;FMTTYPE=text/html:<!DOCTYPE HTML PUBLIC "-//W3C//DTD HTML 3.2//E
	N">\n<HTML>\n<HEAD>\n<TITLE></TITLE>\n</HEAD>\n<BODY>\n<h3>Galacticos FC vs
	. Kognitive Knights FC</h3>More info: <a href="https://www.golnetwork.com/g
	ame/v/69110/">#159</a>\n\n</BODY>\n</HTML>
STATUS:CONFIRMED
CLASS:PUBLIC
URL:https://www.golnetwork.com/game/v/69110/
X-MICROSOFT-CDO-BUSYSTATUS:BUSY
X-MICROSOFT-CDO-IMPORTANCE:1
END:VEVENT
BEGIN:VEVENT
UID:g7399@games.golnetwork.com
LOCATION:Cherry Beach East 3
CREATED:20150506T230523Z
DTSTART:20150527T030000Z
DTEND:20150527T040000Z
DTSTAMP:20260422T083534Z
SUMMARY:10 After vs. Billy Zane and the Walk-Offs
DESCRIPTION:Billy Zane and the Walk-Offs vs. 10 AfterMore info: #162
X-ALT-DESC;FMTTYPE=text/html:<!DOCTYPE HTML PUBLIC "-//W3C//DTD HTML 3.2//E
	N">\n<HTML>\n<HEAD>\n<TITLE></TITLE>\n</HEAD>\n<BODY>\n<h3>Billy Zane and t
	he Walk-Offs vs. 10 After</h3>More info: <a href="https://www.golnetwork.co
	m/game/v/69111/">#162</a>\n\n</BODY>\n</HTML>
STATUS:CONFIRMED
CLASS:PUBLIC
URL:https://www.golnetwork.com/game/v/69111/
X-MICROSOFT-CDO-BUSYSTATUS:BUSY
X-MICROSOFT-CDO-IMPORTANCE:1
END:VEVENT
BEGIN:VEVENT
UID:g739b@games.golnetwork.com
LOCATION:Cherry Beach East 3
CREATED:20150506T230545Z
DTSTART:20150603T010000Z
DTEND:20150603T020000Z
DTSTAMP:20260422T083534Z
SUMMARY:Kognitive Knights FC vs. Brooklyn FC
DESCRIPTION:Brooklyn FC vs. Kognitive Knights FCMore info: #211
X-ALT-DESC;FMTTYPE=text/html:<!DOCTYPE HTML PUBLIC "-//W3C//DTD HTML 3.2//E
	N">\n<HTML>\n<HEAD>\n<TITLE></TITLE>\n</HEAD>\n<BODY>\n<h3>Brooklyn FC vs. 
	Kognitive Knights FC</h3>More info: <a href="https://www.golnetwork.com/gam
	e/v/69112/">#211</a>\n\n</BODY>\n</HTML>
STATUS:CONFIRMED
CLASS:PUBLIC
URL:https://www.golnetwork.com/game/v/69112/
X-MICROSOFT-CDO-BUSYSTATUS:BUSY
X-MICROSOFT-CDO-IMPORTANCE:1
END:VEVENT
BEGIN:VEVENT
UID:g739d@games.golnetwork.com
LOCATION:Cherry Beach East 3
CREATED:20150506T230617Z
DTSTART:20150603T020000Z
DTEND:20150603T030000Z
DTSTAMP:20260422T083534Z
SUMMARY:TubeFC vs. 10 After
DESCRIPTION:10 After vs. TubeFCMore info: #214
X-ALT-DESC;FMTTYPE=text/html:<!DOCTYPE HTML PUBLIC "-//W3C//DTD HTML 3.2//E
	N">\n<HTML>\n<HEAD>\n<TITLE></TITLE>\n</HEAD>\n<BODY>\n<h3>10 After vs. Tub
	eFC</h3>More info: <a href="https://www.golnetwork.com/game/v/69113/">#214<
	/a>\n\n</BODY>\n</HTML>
STATUS:CONFIRMED
CLASS:PUBLIC
URL:https://www.golnetwork.com/game/v/69113/
X-MICROSOFT-CDO-BUSYSTATUS:BUSY
X-MICROSOFT-CDO-IMPORTANCE:1
END:VEVENT
BEGIN:VEVENT
UID:g739f@games.golnetwork.com
LOCATION:Cherry Beach East 2
CREATED:20150506T230658Z
DTSTART:20150603T030000Z
DTEND:20150603T040000Z
DTSTAMP:20260422T083534Z
SUMMARY:Team Brazil vs. Billy Zane and the Walk-Offs
DESCRIPTION:Billy Zane and the Walk-Offs vs. Team BrazilMore info: #216
X-ALT-DESC;FMTTYPE=text/html:<!DOCTYPE HTML PUBLIC "-//W3C//DTD HTML 3.2//E
	N">\n<HTML>\n<HEAD>\n<TITLE></TITLE>\n</HEAD>\n<BODY>\n<h3>Billy Zane and t
	he Walk-Offs vs. Team Brazil</h3>More info: <a href="https://www.golnetwork
	.com/game/v/69114/">#216</a>\n\n</BODY>\n</HTML>
STATUS:CONFIRMED
CLASS:PUBLIC
URL:https://www.golnetwork.com/game/v/69114/
X-MICROSOFT-CDO-BUSYSTATUS:BUSY
X-MICROSOFT-CDO-IMPORTANCE:1
END:VEVENT
BEGIN:VEVENT
UID:g739h@games.golnetwork.com
LOCATION:Cherry Beach East 3
CREATED:20150506T230712Z
DTSTART:20150603T030000Z
DTEND:20150603T040000Z
DTSTAMP:20260422T083534Z
SUMMARY:SAS vs. Galacticos FC
DESCRIPTION:Galacticos FC vs. SASMore info: #217
X-ALT-DESC;FMTTYPE=text/html:<!DOCTYPE HTML PUBLIC "-//W3C//DTD HTML 3.2//E
	N">\n<HTML>\n<HEAD>\n<TITLE></TITLE>\n</HEAD>\n<BODY>\n<h3>Galacticos FC vs
	. SAS</h3>More info: <a href="https://www.golnetwork.com/game/v/69115/">#21
	7</a>\n\n</BODY>\n</HTML>
STATUS:CONFIRMED
CLASS:PUBLIC
URL:https://www.golnetwork.com/game/v/69115/
X-MICROSOFT-CDO-BUSYSTATUS:BUSY
X-MICROSOFT-CDO-IMPORTANCE:1
END:VEVENT
BEGIN:VEVENT
UID:g739j@games.golnetwork.com
LOCATION:Cherry Beach East 2
CREATED:20150506T230733Z
DTSTART:20150610T010000Z
DTEND:20150610T020000Z
DTSTAMP:20260422T083534Z
SUMMARY:SAS vs. Billy Zane and the Walk-Offs
DESCRIPTION:Billy Zane and the Walk-Offs vs. SASMore info: #265
X-ALT-DESC;FMTTYPE=text/html:<!DOCTYPE HTML PUBLIC "-//W3C//DTD HTML 3.2//E
	N">\n<HTML>\n<HEAD>\n<TITLE></TITLE>\n</HEAD>\n<BODY>\n<h3>Billy Zane and t
	he Walk-Offs vs. SAS</h3>More info: <a href="https://www.golnetwork.com/gam
	e/v/69116/">#265</a>\n\n</BODY>\n</HTML>
STATUS:CONFIRMED
CLASS:PUBLIC
URL:https://www.golnetwork.com/game/v/69116/
X-MICROSOFT-CDO-BUSYSTATUS:BUSY
X-MICROSOFT-CDO-IMPORTANCE:1
END:VEVENT
BEGIN:VEVENT
UID:g739l@games.golnetwork.com
LOCATION:Cherry Beach East 3
CREATED:20150506T230743Z
DTSTART:20150610T010000Z
DTEND:20150610T020000Z
DTSTAMP:20260422T083534Z
SUMMARY:TubeFC vs. Brooklyn FC
DESCRIPTION:Brooklyn FC vs. TubeFCMore info: #266
X-ALT-DESC;FMTTYPE=text/html:<!DOCTYPE HTML PUBLIC "-//W3C//DTD HTML 3.2//E
	N">\n<HTML>\n<HEAD>\n<TITLE></TITLE>\n</HEAD>\n<BODY>\n<h3>Brooklyn FC vs. 
	TubeFC</h3>More info: <a href="https://www.golnetwork.com/game/v/69117/">#2
	66</a>\n\n</BODY>\n</HTML>
STATUS:CONFIRMED
CLASS:PUBLIC
URL:https://www.golnetwork.com/game/v/69117/
X-MICROSOFT-CDO-BUSYSTATUS:BUSY
X-MICROSOFT-CDO-IMPORTANCE:1
END:VEVENT
BEGIN:VEVENT
UID:g739n@games.golnetwork.com
LOCATION:Cherry Beach East 3
CREATED:20150506T230758Z
DTSTART:20150610T020000Z
DTEND:20150610T030000Z
DTSTAMP:20260422T083534Z
SUMMARY:Team Brazil vs. Galacticos FC
DESCRIPTION:Galacticos FC vs. Team BrazilMore info: #269
X-ALT-DESC;FMTTYPE=text/html:<!DOCTYPE HTML PUBLIC "-//W3C//DTD HTML 3.2//E
	N">\n<HTML>\n<HEAD>\n<TITLE></TITLE>\n</HEAD>\n<BODY>\n<h3>Galacticos FC vs
	. Team Brazil</h3>More info: <a href="https://www.golnetwork.com/game/v/691
	18/">#269</a>\n\n</BODY>\n</HTML>
STATUS:CONFIRMED
CLASS:PUBLIC
URL:https://www.golnetwork.com/game/v/69118/
X-MICROSOFT-CDO-BUSYSTATUS:BUSY
X-MICROSOFT-CDO-IMPORTANCE:1
END:VEVENT
BEGIN:VEVENT
UID:g739p@games.golnetwork.com
LOCATION:Cherry Beach East 3
CREATED:20150506T230812Z
DTSTART:20150610T030000Z
DTEND:20150610T040000Z
DTSTAMP:20260422T083534Z
SUMMARY:Kognitive Knights FC vs. 10 After
DESCRIPTION:10 After vs. Kognitive Knights FCMore info: #272
X-ALT-DESC;FMTTYPE=text/html:<!DOCTYPE HTML PUBLIC "-//W3C//DTD HTML 3.2//E
	N">\n<HTML>\n<HEAD>\n<TITLE></TITLE>\n</HEAD>\n<BODY>\n<h3>10 After vs. Kog
	nitive Knights FC</h3>More info: <a href="https://www.golnetwork.com/game/v
	/69119/">#272</a>\n\n</BODY>\n</HTML>
STATUS:CONFIRMED
CLASS:PUBLIC
URL:https://www.golnetwork.com/game/v/69119/
X-MICROSOFT-CDO-BUSYSTATUS:BUSY
X-MICROSOFT-CDO-IMPORTANCE:1
END:VEVENT
BEGIN:VEVENT
UID:g73a0@games.golnetwork.com
LOCATION:Cherry Beach East 3
CREATED:20150506T230831Z
DTSTART:20150617T010000Z
DTEND:20150617T020000Z
DTSTAMP:20260422T083534Z
SUMMARY:10 After vs. Galacticos FC
DESCRIPTION:Galacticos FC vs. 10 AfterMore info: #321
X-ALT-DESC;FMTTYPE=text/html:<!DOCTYPE HTML PUBLIC "-//W3C//DTD HTML 3.2//E
	N">\n<HTML>\n<HEAD>\n<TITLE></TITLE>\n</HEAD>\n<BODY>\n<h3>Galacticos FC vs
	. 10 After</h3>More info: <a href="https://www.golnetwork.com/game/v/69120/
	">#321</a>\n\n</BODY>\n</HTML>
STATUS:CONFIRMED
CLASS:PUBLIC
URL:https://www.golnetwork.com/game/v/69120/
X-MICROSOFT-CDO-BUSYSTATUS:BUSY
X-MICROSOFT-CDO-IMPORTANCE:1
END:VEVENT
BEGIN:VEVENT
UID:g73a2@games.golnetwork.com
LOCATION:Cherry Beach East 2
CREATED:20150506T230851Z
DTSTART:20150617T020000Z
DTEND:20150617T030000Z
DTSTAMP:20260422T083534Z
SUMMARY:TubeFC vs. Team Brazil
DESCRIPTION:Team Brazil vs. TubeFCMore info: #323
X-ALT-DESC;FMTTYPE=text/html:<!DOCTYPE HTML PUBLIC "-//W3C//DTD HTML 3.2//E
	N">\n<HTML>\n<HEAD>\n<TITLE></TITLE>\n</HEAD>\n<BODY>\n<h3>Team Brazil vs. 
	TubeFC</h3>More info: <a href="https://www.golnetwork.com/game/v/69121/">#3
	23</a>\n\n</BODY>\n</HTML>
STATUS:CONFIRMED
CLASS:PUBLIC
URL:https://www.golnetwork.com/game/v/69121/
X-MICROSOFT-CDO-BUSYSTATUS:BUSY
X-MICROSOFT-CDO-IMPORTANCE:1
END:VEVENT
BEGIN:VEVENT
UID:g73a4@games.golnetwork.com
LOCATION:Cherry Beach East 3
CREATED:20150506T230903Z
DTSTART:20150617T020000Z
DTEND:20150617T030000Z
DTSTAMP:20260422T083534Z
SUMMARY:Kognitive Knights FC vs. Billy Zane and the Walk-Offs
DESCRIPTION:Billy Zane and the Walk-Offs vs. Kognitive Knights FCMore info:
	 #324
X-ALT-DESC;FMTTYPE=text/html:<!DOCTYPE HTML PUBLIC "-//W3C//DTD HTML 3.2//E
	N">\n<HTML>\n<HEAD>\n<TITLE></TITLE>\n</HEAD>\n<BODY>\n<h3>Billy Zane and t
	he Walk-Offs vs. Kognitive Knights FC</h3>More info: <a href="https://www.g
	olnetwork.com/game/v/69122/">#324</a>\n\n</BODY>\n</HTML>
STATUS:CONFIRMED
CLASS:PUBLIC
URL:https://www.golnetwork.com/game/v/69122/
X-MICROSOFT-CDO-BUSYSTATUS:BUSY
X-MICROSOFT-CDO-IMPORTANCE:1
END:VEVENT
BEGIN:VEVENT
UID:g73a6@games.golnetwork.com
LOCATION:Cherry Beach East 3
CREATED:20150506T230916Z
DTSTART:20150617T030000Z
DTEND:20150617T040000Z
DTSTAMP:20260422T083534Z
SUMMARY:SAS vs. Brooklyn FC
DESCRIPTION:Brooklyn FC vs. SASMore info: #327
X-ALT-DESC;FMTTYPE=text/html:<!DOCTYPE HTML PUBLIC "-//W3C//DTD HTML 3.2//E
	N">\n<HTML>\n<HEAD>\n<TITLE></TITLE>\n</HEAD>\n<BODY>\n<h3>Brooklyn FC vs. 
	SAS</h3>More info: <a href="https://www.golnetwork.com/game/v/69123/">#327<
	/a>\n\n</BODY>\n</HTML>
STATUS:CONFIRMED
CLASS:PUBLIC
URL:https://www.golnetwork.com/game/v/69123/
X-MICROSOFT-CDO-BUSYSTATUS:BUSY
X-MICROSOFT-CDO-IMPORTANCE:1
END:VEVENT
BEGIN:VEVENT
UID:g73a8@games.golnetwork.com
LOCATION:Cherry Beach East 3
CREATED:20150506T230942Z
DTSTART:20150624T010000Z
DTEND:20150624T020000Z
DTSTAMP:20260422T083534Z
SUMMARY:TubeFC vs. Billy Zane and the Walk-Offs
DESCRIPTION:Billy Zane and the Walk-Offs vs. TubeFCMore info: #367
X-ALT-DESC;FMTTYPE=text/html:<!DOCTYPE HTML PUBLIC "-//W3C//DTD HTML 3.2//E
	N">\n<HTML>\n<HEAD>\n<TITLE></TITLE>\n</HEAD>\n<BODY>\n<h3>Billy Zane and t
	he Walk-Offs vs. TubeFC</h3>More info: <a href="https://www.golnetwork.com/
	game/v/69124/">#367</a>\n\n</BODY>\n</HTML>
STATUS:CONFIRMED
CLASS:PUBLIC
URL:https://www.golnetwork.com/game/v/69124/
X-MICROSOFT-CDO-BUSYSTATUS:BUSY
X-MICROSOFT-CDO-IMPORTANCE:1
END:VEVENT
BEGIN:VEVENT
UID:g73aa@games.golnetwork.com
LOCATION:Cherry Beach East 3
CREATED:20150506T230956Z
DTSTART:20150624T020000Z
DTEND:20150624T030000Z
DTSTAMP:20260422T083534Z
SUMMARY:SAS vs. 10 After
DESCRIPTION:10 After vs. SASMore info: #370
X-ALT-DESC;FMTTYPE=text/html:<!DOCTYPE HTML PUBLIC "-//W3C//DTD HTML 3.2//E
	N">\n<HTML>\n<HEAD>\n<TITLE></TITLE>\n</HEAD>\n<BODY>\n<h3>10 After vs. SAS
	</h3>More info: <a href="https://www.golnetwork.com/game/v/69125/">#370</a>
	\n\n</BODY>\n</HTML>
STATUS:CONFIRMED
CLASS:PUBLIC
URL:https://www.golnetwork.com/game/v/69125/
X-MICROSOFT-CDO-BUSYSTATUS:BUSY
X-MICROSOFT-CDO-IMPORTANCE:1
END:VEVENT
BEGIN:VEVENT
UID:g73ac@games.golnetwork.com
LOCATION:Cherry Beach East 2
CREATED:20150506T231012Z
DTSTART:20150624T030000Z
DTEND:20150624T040000Z
DTSTAMP:20260422T083534Z
SUMMARY:Brooklyn FC vs. Galacticos FC
DESCRIPTION:Galacticos FC vs. Brooklyn FCMore info: #372
X-ALT-DESC;FMTTYPE=text/html:<!DOCTYPE HTML PUBLIC "-//W3C//DTD HTML 3.2//E
	N">\n<HTML>\n<HEAD>\n<TITLE></TITLE>\n</HEAD>\n<BODY>\n<h3>Galacticos FC vs
	. Brooklyn FC</h3>More info: <a href="https://www.golnetwork.com/game/v/691
	26/">#372</a>\n\n</BODY>\n</HTML>
STATUS:CONFIRMED
CLASS:PUBLIC
URL:https://www.golnetwork.com/game/v/69126/
X-MICROSOFT-CDO-BUSYSTATUS:BUSY
X-MICROSOFT-CDO-IMPORTANCE:1
END:VEVENT
BEGIN:VEVENT
UID:g73ae@games.golnetwork.com
LOCATION:Cherry Beach East 3
CREATED:20150506T231024Z
DTSTART:20150624T030000Z
DTEND:20150624T040000Z
DTSTAMP:20260422T083534Z
SUMMARY:Kognitive Knights FC vs. Team Brazil
DESCRIPTION:Team Brazil vs. Kognitive Knights FCMore info: #373
X-ALT-DESC;FMTTYPE=text/html:<!DOCTYPE HTML PUBLIC "-//W3C//DTD HTML 3.2//E
	N">\n<HTML>\n<HEAD>\n<TITLE></TITLE>\n</HEAD>\n<BODY>\n<h3>Team Brazil vs. 
	Kognitive Knights FC</h3>More info: <a href="https://www.golnetwork.com/gam
	e/v/69127/">#373</a>\n\n</BODY>\n</HTML>
STATUS:CONFIRMED
CLASS:PUBLIC
URL:https://www.golnetwork.com/game/v/69127/
X-MICROSOFT-CDO-BUSYSTATUS:BUSY
X-MICROSOFT-CDO-IMPORTANCE:1
END:VEVENT
BEGIN:VEVENT
UID:g73ai@games.golnetwork.com
LOCATION:Cherry Beach East 3
CREATED:20150506T231056Z
DTSTART:20150701T020000Z
DTEND:20150701T030000Z
DTSTAMP:20260422T083534Z
SUMMARY:Billy Zane and the Walk-Offs vs. Brooklyn FC
DESCRIPTION:Brooklyn FC vs. Billy Zane and the Walk-OffsMore info: #410
X-ALT-DESC;FMTTYPE=text/html:<!DOCTYPE HTML PUBLIC "-//W3C//DTD HTML 3.2//E
	N">\n<HTML>\n<HEAD>\n<TITLE></TITLE>\n</HEAD>\n<BODY>\n<h3>Brooklyn FC vs. 
	Billy Zane and the Walk-Offs</h3>More info: <a href="https://www.golnetwork
	.com/game/v/69129/">#410</a>\n\n</BODY>\n</HTML>
STATUS:CONFIRMED
CLASS:PUBLIC
URL:https://www.golnetwork.com/game/v/69129/
X-MICROSOFT-CDO-BUSYSTATUS:BUSY
X-MICROSOFT-CDO-IMPORTANCE:1
END:VEVENT
BEGIN:VEVENT
UID:g73ag@games.golnetwork.com
LOCATION:Cherry Beach East 3
CREATED:20150506T231052Z
DTSTART:20150701T030000Z
DTEND:20150701T040000Z
DTSTAMP:20260422T083534Z
SUMMARY:SAS vs. Kognitive Knights FC
DESCRIPTION:Kognitive Knights FC vs. SASMore info: #413
X-ALT-DESC;FMTTYPE=text/html:<!DOCTYPE HTML PUBLIC "-//W3C//DTD HTML 3.2//E
	N">\n<HTML>\n<HEAD>\n<TITLE></TITLE>\n</HEAD>\n<BODY>\n<h3>Kognitive Knight
	s FC vs. SAS</h3>More info: <a href="https://www.golnetwork.com/game/v/6912
	8/">#413</a>\n\n</BODY>\n</HTML>
STATUS:CONFIRMED
CLASS:PUBLIC
URL:https://www.golnetwork.com/game/v/69128/
X-MICROSOFT-CDO-BUSYSTATUS:BUSY
X-MICROSOFT-CDO-IMPORTANCE:1
END:VEVENT
BEGIN:VEVENT
UID:g73am@games.golnetwork.com
LOCATION:Cherry Beach East 2
CREATED:20150506T231111Z
DTSTART:20150708T020000Z
DTEND:20150708T030000Z
DTSTAMP:20260422T083534Z
SUMMARY:Billy Zane and the Walk-Offs vs. Galacticos FC
DESCRIPTION:Galacticos FC vs. Billy Zane and the Walk-OffsMore info: #455
X-ALT-DESC;FMTTYPE=text/html:<!DOCTYPE HTML PUBLIC "-//W3C//DTD HTML 3.2//E
	N">\n<HTML>\n<HEAD>\n<TITLE></TITLE>\n</HEAD>\n<BODY>\n<h3>Galacticos FC vs
	. Billy Zane and the Walk-Offs</h3>More info: <a href="https://www.golnetwo
	rk.com/game/v/69131/">#455</a>\n\n</BODY>\n</HTML>
STATUS:CONFIRMED
CLASS:PUBLIC
URL:https://www.golnetwork.com/game/v/69131/
X-MICROSOFT-CDO-BUSYSTATUS:BUSY
X-MICROSOFT-CDO-IMPORTANCE:1
END:VEVENT
BEGIN:VEVENT
UID:g73ak@games.golnetwork.com
LOCATION:Cherry Beach East 3
CREATED:20150506T231105Z
DTSTART:20150708T020000Z
DTEND:20150708T030000Z
DTSTAMP:20260422T083534Z
SUMMARY:Brooklyn FC vs. 10 After
DESCRIPTION:10 After vs. Brooklyn FCMore info: #456
X-ALT-DESC;FMTTYPE=text/html:<!DOCTYPE HTML PUBLIC "-//W3C//DTD HTML 3.2//E
	N">\n<HTML>\n<HEAD>\n<TITLE></TITLE>\n</HEAD>\n<BODY>\n<h3>10 After vs. Bro
	oklyn FC</h3>More info: <a href="https://www.golnetwork.com/game/v/69130/">
	#456</a>\n\n</BODY>\n</HTML>
STATUS:CONFIRMED
CLASS:PUBLIC
URL:https://www.golnetwork.com/game/v/69130/
X-MICROSOFT-CDO-BUSYSTATUS:BUSY
X-MICROSOFT-CDO-IMPORTANCE:1
END:VEVENT
BEGIN:VEVENT
UID:g73ao@games.golnetwork.com
LOCATION:Cherry Beach East 3
CREATED:20150506T231121Z
DTSTART:20150708T030000Z
DTEND:20150708T040000Z
DTSTAMP:20260422T083534Z
SUMMARY:Kognitive Knights FC vs. SAS
DESCRIPTION:SAS vs. Kognitive Knights FCMore info: #459
X-ALT-DESC;FMTTYPE=text/html:<!DOCTYPE HTML PUBLIC "-//W3C//DTD HTML 3.2//E
	N">\n<HTML>\n<HEAD>\n<TITLE></TITLE>\n</HEAD>\n<BODY>\n<h3>SAS vs. Kognitiv
	e Knights FC</h3>More info: <a href="https://www.golnetwork.com/game/v/6913
	2/">#459</a>\n\n</BODY>\n</HTML>
STATUS:CONFIRMED
CLASS:PUBLIC
URL:https://www.golnetwork.com/game/v/69132/
X-MICROSOFT-CDO-BUSYSTATUS:BUSY
X-MICROSOFT-CDO-IMPORTANCE:1
END:VEVENT
END:VCALENDAR
