BEGIN:VCALENDAR
PRODID:-//gdesolutions.com//MV Framework 1.0.0.1607 Calendar//EN
VERSION:2.0
METHOD:PUBLISH
CALSCALE:GREGORIAN
BEGIN:VEVENT
UID:g73ee@games.golnetwork.com
LOCATION:Cherry Beach East 3
CREATED:20150508T190837Z
DTSTART:20150515T010000Z
DTEND:20150515T020000Z
DTSTAMP:20260422T000133Z
SUMMARY:Ballstars vs. AdParlor Algos
DESCRIPTION:AdParlor Algos vs. BallstarsMore info: #88
X-ALT-DESC;FMTTYPE=text/html:<!DOCTYPE HTML PUBLIC "-//W3C//DTD HTML 3.2//E
	N">\n<HTML>\n<HEAD>\n<TITLE></TITLE>\n</HEAD>\n<BODY>\n<h3>AdParlor Algos v
	s. Ballstars</h3>More info: <a href="https://www.golnetwork.com/game/v/6918
	1/">#88</a>\n\n</BODY>\n</HTML>
STATUS:CONFIRMED
CLASS:PUBLIC
URL:https://www.golnetwork.com/game/v/69181/
X-MICROSOFT-CDO-BUSYSTATUS:BUSY
X-MICROSOFT-CDO-IMPORTANCE:1
END:VEVENT
BEGIN:VEVENT
UID:g73eg@games.golnetwork.com
LOCATION:Cherry Beach East 3
CREATED:20150508T190851Z
DTSTART:20150515T020000Z
DTEND:20150515T030000Z
DTSTAMP:20260422T000133Z
SUMMARY:Quesada FC vs. Hangover FC
DESCRIPTION:Hangover FC vs. Quesada FCMore info: #91
X-ALT-DESC;FMTTYPE=text/html:<!DOCTYPE HTML PUBLIC "-//W3C//DTD HTML 3.2//E
	N">\n<HTML>\n<HEAD>\n<TITLE></TITLE>\n</HEAD>\n<BODY>\n<h3>Hangover FC vs. 
	Quesada FC</h3>More info: <a href="https://www.golnetwork.com/game/v/69182/
	">#91</a>\n\n</BODY>\n</HTML>
STATUS:CONFIRMED
CLASS:PUBLIC
URL:https://www.golnetwork.com/game/v/69182/
X-MICROSOFT-CDO-BUSYSTATUS:BUSY
X-MICROSOFT-CDO-IMPORTANCE:1
END:VEVENT
BEGIN:VEVENT
UID:g73ei@games.golnetwork.com
LOCATION:Cherry Beach East 2
CREATED:20150508T191202Z
DTSTART:20150515T030000Z
DTEND:20150515T040000Z
DTSTAMP:20260422T000133Z
SUMMARY:Samba vs. Sweet Muffins
DESCRIPTION:Sweet Muffins vs. SambaMore info: #93
X-ALT-DESC;FMTTYPE=text/html:<!DOCTYPE HTML PUBLIC "-//W3C//DTD HTML 3.2//E
	N">\n<HTML>\n<HEAD>\n<TITLE></TITLE>\n</HEAD>\n<BODY>\n<h3>Sweet Muffins vs
	. Samba</h3>More info: <a href="https://www.golnetwork.com/game/v/69183/">#
	93</a>\n\n</BODY>\n</HTML>
STATUS:CONFIRMED
CLASS:PUBLIC
URL:https://www.golnetwork.com/game/v/69183/
X-MICROSOFT-CDO-BUSYSTATUS:BUSY
X-MICROSOFT-CDO-IMPORTANCE:1
END:VEVENT
BEGIN:VEVENT
UID:g73ek@games.golnetwork.com
LOCATION:Cherry Beach East 3
CREATED:20150508T191214Z
DTSTART:20150515T030000Z
DTEND:20150515T040000Z
DTSTAMP:20260422T000133Z
SUMMARY:Wet Bandits vs. The Cheatin Refs
DESCRIPTION:The Cheatin Refs vs. Wet BanditsMore info: #94
X-ALT-DESC;FMTTYPE=text/html:<!DOCTYPE HTML PUBLIC "-//W3C//DTD HTML 3.2//E
	N">\n<HTML>\n<HEAD>\n<TITLE></TITLE>\n</HEAD>\n<BODY>\n<h3>The Cheatin Refs
	 vs. Wet Bandits</h3>More info: <a href="https://www.golnetwork.com/game/v/
	69184/">#94</a>\n\n</BODY>\n</HTML>
STATUS:CONFIRMED
CLASS:PUBLIC
URL:https://www.golnetwork.com/game/v/69184/
X-MICROSOFT-CDO-BUSYSTATUS:BUSY
X-MICROSOFT-CDO-IMPORTANCE:1
END:VEVENT
BEGIN:VEVENT
UID:g73em@games.golnetwork.com
LOCATION:Cherry Beach East 2
CREATED:20150508T191242Z
DTSTART:20150522T010000Z
DTEND:20150522T020000Z
DTSTAMP:20260422T000133Z
SUMMARY:Hangover FC vs. Samba
DESCRIPTION:Samba vs. Hangover FCMore info: #124
X-ALT-DESC;FMTTYPE=text/html:<!DOCTYPE HTML PUBLIC "-//W3C//DTD HTML 3.2//E
	N">\n<HTML>\n<HEAD>\n<TITLE></TITLE>\n</HEAD>\n<BODY>\n<h3>Samba vs. Hangov
	er FC</h3>More info: <a href="https://www.golnetwork.com/game/v/69185/">#12
	4</a>\n\n</BODY>\n</HTML>
STATUS:CONFIRMED
CLASS:PUBLIC
URL:https://www.golnetwork.com/game/v/69185/
X-MICROSOFT-CDO-BUSYSTATUS:BUSY
X-MICROSOFT-CDO-IMPORTANCE:1
END:VEVENT
BEGIN:VEVENT
UID:g73eq@games.golnetwork.com
LOCATION:Cherry Beach East 3
CREATED:20150508T191312Z
DTSTART:20150522T010000Z
DTEND:20150522T020000Z
DTSTAMP:20260422T000133Z
SUMMARY:Sweet Muffins vs. AdParlor Algos
DESCRIPTION:AdParlor Algos vs. Sweet MuffinsMore info: #125
X-ALT-DESC;FMTTYPE=text/html:<!DOCTYPE HTML PUBLIC "-//W3C//DTD HTML 3.2//E
	N">\n<HTML>\n<HEAD>\n<TITLE></TITLE>\n</HEAD>\n<BODY>\n<h3>AdParlor Algos v
	s. Sweet Muffins</h3>More info: <a href="https://www.golnetwork.com/game/v/
	69187/">#125</a>\n\n</BODY>\n</HTML>
STATUS:CONFIRMED
CLASS:PUBLIC
URL:https://www.golnetwork.com/game/v/69187/
X-MICROSOFT-CDO-BUSYSTATUS:BUSY
X-MICROSOFT-CDO-IMPORTANCE:1
END:VEVENT
BEGIN:VEVENT
UID:g73f1@games.golnetwork.com
LOCATION:Cherry Beach East 3
CREATED:20150508T191326Z
DTSTART:20150522T020000Z
DTEND:20150522T030000Z
DTSTAMP:20260422T000133Z
SUMMARY:Wet Bandits vs. Ballstars
DESCRIPTION:Ballstars vs. Wet BanditsMore info: #128
X-ALT-DESC;FMTTYPE=text/html:<!DOCTYPE HTML PUBLIC "-//W3C//DTD HTML 3.2//E
	N">\n<HTML>\n<HEAD>\n<TITLE></TITLE>\n</HEAD>\n<BODY>\n<h3>Ballstars vs. We
	t Bandits</h3>More info: <a href="https://www.golnetwork.com/game/v/69188/"
	>#128</a>\n\n</BODY>\n</HTML>
STATUS:CONFIRMED
CLASS:PUBLIC
URL:https://www.golnetwork.com/game/v/69188/
X-MICROSOFT-CDO-BUSYSTATUS:BUSY
X-MICROSOFT-CDO-IMPORTANCE:1
END:VEVENT
BEGIN:VEVENT
UID:g73eo@games.golnetwork.com
LOCATION:Cherry Beach East 3
CREATED:20150508T191254Z
DTSTART:20150522T030000Z
DTEND:20150522T040000Z
DTSTAMP:20260422T000133Z
SUMMARY:Quesada FC vs. The Cheatin Refs
DESCRIPTION:The Cheatin Refs vs. Quesada FCMore info: #131
X-ALT-DESC;FMTTYPE=text/html:<!DOCTYPE HTML PUBLIC "-//W3C//DTD HTML 3.2//E
	N">\n<HTML>\n<HEAD>\n<TITLE></TITLE>\n</HEAD>\n<BODY>\n<h3>The Cheatin Refs
	 vs. Quesada FC</h3>More info: <a href="https://www.golnetwork.com/game/v/6
	9186/">#131</a>\n\n</BODY>\n</HTML>
STATUS:CONFIRMED
CLASS:PUBLIC
URL:https://www.golnetwork.com/game/v/69186/
X-MICROSOFT-CDO-BUSYSTATUS:BUSY
X-MICROSOFT-CDO-IMPORTANCE:1
END:VEVENT
BEGIN:VEVENT
UID:g73f3@games.golnetwork.com
LOCATION:Cherry Beach East 3
CREATED:20150508T191348Z
DTSTART:20150529T010000Z
DTEND:20150529T020000Z
DTSTAMP:20260422T000133Z
SUMMARY:Hangover FC vs. Sweet Muffins
DESCRIPTION:Sweet Muffins vs. Hangover FCMore info: #165
X-ALT-DESC;FMTTYPE=text/html:<!DOCTYPE HTML PUBLIC "-//W3C//DTD HTML 3.2//E
	N">\n<HTML>\n<HEAD>\n<TITLE></TITLE>\n</HEAD>\n<BODY>\n<h3>Sweet Muffins vs
	. Hangover FC</h3>More info: <a href="https://www.golnetwork.com/game/v/691
	89/">#165</a>\n\n</BODY>\n</HTML>
STATUS:CONFIRMED
CLASS:PUBLIC
URL:https://www.golnetwork.com/game/v/69189/
X-MICROSOFT-CDO-BUSYSTATUS:BUSY
X-MICROSOFT-CDO-IMPORTANCE:1
END:VEVENT
BEGIN:VEVENT
UID:g73f5@games.golnetwork.com
LOCATION:Cherry Beach East 2
CREATED:20150508T191405Z
DTSTART:20150529T020000Z
DTEND:20150529T030000Z
DTSTAMP:20260422T000133Z
SUMMARY:Wet Bandits vs. Quesada FC
DESCRIPTION:Quesada FC vs. Wet BanditsMore info: #167
X-ALT-DESC;FMTTYPE=text/html:<!DOCTYPE HTML PUBLIC "-//W3C//DTD HTML 3.2//E
	N">\n<HTML>\n<HEAD>\n<TITLE></TITLE>\n</HEAD>\n<BODY>\n<h3>Quesada FC vs. W
	et Bandits</h3>More info: <a href="https://www.golnetwork.com/game/v/69190/
	">#167</a>\n\n</BODY>\n</HTML>
STATUS:CONFIRMED
CLASS:PUBLIC
URL:https://www.golnetwork.com/game/v/69190/
X-MICROSOFT-CDO-BUSYSTATUS:BUSY
X-MICROSOFT-CDO-IMPORTANCE:1
END:VEVENT
BEGIN:VEVENT
UID:g73f9@games.golnetwork.com
LOCATION:Cherry Beach East 3
CREATED:20150508T191432Z
DTSTART:20150529T020000Z
DTEND:20150529T030000Z
DTSTAMP:20260422T000133Z
SUMMARY:Samba vs. AdParlor Algos
DESCRIPTION:AdParlor Algos vs. SambaMore info: #168
X-ALT-DESC;FMTTYPE=text/html:<!DOCTYPE HTML PUBLIC "-//W3C//DTD HTML 3.2//E
	N">\n<HTML>\n<HEAD>\n<TITLE></TITLE>\n</HEAD>\n<BODY>\n<h3>AdParlor Algos v
	s. Samba</h3>More info: <a href="https://www.golnetwork.com/game/v/69192/">
	#168</a>\n\n</BODY>\n</HTML>
STATUS:CONFIRMED
CLASS:PUBLIC
URL:https://www.golnetwork.com/game/v/69192/
X-MICROSOFT-CDO-BUSYSTATUS:BUSY
X-MICROSOFT-CDO-IMPORTANCE:1
END:VEVENT
BEGIN:VEVENT
UID:g73f7@games.golnetwork.com
LOCATION:Cherry Beach East 3
CREATED:20150508T191419Z
DTSTART:20150529T030000Z
DTEND:20150529T040000Z
DTSTAMP:20260422T000133Z
SUMMARY:The Cheatin Refs vs. Ballstars
DESCRIPTION:Ballstars vs. The Cheatin RefsMore info: #171
X-ALT-DESC;FMTTYPE=text/html:<!DOCTYPE HTML PUBLIC "-//W3C//DTD HTML 3.2//E
	N">\n<HTML>\n<HEAD>\n<TITLE></TITLE>\n</HEAD>\n<BODY>\n<h3>Ballstars vs. Th
	e Cheatin Refs</h3>More info: <a href="https://www.golnetwork.com/game/v/69
	191/">#171</a>\n\n</BODY>\n</HTML>
STATUS:CONFIRMED
CLASS:PUBLIC
URL:https://www.golnetwork.com/game/v/69191/
X-MICROSOFT-CDO-BUSYSTATUS:BUSY
X-MICROSOFT-CDO-IMPORTANCE:1
END:VEVENT
BEGIN:VEVENT
UID:g73fh@games.golnetwork.com
LOCATION:Cherry Beach East 3
CREATED:20150508T191542Z
DTSTART:20150605T010000Z
DTEND:20150605T020000Z
DTSTAMP:20260422T000133Z
SUMMARY:Quesada FC vs. Ballstars
DESCRIPTION:Ballstars vs. Quesada FCMore info: #220
X-ALT-DESC;FMTTYPE=text/html:<!DOCTYPE HTML PUBLIC "-//W3C//DTD HTML 3.2//E
	N">\n<HTML>\n<HEAD>\n<TITLE></TITLE>\n</HEAD>\n<BODY>\n<h3>Ballstars vs. Qu
	esada FC</h3>More info: <a href="https://www.golnetwork.com/game/v/69196/">
	#220</a>\n\n</BODY>\n</HTML>
STATUS:CONFIRMED
CLASS:PUBLIC
URL:https://www.golnetwork.com/game/v/69196/
X-MICROSOFT-CDO-BUSYSTATUS:BUSY
X-MICROSOFT-CDO-IMPORTANCE:1
END:VEVENT
BEGIN:VEVENT
UID:g73fd@games.golnetwork.com
LOCATION:Cherry Beach East 3
CREATED:20150508T191513Z
DTSTART:20150605T020000Z
DTEND:20150605T030000Z
DTSTAMP:20260422T000133Z
SUMMARY:Wet Bandits vs. Samba
DESCRIPTION:Samba vs. Wet BanditsMore info: #223
X-ALT-DESC;FMTTYPE=text/html:<!DOCTYPE HTML PUBLIC "-//W3C//DTD HTML 3.2//E
	N">\n<HTML>\n<HEAD>\n<TITLE></TITLE>\n</HEAD>\n<BODY>\n<h3>Samba vs. Wet Ba
	ndits</h3>More info: <a href="https://www.golnetwork.com/game/v/69194/">#22
	3</a>\n\n</BODY>\n</HTML>
STATUS:CONFIRMED
CLASS:PUBLIC
URL:https://www.golnetwork.com/game/v/69194/
X-MICROSOFT-CDO-BUSYSTATUS:BUSY
X-MICROSOFT-CDO-IMPORTANCE:1
END:VEVENT
BEGIN:VEVENT
UID:g73ff@games.golnetwork.com
LOCATION:Cherry Beach East 2
CREATED:20150508T191530Z
DTSTART:20150605T030000Z
DTEND:20150605T040000Z
DTSTAMP:20260422T000133Z
SUMMARY:Hangover FC vs. AdParlor Algos
DESCRIPTION:AdParlor Algos vs. Hangover FCMore info: #225
X-ALT-DESC;FMTTYPE=text/html:<!DOCTYPE HTML PUBLIC "-//W3C//DTD HTML 3.2//E
	N">\n<HTML>\n<HEAD>\n<TITLE></TITLE>\n</HEAD>\n<BODY>\n<h3>AdParlor Algos v
	s. Hangover FC</h3>More info: <a href="https://www.golnetwork.com/game/v/69
	195/">#225</a>\n\n</BODY>\n</HTML>
STATUS:CONFIRMED
CLASS:PUBLIC
URL:https://www.golnetwork.com/game/v/69195/
X-MICROSOFT-CDO-BUSYSTATUS:BUSY
X-MICROSOFT-CDO-IMPORTANCE:1
END:VEVENT
BEGIN:VEVENT
UID:g73fb@games.golnetwork.com
LOCATION:Cherry Beach East 3
CREATED:20150508T191458Z
DTSTART:20150605T030000Z
DTEND:20150605T040000Z
DTSTAMP:20260422T000133Z
SUMMARY:The Cheatin Refs vs. Sweet Muffins
DESCRIPTION:Sweet Muffins vs. The Cheatin RefsMore info: #226
X-ALT-DESC;FMTTYPE=text/html:<!DOCTYPE HTML PUBLIC "-//W3C//DTD HTML 3.2//E
	N">\n<HTML>\n<HEAD>\n<TITLE></TITLE>\n</HEAD>\n<BODY>\n<h3>Sweet Muffins vs
	. The Cheatin Refs</h3>More info: <a href="https://www.golnetwork.com/game/
	v/69193/">#226</a>\n\n</BODY>\n</HTML>
STATUS:CONFIRMED
CLASS:PUBLIC
URL:https://www.golnetwork.com/game/v/69193/
X-MICROSOFT-CDO-BUSYSTATUS:BUSY
X-MICROSOFT-CDO-IMPORTANCE:1
END:VEVENT
BEGIN:VEVENT
UID:g73fj@games.golnetwork.com
LOCATION:Cherry Beach East 2
CREATED:20150508T191605Z
DTSTART:20150612T010000Z
DTEND:20150612T020000Z
DTSTAMP:20260422T000133Z
SUMMARY:Quesada FC vs. AdParlor Algos
DESCRIPTION:AdParlor Algos vs. Quesada FCMore info: #274
X-ALT-DESC;FMTTYPE=text/html:<!DOCTYPE HTML PUBLIC "-//W3C//DTD HTML 3.2//E
	N">\n<HTML>\n<HEAD>\n<TITLE></TITLE>\n</HEAD>\n<BODY>\n<h3>AdParlor Algos v
	s. Quesada FC</h3>More info: <a href="https://www.golnetwork.com/game/v/691
	97/">#274</a>\n\n</BODY>\n</HTML>
STATUS:CONFIRMED
CLASS:PUBLIC
URL:https://www.golnetwork.com/game/v/69197/
X-MICROSOFT-CDO-BUSYSTATUS:BUSY
X-MICROSOFT-CDO-IMPORTANCE:1
END:VEVENT
BEGIN:VEVENT
UID:g73fl@games.golnetwork.com
LOCATION:Cherry Beach East 3
CREATED:20150508T191619Z
DTSTART:20150612T010000Z
DTEND:20150612T020000Z
DTSTAMP:20260422T000133Z
SUMMARY:Wet Bandits vs. Sweet Muffins
DESCRIPTION:Sweet Muffins vs. Wet BanditsMore info: #275
X-ALT-DESC;FMTTYPE=text/html:<!DOCTYPE HTML PUBLIC "-//W3C//DTD HTML 3.2//E
	N">\n<HTML>\n<HEAD>\n<TITLE></TITLE>\n</HEAD>\n<BODY>\n<h3>Sweet Muffins vs
	. Wet Bandits</h3>More info: <a href="https://www.golnetwork.com/game/v/691
	98/">#275</a>\n\n</BODY>\n</HTML>
STATUS:CONFIRMED
CLASS:PUBLIC
URL:https://www.golnetwork.com/game/v/69198/
X-MICROSOFT-CDO-BUSYSTATUS:BUSY
X-MICROSOFT-CDO-IMPORTANCE:1
END:VEVENT
BEGIN:VEVENT
UID:g73fn@games.golnetwork.com
LOCATION:Cherry Beach East 3
CREATED:20150508T191632Z
DTSTART:20150612T020000Z
DTEND:20150612T030000Z
DTSTAMP:20260422T000133Z
SUMMARY:Hangover FC vs. Ballstars
DESCRIPTION:Ballstars vs. Hangover FCMore info: #278
X-ALT-DESC;FMTTYPE=text/html:<!DOCTYPE HTML PUBLIC "-//W3C//DTD HTML 3.2//E
	N">\n<HTML>\n<HEAD>\n<TITLE></TITLE>\n</HEAD>\n<BODY>\n<h3>Ballstars vs. Ha
	ngover FC</h3>More info: <a href="https://www.golnetwork.com/game/v/69199/"
	>#278</a>\n\n</BODY>\n</HTML>
STATUS:CONFIRMED
CLASS:PUBLIC
URL:https://www.golnetwork.com/game/v/69199/
X-MICROSOFT-CDO-BUSYSTATUS:BUSY
X-MICROSOFT-CDO-IMPORTANCE:1
END:VEVENT
BEGIN:VEVENT
UID:g73fp@games.golnetwork.com
LOCATION:Cherry Beach East 3
CREATED:20150508T191649Z
DTSTART:20150612T030000Z
DTEND:20150612T040000Z
DTSTAMP:20260422T000133Z
SUMMARY:The Cheatin Refs vs. Samba
DESCRIPTION:Samba vs. The Cheatin RefsMore info: #281
X-ALT-DESC;FMTTYPE=text/html:<!DOCTYPE HTML PUBLIC "-//W3C//DTD HTML 3.2//E
	N">\n<HTML>\n<HEAD>\n<TITLE></TITLE>\n</HEAD>\n<BODY>\n<h3>Samba vs. The Ch
	eatin Refs</h3>More info: <a href="https://www.golnetwork.com/game/v/69200/
	">#281</a>\n\n</BODY>\n</HTML>
STATUS:CONFIRMED
CLASS:PUBLIC
URL:https://www.golnetwork.com/game/v/69200/
X-MICROSOFT-CDO-BUSYSTATUS:BUSY
X-MICROSOFT-CDO-IMPORTANCE:1
END:VEVENT
BEGIN:VEVENT
UID:g73g2@games.golnetwork.com
LOCATION:Cherry Beach East 3
CREATED:20150508T191651Z
DTSTART:20150619T010000Z
DTEND:20150619T020000Z
DTSTAMP:20260422T000133Z
SUMMARY:Wet Bandits vs. Hangover FC
DESCRIPTION:Hangover FC vs. Wet BanditsMore info: #330
X-ALT-DESC;FMTTYPE=text/html:<!DOCTYPE HTML PUBLIC "-//W3C//DTD HTML 3.2//E
	N">\n<HTML>\n<HEAD>\n<TITLE></TITLE>\n</HEAD>\n<BODY>\n<h3>Hangover FC vs. 
	Wet Bandits</h3>More info: <a href="https://www.golnetwork.com/game/v/69202
	/">#330</a>\n\n</BODY>\n</HTML>
STATUS:CONFIRMED
CLASS:PUBLIC
URL:https://www.golnetwork.com/game/v/69202/
X-MICROSOFT-CDO-BUSYSTATUS:BUSY
X-MICROSOFT-CDO-IMPORTANCE:1
END:VEVENT
BEGIN:VEVENT
UID:g73g0@games.golnetwork.com
LOCATION:Cherry Beach East 2
CREATED:20150508T191638Z
DTSTART:20150619T020000Z
DTEND:20150619T030000Z
DTSTAMP:20260422T000133Z
SUMMARY:Samba vs. Ballstars
DESCRIPTION:Ballstars vs. SambaMore info: #332
X-ALT-DESC;FMTTYPE=text/html:<!DOCTYPE HTML PUBLIC "-//W3C//DTD HTML 3.2//E
	N">\n<HTML>\n<HEAD>\n<TITLE></TITLE>\n</HEAD>\n<BODY>\n<h3>Ballstars vs. Sa
	mba</h3>More info: <a href="https://www.golnetwork.com/game/v/69201/">#332<
	/a>\n\n</BODY>\n</HTML>
STATUS:CONFIRMED
CLASS:PUBLIC
URL:https://www.golnetwork.com/game/v/69201/
X-MICROSOFT-CDO-BUSYSTATUS:BUSY
X-MICROSOFT-CDO-IMPORTANCE:1
END:VEVENT
BEGIN:VEVENT
UID:g73g6@games.golnetwork.com
LOCATION:Cherry Beach East 3
CREATED:20150508T191713Z
DTSTART:20150619T020000Z
DTEND:20150619T030000Z
DTSTAMP:20260422T000133Z
SUMMARY:Quesada FC vs. Sweet Muffins
DESCRIPTION:Sweet Muffins vs. Quesada FCMore info: #333
X-ALT-DESC;FMTTYPE=text/html:<!DOCTYPE HTML PUBLIC "-//W3C//DTD HTML 3.2//E
	N">\n<HTML>\n<HEAD>\n<TITLE></TITLE>\n</HEAD>\n<BODY>\n<h3>Sweet Muffins vs
	. Quesada FC</h3>More info: <a href="https://www.golnetwork.com/game/v/6920
	4/">#333</a>\n\n</BODY>\n</HTML>
STATUS:CONFIRMED
CLASS:PUBLIC
URL:https://www.golnetwork.com/game/v/69204/
X-MICROSOFT-CDO-BUSYSTATUS:BUSY
X-MICROSOFT-CDO-IMPORTANCE:1
END:VEVENT
BEGIN:VEVENT
UID:g73g4@games.golnetwork.com
LOCATION:Cherry Beach East 3
CREATED:20150508T191702Z
DTSTART:20150619T030000Z
DTEND:20150619T040000Z
DTSTAMP:20260422T000133Z
SUMMARY:The Cheatin Refs vs. AdParlor Algos
DESCRIPTION:AdParlor Algos vs. The Cheatin RefsMore info: #336
X-ALT-DESC;FMTTYPE=text/html:<!DOCTYPE HTML PUBLIC "-//W3C//DTD HTML 3.2//E
	N">\n<HTML>\n<HEAD>\n<TITLE></TITLE>\n</HEAD>\n<BODY>\n<h3>AdParlor Algos v
	s. The Cheatin Refs</h3>More info: <a href="https://www.golnetwork.com/game
	/v/69203/">#336</a>\n\n</BODY>\n</HTML>
STATUS:CONFIRMED
CLASS:PUBLIC
URL:https://www.golnetwork.com/game/v/69203/
X-MICROSOFT-CDO-BUSYSTATUS:BUSY
X-MICROSOFT-CDO-IMPORTANCE:1
END:VEVENT
BEGIN:VEVENT
UID:g73ga@games.golnetwork.com
LOCATION:Cherry Beach East 3
CREATED:20150508T191751Z
DTSTART:20150626T010000Z
DTEND:20150626T020000Z
DTSTAMP:20260422T000133Z
SUMMARY:Quesada FC vs. Samba
DESCRIPTION:Samba vs. Quesada FCMore info: #376
X-ALT-DESC;FMTTYPE=text/html:<!DOCTYPE HTML PUBLIC "-//W3C//DTD HTML 3.2//E
	N">\n<HTML>\n<HEAD>\n<TITLE></TITLE>\n</HEAD>\n<BODY>\n<h3>Samba vs. Quesad
	a FC</h3>More info: <a href="https://www.golnetwork.com/game/v/69206/">#376
	</a>\n\n</BODY>\n</HTML>
STATUS:CONFIRMED
CLASS:PUBLIC
URL:https://www.golnetwork.com/game/v/69206/
X-MICROSOFT-CDO-BUSYSTATUS:BUSY
X-MICROSOFT-CDO-IMPORTANCE:1
END:VEVENT
BEGIN:VEVENT
UID:g73gc@games.golnetwork.com
LOCATION:Cherry Beach East 3
CREATED:20150508T192234Z
DTSTART:20150626T020000Z
DTEND:20150626T030000Z
DTSTAMP:20260422T000133Z
SUMMARY:Sweet Muffins vs. Ballstars
DESCRIPTION:Ballstars vs. Sweet MuffinsMore info: #379
X-ALT-DESC;FMTTYPE=text/html:<!DOCTYPE HTML PUBLIC "-//W3C//DTD HTML 3.2//E
	N">\n<HTML>\n<HEAD>\n<TITLE></TITLE>\n</HEAD>\n<BODY>\n<h3>Ballstars vs. Sw
	eet Muffins</h3>More info: <a href="https://www.golnetwork.com/game/v/69207
	/">#379</a>\n\n</BODY>\n</HTML>
STATUS:CONFIRMED
CLASS:PUBLIC
URL:https://www.golnetwork.com/game/v/69207/
X-MICROSOFT-CDO-BUSYSTATUS:BUSY
X-MICROSOFT-CDO-IMPORTANCE:1
END:VEVENT
BEGIN:VEVENT
UID:g73g8@games.golnetwork.com
LOCATION:Cherry Beach East 2
CREATED:20150508T191735Z
DTSTART:20150626T030000Z
DTEND:20150626T040000Z
DTSTAMP:20260422T000133Z
SUMMARY:Wet Bandits vs. AdParlor Algos
DESCRIPTION:AdParlor Algos vs. Wet BanditsMore info: #381
X-ALT-DESC;FMTTYPE=text/html:<!DOCTYPE HTML PUBLIC "-//W3C//DTD HTML 3.2//E
	N">\n<HTML>\n<HEAD>\n<TITLE></TITLE>\n</HEAD>\n<BODY>\n<h3>AdParlor Algos v
	s. Wet Bandits</h3>More info: <a href="https://www.golnetwork.com/game/v/69
	205/">#381</a>\n\n</BODY>\n</HTML>
STATUS:CONFIRMED
CLASS:PUBLIC
URL:https://www.golnetwork.com/game/v/69205/
X-MICROSOFT-CDO-BUSYSTATUS:BUSY
X-MICROSOFT-CDO-IMPORTANCE:1
END:VEVENT
BEGIN:VEVENT
UID:g73ge@games.golnetwork.com
LOCATION:Cherry Beach East 3
CREATED:20150508T192247Z
DTSTART:20150626T030000Z
DTEND:20150626T040000Z
DTSTAMP:20260422T000133Z
SUMMARY:The Cheatin Refs vs. Hangover FC
DESCRIPTION:Hangover FC vs. The Cheatin RefsMore info: #382
X-ALT-DESC;FMTTYPE=text/html:<!DOCTYPE HTML PUBLIC "-//W3C//DTD HTML 3.2//E
	N">\n<HTML>\n<HEAD>\n<TITLE></TITLE>\n</HEAD>\n<BODY>\n<h3>Hangover FC vs. 
	The Cheatin Refs</h3>More info: <a href="https://www.golnetwork.com/game/v/
	69208/">#382</a>\n\n</BODY>\n</HTML>
STATUS:CONFIRMED
CLASS:PUBLIC
URL:https://www.golnetwork.com/game/v/69208/
X-MICROSOFT-CDO-BUSYSTATUS:BUSY
X-MICROSOFT-CDO-IMPORTANCE:1
END:VEVENT
BEGIN:VEVENT
UID:g73gi@games.golnetwork.com
LOCATION:Cherry Beach East 1
CREATED:20150508T192324Z
DTSTART:20150703T010000Z
DTEND:20150703T020000Z
DTSTAMP:20260422T000133Z
SUMMARY:AdParlor Algos vs. Quesada FC
DESCRIPTION:Quesada FC vs. AdParlor AlgosMore info: #414
X-ALT-DESC;FMTTYPE=text/html:<!DOCTYPE HTML PUBLIC "-//W3C//DTD HTML 3.2//E
	N">\n<HTML>\n<HEAD>\n<TITLE></TITLE>\n</HEAD>\n<BODY>\n<h3>Quesada FC vs. A
	dParlor Algos</h3>More info: <a href="https://www.golnetwork.com/game/v/692
	10/">#414</a>\n\n</BODY>\n</HTML>
STATUS:CONFIRMED
CLASS:PUBLIC
URL:https://www.golnetwork.com/game/v/69210/
X-MICROSOFT-CDO-BUSYSTATUS:BUSY
X-MICROSOFT-CDO-IMPORTANCE:1
END:VEVENT
BEGIN:VEVENT
UID:g73gg@games.golnetwork.com
LOCATION:Cherry Beach East 2
CREATED:20150508T192315Z
DTSTART:20150703T010000Z
DTEND:20150703T020000Z
DTSTAMP:20260422T000133Z
SUMMARY:Wet Bandits vs. Samba
DESCRIPTION:Samba vs. Wet BanditsMore info: #415
X-ALT-DESC;FMTTYPE=text/html:<!DOCTYPE HTML PUBLIC "-//W3C//DTD HTML 3.2//E
	N">\n<HTML>\n<HEAD>\n<TITLE></TITLE>\n</HEAD>\n<BODY>\n<h3>Samba vs. Wet Ba
	ndits</h3>More info: <a href="https://www.golnetwork.com/game/v/69209/">#41
	5</a>\n\n</BODY>\n</HTML>
STATUS:CONFIRMED
CLASS:PUBLIC
URL:https://www.golnetwork.com/game/v/69209/
X-MICROSOFT-CDO-BUSYSTATUS:BUSY
X-MICROSOFT-CDO-IMPORTANCE:1
END:VEVENT
BEGIN:VEVENT
UID:g73gm@games.golnetwork.com
LOCATION:Cherry Beach East 3
CREATED:20150508T192351Z
DTSTART:20150710T010000Z
DTEND:20150710T020000Z
DTSTAMP:20260422T000133Z
SUMMARY:AdParlor Algos vs. Samba
DESCRIPTION:Samba vs. AdParlor AlgosMore info: #462
X-ALT-DESC;FMTTYPE=text/html:<!DOCTYPE HTML PUBLIC "-//W3C//DTD HTML 3.2//E
	N">\n<HTML>\n<HEAD>\n<TITLE></TITLE>\n</HEAD>\n<BODY>\n<h3>Samba vs. AdParl
	or Algos</h3>More info: <a href="https://www.golnetwork.com/game/v/69212/">
	#462</a>\n\n</BODY>\n</HTML>
STATUS:CONFIRMED
CLASS:PUBLIC
URL:https://www.golnetwork.com/game/v/69212/
X-MICROSOFT-CDO-BUSYSTATUS:BUSY
X-MICROSOFT-CDO-IMPORTANCE:1
END:VEVENT
BEGIN:VEVENT
UID:g73gk@games.golnetwork.com
LOCATION:Cherry Beach East 2
CREATED:20150508T192345Z
DTSTART:20150710T020000Z
DTEND:20150710T030000Z
DTSTAMP:20260422T000133Z
SUMMARY:Wet Bandits vs. Quesada FC
DESCRIPTION:Quesada FC vs. Wet BanditsMore info: #464
X-ALT-DESC;FMTTYPE=text/html:<!DOCTYPE HTML PUBLIC "-//W3C//DTD HTML 3.2//E
	N">\n<HTML>\n<HEAD>\n<TITLE></TITLE>\n</HEAD>\n<BODY>\n<h3>Quesada FC vs. W
	et Bandits</h3>More info: <a href="https://www.golnetwork.com/game/v/69211/
	">#464</a>\n\n</BODY>\n</HTML>
STATUS:CONFIRMED
CLASS:PUBLIC
URL:https://www.golnetwork.com/game/v/69211/
X-MICROSOFT-CDO-BUSYSTATUS:BUSY
X-MICROSOFT-CDO-IMPORTANCE:1
END:VEVENT
BEGIN:VEVENT
UID:g73go@games.golnetwork.com
LOCATION:Cherry Beach East 3
CREATED:20150508T192357Z
DTSTART:20150710T030000Z
DTEND:20150710T040000Z
DTSTAMP:20260422T000133Z
SUMMARY:Sweet Muffins vs. Ballstars
DESCRIPTION:Ballstars vs. Sweet MuffinsMore info: #468
X-ALT-DESC;FMTTYPE=text/html:<!DOCTYPE HTML PUBLIC "-//W3C//DTD HTML 3.2//E
	N">\n<HTML>\n<HEAD>\n<TITLE></TITLE>\n</HEAD>\n<BODY>\n<h3>Ballstars vs. Sw
	eet Muffins</h3>More info: <a href="https://www.golnetwork.com/game/v/69213
	/">#468</a>\n\n</BODY>\n</HTML>
STATUS:CONFIRMED
CLASS:PUBLIC
URL:https://www.golnetwork.com/game/v/69213/
X-MICROSOFT-CDO-BUSYSTATUS:BUSY
X-MICROSOFT-CDO-IMPORTANCE:1
END:VEVENT
END:VCALENDAR
