BEGIN:VCALENDAR
PRODID:-//gdesolutions.com//MV Framework 1.0.0.1607 Calendar//EN
VERSION:2.0
METHOD:PUBLISH
CALSCALE:GREGORIAN
BEGIN:VEVENT
UID:g6ofj@games.golnetwork.com
LOCATION:Lamport Stadium - Field 1
GEO:43.6390028;-79.4232104
CREATED:20150422T204026Z
DTSTART:20150509T000000Z
DTEND:20150509T005000Z
DTSTAMP:20260423T213842Z
SUMMARY:Loose Cannons vs. XTSC Bravehearts
DESCRIPTION:XTSC Bravehearts vs. Loose CannonsMore info: #43
X-ALT-DESC;FMTTYPE=text/html:<!DOCTYPE HTML PUBLIC "-//W3C//DTD HTML 3.2//E
	N">\n<HTML>\n<HEAD>\n<TITLE></TITLE>\n</HEAD>\n<BODY>\n<h3>XTSC Bravehearts
	 vs. Loose Cannons</h3>More info: <a href="https://www.golnetwork.com/game/
	v/67010/">#43</a>\n\n</BODY>\n</HTML>
STATUS:CONFIRMED
CLASS:PUBLIC
URL:https://www.golnetwork.com/game/v/67010/
X-MICROSOFT-CDO-BUSYSTATUS:BUSY
X-MICROSOFT-CDO-IMPORTANCE:1
END:VEVENT
BEGIN:VEVENT
UID:g6ofl@games.golnetwork.com
LOCATION:Lamport Stadium - Field 2
GEO:43.6390028;-79.4232104
CREATED:20150422T204038Z
DTSTART:20150509T000000Z
DTEND:20150509T005000Z
DTSTAMP:20260423T213842Z
SUMMARY:Shooters FC vs. Rac(k) City Readers
DESCRIPTION:Rac(k) City Readers vs. Shooters FCMore info: #44
X-ALT-DESC;FMTTYPE=text/html:<!DOCTYPE HTML PUBLIC "-//W3C//DTD HTML 3.2//E
	N">\n<HTML>\n<HEAD>\n<TITLE></TITLE>\n</HEAD>\n<BODY>\n<h3>Rac(k) City Read
	ers vs. Shooters FC</h3>More info: <a href="https://www.golnetwork.com/game
	/v/67011/">#44</a>\n\n</BODY>\n</HTML>
STATUS:CONFIRMED
CLASS:PUBLIC
URL:https://www.golnetwork.com/game/v/67011/
X-MICROSOFT-CDO-BUSYSTATUS:BUSY
X-MICROSOFT-CDO-IMPORTANCE:1
END:VEVENT
BEGIN:VEVENT
UID:g6ofn@games.golnetwork.com
LOCATION:Lamport Stadium - Field 1
GEO:43.6390028;-79.4232104
CREATED:20150422T204056Z
DTSTART:20150509T010000Z
DTEND:20150509T015000Z
DTSTAMP:20260423T213842Z
SUMMARY:Addicts FC vs. Talk Footy To Me
DESCRIPTION:Talk Footy To Me vs. Addicts FCMore info: #46
X-ALT-DESC;FMTTYPE=text/html:<!DOCTYPE HTML PUBLIC "-//W3C//DTD HTML 3.2//E
	N">\n<HTML>\n<HEAD>\n<TITLE></TITLE>\n</HEAD>\n<BODY>\n<h3>Talk Footy To Me
	 vs. Addicts FC</h3>More info: <a href="https://www.golnetwork.com/game/v/6
	7012/">#46</a>\n\n</BODY>\n</HTML>
STATUS:CONFIRMED
CLASS:PUBLIC
URL:https://www.golnetwork.com/game/v/67012/
X-MICROSOFT-CDO-BUSYSTATUS:BUSY
X-MICROSOFT-CDO-IMPORTANCE:1
END:VEVENT
BEGIN:VEVENT
UID:g6ofp@games.golnetwork.com
LOCATION:Lamport Stadium - Field 1
GEO:43.6390028;-79.4232104
CREATED:20150422T215857Z
DTSTART:20150516T000000Z
DTEND:20150516T010000Z
DTSTAMP:20260423T213842Z
SUMMARY:Shooters FC vs. Addicts FC
DESCRIPTION:Addicts FC vs. Shooters FCMore info: #99
X-ALT-DESC;FMTTYPE=text/html:<!DOCTYPE HTML PUBLIC "-//W3C//DTD HTML 3.2//E
	N">\n<HTML>\n<HEAD>\n<TITLE></TITLE>\n</HEAD>\n<BODY>\n<h3>Addicts FC vs. S
	hooters FC</h3>More info: <a href="https://www.golnetwork.com/game/v/67013/
	">#99</a>\n\n</BODY>\n</HTML>
STATUS:CONFIRMED
CLASS:PUBLIC
URL:https://www.golnetwork.com/game/v/67013/
X-MICROSOFT-CDO-BUSYSTATUS:BUSY
X-MICROSOFT-CDO-IMPORTANCE:1
END:VEVENT
BEGIN:VEVENT
UID:g6og0@games.golnetwork.com
LOCATION:Lamport Stadium - Field 1
GEO:43.6390028;-79.4232104
CREATED:20150422T215907Z
DTSTART:20150516T010000Z
DTEND:20150516T020000Z
DTSTAMP:20260423T213842Z
SUMMARY:Loose Cannons vs. Talk Footy To Me
DESCRIPTION:Talk Footy To Me vs. Loose CannonsMore info: #102
X-ALT-DESC;FMTTYPE=text/html:<!DOCTYPE HTML PUBLIC "-//W3C//DTD HTML 3.2//E
	N">\n<HTML>\n<HEAD>\n<TITLE></TITLE>\n</HEAD>\n<BODY>\n<h3>Talk Footy To Me
	 vs. Loose Cannons</h3>More info: <a href="https://www.golnetwork.com/game/
	v/67014/">#102</a>\n\n</BODY>\n</HTML>
STATUS:CONFIRMED
CLASS:PUBLIC
URL:https://www.golnetwork.com/game/v/67014/
X-MICROSOFT-CDO-BUSYSTATUS:BUSY
X-MICROSOFT-CDO-IMPORTANCE:1
END:VEVENT
BEGIN:VEVENT
UID:g6og2@games.golnetwork.com
LOCATION:Lamport Stadium - Field 2
GEO:43.6390028;-79.4232104
CREATED:20150422T215923Z
DTSTART:20150516T010000Z
DTEND:20150516T020000Z
DTSTAMP:20260423T213842Z
SUMMARY:Rac(k) City Readers vs. XTSC Bravehearts
DESCRIPTION:XTSC Bravehearts vs. Rac(k) City ReadersMore info: #103
X-ALT-DESC;FMTTYPE=text/html:<!DOCTYPE HTML PUBLIC "-//W3C//DTD HTML 3.2//E
	N">\n<HTML>\n<HEAD>\n<TITLE></TITLE>\n</HEAD>\n<BODY>\n<h3>XTSC Bravehearts
	 vs. Rac(k) City Readers</h3>More info: <a href="https://www.golnetwork.com
	/game/v/67015/">#103</a>\n\n</BODY>\n</HTML>
STATUS:CONFIRMED
CLASS:PUBLIC
URL:https://www.golnetwork.com/game/v/67015/
X-MICROSOFT-CDO-BUSYSTATUS:BUSY
X-MICROSOFT-CDO-IMPORTANCE:1
END:VEVENT
BEGIN:VEVENT
UID:g6og4@games.golnetwork.com
LOCATION:Lamport Stadium - Field 1
GEO:43.6390028;-79.4232104
CREATED:20150422T215947Z
DTSTART:20150530T000000Z
DTEND:20150530T005000Z
DTSTAMP:20260423T213842Z
SUMMARY:Rac(k) City Readers vs. Addicts FC
DESCRIPTION:Addicts FC vs. Rac(k) City ReadersMore info: #174
X-ALT-DESC;FMTTYPE=text/html:<!DOCTYPE HTML PUBLIC "-//W3C//DTD HTML 3.2//E
	N">\n<HTML>\n<HEAD>\n<TITLE></TITLE>\n</HEAD>\n<BODY>\n<h3>Addicts FC vs. R
	ac(k) City Readers</h3>More info: <a href="https://www.golnetwork.com/game/
	v/67016/">#174</a>\n\n</BODY>\n</HTML>
STATUS:CONFIRMED
CLASS:PUBLIC
URL:https://www.golnetwork.com/game/v/67016/
X-MICROSOFT-CDO-BUSYSTATUS:BUSY
X-MICROSOFT-CDO-IMPORTANCE:1
END:VEVENT
BEGIN:VEVENT
UID:g6og6@games.golnetwork.com
LOCATION:Lamport Stadium - Field 2
GEO:43.6390028;-79.4232104
CREATED:20150422T215959Z
DTSTART:20150530T000000Z
DTEND:20150530T005000Z
DTSTAMP:20260423T213842Z
SUMMARY:Talk Footy To Me vs. XTSC Bravehearts
DESCRIPTION:XTSC Bravehearts vs. Talk Footy To MeMore info: #175
X-ALT-DESC;FMTTYPE=text/html:<!DOCTYPE HTML PUBLIC "-//W3C//DTD HTML 3.2//E
	N">\n<HTML>\n<HEAD>\n<TITLE></TITLE>\n</HEAD>\n<BODY>\n<h3>XTSC Bravehearts
	 vs. Talk Footy To Me</h3>More info: <a href="https://www.golnetwork.com/ga
	me/v/67017/">#175</a>\n\n</BODY>\n</HTML>
STATUS:CONFIRMED
CLASS:PUBLIC
URL:https://www.golnetwork.com/game/v/67017/
X-MICROSOFT-CDO-BUSYSTATUS:BUSY
X-MICROSOFT-CDO-IMPORTANCE:1
END:VEVENT
BEGIN:VEVENT
UID:g6og8@games.golnetwork.com
LOCATION:Lamport Stadium - Field 1
GEO:43.6390028;-79.4232104
CREATED:20150422T220016Z
DTSTART:20150530T010000Z
DTEND:20150530T015000Z
DTSTAMP:20260423T213842Z
SUMMARY:Loose Cannons vs. Shooters FC
DESCRIPTION:Shooters FC vs. Loose CannonsMore info: #178
X-ALT-DESC;FMTTYPE=text/html:<!DOCTYPE HTML PUBLIC "-//W3C//DTD HTML 3.2//E
	N">\n<HTML>\n<HEAD>\n<TITLE></TITLE>\n</HEAD>\n<BODY>\n<h3>Shooters FC vs. 
	Loose Cannons</h3>More info: <a href="https://www.golnetwork.com/game/v/670
	18/">#178</a>\n\n</BODY>\n</HTML>
STATUS:CONFIRMED
CLASS:PUBLIC
URL:https://www.golnetwork.com/game/v/67018/
X-MICROSOFT-CDO-BUSYSTATUS:BUSY
X-MICROSOFT-CDO-IMPORTANCE:1
END:VEVENT
BEGIN:VEVENT
UID:g6oga@games.golnetwork.com
LOCATION:Lamport Stadium - Field 1
GEO:43.6390028;-79.4232104
CREATED:20150422T220105Z
DTSTART:20150606T000000Z
DTEND:20150606T010000Z
DTSTAMP:20260423T213842Z
SUMMARY:Talk Footy To Me vs. Shooters FC
DESCRIPTION:Shooters FC vs. Talk Footy To MeMore info: #229
X-ALT-DESC;FMTTYPE=text/html:<!DOCTYPE HTML PUBLIC "-//W3C//DTD HTML 3.2//E
	N">\n<HTML>\n<HEAD>\n<TITLE></TITLE>\n</HEAD>\n<BODY>\n<h3>Shooters FC vs. 
	Talk Footy To Me</h3>More info: <a href="https://www.golnetwork.com/game/v/
	67019/">#229</a>\n\n</BODY>\n</HTML>
STATUS:CONFIRMED
CLASS:PUBLIC
URL:https://www.golnetwork.com/game/v/67019/
X-MICROSOFT-CDO-BUSYSTATUS:BUSY
X-MICROSOFT-CDO-IMPORTANCE:1
END:VEVENT
BEGIN:VEVENT
UID:g6ogc@games.golnetwork.com
LOCATION:Lamport Stadium - Field 1
GEO:43.6390028;-79.4232104
CREATED:20150422T220116Z
DTSTART:20150606T010000Z
DTEND:20150606T020000Z
DTSTAMP:20260423T213842Z
SUMMARY:XTSC Bravehearts vs. Addicts FC
DESCRIPTION:Addicts FC vs. XTSC BraveheartsMore info: #233
X-ALT-DESC;FMTTYPE=text/html:<!DOCTYPE HTML PUBLIC "-//W3C//DTD HTML 3.2//E
	N">\n<HTML>\n<HEAD>\n<TITLE></TITLE>\n</HEAD>\n<BODY>\n<h3>Addicts FC vs. X
	TSC Bravehearts</h3>More info: <a href="https://www.golnetwork.com/game/v/6
	7020/">#233</a>\n\n</BODY>\n</HTML>
STATUS:CONFIRMED
CLASS:PUBLIC
URL:https://www.golnetwork.com/game/v/67020/
X-MICROSOFT-CDO-BUSYSTATUS:BUSY
X-MICROSOFT-CDO-IMPORTANCE:1
END:VEVENT
BEGIN:VEVENT
UID:g6oge@games.golnetwork.com
LOCATION:Lamport Stadium - Field 2
GEO:43.6390028;-79.4232104
CREATED:20150422T220131Z
DTSTART:20150606T010000Z
DTEND:20150606T015000Z
DTSTAMP:20260423T213842Z
SUMMARY:Rac(k) City Readers vs. Loose Cannons
DESCRIPTION:Loose Cannons vs. Rac(k) City ReadersMore info: #234
X-ALT-DESC;FMTTYPE=text/html:<!DOCTYPE HTML PUBLIC "-//W3C//DTD HTML 3.2//E
	N">\n<HTML>\n<HEAD>\n<TITLE></TITLE>\n</HEAD>\n<BODY>\n<h3>Loose Cannons vs
	. Rac(k) City Readers</h3>More info: <a href="https://www.golnetwork.com/ga
	me/v/67021/">#234</a>\n\n</BODY>\n</HTML>
STATUS:CONFIRMED
CLASS:PUBLIC
URL:https://www.golnetwork.com/game/v/67021/
X-MICROSOFT-CDO-BUSYSTATUS:BUSY
X-MICROSOFT-CDO-IMPORTANCE:1
END:VEVENT
BEGIN:VEVENT
UID:g6ogg@games.golnetwork.com
LOCATION:Lamport Stadium - Field 1
GEO:43.6390028;-79.4232104
CREATED:20150422T220201Z
DTSTART:20150613T000000Z
DTEND:20150613T005000Z
DTSTAMP:20260423T213842Z
SUMMARY:Talk Footy To Me vs. Rac(k) City Readers
DESCRIPTION:Rac(k) City Readers vs. Talk Footy To MeMore info: #284
X-ALT-DESC;FMTTYPE=text/html:<!DOCTYPE HTML PUBLIC "-//W3C//DTD HTML 3.2//E
	N">\n<HTML>\n<HEAD>\n<TITLE></TITLE>\n</HEAD>\n<BODY>\n<h3>Rac(k) City Read
	ers vs. Talk Footy To Me</h3>More info: <a href="https://www.golnetwork.com
	/game/v/67022/">#284</a>\n\n</BODY>\n</HTML>
STATUS:CONFIRMED
CLASS:PUBLIC
URL:https://www.golnetwork.com/game/v/67022/
X-MICROSOFT-CDO-BUSYSTATUS:BUSY
X-MICROSOFT-CDO-IMPORTANCE:1
END:VEVENT
BEGIN:VEVENT
UID:g6ogi@games.golnetwork.com
LOCATION:Lamport Stadium - Field 2
GEO:43.6390028;-79.4232104
CREATED:20150422T220224Z
DTSTART:20150613T000000Z
DTEND:20150613T005000Z
DTSTAMP:20260423T213842Z
SUMMARY:Addicts FC vs. Loose Cannons
DESCRIPTION:Loose Cannons vs. Addicts FCMore info: #285
X-ALT-DESC;FMTTYPE=text/html:<!DOCTYPE HTML PUBLIC "-//W3C//DTD HTML 3.2//E
	N">\n<HTML>\n<HEAD>\n<TITLE></TITLE>\n</HEAD>\n<BODY>\n<h3>Loose Cannons vs
	. Addicts FC</h3>More info: <a href="https://www.golnetwork.com/game/v/6702
	3/">#285</a>\n\n</BODY>\n</HTML>
STATUS:CONFIRMED
CLASS:PUBLIC
URL:https://www.golnetwork.com/game/v/67023/
X-MICROSOFT-CDO-BUSYSTATUS:BUSY
X-MICROSOFT-CDO-IMPORTANCE:1
END:VEVENT
BEGIN:VEVENT
UID:g6ogk@games.golnetwork.com
LOCATION:Lamport Stadium - Field 1
GEO:43.6390028;-79.4232104
CREATED:20150422T220240Z
DTSTART:20150613T010000Z
DTEND:20150613T015000Z
DTSTAMP:20260423T213842Z
SUMMARY:Shooters FC vs. XTSC Bravehearts
DESCRIPTION:XTSC Bravehearts vs. Shooters FCMore info: #288
X-ALT-DESC;FMTTYPE=text/html:<!DOCTYPE HTML PUBLIC "-//W3C//DTD HTML 3.2//E
	N">\n<HTML>\n<HEAD>\n<TITLE></TITLE>\n</HEAD>\n<BODY>\n<h3>XTSC Bravehearts
	 vs. Shooters FC</h3>More info: <a href="https://www.golnetwork.com/game/v/
	67024/">#288</a>\n\n</BODY>\n</HTML>
STATUS:CONFIRMED
CLASS:PUBLIC
URL:https://www.golnetwork.com/game/v/67024/
X-MICROSOFT-CDO-BUSYSTATUS:BUSY
X-MICROSOFT-CDO-IMPORTANCE:1
END:VEVENT
BEGIN:VEVENT
UID:g6ogm@games.golnetwork.com
LOCATION:Lamport Stadium - Field 1
GEO:43.6390028;-79.4232104
CREATED:20150422T220301Z
DTSTART:20150620T000000Z
DTEND:20150620T005000Z
DTSTAMP:20260423T213842Z
SUMMARY:Loose Cannons vs. XTSC Bravehearts
DESCRIPTION:XTSC Bravehearts vs. Loose CannonsMore info: #339
X-ALT-DESC;FMTTYPE=text/html:<!DOCTYPE HTML PUBLIC "-//W3C//DTD HTML 3.2//E
	N">\n<HTML>\n<HEAD>\n<TITLE></TITLE>\n</HEAD>\n<BODY>\n<h3>XTSC Bravehearts
	 vs. Loose Cannons</h3>More info: <a href="https://www.golnetwork.com/game/
	v/67025/">#339</a>\n\n</BODY>\n</HTML>
STATUS:CONFIRMED
CLASS:PUBLIC
URL:https://www.golnetwork.com/game/v/67025/
X-MICROSOFT-CDO-BUSYSTATUS:BUSY
X-MICROSOFT-CDO-IMPORTANCE:1
END:VEVENT
BEGIN:VEVENT
UID:g6ogo@games.golnetwork.com
LOCATION:Lamport Stadium - Field 1
GEO:43.6390028;-79.4232104
CREATED:20150422T220315Z
DTSTART:20150620T010000Z
DTEND:20150620T015000Z
DTSTAMP:20260423T213842Z
SUMMARY:Shooters FC vs. Rac(k) City Readers
DESCRIPTION:Rac(k) City Readers vs. Shooters FCMore info: #343
X-ALT-DESC;FMTTYPE=text/html:<!DOCTYPE HTML PUBLIC "-//W3C//DTD HTML 3.2//E
	N">\n<HTML>\n<HEAD>\n<TITLE></TITLE>\n</HEAD>\n<BODY>\n<h3>Rac(k) City Read
	ers vs. Shooters FC</h3>More info: <a href="https://www.golnetwork.com/game
	/v/67026/">#343</a>\n\n</BODY>\n</HTML>
STATUS:CONFIRMED
CLASS:PUBLIC
URL:https://www.golnetwork.com/game/v/67026/
X-MICROSOFT-CDO-BUSYSTATUS:BUSY
X-MICROSOFT-CDO-IMPORTANCE:1
END:VEVENT
BEGIN:VEVENT
UID:g6ogq@games.golnetwork.com
LOCATION:Lamport Stadium - Field 2
GEO:43.6390028;-79.4232104
CREATED:20150422T220326Z
DTSTART:20150620T010000Z
DTEND:20150620T015000Z
DTSTAMP:20260423T213842Z
SUMMARY:Addicts FC vs. Talk Footy To Me
DESCRIPTION:Talk Footy To Me vs. Addicts FCMore info: #344
X-ALT-DESC;FMTTYPE=text/html:<!DOCTYPE HTML PUBLIC "-//W3C//DTD HTML 3.2//E
	N">\n<HTML>\n<HEAD>\n<TITLE></TITLE>\n</HEAD>\n<BODY>\n<h3>Talk Footy To Me
	 vs. Addicts FC</h3>More info: <a href="https://www.golnetwork.com/game/v/6
	7027/">#344</a>\n\n</BODY>\n</HTML>
STATUS:CONFIRMED
CLASS:PUBLIC
URL:https://www.golnetwork.com/game/v/67027/
X-MICROSOFT-CDO-BUSYSTATUS:BUSY
X-MICROSOFT-CDO-IMPORTANCE:1
END:VEVENT
BEGIN:VEVENT
UID:g6oh1@games.golnetwork.com
LOCATION:Lamport Stadium - Field 1
GEO:43.6390028;-79.4232104
CREATED:20150422T220347Z
DTSTART:20150627T000000Z
DTEND:20150627T005000Z
DTSTAMP:20260423T213842Z
SUMMARY:Shooters FC vs. Addicts FC
DESCRIPTION:Addicts FC vs. Shooters FCMore info: #385
X-ALT-DESC;FMTTYPE=text/html:<!DOCTYPE HTML PUBLIC "-//W3C//DTD HTML 3.2//E
	N">\n<HTML>\n<HEAD>\n<TITLE></TITLE>\n</HEAD>\n<BODY>\n<h3>Addicts FC vs. S
	hooters FC</h3>More info: <a href="https://www.golnetwork.com/game/v/67028/
	">#385</a>\n\n</BODY>\n</HTML>
STATUS:CONFIRMED
CLASS:PUBLIC
URL:https://www.golnetwork.com/game/v/67028/
X-MICROSOFT-CDO-BUSYSTATUS:BUSY
X-MICROSOFT-CDO-IMPORTANCE:1
END:VEVENT
BEGIN:VEVENT
UID:g6oh3@games.golnetwork.com
LOCATION:Lamport Stadium - Field 2
GEO:43.6390028;-79.4232104
CREATED:20150422T220356Z
DTSTART:20150627T000000Z
DTEND:20150627T005000Z
DTSTAMP:20260423T213842Z
SUMMARY:Loose Cannons vs. Talk Footy To Me
DESCRIPTION:Talk Footy To Me vs. Loose CannonsMore info: #386
X-ALT-DESC;FMTTYPE=text/html:<!DOCTYPE HTML PUBLIC "-//W3C//DTD HTML 3.2//E
	N">\n<HTML>\n<HEAD>\n<TITLE></TITLE>\n</HEAD>\n<BODY>\n<h3>Talk Footy To Me
	 vs. Loose Cannons</h3>More info: <a href="https://www.golnetwork.com/game/
	v/67029/">#386</a>\n\n</BODY>\n</HTML>
STATUS:CONFIRMED
CLASS:PUBLIC
URL:https://www.golnetwork.com/game/v/67029/
X-MICROSOFT-CDO-BUSYSTATUS:BUSY
X-MICROSOFT-CDO-IMPORTANCE:1
END:VEVENT
BEGIN:VEVENT
UID:g6oh5@games.golnetwork.com
LOCATION:Lamport Stadium - Field 1
GEO:43.6390028;-79.4232104
CREATED:20150422T220410Z
DTSTART:20150627T010000Z
DTEND:20150627T015000Z
DTSTAMP:20260423T213842Z
SUMMARY:Rac(k) City Readers vs. XTSC Bravehearts
DESCRIPTION:XTSC Bravehearts vs. Rac(k) City ReadersMore info: #389
X-ALT-DESC;FMTTYPE=text/html:<!DOCTYPE HTML PUBLIC "-//W3C//DTD HTML 3.2//E
	N">\n<HTML>\n<HEAD>\n<TITLE></TITLE>\n</HEAD>\n<BODY>\n<h3>XTSC Bravehearts
	 vs. Rac(k) City Readers</h3>More info: <a href="https://www.golnetwork.com
	/game/v/67030/">#389</a>\n\n</BODY>\n</HTML>
STATUS:CONFIRMED
CLASS:PUBLIC
URL:https://www.golnetwork.com/game/v/67030/
X-MICROSOFT-CDO-BUSYSTATUS:BUSY
X-MICROSOFT-CDO-IMPORTANCE:1
END:VEVENT
BEGIN:VEVENT
UID:g6oh7@games.golnetwork.com
LOCATION:Lamport Stadium - Field 2
GEO:43.6390028;-79.4232104
CREATED:20150422T220421Z
DTSTART:20150704T010000Z
DTEND:20150704T015000Z
DTSTAMP:20260423T213842Z
SUMMARY:Rac(k) City Readers vs. Addicts FC
DESCRIPTION:Addicts FC vs. Rac(k) City ReadersMore info: #430
X-ALT-DESC;FMTTYPE=text/html:<!DOCTYPE HTML PUBLIC "-//W3C//DTD HTML 3.2//E
	N">\n<HTML>\n<HEAD>\n<TITLE></TITLE>\n</HEAD>\n<BODY>\n<h3>Addicts FC vs. R
	ac(k) City Readers</h3>More info: <a href="https://www.golnetwork.com/game/
	v/67031/">#430</a>\n\n</BODY>\n</HTML>
STATUS:CONFIRMED
CLASS:PUBLIC
URL:https://www.golnetwork.com/game/v/67031/
X-MICROSOFT-CDO-BUSYSTATUS:BUSY
X-MICROSOFT-CDO-IMPORTANCE:1
END:VEVENT
BEGIN:VEVENT
UID:g6ohb@games.golnetwork.com
LOCATION:Lamport Stadium - Field 1
GEO:43.6390028;-79.4232104
CREATED:20150422T220440Z
DTSTART:20150711T000000Z
DTEND:20150711T005000Z
DTSTAMP:20260423T213842Z
SUMMARY:Rac(k) City Readers vs. XTSC Bravehearts
DESCRIPTION:XTSC Bravehearts vs. Rac(k) City ReadersMore info: #469
X-ALT-DESC;FMTTYPE=text/html:<!DOCTYPE HTML PUBLIC "-//W3C//DTD HTML 3.2//E
	N">\n<HTML>\n<HEAD>\n<TITLE></TITLE>\n</HEAD>\n<BODY>\n<h3>XTSC Bravehearts
	 vs. Rac(k) City Readers</h3>More info: <a href="https://www.golnetwork.com
	/game/v/67033/">#469</a>\n\n</BODY>\n</HTML>
STATUS:CONFIRMED
CLASS:PUBLIC
URL:https://www.golnetwork.com/game/v/67033/
X-MICROSOFT-CDO-BUSYSTATUS:BUSY
X-MICROSOFT-CDO-IMPORTANCE:1
END:VEVENT
BEGIN:VEVENT
UID:g6oh9@games.golnetwork.com
LOCATION:Lamport Stadium - Field 2
GEO:43.6390028;-79.4232104
CREATED:20150422T220434Z
DTSTART:20150711T000000Z
DTEND:20150711T005000Z
DTSTAMP:20260423T213842Z
SUMMARY:Loose Cannons vs. Addicts FC
DESCRIPTION:Addicts FC vs. Loose CannonsMore info: #471
X-ALT-DESC;FMTTYPE=text/html:<!DOCTYPE HTML PUBLIC "-//W3C//DTD HTML 3.2//E
	N">\n<HTML>\n<HEAD>\n<TITLE></TITLE>\n</HEAD>\n<BODY>\n<h3>Addicts FC vs. L
	oose Cannons</h3>More info: <a href="https://www.golnetwork.com/game/v/6703
	2/">#471</a>\n\n</BODY>\n</HTML>
STATUS:CONFIRMED
CLASS:PUBLIC
URL:https://www.golnetwork.com/game/v/67032/
X-MICROSOFT-CDO-BUSYSTATUS:BUSY
X-MICROSOFT-CDO-IMPORTANCE:1
END:VEVENT
END:VCALENDAR
