BEGIN:VCALENDAR
PRODID:-//gdesolutions.com//MV Framework 1.0.0.1607 Calendar//EN
VERSION:2.0
METHOD:PUBLISH
CALSCALE:GREGORIAN
BEGIN:VEVENT
UID:g731b@games.golnetwork.com
LOCATION:Cherry Beach West 3
CREATED:20150506T163317Z
DTSTART:20150510T210000Z
DTEND:20150510T220000Z
DTSTAMP:20260421T015321Z
SUMMARY:Pinguinos FC vs. Hedgie FC
DESCRIPTION:Hedgie FC vs. Pinguinos FCMore info: #51
X-ALT-DESC;FMTTYPE=text/html:<!DOCTYPE HTML PUBLIC "-//W3C//DTD HTML 3.2//E
	N">\n<HTML>\n<HEAD>\n<TITLE></TITLE>\n</HEAD>\n<BODY>\n<h3>Hedgie FC vs. Pi
	nguinos FC</h3>More info: <a href="https://www.golnetwork.com/game/v/69004/
	">#51</a>\n\n</BODY>\n</HTML>
STATUS:CONFIRMED
CLASS:PUBLIC
URL:https://www.golnetwork.com/game/v/69004/
X-MICROSOFT-CDO-BUSYSTATUS:BUSY
X-MICROSOFT-CDO-IMPORTANCE:1
END:VEVENT
BEGIN:VEVENT
UID:g731d@games.golnetwork.com
LOCATION:Cherry Beach West 2
CREATED:20150506T163333Z
DTSTART:20150510T220000Z
DTEND:20150510T230000Z
DTSTAMP:20260421T015321Z
SUMMARY:PIZZA FC vs. FC Dnipro
DESCRIPTION:FC Dnipro vs. PIZZA FCMore info: #54
X-ALT-DESC;FMTTYPE=text/html:<!DOCTYPE HTML PUBLIC "-//W3C//DTD HTML 3.2//E
	N">\n<HTML>\n<HEAD>\n<TITLE></TITLE>\n</HEAD>\n<BODY>\n<h3>FC Dnipro vs. PI
	ZZA FC</h3>More info: <a href="https://www.golnetwork.com/game/v/69005/">#5
	4</a>\n\n</BODY>\n</HTML>
STATUS:CONFIRMED
CLASS:PUBLIC
URL:https://www.golnetwork.com/game/v/69005/
X-MICROSOFT-CDO-BUSYSTATUS:BUSY
X-MICROSOFT-CDO-IMPORTANCE:1
END:VEVENT
BEGIN:VEVENT
UID:g731f@games.golnetwork.com
LOCATION:Cherry Beach West 3
CREATED:20150506T163343Z
DTSTART:20150510T220000Z
DTEND:20150510T230000Z
DTSTAMP:20260421T015321Z
SUMMARY:Boro FC vs. FO' SHIZZLE FC
DESCRIPTION:FO' SHIZZLE FC vs. Boro FCMore info: #55
X-ALT-DESC;FMTTYPE=text/html:<!DOCTYPE HTML PUBLIC "-//W3C//DTD HTML 3.2//E
	N">\n<HTML>\n<HEAD>\n<TITLE></TITLE>\n</HEAD>\n<BODY>\n<h3>FO' SHIZZLE FC v
	s. Boro FC</h3>More info: <a href="https://www.golnetwork.com/game/v/69006/
	">#55</a>\n\n</BODY>\n</HTML>
STATUS:CONFIRMED
CLASS:PUBLIC
URL:https://www.golnetwork.com/game/v/69006/
X-MICROSOFT-CDO-BUSYSTATUS:BUSY
X-MICROSOFT-CDO-IMPORTANCE:1
END:VEVENT
BEGIN:VEVENT
UID:g731h@games.golnetwork.com
LOCATION:Cherry Beach West 2
CREATED:20150506T163410Z
DTSTART:20150524T210000Z
DTEND:20150524T220000Z
DTSTAMP:20260421T015321Z
SUMMARY:PIZZA FC vs. Boro FC
DESCRIPTION:Boro FC vs. PIZZA FCMore info: #136
X-ALT-DESC;FMTTYPE=text/html:<!DOCTYPE HTML PUBLIC "-//W3C//DTD HTML 3.2//E
	N">\n<HTML>\n<HEAD>\n<TITLE></TITLE>\n</HEAD>\n<BODY>\n<h3>Boro FC vs. PIZZ
	A FC</h3>More info: <a href="https://www.golnetwork.com/game/v/69007/">#136
	</a>\n\n</BODY>\n</HTML>
STATUS:CONFIRMED
CLASS:PUBLIC
URL:https://www.golnetwork.com/game/v/69007/
X-MICROSOFT-CDO-BUSYSTATUS:BUSY
X-MICROSOFT-CDO-IMPORTANCE:1
END:VEVENT
BEGIN:VEVENT
UID:g731j@games.golnetwork.com
LOCATION:Cherry Beach West 3
CREATED:20150506T163422Z
DTSTART:20150524T210000Z
DTEND:20150524T220000Z
DTSTAMP:20260421T015321Z
SUMMARY:Pinguinos FC vs. FO' SHIZZLE FC
DESCRIPTION:FO' SHIZZLE FC vs. Pinguinos FCMore info: #137
X-ALT-DESC;FMTTYPE=text/html:<!DOCTYPE HTML PUBLIC "-//W3C//DTD HTML 3.2//E
	N">\n<HTML>\n<HEAD>\n<TITLE></TITLE>\n</HEAD>\n<BODY>\n<h3>FO' SHIZZLE FC v
	s. Pinguinos FC</h3>More info: <a href="https://www.golnetwork.com/game/v/6
	9008/">#137</a>\n\n</BODY>\n</HTML>
STATUS:CONFIRMED
CLASS:PUBLIC
URL:https://www.golnetwork.com/game/v/69008/
X-MICROSOFT-CDO-BUSYSTATUS:BUSY
X-MICROSOFT-CDO-IMPORTANCE:1
END:VEVENT
BEGIN:VEVENT
UID:g731l@games.golnetwork.com
LOCATION:Cherry Beach West 3
CREATED:20150506T163437Z
DTSTART:20150524T220000Z
DTEND:20150524T230000Z
DTSTAMP:20260421T015321Z
SUMMARY:FC Dnipro vs. Hedgie FC
DESCRIPTION:Hedgie FC vs. FC DniproMore info: #141
X-ALT-DESC;FMTTYPE=text/html:<!DOCTYPE HTML PUBLIC "-//W3C//DTD HTML 3.2//E
	N">\n<HTML>\n<HEAD>\n<TITLE></TITLE>\n</HEAD>\n<BODY>\n<h3>Hedgie FC vs. FC
	 Dnipro</h3>More info: <a href="https://www.golnetwork.com/game/v/69009/">#
	141</a>\n\n</BODY>\n</HTML>
STATUS:CONFIRMED
CLASS:PUBLIC
URL:https://www.golnetwork.com/game/v/69009/
X-MICROSOFT-CDO-BUSYSTATUS:BUSY
X-MICROSOFT-CDO-IMPORTANCE:1
END:VEVENT
BEGIN:VEVENT
UID:g731n@games.golnetwork.com
LOCATION:Cherry Beach West 3
CREATED:20150506T163459Z
DTSTART:20150531T210000Z
DTEND:20150531T220000Z
DTSTAMP:20260421T015321Z
SUMMARY:FC Dnipro vs. Boro FC
DESCRIPTION:Boro FC vs. FC DniproMore info: #183
X-ALT-DESC;FMTTYPE=text/html:<!DOCTYPE HTML PUBLIC "-//W3C//DTD HTML 3.2//E
	N">\n<HTML>\n<HEAD>\n<TITLE></TITLE>\n</HEAD>\n<BODY>\n<h3>Boro FC vs. FC D
	nipro</h3>More info: <a href="https://www.golnetwork.com/game/v/69010/">#18
	3</a>\n\n</BODY>\n</HTML>
STATUS:CONFIRMED
CLASS:PUBLIC
URL:https://www.golnetwork.com/game/v/69010/
X-MICROSOFT-CDO-BUSYSTATUS:BUSY
X-MICROSOFT-CDO-IMPORTANCE:1
END:VEVENT
BEGIN:VEVENT
UID:g731p@games.golnetwork.com
LOCATION:Cherry Beach West 2
CREATED:20150506T163518Z
DTSTART:20150531T220000Z
DTEND:20150531T230000Z
DTSTAMP:20260421T015321Z
SUMMARY:FO' SHIZZLE FC vs. Hedgie FC
DESCRIPTION:Hedgie FC vs. FO' SHIZZLE FCMore info: #187
X-ALT-DESC;FMTTYPE=text/html:<!DOCTYPE HTML PUBLIC "-//W3C//DTD HTML 3.2//E
	N">\n<HTML>\n<HEAD>\n<TITLE></TITLE>\n</HEAD>\n<BODY>\n<h3>Hedgie FC vs. FO
	' SHIZZLE FC</h3>More info: <a href="https://www.golnetwork.com/game/v/6901
	1/">#187</a>\n\n</BODY>\n</HTML>
STATUS:CONFIRMED
CLASS:PUBLIC
URL:https://www.golnetwork.com/game/v/69011/
X-MICROSOFT-CDO-BUSYSTATUS:BUSY
X-MICROSOFT-CDO-IMPORTANCE:1
END:VEVENT
BEGIN:VEVENT
UID:g7320@games.golnetwork.com
LOCATION:Cherry Beach West 3
CREATED:20150506T163532Z
DTSTART:20150531T220000Z
DTEND:20150531T230000Z
DTSTAMP:20260421T015321Z
SUMMARY:Pinguinos FC vs. PIZZA FC
DESCRIPTION:PIZZA FC vs. Pinguinos FCMore info: #188
X-ALT-DESC;FMTTYPE=text/html:<!DOCTYPE HTML PUBLIC "-//W3C//DTD HTML 3.2//E
	N">\n<HTML>\n<HEAD>\n<TITLE></TITLE>\n</HEAD>\n<BODY>\n<h3>PIZZA FC vs. Pin
	guinos FC</h3>More info: <a href="https://www.golnetwork.com/game/v/69012/"
	>#188</a>\n\n</BODY>\n</HTML>
STATUS:CONFIRMED
CLASS:PUBLIC
URL:https://www.golnetwork.com/game/v/69012/
X-MICROSOFT-CDO-BUSYSTATUS:BUSY
X-MICROSOFT-CDO-IMPORTANCE:1
END:VEVENT
BEGIN:VEVENT
UID:g7322@games.golnetwork.com
LOCATION:Cherry Beach West 2
CREATED:20150506T163552Z
DTSTART:20150607T210000Z
DTEND:20150607T220000Z
DTSTAMP:20260421T015321Z
SUMMARY:FO' SHIZZLE FC vs. PIZZA FC
DESCRIPTION:PIZZA FC vs. FO' SHIZZLE FCMore info: #237
X-ALT-DESC;FMTTYPE=text/html:<!DOCTYPE HTML PUBLIC "-//W3C//DTD HTML 3.2//E
	N">\n<HTML>\n<HEAD>\n<TITLE></TITLE>\n</HEAD>\n<BODY>\n<h3>PIZZA FC vs. FO'
	 SHIZZLE FC</h3>More info: <a href="https://www.golnetwork.com/game/v/69013
	/">#237</a>\n\n</BODY>\n</HTML>
STATUS:CONFIRMED
CLASS:PUBLIC
URL:https://www.golnetwork.com/game/v/69013/
X-MICROSOFT-CDO-BUSYSTATUS:BUSY
X-MICROSOFT-CDO-IMPORTANCE:1
END:VEVENT
BEGIN:VEVENT
UID:g7324@games.golnetwork.com
LOCATION:Cherry Beach West 3
CREATED:20150506T163602Z
DTSTART:20150607T210000Z
DTEND:20150607T220000Z
DTSTAMP:20260421T015321Z
SUMMARY:Hedgie FC vs. Boro FC
DESCRIPTION:Boro FC vs. Hedgie FCMore info: #238
X-ALT-DESC;FMTTYPE=text/html:<!DOCTYPE HTML PUBLIC "-//W3C//DTD HTML 3.2//E
	N">\n<HTML>\n<HEAD>\n<TITLE></TITLE>\n</HEAD>\n<BODY>\n<h3>Boro FC vs. Hedg
	ie FC</h3>More info: <a href="https://www.golnetwork.com/game/v/69014/">#23
	8</a>\n\n</BODY>\n</HTML>
STATUS:CONFIRMED
CLASS:PUBLIC
URL:https://www.golnetwork.com/game/v/69014/
X-MICROSOFT-CDO-BUSYSTATUS:BUSY
X-MICROSOFT-CDO-IMPORTANCE:1
END:VEVENT
BEGIN:VEVENT
UID:g7326@games.golnetwork.com
LOCATION:Cherry Beach West 3
CREATED:20150506T163614Z
DTSTART:20150607T220000Z
DTEND:20150607T230000Z
DTSTAMP:20260421T015321Z
SUMMARY:FC Dnipro vs. Pinguinos FC
DESCRIPTION:Pinguinos FC vs. FC DniproMore info: #242
X-ALT-DESC;FMTTYPE=text/html:<!DOCTYPE HTML PUBLIC "-//W3C//DTD HTML 3.2//E
	N">\n<HTML>\n<HEAD>\n<TITLE></TITLE>\n</HEAD>\n<BODY>\n<h3>Pinguinos FC vs.
	 FC Dnipro</h3>More info: <a href="https://www.golnetwork.com/game/v/69015/
	">#242</a>\n\n</BODY>\n</HTML>
STATUS:CONFIRMED
CLASS:PUBLIC
URL:https://www.golnetwork.com/game/v/69015/
X-MICROSOFT-CDO-BUSYSTATUS:BUSY
X-MICROSOFT-CDO-IMPORTANCE:1
END:VEVENT
BEGIN:VEVENT
UID:g7328@games.golnetwork.com
LOCATION:Cherry Beach West 3
CREATED:20150506T163629Z
DTSTART:20150614T210000Z
DTEND:20150614T220000Z
DTSTAMP:20260421T015321Z
SUMMARY:FO' SHIZZLE FC vs. FC Dnipro
DESCRIPTION:FC Dnipro vs. FO' SHIZZLE FCMore info: #293
X-ALT-DESC;FMTTYPE=text/html:<!DOCTYPE HTML PUBLIC "-//W3C//DTD HTML 3.2//E
	N">\n<HTML>\n<HEAD>\n<TITLE></TITLE>\n</HEAD>\n<BODY>\n<h3>FC Dnipro vs. FO
	' SHIZZLE FC</h3>More info: <a href="https://www.golnetwork.com/game/v/6901
	6/">#293</a>\n\n</BODY>\n</HTML>
STATUS:CONFIRMED
CLASS:PUBLIC
URL:https://www.golnetwork.com/game/v/69016/
X-MICROSOFT-CDO-BUSYSTATUS:BUSY
X-MICROSOFT-CDO-IMPORTANCE:1
END:VEVENT
BEGIN:VEVENT
UID:g732a@games.golnetwork.com
LOCATION:Cherry Beach West 2
CREATED:20150506T163644Z
DTSTART:20150614T220000Z
DTEND:20150614T230000Z
DTSTAMP:20260421T015321Z
SUMMARY:Boro FC vs. Pinguinos FC
DESCRIPTION:Pinguinos FC vs. Boro FCMore info: #296
X-ALT-DESC;FMTTYPE=text/html:<!DOCTYPE HTML PUBLIC "-//W3C//DTD HTML 3.2//E
	N">\n<HTML>\n<HEAD>\n<TITLE></TITLE>\n</HEAD>\n<BODY>\n<h3>Pinguinos FC vs.
	 Boro FC</h3>More info: <a href="https://www.golnetwork.com/game/v/69017/">
	#296</a>\n\n</BODY>\n</HTML>
STATUS:CONFIRMED
CLASS:PUBLIC
URL:https://www.golnetwork.com/game/v/69017/
X-MICROSOFT-CDO-BUSYSTATUS:BUSY
X-MICROSOFT-CDO-IMPORTANCE:1
END:VEVENT
BEGIN:VEVENT
UID:g732c@games.golnetwork.com
LOCATION:Cherry Beach West 3
CREATED:20150506T163656Z
DTSTART:20150614T220000Z
DTEND:20150614T230000Z
DTSTAMP:20260421T015321Z
SUMMARY:PIZZA FC vs. Hedgie FC
DESCRIPTION:Hedgie FC vs. PIZZA FCMore info: #297
X-ALT-DESC;FMTTYPE=text/html:<!DOCTYPE HTML PUBLIC "-//W3C//DTD HTML 3.2//E
	N">\n<HTML>\n<HEAD>\n<TITLE></TITLE>\n</HEAD>\n<BODY>\n<h3>Hedgie FC vs. PI
	ZZA FC</h3>More info: <a href="https://www.golnetwork.com/game/v/69018/">#2
	97</a>\n\n</BODY>\n</HTML>
STATUS:CONFIRMED
CLASS:PUBLIC
URL:https://www.golnetwork.com/game/v/69018/
X-MICROSOFT-CDO-BUSYSTATUS:BUSY
X-MICROSOFT-CDO-IMPORTANCE:1
END:VEVENT
BEGIN:VEVENT
UID:g732e@games.golnetwork.com
LOCATION:Cherry Beach West 2
CREATED:20150506T163715Z
DTSTART:20150621T210000Z
DTEND:20150621T220000Z
DTSTAMP:20260421T015321Z
SUMMARY:Pinguinos FC vs. Hedgie FC
DESCRIPTION:Hedgie FC vs. Pinguinos FCMore info: #347
X-ALT-DESC;FMTTYPE=text/html:<!DOCTYPE HTML PUBLIC "-//W3C//DTD HTML 3.2//E
	N">\n<HTML>\n<HEAD>\n<TITLE></TITLE>\n</HEAD>\n<BODY>\n<h3>Hedgie FC vs. Pi
	nguinos FC</h3>More info: <a href="https://www.golnetwork.com/game/v/69019/
	">#347</a>\n\n</BODY>\n</HTML>
STATUS:CONFIRMED
CLASS:PUBLIC
URL:https://www.golnetwork.com/game/v/69019/
X-MICROSOFT-CDO-BUSYSTATUS:BUSY
X-MICROSOFT-CDO-IMPORTANCE:1
END:VEVENT
BEGIN:VEVENT
UID:g732g@games.golnetwork.com
LOCATION:Cherry Beach West 3
CREATED:20150506T163729Z
DTSTART:20150621T210000Z
DTEND:20150621T220000Z
DTSTAMP:20260421T015321Z
SUMMARY:PIZZA FC vs. FC Dnipro
DESCRIPTION:FC Dnipro vs. PIZZA FCMore info: #348
X-ALT-DESC;FMTTYPE=text/html:<!DOCTYPE HTML PUBLIC "-//W3C//DTD HTML 3.2//E
	N">\n<HTML>\n<HEAD>\n<TITLE></TITLE>\n</HEAD>\n<BODY>\n<h3>FC Dnipro vs. PI
	ZZA FC</h3>More info: <a href="https://www.golnetwork.com/game/v/69020/">#3
	48</a>\n\n</BODY>\n</HTML>
STATUS:CONFIRMED
CLASS:PUBLIC
URL:https://www.golnetwork.com/game/v/69020/
X-MICROSOFT-CDO-BUSYSTATUS:BUSY
X-MICROSOFT-CDO-IMPORTANCE:1
END:VEVENT
BEGIN:VEVENT
UID:g732i@games.golnetwork.com
LOCATION:Cherry Beach West 3
CREATED:20150506T163742Z
DTSTART:20150621T220000Z
DTEND:20150621T230000Z
DTSTAMP:20260421T015321Z
SUMMARY:Boro FC vs. FO' SHIZZLE FC
DESCRIPTION:FO' SHIZZLE FC vs. Boro FCMore info: #353
X-ALT-DESC;FMTTYPE=text/html:<!DOCTYPE HTML PUBLIC "-//W3C//DTD HTML 3.2//E
	N">\n<HTML>\n<HEAD>\n<TITLE></TITLE>\n</HEAD>\n<BODY>\n<h3>FO' SHIZZLE FC v
	s. Boro FC</h3>More info: <a href="https://www.golnetwork.com/game/v/69021/
	">#353</a>\n\n</BODY>\n</HTML>
STATUS:CONFIRMED
CLASS:PUBLIC
URL:https://www.golnetwork.com/game/v/69021/
X-MICROSOFT-CDO-BUSYSTATUS:BUSY
X-MICROSOFT-CDO-IMPORTANCE:1
END:VEVENT
BEGIN:VEVENT
UID:g732k@games.golnetwork.com
LOCATION:Cherry Beach West 3
CREATED:20150506T163803Z
DTSTART:20150705T210000Z
DTEND:20150705T220000Z
DTSTAMP:20260421T015321Z
SUMMARY:PIZZA FC vs. Boro FC
DESCRIPTION:Boro FC vs. PIZZA FCMore info: #434
X-ALT-DESC;FMTTYPE=text/html:<!DOCTYPE HTML PUBLIC "-//W3C//DTD HTML 3.2//E
	N">\n<HTML>\n<HEAD>\n<TITLE></TITLE>\n</HEAD>\n<BODY>\n<h3>Boro FC vs. PIZZ
	A FC</h3>More info: <a href="https://www.golnetwork.com/game/v/69022/">#434
	</a>\n\n</BODY>\n</HTML>
STATUS:CONFIRMED
CLASS:PUBLIC
URL:https://www.golnetwork.com/game/v/69022/
X-MICROSOFT-CDO-BUSYSTATUS:BUSY
X-MICROSOFT-CDO-IMPORTANCE:1
END:VEVENT
BEGIN:VEVENT
UID:g732m@games.golnetwork.com
LOCATION:Cherry Beach West 2
CREATED:20150506T163817Z
DTSTART:20150705T220000Z
DTEND:20150705T230000Z
DTSTAMP:20260421T015321Z
SUMMARY:Pinguinos FC vs. FO' SHIZZLE FC
DESCRIPTION:FO' SHIZZLE FC vs. Pinguinos FCMore info: #437
X-ALT-DESC;FMTTYPE=text/html:<!DOCTYPE HTML PUBLIC "-//W3C//DTD HTML 3.2//E
	N">\n<HTML>\n<HEAD>\n<TITLE></TITLE>\n</HEAD>\n<BODY>\n<h3>FO' SHIZZLE FC v
	s. Pinguinos FC</h3>More info: <a href="https://www.golnetwork.com/game/v/6
	9023/">#437</a>\n\n</BODY>\n</HTML>
STATUS:CONFIRMED
CLASS:PUBLIC
URL:https://www.golnetwork.com/game/v/69023/
X-MICROSOFT-CDO-BUSYSTATUS:BUSY
X-MICROSOFT-CDO-IMPORTANCE:1
END:VEVENT
BEGIN:VEVENT
UID:g732o@games.golnetwork.com
LOCATION:Cherry Beach West 3
CREATED:20150506T163831Z
DTSTART:20150705T220000Z
DTEND:20150705T230000Z
DTSTAMP:20260421T015321Z
SUMMARY:FC Dnipro vs. Hedgie FC
DESCRIPTION:Hedgie FC vs. FC DniproMore info: #438
X-ALT-DESC;FMTTYPE=text/html:<!DOCTYPE HTML PUBLIC "-//W3C//DTD HTML 3.2//E
	N">\n<HTML>\n<HEAD>\n<TITLE></TITLE>\n</HEAD>\n<BODY>\n<h3>Hedgie FC vs. FC
	 Dnipro</h3>More info: <a href="https://www.golnetwork.com/game/v/69024/">#
	438</a>\n\n</BODY>\n</HTML>
STATUS:CONFIRMED
CLASS:PUBLIC
URL:https://www.golnetwork.com/game/v/69024/
X-MICROSOFT-CDO-BUSYSTATUS:BUSY
X-MICROSOFT-CDO-IMPORTANCE:1
END:VEVENT
BEGIN:VEVENT
UID:g76mp@games.golnetwork.com
LOCATION:Cherry Beach West 2
CREATED:20150527T171946Z
DTSTART:20150712T210000Z
DTEND:20150712T220000Z
DTSTAMP:20260421T015321Z
SUMMARY:FO' SHIZZLE FC vs. Hedgie FC
DESCRIPTION:Hedgie FC vs. FO' SHIZZLE FCMore info: #476
X-ALT-DESC;FMTTYPE=text/html:<!DOCTYPE HTML PUBLIC "-//W3C//DTD HTML 3.2//E
	N">\n<HTML>\n<HEAD>\n<TITLE></TITLE>\n</HEAD>\n<BODY>\n<h3>Hedgie FC vs. FO
	' SHIZZLE FC</h3>More info: <a href="https://www.golnetwork.com/game/v/7038
	8/">#476</a>\n\n</BODY>\n</HTML>
STATUS:CONFIRMED
CLASS:PUBLIC
URL:https://www.golnetwork.com/game/v/70388/
X-MICROSOFT-CDO-BUSYSTATUS:BUSY
X-MICROSOFT-CDO-IMPORTANCE:1
END:VEVENT
BEGIN:VEVENT
UID:g76n0@games.golnetwork.com
LOCATION:Cherry Beach West 3
CREATED:20150527T172118Z
DTSTART:20150712T210000Z
DTEND:20150712T220000Z
DTSTAMP:20260421T015321Z
SUMMARY:FC Dnipro vs. Boro FC
DESCRIPTION:Boro FC vs. FC DniproMore info: #477
X-ALT-DESC;FMTTYPE=text/html:<!DOCTYPE HTML PUBLIC "-//W3C//DTD HTML 3.2//E
	N">\n<HTML>\n<HEAD>\n<TITLE></TITLE>\n</HEAD>\n<BODY>\n<h3>Boro FC vs. FC D
	nipro</h3>More info: <a href="https://www.golnetwork.com/game/v/70389/">#47
	7</a>\n\n</BODY>\n</HTML>
STATUS:CONFIRMED
CLASS:PUBLIC
URL:https://www.golnetwork.com/game/v/70389/
X-MICROSOFT-CDO-BUSYSTATUS:BUSY
X-MICROSOFT-CDO-IMPORTANCE:1
END:VEVENT
BEGIN:VEVENT
UID:g76n2@games.golnetwork.com
LOCATION:Cherry Beach West 3
CREATED:20150527T172131Z
DTSTART:20150712T220000Z
DTEND:20150712T230000Z
DTSTAMP:20260421T015321Z
SUMMARY:Pinguinos FC vs. PIZZA FC
DESCRIPTION:PIZZA FC vs. Pinguinos FCMore info: #480
X-ALT-DESC;FMTTYPE=text/html:<!DOCTYPE HTML PUBLIC "-//W3C//DTD HTML 3.2//E
	N">\n<HTML>\n<HEAD>\n<TITLE></TITLE>\n</HEAD>\n<BODY>\n<h3>PIZZA FC vs. Pin
	guinos FC</h3>More info: <a href="https://www.golnetwork.com/game/v/70390/"
	>#480</a>\n\n</BODY>\n</HTML>
STATUS:CONFIRMED
CLASS:PUBLIC
URL:https://www.golnetwork.com/game/v/70390/
X-MICROSOFT-CDO-BUSYSTATUS:BUSY
X-MICROSOFT-CDO-IMPORTANCE:1
END:VEVENT
BEGIN:VEVENT
UID:g76n4@games.golnetwork.com
LOCATION:Cherry Beach West 3
CREATED:20150527T172145Z
DTSTART:20150719T210000Z
DTEND:20150719T220000Z
DTSTAMP:20260421T015321Z
SUMMARY:FC Dnipro vs. Pinguinos FC
DESCRIPTION:Pinguinos FC vs. FC DniproMore info: #492
X-ALT-DESC;FMTTYPE=text/html:<!DOCTYPE HTML PUBLIC "-//W3C//DTD HTML 3.2//E
	N">\n<HTML>\n<HEAD>\n<TITLE></TITLE>\n</HEAD>\n<BODY>\n<h3>Pinguinos FC vs.
	 FC Dnipro</h3>More info: <a href="https://www.golnetwork.com/game/v/70391/
	">#492</a>\n\n</BODY>\n</HTML>
STATUS:CONFIRMED
CLASS:PUBLIC
URL:https://www.golnetwork.com/game/v/70391/
X-MICROSOFT-CDO-BUSYSTATUS:BUSY
X-MICROSOFT-CDO-IMPORTANCE:1
END:VEVENT
BEGIN:VEVENT
UID:g76n6@games.golnetwork.com
LOCATION:Cherry Beach West 2
CREATED:20150527T172200Z
DTSTART:20150719T220000Z
DTEND:20150719T230000Z
DTSTAMP:20260421T015321Z
SUMMARY:FO' SHIZZLE FC vs. PIZZA FC
DESCRIPTION:PIZZA FC vs. FO' SHIZZLE FCMore info: #494
X-ALT-DESC;FMTTYPE=text/html:<!DOCTYPE HTML PUBLIC "-//W3C//DTD HTML 3.2//E
	N">\n<HTML>\n<HEAD>\n<TITLE></TITLE>\n</HEAD>\n<BODY>\n<h3>PIZZA FC vs. FO'
	 SHIZZLE FC</h3>More info: <a href="https://www.golnetwork.com/game/v/70392
	/">#494</a>\n\n</BODY>\n</HTML>
STATUS:CONFIRMED
CLASS:PUBLIC
URL:https://www.golnetwork.com/game/v/70392/
X-MICROSOFT-CDO-BUSYSTATUS:BUSY
X-MICROSOFT-CDO-IMPORTANCE:1
END:VEVENT
BEGIN:VEVENT
UID:g76n8@games.golnetwork.com
LOCATION:Cherry Beach West 3
CREATED:20150527T172212Z
DTSTART:20150719T220000Z
DTEND:20150719T230000Z
DTSTAMP:20260421T015321Z
SUMMARY:Hedgie FC vs. Boro FC
DESCRIPTION:Boro FC vs. Hedgie FCMore info: #495
X-ALT-DESC;FMTTYPE=text/html:<!DOCTYPE HTML PUBLIC "-//W3C//DTD HTML 3.2//E
	N">\n<HTML>\n<HEAD>\n<TITLE></TITLE>\n</HEAD>\n<BODY>\n<h3>Boro FC vs. Hedg
	ie FC</h3>More info: <a href="https://www.golnetwork.com/game/v/70393/">#49
	5</a>\n\n</BODY>\n</HTML>
STATUS:CONFIRMED
CLASS:PUBLIC
URL:https://www.golnetwork.com/game/v/70393/
X-MICROSOFT-CDO-BUSYSTATUS:BUSY
X-MICROSOFT-CDO-IMPORTANCE:1
END:VEVENT
BEGIN:VEVENT
UID:g76na@games.golnetwork.com
LOCATION:Cherry Beach West 2
CREATED:20150527T172237Z
DTSTART:20150726T210000Z
DTEND:20150726T220000Z
DTSTAMP:20260421T015321Z
SUMMARY:Boro FC vs. Pinguinos FC
DESCRIPTION:Pinguinos FC vs. Boro FCMore info: #497
X-ALT-DESC;FMTTYPE=text/html:<!DOCTYPE HTML PUBLIC "-//W3C//DTD HTML 3.2//E
	N">\n<HTML>\n<HEAD>\n<TITLE></TITLE>\n</HEAD>\n<BODY>\n<h3>Pinguinos FC vs.
	 Boro FC</h3>More info: <a href="https://www.golnetwork.com/game/v/70394/">
	#497</a>\n\n</BODY>\n</HTML>
STATUS:CONFIRMED
CLASS:PUBLIC
URL:https://www.golnetwork.com/game/v/70394/
X-MICROSOFT-CDO-BUSYSTATUS:BUSY
X-MICROSOFT-CDO-IMPORTANCE:1
END:VEVENT
BEGIN:VEVENT
UID:g76nc@games.golnetwork.com
LOCATION:Cherry Beach West 3
CREATED:20150527T172249Z
DTSTART:20150726T210000Z
DTEND:20150726T220000Z
DTSTAMP:20260421T015321Z
SUMMARY:PIZZA FC vs. Hedgie FC
DESCRIPTION:Hedgie FC vs. PIZZA FCMore info: #498
X-ALT-DESC;FMTTYPE=text/html:<!DOCTYPE HTML PUBLIC "-//W3C//DTD HTML 3.2//E
	N">\n<HTML>\n<HEAD>\n<TITLE></TITLE>\n</HEAD>\n<BODY>\n<h3>Hedgie FC vs. PI
	ZZA FC</h3>More info: <a href="https://www.golnetwork.com/game/v/70395/">#4
	98</a>\n\n</BODY>\n</HTML>
STATUS:CONFIRMED
CLASS:PUBLIC
URL:https://www.golnetwork.com/game/v/70395/
X-MICROSOFT-CDO-BUSYSTATUS:BUSY
X-MICROSOFT-CDO-IMPORTANCE:1
END:VEVENT
BEGIN:VEVENT
UID:g76ne@games.golnetwork.com
LOCATION:Cherry Beach West 3
CREATED:20150527T172301Z
DTSTART:20150726T220000Z
DTEND:20150726T230000Z
DTSTAMP:20260421T015321Z
SUMMARY:FO' SHIZZLE FC vs. FC Dnipro
DESCRIPTION:FC Dnipro vs. FO' SHIZZLE FCMore info: #501
X-ALT-DESC;FMTTYPE=text/html:<!DOCTYPE HTML PUBLIC "-//W3C//DTD HTML 3.2//E
	N">\n<HTML>\n<HEAD>\n<TITLE></TITLE>\n</HEAD>\n<BODY>\n<h3>FC Dnipro vs. FO
	' SHIZZLE FC</h3>More info: <a href="https://www.golnetwork.com/game/v/7039
	6/">#501</a>\n\n</BODY>\n</HTML>
STATUS:CONFIRMED
CLASS:PUBLIC
URL:https://www.golnetwork.com/game/v/70396/
X-MICROSOFT-CDO-BUSYSTATUS:BUSY
X-MICROSOFT-CDO-IMPORTANCE:1
END:VEVENT
BEGIN:VEVENT
UID:g7ehe@games.golnetwork.com
LOCATION:Cherry Beach West 3
CREATED:20150727T202440Z
DTSTART:20150809T220000Z
DTEND:20150809T230000Z
DTSTAMP:20260421T015321Z
SUMMARY:Boro FC vs. Pinguinos FC
DESCRIPTION:Pinguinos FC vs. Boro FCMore info: #507
X-ALT-DESC;FMTTYPE=text/html:<!DOCTYPE HTML PUBLIC "-//W3C//DTD HTML 3.2//E
	N">\n<HTML>\n<HEAD>\n<TITLE></TITLE>\n</HEAD>\n<BODY>\n<h3>Pinguinos FC vs.
	 Boro FC</h3>More info: <a href="https://www.golnetwork.com/game/v/73231/">
	#507</a>\n\n</BODY>\n</HTML>
STATUS:CONFIRMED
CLASS:PUBLIC
URL:https://www.golnetwork.com/game/v/73231/
X-MICROSOFT-CDO-BUSYSTATUS:BUSY
X-MICROSOFT-CDO-IMPORTANCE:1
END:VEVENT
BEGIN:VEVENT
UID:g76ni@games.golnetwork.com
LOCATION:Cherry Beach West 3
CREATED:20150527T172330Z
DTSTART:20150816T210000Z
DTEND:20150816T220000Z
DTSTAMP:20260421T015321Z
SUMMARY:Pinguinos FC vs. FO' SHIZZLE FC
DESCRIPTION:FO' SHIZZLE FC vs. Pinguinos FCMore info: #510
X-ALT-DESC;FMTTYPE=text/html:<!DOCTYPE HTML PUBLIC "-//W3C//DTD HTML 3.2//E
	N">\n<HTML>\n<HEAD>\n<TITLE></TITLE>\n</HEAD>\n<BODY>\n<h3>FO' SHIZZLE FC v
	s. Pinguinos FC</h3>More info: <a href="https://www.golnetwork.com/game/v/7
	0398/">#510</a>\n\n</BODY>\n</HTML>
STATUS:CONFIRMED
CLASS:PUBLIC
URL:https://www.golnetwork.com/game/v/70398/
X-MICROSOFT-CDO-BUSYSTATUS:BUSY
X-MICROSOFT-CDO-IMPORTANCE:1
END:VEVENT
BEGIN:VEVENT
UID:g76nk@games.golnetwork.com
LOCATION:Cherry Beach West 3
CREATED:20150527T172335Z
DTSTART:20150816T220000Z
DTEND:20150816T230000Z
DTSTAMP:20260421T015321Z
SUMMARY:Boro FC vs. FC Dnipro
DESCRIPTION:FC Dnipro vs. Boro FCMore info: #513
X-ALT-DESC;FMTTYPE=text/html:<!DOCTYPE HTML PUBLIC "-//W3C//DTD HTML 3.2//E
	N">\n<HTML>\n<HEAD>\n<TITLE></TITLE>\n</HEAD>\n<BODY>\n<h3>FC Dnipro vs. Bo
	ro FC</h3>More info: <a href="https://www.golnetwork.com/game/v/70399/">#51
	3</a>\n\n</BODY>\n</HTML>
STATUS:CONFIRMED
CLASS:PUBLIC
URL:https://www.golnetwork.com/game/v/70399/
X-MICROSOFT-CDO-BUSYSTATUS:BUSY
X-MICROSOFT-CDO-IMPORTANCE:1
END:VEVENT
END:VCALENDAR
